Workbook
Name AprSun1: DATE(CalendarYear,4,1)-WEEKDAY(DATE(CalendarYear,4,1))
Name AugSun1: DATE(CalendarYear,8,1)-WEEKDAY(DATE(CalendarYear,8,1))
Name CalendarYear: 'CALENDRIER DES CHANTIERS '!$AH$1
Name DecSun1: DATE(CalendarYear,12,1)-WEEKDAY(DATE(CalendarYear,12,1))
Name FebSun1: DATE(CalendarYear,2,1)-WEEKDAY(DATE(CalendarYear,2,1))
Name JanSun1: DATE(CalendarYear,1,1)-WEEKDAY(DATE(CalendarYear,1,1))
Name Job1_DayOff_Code: #REF!
Name Job1_Name: #REF!
Name Job1_Pattern: #REF!
Name Job1_Shift1_Code: #REF!
Name Job1_Shift2_Code: #REF!
Name Job1_Shift3_Code: #REF!
Name Job1_StartDate: #REF!
Name Job2_DayOff_Code: #REF!
Name Job2_Name: #REF!
Name Job2_Pattern: #REF!
Name Job2_Shift1_Code: #REF!
Name Job2_Shift2_Code: #REF!
Name Job2_Shift3_Code: #REF!
Name Job2_StartDate: #REF!
Name Job3_DayOff_Code: #REF!
Name Job3_Name: #REF!
Name Job3_Pattern: #REF!
Name Job3_Shift1_Code: #REF!
Name Job3_Shift2_Code: #REF!
Name Job3_Shift3_Code: #REF!
Name Job3_StartDate: #REF!
Name JulSun1: DATE(CalendarYear,7,1)-WEEKDAY(DATE(CalendarYear,7,1))
Name JunSun1: DATE(CalendarYear,6,1)-WEEKDAY(DATE(CalendarYear,6,1))
Name MarSun1: DATE(CalendarYear,3,1)-WEEKDAY(DATE(CalendarYear,3,1))
Name MaySun1: DATE(CalendarYear,5,1)-WEEKDAY(DATE(CalendarYear,5,1))
Name NovSun1: DATE(CalendarYear,11,1)-WEEKDAY(DATE(CalendarYear,11,1))
Name OctSun1: DATE(CalendarYear,10,1)-WEEKDAY(DATE(CalendarYear,10,1))
Name SepSun1: DATE(CalendarYear,9,1)-WEEKDAY(DATE(CalendarYear,9,1))

Sheet CALENDRIER DES CHANTIERS 
B1: CALENDRIER DES CHANTIERS | AJ1: 2022
B5: 1 | C5: 44562 | D5: 44563 | E5: 44564 | F5: 44565 | G5: 44566 | H5: 44567 | I5: 44568 | J5: 44569 | K5: 44570 | L5: 44571 | M5: 44572 | N5: 44573 | O5: 44574 | P5: 44575 | Q5: 44576 | R5: 44577 | S5: 44578 | T5: 44579 | U5: 44580 | V5: 44581 | W5: 44582 | X5: 44583 | Y5: 44584 | Z5: 44585 | AA5: 44586 | AB5: 44587 | AC5: 44588 | AD5: 44589 | AE5: 44590 | AF5: 44591 | AG5: 44592
C6: =DATE($AJ$1,$B$5,1) -> 44562 | D6: =C6+1 -> 44563 | E6: =D6+1 -> 44564 | F6: =E6+1 -> 44565 | G6: =F6+1 -> 44566 | H6: =G6+1 -> 44567 | I6: =H6+1 -> 44568 | J6: =I6+1 -> 44569 | K6: =J6+1 -> 44570 | ... AG6: =AF6+1 -> 44592
B7: dezfzef
B8: dfsedfzedf
B9: fesfzef
B10: fefez
B11: fsefez | C11: 30000
B12: TOTAL : | C12: =SUMIF('FICHE CHANTIER'!$J:$J,C5,'FICHE CHANTIER'!$K:$K) -> 0 | D12: =SUMIF('FICHE CHANTIER'!$J:$J,D5,'FICHE CHANTIER'!$K:$K) -> 0 | E12: =SUMIF('FICHE CHANTIER'!$J:$J,E5,'FICHE CHANTIER'!$K:$K) -> 0 | F12: =SUMIF('FICHE CHANTIER'!$J:$J,F5,'FICHE CHANTIER'!$K:$K) -> 0 | G12: =SUMIF('FICHE CHANTIER'!$J:$J,G5,'FICHE CHANTIER'!$K:$K) -> 0 | H12: =SUMIF('FICHE CHANTIER'!$J:$J,H5,'FICHE CHANTIER'!$K:$K) -> 0 | I12: =SUMIF('FICHE CHANTIER'!$J:$J,I5,'FICHE CHANTIER'!$K:$K) -> 0 | J12: =SUMIF('FICHE CHANTIER'!$J:$J,J5,'FICHE CHANTIER'!$K:$K) -> 0 | ... AM12: =SUMIF('FICHE CHANTIER'!$J:$J,AM5,'FICHE CHANTIER'!$K:$K) -> 0
B14: 2 | C14: 44593 | D14: 44594 | E14: 44595 | F14: 44596 | G14: 44597 | H14: 44598 | I14: 44599 | J14: 44600 | K14: 44601 | L14: 44602 | M14: 44603 | N14: 44604 | O14: 44605 | P14: 44606 | Q14: 44607 | R14: 44608 | S14: 44609 | T14: 44610 | U14: 44611 | V14: 44612 | W14: 44613 | X14: 44614 | Y14: 44615 | Z14: 44616 | AA14: 44617 | AB14: 44618 | AC14: 44619 | AD14: 44620
C15: =DATE($AJ$1,$B$14,1) -> 44593 | D15: =C15+1 -> 44594 | E15: =D15+1 -> 44595 | F15: =E15+1 -> 44596 | G15: =F15+1 -> 44597 | H15: =G15+1 -> 44598 | I15: =H15+1 -> 44599 | J15: =I15+1 -> 44600 | K15: =J15+1 -> 44601 | ... AD15: =AC15+1 -> 44620
B16: fsefe
B17: sfsef
B18: sfezf
B19: sfezf
B20: fesfe
B21: TOTAL : | C21: =SUMIF('FICHE CHANTIER'!$J:$J,C14,'FICHE CHANTIER'!$K:$K) -> 0 | D21: =SUMIF('FICHE CHANTIER'!$J:$J,D14,'FICHE CHANTIER'!$K:$K) -> 200 | E21: =SUMIF('FICHE CHANTIER'!$J:$J,E14,'FICHE CHANTIER'!$K:$K) -> 0 | F21: =SUMIF('FICHE CHANTIER'!$J:$J,F14,'FICHE CHANTIER'!$K:$K) -> 0 | G21: =SUMIF('FICHE CHANTIER'!$J:$J,G14,'FICHE CHANTIER'!$K:$K) -> 0 | H21: =SUMIF('FICHE CHANTIER'!$J:$J,H14,'FICHE CHANTIER'!$K:$K) -> 0 | I21: =SUMIF('FICHE CHANTIER'!$J:$J,I14,'FICHE CHANTIER'!$K:$K) -> 0 | J21: =SUMIF('FICHE CHANTIER'!$J:$J,J14,'FICHE CHANTIER'!$K:$K) -> 0 | ... AM21: =SUMIF('FICHE CHANTIER'!$J:$J,AM14,'FICHE CHANTIER'!$K:$K) -> 0
B23: 3 | C23: 44621 | D23: 44622 | E23: 44623 | F23: 44624 | G23: 44625 | H23: 44626 | I23: 44627 | J23: 44628 | K23: 44629 | L23: 44630 | M23: 44631 | N23: 44632 | O23: 44633 | P23: 44634 | Q23: 44635 | R23: 44636 | S23: 44637 | T23: 44638 | U23: 44639 | V23: 44640 | W23: 44641 | X23: 44642 | Y23: 44643 | Z23: 44644 | AA23: 44645 | AB23: 44646 | AC23: 44647 | AD23: 44648 | AE23: 44649 | AF23: 44650 | AG23: 44651 | AL23: =IF(DAY(MarSun1)=1,IF(AND(YEAR(MarSun1+29)=CalendarYear,MONTH(MarSun1+29)=3),MarSun1+29,""),IF(AND(YEAR(MarSun1+36)=CalendarYear,MONTH(MarSun1+36)=3),MarSun1+36,"")) | AM23: =IF(DAY(MarSun1)=1,IF(AND(YEAR(MarSun1+30)=CalendarYear,MONTH(MarSun1+30)=3),MarSun1+30,""),IF(AND(YEAR(MarSun1+37)=CalendarYear,MONTH(MarSun1+37)=3),MarSun1+37,""))
C24: =DATE($AJ$1,$B$23,1) -> 44621 | D24: =C24+1 -> 44622 | E24: =D24+1 -> 44623 | F24: =E24+1 -> 44624 | G24: =F24+1 -> 44625 | H24: =G24+1 -> 44626 | I24: =H24+1 -> 44627 | J24: =I24+1 -> 44628 | K24: =J24+1 -> 44629 | ... AG24: =AF24+1 -> 44651 | AL24: =DATE($AJ$1,$B$23,1) -> 44621 | AM24: =DATE($AJ$1,$B$23,1) -> 44621
B25: sfesf
B26: fef
B27: sdfes
B28: fesf
B29: sefce
B30: TOTAL : | C30: =SUMIF('FICHE CHANTIER'!$J:$J,C23,'FICHE CHANTIER'!$K:$K) -> 0 | D30: =SUMIF('FICHE CHANTIER'!$J:$J,D23,'FICHE CHANTIER'!$K:$K) -> 0 | E30: =SUMIF('FICHE CHANTIER'!$J:$J,E23,'FICHE CHANTIER'!$K:$K) -> 0 | F30: =SUMIF('FICHE CHANTIER'!$J:$J,F23,'FICHE CHANTIER'!$K:$K) -> 0 | G30: =SUMIF('FICHE CHANTIER'!$J:$J,G23,'FICHE CHANTIER'!$K:$K) -> 0 | H30: =SUMIF('FICHE CHANTIER'!$J:$J,H23,'FICHE CHANTIER'!$K:$K) -> 0 | I30: =SUMIF('FICHE CHANTIER'!$J:$J,I23,'FICHE CHANTIER'!$K:$K) -> 0 | J30: =SUMIF('FICHE CHANTIER'!$J:$J,J23,'FICHE CHANTIER'!$K:$K) -> 0 | ... AM30: =SUMIF('FICHE CHANTIER'!$J:$J,AM23,'FICHE CHANTIER'!$K:$K) -> 0
B32: 4 | C32: 44652 | D32: 44653 | E32: 44654 | F32: 44655 | G32: 44656 | H32: 44657 | I32: 44658 | J32: 44659 | K32: 44660 | L32: 44661 | M32: 44662 | N32: 44663 | O32: 44664 | P32: 44665 | Q32: 44666 | R32: 44667 | S32: 44668 | T32: 44669 | U32: 44670 | V32: 44671 | W32: 44672 | X32: 44673 | Y32: 44674 | Z32: 44675 | AA32: 44676 | AB32: 44677 | AC32: 44678 | AD32: 44679 | AE32: 44680 | AF32: 44681 | AJ32: =IF(DAY(AprSun1)=1,IF(AND(YEAR(AprSun1+27)=CalendarYear,MONTH(AprSun1+27)=4),AprSun1+27,""),IF(AND(YEAR(AprSun1+34)=CalendarYear,MONTH(AprSun1+34)=4),AprSun1+34,"")) | AK32: =IF(DAY(AprSun1)=1,IF(AND(YEAR(AprSun1+28)=CalendarYear,MONTH(AprSun1+28)=4),AprSun1+28,""),IF(AND(YEAR(AprSun1+35)=CalendarYear,MONTH(AprSun1+35)=4),AprSun1+35,"")) | AL32: =IF(DAY(AprSun1)=1,IF(AND(YEAR(AprSun1+29)=CalendarYear,MONTH(AprSun1+29)=4),AprSun1+29,""),IF(AND(YEAR(AprSun1+36)=CalendarYear,MONTH(AprSun1+36)=4),AprSun1+36,"")) | AM32: =IF(DAY(AprSun1)=1,IF(AND(YEAR(AprSun1+30)=CalendarYear,MONTH(AprSun1+30)=4),AprSun1+30,""),IF(AND(YEAR(AprSun1+37)=CalendarYear,MONTH(AprSun1+37)=4),AprSun1+37,""))
C33: =DATE($AJ$1,$B$32,1) -> 44652 | D33: =C33+1 -> 44653 | E33: =D33+1 -> 44654 | F33: =E33+1 -> 44655 | G33: =F33+1 -> 44656 | H33: =G33+1 -> 44657 | I33: =H33+1 -> 44658 | J33: =I33+1 -> 44659 | K33: =J33+1 -> 44660 | ... AF33: =AE33+1 -> 44681 | AJ33: Ve | AK33: Sa | AL33: Di | AM33: Lu
B34: secef
B39: TOTAL : | C39: =SUMIF('FICHE CHANTIER'!$J:$J,C32,'FICHE CHANTIER'!$K:$K) -> 0 | D39: =SUMIF('FICHE CHANTIER'!$J:$J,D32,'FICHE CHANTIER'!$K:$K) -> 0 | E39: =SUMIF('FICHE CHANTIER'!$J:$J,E32,'FICHE CHANTIER'!$K:$K) -> 0 | F39: =SUMIF('FICHE CHANTIER'!$J:$J,F32,'FICHE CHANTIER'!$K:$K) -> 0 | G39: =SUMIF('FICHE CHANTIER'!$J:$J,G32,'FICHE CHANTIER'!$K:$K) -> 0 | H39: =SUMIF('FICHE CHANTIER'!$J:$J,H32,'FICHE CHANTIER'!$K:$K) -> 0 | I39: =SUMIF('FICHE CHANTIER'!$J:$J,I32,'FICHE CHANTIER'!$K:$K) -> 0 | J39: =SUMIF('FICHE CHANTIER'!$J:$J,J32,'FICHE CHANTIER'!$K:$K) -> 0 | ... AM39: =SUMIF('FICHE CHANTIER'!$J:$J,AM32,'FICHE CHANTIER'!$K:$K) -> 0
B41: 5 | C41: 44682 | D41: =IF(DAY(MaySun1)=1,"",IF(AND(YEAR(MaySun1+2)=CalendarYear,MONTH(MaySun1+2)=5),MaySun1+2,"")) | E41: =IF(DAY(MaySun1)=1,"",IF(AND(YEAR(MaySun1+3)=CalendarYear,MONTH(MaySun1+3)=5),MaySun1+3,"")) | F41: =IF(DAY(MaySun1)=1,"",IF(AND(YEAR(MaySun1+4)=CalendarYear,MONTH(MaySun1+4)=5),MaySun1+4,"")) | G41: =IF(DAY(MaySun1)=1,"",IF(AND(YEAR(MaySun1+5)=CalendarYear,MONTH(MaySun1+5)=5),MaySun1+5,"")) | H41: =IF(DAY(MaySun1)=1,"",IF(AND(YEAR(MaySun1+6)=CalendarYear,MONTH(MaySun1+6)=5),MaySun1+6,"")) | I41: =IF(DAY(MaySun1)=1,IF(AND(YEAR(MaySun1)=CalendarYear,MONTH(MaySun1)=5),MaySun1,""),IF(AND(YEAR(MaySun1+7)=CalendarYear,MONTH(MaySun1+7)=5),MaySun1+7,"")) | J41: =IF(DAY(MaySun1)=1,IF(AND(YEAR(MaySun1+1)=CalendarYear,MONTH(MaySun1+1)=5),MaySun1+1,""),IF(AND(YEAR(MaySun1+8)=CalendarYear,MONTH(MaySun1+8)=5),MaySun1+8,"")) | K41: =IF(DAY(MaySun1)=1,IF(AND(YEAR(MaySun1+2)=CalendarYear,MONTH(MaySun1+2)=5),MaySun1+2,""),IF(AND(YEAR(MaySun1+9)=CalendarYear,MONTH(MaySun1+9)=5),MaySun1+9,"")) | L41: =IF(DAY(MaySun1)=1,IF(AND(YEAR(MaySun1+3)=CalendarYear,MONTH(MaySun1+3)=5),MaySun1+3,""),IF(AND(YEAR(MaySun1+10)=CalendarYear,MONTH(MaySun1+10)=5),MaySun1+10,"")) | M41: =IF(DAY(MaySun1)=1,IF(AND(YEAR(MaySun1+4)=CalendarYear,MONTH(MaySun1+4)=5),MaySun1+4,""),IF(AND(YEAR(MaySun1+11)=CalendarYear,MONTH(MaySun1+11)=5),MaySun1+11,"")) | N41: =IF(DAY(MaySun1)=1,IF(AND(YEAR(MaySun1+5)=CalendarYear,MONTH(MaySun1+5)=5),MaySun1+5,""),IF(AND(YEAR(MaySun1+12)=CalendarYear,MONTH(MaySun1+12)=5),MaySun1+12,"")) | O41: =IF(DAY(MaySun1)=1,IF(AND(YEAR(MaySun1+6)=CalendarYear,MONTH(MaySun1+6)=5),MaySun1+6,""),IF(AND(YEAR(MaySun1+13)=CalendarYear,MONTH(MaySun1+13)=5),MaySun1+13,"")) | P41: =IF(DAY(MaySun1)=1,IF(AND(YEAR(MaySun1+7)=CalendarYear,MONTH(MaySun1+7)=5),MaySun1+7,""),IF(AND(YEAR(MaySun1+14)=CalendarYear,MONTH(MaySun1+14)=5),MaySun1+14,"")) | Q41: =IF(DAY(MaySun1)=1,IF(AND(YEAR(MaySun1+8)=CalendarYear,MONTH(MaySun1+8)=5),MaySun1+8,""),IF(AND(YEAR(MaySun1+15)=CalendarYear,MONTH(MaySun1+15)=5),MaySun1+15,"")) | R41: =IF(DAY(MaySun1)=1,IF(AND(YEAR(MaySun1+9)=CalendarYear,MONTH(MaySun1+9)=5),MaySun1+9,""),IF(AND(YEAR(MaySun1+16)=CalendarYear,MONTH(MaySun1+16)=5),MaySun1+16,"")) | S41: =IF(DAY(MaySun1)=1,IF(AND(YEAR(MaySun1+10)=CalendarYear,MONTH(MaySun1+10)=5),MaySun1+10,""),IF(AND(YEAR(MaySun1+17)=CalendarYear,MONTH(MaySun1+17)=5),MaySun1+17,"")) | T41: =IF(DAY(MaySun1)=1,IF(AND(YEAR(MaySun1+11)=CalendarYear,MONTH(MaySun1+11)=5),MaySun1+11,""),IF(AND(YEAR(MaySun1+18)=CalendarYear,MONTH(MaySun1+18)=5),MaySun1+18,"")) | U41: =IF(DAY(MaySun1)=1,IF(AND(YEAR(MaySun1+12)=CalendarYear,MONTH(MaySun1+12)=5),MaySun1+12,""),IF(AND(YEAR(MaySun1+19)=CalendarYear,MONTH(MaySun1+19)=5),MaySun1+19,"")) | V41: =IF(DAY(MaySun1)=1,IF(AND(YEAR(MaySun1+13)=CalendarYear,MONTH(MaySun1+13)=5),MaySun1+13,""),IF(AND(YEAR(MaySun1+20)=CalendarYear,MONTH(MaySun1+20)=5),MaySun1+20,"")) | W41: =IF(DAY(MaySun1)=1,IF(AND(YEAR(MaySun1+14)=CalendarYear,MONTH(MaySun1+14)=5),MaySun1+14,""),IF(AND(YEAR(MaySun1+21)=CalendarYear,MONTH(MaySun1+21)=5),MaySun1+21,"")) | X41: =IF(DAY(MaySun1)=1,IF(AND(YEAR(MaySun1+15)=CalendarYear,MONTH(MaySun1+15)=5),MaySun1+15,""),IF(AND(YEAR(MaySun1+22)=CalendarYear,MONTH(MaySun1+22)=5),MaySun1+22,"")) | Y41: =IF(DAY(MaySun1)=1,IF(AND(YEAR(MaySun1+16)=CalendarYear,MONTH(MaySun1+16)=5),MaySun1+16,""),IF(AND(YEAR(MaySun1+23)=CalendarYear,MONTH(MaySun1+23)=5),MaySun1+23,"")) | Z41: =IF(DAY(MaySun1)=1,IF(AND(YEAR(MaySun1+17)=CalendarYear,MONTH(MaySun1+17)=5),MaySun1+17,""),IF(AND(YEAR(MaySun1+24)=CalendarYear,MONTH(MaySun1+24)=5),MaySun1+24,"")) | AA41: =IF(DAY(MaySun1)=1,IF(AND(YEAR(MaySun1+18)=CalendarYear,MONTH(MaySun1+18)=5),MaySun1+18,""),IF(AND(YEAR(MaySun1+25)=CalendarYear,MONTH(MaySun1+25)=5),MaySun1+25,"")) | AB41: =IF(DAY(MaySun1)=1,IF(AND(YEAR(MaySun1+19)=CalendarYear,MONTH(MaySun1+19)=5),MaySun1+19,""),IF(AND(YEAR(MaySun1+26)=CalendarYear,MONTH(MaySun1+26)=5),MaySun1+26,"")) | AC41: =IF(DAY(MaySun1)=1,IF(AND(YEAR(MaySun1+20)=CalendarYear,MONTH(MaySun1+20)=5),MaySun1+20,""),IF(AND(YEAR(MaySun1+27)=CalendarYear,MONTH(MaySun1+27)=5),MaySun1+27,"")) | AD41: =IF(DAY(MaySun1)=1,IF(AND(YEAR(MaySun1+21)=CalendarYear,MONTH(MaySun1+21)=5),MaySun1+21,""),IF(AND(YEAR(MaySun1+28)=CalendarYear,MONTH(MaySun1+28)=5),MaySun1+28,"")) | AE41: =IF(DAY(MaySun1)=1,IF(AND(YEAR(MaySun1+22)=CalendarYear,MONTH(MaySun1+22)=5),MaySun1+22,""),IF(AND(YEAR(MaySun1+29)=CalendarYear,MONTH(MaySun1+29)=5),MaySun1+29,"")) | AF41: =IF(DAY(MaySun1)=1,IF(AND(YEAR(MaySun1+23)=CalendarYear,MONTH(MaySun1+23)=5),MaySun1+23,""),IF(AND(YEAR(MaySun1+30)=CalendarYear,MONTH(MaySun1+30)=5),MaySun1+30,"")) | AG41: =IF(DAY(MaySun1)=1,IF(AND(YEAR(MaySun1+24)=CalendarYear,MONTH(MaySun1+24)=5),MaySun1+24,""),IF(AND(YEAR(MaySun1+31)=CalendarYear,MONTH(MaySun1+31)=5),MaySun1+31,"")) | AH41: =IF(DAY(MaySun1)=1,IF(AND(YEAR(MaySun1+25)=CalendarYear,MONTH(MaySun1+25)=5),MaySun1+25,""),IF(AND(YEAR(MaySun1+32)=CalendarYear,MONTH(MaySun1+32)=5),MaySun1+32,"")) | AI41: =IF(DAY(MaySun1)=1,IF(AND(YEAR(MaySun1+26)=CalendarYear,MONTH(MaySun1+26)=5),MaySun1+26,""),IF(AND(YEAR(MaySun1+33)=CalendarYear,MONTH(MaySun1+33)=5),MaySun1+33,"")) | AJ41: =IF(DAY(MaySun1)=1,IF(AND(YEAR(MaySun1+27)=CalendarYear,MONTH(MaySun1+27)=5),MaySun1+27,""),IF(AND(YEAR(MaySun1+34)=CalendarYear,MONTH(MaySun1+34)=5),MaySun1+34,"")) | AK41: =IF(DAY(MaySun1)=1,IF(AND(YEAR(MaySun1+28)=CalendarYear,MONTH(MaySun1+28)=5),MaySun1+28,""),IF(AND(YEAR(MaySun1+35)=CalendarYear,MONTH(MaySun1+35)=5),MaySun1+35,"")) | AL41: =IF(DAY(MaySun1)=1,IF(AND(YEAR(MaySun1+29)=CalendarYear,MONTH(MaySun1+29)=5),MaySun1+29,""),IF(AND(YEAR(MaySun1+36)=CalendarYear,MONTH(MaySun1+36)=5),MaySun1+36,"")) | AM41: =IF(DAY(MaySun1)=1,IF(AND(YEAR(MaySun1+30)=CalendarYear,MONTH(MaySun1+30)=5),MaySun1+30,""),IF(AND(YEAR(MaySun1+37)=CalendarYear,MONTH(MaySun1+37)=5),MaySun1+37,""))
C42: Di | D42: Lu | E42: Ma | F42: Me | G42: Je | H42: Ve | I42: Sa | J42: Di | K42: Lu | L42: Ma | M42: Me | N42: Je | O42: Ve | P42: Sa | Q42: Di | R42: Lu | S42: Ma | T42: Me | U42: Je | V42: Ve | W42: Sa | X42: Di | Y42: Lu | Z42: Ma | AA42: Me | AB42: Je | AC42: Ve | AD42: Sa | AE42: Di | AF42: Lu | AG42: Ma | AH42: Me | AI42: Je | AJ42: Ve | AK42: Sa | AL42: Di | AM42: Lu
B48: TOTAL : | C48: =SUMIF('FICHE CHANTIER'!$J:$J,C41,'FICHE CHANTIER'!$K:$K) -> 0 | D48: =SUMIF('FICHE CHANTIER'!$J:$J,D41,'FICHE CHANTIER'!$K:$K) -> 0 | E48: =SUMIF('FICHE CHANTIER'!$J:$J,E41,'FICHE CHANTIER'!$K:$K) -> 0 | F48: =SUMIF('FICHE CHANTIER'!$J:$J,F41,'FICHE CHANTIER'!$K:$K) -> 0 | G48: =SUMIF('FICHE CHANTIER'!$J:$J,G41,'FICHE CHANTIER'!$K:$K) -> 0 | H48: =SUMIF('FICHE CHANTIER'!$J:$J,H41,'FICHE CHANTIER'!$K:$K) -> 0 | I48: =SUMIF('FICHE CHANTIER'!$J:$J,I41,'FICHE CHANTIER'!$K:$K) -> 0 | J48: =SUMIF('FICHE CHANTIER'!$J:$J,J41,'FICHE CHANTIER'!$K:$K) -> 0 | ... AM48: =SUMIF('FICHE CHANTIER'!$J:$J,AM41,'FICHE CHANTIER'!$K:$K) -> 0
B50: 6 | C50: 44713 | D50: =IF(DAY(JunSun1)=1,"",IF(AND(YEAR(JunSun1+2)=CalendarYear,MONTH(JunSun1+2)=6),JunSun1+2,"")) | E50: =IF(DAY(JunSun1)=1,"",IF(AND(YEAR(JunSun1+3)=CalendarYear,MONTH(JunSun1+3)=6),JunSun1+3,"")) | F50: =IF(DAY(JunSun1)=1,"",IF(AND(YEAR(JunSun1+4)=CalendarYear,MONTH(JunSun1+4)=6),JunSun1+4,"")) | G50: =IF(DAY(JunSun1)=1,"",IF(AND(YEAR(JunSun1+5)=CalendarYear,MONTH(JunSun1+5)=6),JunSun1+5,"")) | H50: =IF(DAY(JunSun1)=1,"",IF(AND(YEAR(JunSun1+6)=CalendarYear,MONTH(JunSun1+6)=6),JunSun1+6,"")) | I50: =IF(DAY(JunSun1)=1,IF(AND(YEAR(JunSun1)=CalendarYear,MONTH(JunSun1)=6),JunSun1,""),IF(AND(YEAR(JunSun1+7)=CalendarYear,MONTH(JunSun1+7)=6),JunSun1+7,"")) | J50: =IF(DAY(JunSun1)=1,IF(AND(YEAR(JunSun1+1)=CalendarYear,MONTH(JunSun1+1)=6),JunSun1+1,""),IF(AND(YEAR(JunSun1+8)=CalendarYear,MONTH(JunSun1+8)=6),JunSun1+8,"")) | K50: =IF(DAY(JunSun1)=1,IF(AND(YEAR(JunSun1+2)=CalendarYear,MONTH(JunSun1+2)=6),JunSun1+2,""),IF(AND(YEAR(JunSun1+9)=CalendarYear,MONTH(JunSun1+9)=6),JunSun1+9,"")) | L50: =IF(DAY(JunSun1)=1,IF(AND(YEAR(JunSun1+3)=CalendarYear,MONTH(JunSun1+3)=6),JunSun1+3,""),IF(AND(YEAR(JunSun1+10)=CalendarYear,MONTH(JunSun1+10)=6),JunSun1+10,"")) | M50: =IF(DAY(JunSun1)=1,IF(AND(YEAR(JunSun1+4)=CalendarYear,MONTH(JunSun1+4)=6),JunSun1+4,""),IF(AND(YEAR(JunSun1+11)=CalendarYear,MONTH(JunSun1+11)=6),JunSun1+11,"")) | N50: =IF(DAY(JunSun1)=1,IF(AND(YEAR(JunSun1+5)=CalendarYear,MONTH(JunSun1+5)=6),JunSun1+5,""),IF(AND(YEAR(JunSun1+12)=CalendarYear,MONTH(JunSun1+12)=6),JunSun1+12,"")) | O50: =IF(DAY(JunSun1)=1,IF(AND(YEAR(JunSun1+6)=CalendarYear,MONTH(JunSun1+6)=6),JunSun1+6,""),IF(AND(YEAR(JunSun1+13)=CalendarYear,MONTH(JunSun1+13)=6),JunSun1+13,"")) | P50: =IF(DAY(JunSun1)=1,IF(AND(YEAR(JunSun1+7)=CalendarYear,MONTH(JunSun1+7)=6),JunSun1+7,""),IF(AND(YEAR(JunSun1+14)=CalendarYear,MONTH(JunSun1+14)=6),JunSun1+14,"")) | Q50: =IF(DAY(JunSun1)=1,IF(AND(YEAR(JunSun1+8)=CalendarYear,MONTH(JunSun1+8)=6),JunSun1+8,""),IF(AND(YEAR(JunSun1+15)=CalendarYear,MONTH(JunSun1+15)=6),JunSun1+15,"")) | R50: =IF(DAY(JunSun1)=1,IF(AND(YEAR(JunSun1+9)=CalendarYear,MONTH(JunSun1+9)=6),JunSun1+9,""),IF(AND(YEAR(JunSun1+16)=CalendarYear,MONTH(JunSun1+16)=6),JunSun1+16,"")) | S50: =IF(DAY(JunSun1)=1,IF(AND(YEAR(JunSun1+10)=CalendarYear,MONTH(JunSun1+10)=6),JunSun1+10,""),IF(AND(YEAR(JunSun1+17)=CalendarYear,MONTH(JunSun1+17)=6),JunSun1+17,"")) | T50: =IF(DAY(JunSun1)=1,IF(AND(YEAR(JunSun1+11)=CalendarYear,MONTH(JunSun1+11)=6),JunSun1+11,""),IF(AND(YEAR(JunSun1+18)=CalendarYear,MONTH(JunSun1+18)=6),JunSun1+18,"")) | U50: =IF(DAY(JunSun1)=1,IF(AND(YEAR(JunSun1+12)=CalendarYear,MONTH(JunSun1+12)=6),JunSun1+12,""),IF(AND(YEAR(JunSun1+19)=CalendarYear,MONTH(JunSun1+19)=6),JunSun1+19,"")) | V50: =IF(DAY(JunSun1)=1,IF(AND(YEAR(JunSun1+13)=CalendarYear,MONTH(JunSun1+13)=6),JunSun1+13,""),IF(AND(YEAR(JunSun1+20)=CalendarYear,MONTH(JunSun1+20)=6),JunSun1+20,"")) | W50: =IF(DAY(JunSun1)=1,IF(AND(YEAR(JunSun1+14)=CalendarYear,MONTH(JunSun1+14)=6),JunSun1+14,""),IF(AND(YEAR(JunSun1+21)=CalendarYear,MONTH(JunSun1+21)=6),JunSun1+21,"")) | X50: =IF(DAY(JunSun1)=1,IF(AND(YEAR(JunSun1+15)=CalendarYear,MONTH(JunSun1+15)=6),JunSun1+15,""),IF(AND(YEAR(JunSun1+22)=CalendarYear,MONTH(JunSun1+22)=6),JunSun1+22,"")) | Y50: =IF(DAY(JunSun1)=1,IF(AND(YEAR(JunSun1+16)=CalendarYear,MONTH(JunSun1+16)=6),JunSun1+16,""),IF(AND(YEAR(JunSun1+23)=CalendarYear,MONTH(JunSun1+23)=6),JunSun1+23,"")) | Z50: =IF(DAY(JunSun1)=1,IF(AND(YEAR(JunSun1+17)=CalendarYear,MONTH(JunSun1+17)=6),JunSun1+17,""),IF(AND(YEAR(JunSun1+24)=CalendarYear,MONTH(JunSun1+24)=6),JunSun1+24,"")) | AA50: =IF(DAY(JunSun1)=1,IF(AND(YEAR(JunSun1+18)=CalendarYear,MONTH(JunSun1+18)=6),JunSun1+18,""),IF(AND(YEAR(JunSun1+25)=CalendarYear,MONTH(JunSun1+25)=6),JunSun1+25,"")) | AB50: =IF(DAY(JunSun1)=1,IF(AND(YEAR(JunSun1+19)=CalendarYear,MONTH(JunSun1+19)=6),JunSun1+19,""),IF(AND(YEAR(JunSun1+26)=CalendarYear,MONTH(JunSun1+26)=6),JunSun1+26,"")) | AC50: =IF(DAY(JunSun1)=1,IF(AND(YEAR(JunSun1+20)=CalendarYear,MONTH(JunSun1+20)=6),JunSun1+20,""),IF(AND(YEAR(JunSun1+27)=CalendarYear,MONTH(JunSun1+27)=6),JunSun1+27,"")) | AD50: =IF(DAY(JunSun1)=1,IF(AND(YEAR(JunSun1+21)=CalendarYear,MONTH(JunSun1+21)=6),JunSun1+21,""),IF(AND(YEAR(JunSun1+28)=CalendarYear,MONTH(JunSun1+28)=6),JunSun1+28,"")) | AE50: =IF(DAY(JunSun1)=1,IF(AND(YEAR(JunSun1+22)=CalendarYear,MONTH(JunSun1+22)=6),JunSun1+22,""),IF(AND(YEAR(JunSun1+29)=CalendarYear,MONTH(JunSun1+29)=6),JunSun1+29,"")) | AF50: =IF(DAY(JunSun1)=1,IF(AND(YEAR(JunSun1+23)=CalendarYear,MONTH(JunSun1+23)=6),JunSun1+23,""),IF(AND(YEAR(JunSun1+30)=CalendarYear,MONTH(JunSun1+30)=6),JunSun1+30,"")) | AG50: =IF(DAY(JunSun1)=1,IF(AND(YEAR(JunSun1+24)=CalendarYear,MONTH(JunSun1+24)=6),JunSun1+24,""),IF(AND(YEAR(JunSun1+31)=CalendarYear,MONTH(JunSun1+31)=6),JunSun1+31,"")) | AH50: =IF(DAY(JunSun1)=1,IF(AND(YEAR(JunSun1+25)=CalendarYear,MONTH(JunSun1+25)=6),JunSun1+25,""),IF(AND(YEAR(JunSun1+32)=CalendarYear,MONTH(JunSun1+32)=6),JunSun1+32,"")) | AI50: =IF(DAY(JunSun1)=1,IF(AND(YEAR(JunSun1+26)=CalendarYear,MONTH(JunSun1+26)=6),JunSun1+26,""),IF(AND(YEAR(JunSun1+33)=CalendarYear,MONTH(JunSun1+33)=6),JunSun1+33,"")) | AJ50: =IF(DAY(JunSun1)=1,IF(AND(YEAR(JunSun1+27)=CalendarYear,MONTH(JunSun1+27)=6),JunSun1+27,""),IF(AND(YEAR(JunSun1+34)=CalendarYear,MONTH(JunSun1+34)=6),JunSun1+34,"")) | AK50: =IF(DAY(JunSun1)=1,IF(AND(YEAR(JunSun1+28)=CalendarYear,MONTH(JunSun1+28)=6),JunSun1+28,""),IF(AND(YEAR(JunSun1+35)=CalendarYear,MONTH(JunSun1+35)=6),JunSun1+35,"")) | AL50: =IF(DAY(JunSun1)=1,IF(AND(YEAR(JunSun1+29)=CalendarYear,MONTH(JunSun1+29)=6),JunSun1+29,""),IF(AND(YEAR(JunSun1+36)=CalendarYear,MONTH(JunSun1+36)=6),JunSun1+36,"")) | AM50: =IF(DAY(JunSun1)=1,IF(AND(YEAR(JunSun1+30)=CalendarYear,MONTH(JunSun1+30)=6),JunSun1+30,""),IF(AND(YEAR(JunSun1+37)=CalendarYear,MONTH(JunSun1+37)=6),JunSun1+37,""))
C51: Di | D51: Lu | E51: Ma | F51: Me | G51: Je | H51: Ve | I51: Sa | J51: Di | K51: Lu | L51: Ma | M51: Me | N51: Je | O51: Ve | P51: Sa | Q51: Di | R51: Lu | S51: Ma | T51: Me | U51: Je | V51: Ve | W51: Sa | X51: Di | Y51: Lu | Z51: Ma | AA51: Me | AB51: Je | AC51: Ve | AD51: Sa | AE51: Di | AF51: Lu | AG51: Ma | AH51: Me | AI51: Je | AJ51: Ve | AK51: Sa | AL51: Di | AM51: Lu
B57: TOTAL : | C57: =SUMIF('FICHE CHANTIER'!$J:$J,C50,'FICHE CHANTIER'!$K:$K) -> 0 | D57: =SUMIF('FICHE CHANTIER'!$J:$J,D50,'FICHE CHANTIER'!$K:$K) -> 0 | E57: =SUMIF('FICHE CHANTIER'!$J:$J,E50,'FICHE CHANTIER'!$K:$K) -> 0 | F57: =SUMIF('FICHE CHANTIER'!$J:$J,F50,'FICHE CHANTIER'!$K:$K) -> 0 | G57: =SUMIF('FICHE CHANTIER'!$J:$J,G50,'FICHE CHANTIER'!$K:$K) -> 0 | H57: =SUMIF('FICHE CHANTIER'!$J:$J,H50,'FICHE CHANTIER'!$K:$K) -> 0 | I57: =SUMIF('FICHE CHANTIER'!$J:$J,I50,'FICHE CHANTIER'!$K:$K) -> 0 | J57: =SUMIF('FICHE CHANTIER'!$J:$J,J50,'FICHE CHANTIER'!$K:$K) -> 0 | ... AM57: =SUMIF('FICHE CHANTIER'!$J:$J,AM50,'FICHE CHANTIER'!$K:$K) -> 0
B59: 7 | C59: 44743 | D59: =IF(DAY(JulSun1)=1,"",IF(AND(YEAR(JulSun1+2)=CalendarYear,MONTH(JulSun1+2)=7),JulSun1+2,"")) | E59: =IF(DAY(JulSun1)=1,"",IF(AND(YEAR(JulSun1+3)=CalendarYear,MONTH(JulSun1+3)=7),JulSun1+3,"")) | F59: =IF(DAY(JulSun1)=1,"",IF(AND(YEAR(JulSun1+4)=CalendarYear,MONTH(JulSun1+4)=7),JulSun1+4,"")) | G59: =IF(DAY(JulSun1)=1,"",IF(AND(YEAR(JulSun1+5)=CalendarYear,MONTH(JulSun1+5)=7),JulSun1+5,"")) | H59: =IF(DAY(JulSun1)=1,"",IF(AND(YEAR(JulSun1+6)=CalendarYear,MONTH(JulSun1+6)=7),JulSun1+6,"")) | I59: =IF(DAY(JulSun1)=1,IF(AND(YEAR(JulSun1)=CalendarYear,MONTH(JulSun1)=7),JulSun1,""),IF(AND(YEAR(JulSun1+7)=CalendarYear,MONTH(JulSun1+7)=7),JulSun1+7,"")) | J59: =IF(DAY(JulSun1)=1,IF(AND(YEAR(JulSun1+1)=CalendarYear,MONTH(JulSun1+1)=7),JulSun1+1,""),IF(AND(YEAR(JulSun1+8)=CalendarYear,MONTH(JulSun1+8)=7),JulSun1+8,"")) | K59: =IF(DAY(JulSun1)=1,IF(AND(YEAR(JulSun1+2)=CalendarYear,MONTH(JulSun1+2)=7),JulSun1+2,""),IF(AND(YEAR(JulSun1+9)=CalendarYear,MONTH(JulSun1+9)=7),JulSun1+9,"")) | L59: =IF(DAY(JulSun1)=1,IF(AND(YEAR(JulSun1+3)=CalendarYear,MONTH(JulSun1+3)=7),JulSun1+3,""),IF(AND(YEAR(JulSun1+10)=CalendarYear,MONTH(JulSun1+10)=7),JulSun1+10,"")) | M59: =IF(DAY(JulSun1)=1,IF(AND(YEAR(JulSun1+4)=CalendarYear,MONTH(JulSun1+4)=7),JulSun1+4,""),IF(AND(YEAR(JulSun1+11)=CalendarYear,MONTH(JulSun1+11)=7),JulSun1+11,"")) | N59: =IF(DAY(JulSun1)=1,IF(AND(YEAR(JulSun1+5)=CalendarYear,MONTH(JulSun1+5)=7),JulSun1+5,""),IF(AND(YEAR(JulSun1+12)=CalendarYear,MONTH(JulSun1+12)=7),JulSun1+12,"")) | O59: =IF(DAY(JulSun1)=1,IF(AND(YEAR(JulSun1+6)=CalendarYear,MONTH(JulSun1+6)=7),JulSun1+6,""),IF(AND(YEAR(JulSun1+13)=CalendarYear,MONTH(JulSun1+13)=7),JulSun1+13,"")) | P59: =IF(DAY(JulSun1)=1,IF(AND(YEAR(JulSun1+7)=CalendarYear,MONTH(JulSun1+7)=7),JulSun1+7,""),IF(AND(YEAR(JulSun1+14)=CalendarYear,MONTH(JulSun1+14)=7),JulSun1+14,"")) | Q59: =IF(DAY(JulSun1)=1,IF(AND(YEAR(JulSun1+8)=CalendarYear,MONTH(JulSun1+8)=7),JulSun1+8,""),IF(AND(YEAR(JulSun1+15)=CalendarYear,MONTH(JulSun1+15)=7),JulSun1+15,"")) | R59: =IF(DAY(JulSun1)=1,IF(AND(YEAR(JulSun1+9)=CalendarYear,MONTH(JulSun1+9)=7),JulSun1+9,""),IF(AND(YEAR(JulSun1+16)=CalendarYear,MONTH(JulSun1+16)=7),JulSun1+16,"")) | S59: =IF(DAY(JulSun1)=1,IF(AND(YEAR(JulSun1+10)=CalendarYear,MONTH(JulSun1+10)=7),JulSun1+10,""),IF(AND(YEAR(JulSun1+17)=CalendarYear,MONTH(JulSun1+17)=7),JulSun1+17,"")) | T59: =IF(DAY(JulSun1)=1,IF(AND(YEAR(JulSun1+11)=CalendarYear,MONTH(JulSun1+11)=7),JulSun1+11,""),IF(AND(YEAR(JulSun1+18)=CalendarYear,MONTH(JulSun1+18)=7),JulSun1+18,"")) | U59: =IF(DAY(JulSun1)=1,IF(AND(YEAR(JulSun1+12)=CalendarYear,MONTH(JulSun1+12)=7),JulSun1+12,""),IF(AND(YEAR(JulSun1+19)=CalendarYear,MONTH(JulSun1+19)=7),JulSun1+19,"")) | V59: =IF(DAY(JulSun1)=1,IF(AND(YEAR(JulSun1+13)=CalendarYear,MONTH(JulSun1+13)=7),JulSun1+13,""),IF(AND(YEAR(JulSun1+20)=CalendarYear,MONTH(JulSun1+20)=7),JulSun1+20,"")) | W59: =IF(DAY(JulSun1)=1,IF(AND(YEAR(JulSun1+14)=CalendarYear,MONTH(JulSun1+14)=7),JulSun1+14,""),IF(AND(YEAR(JulSun1+21)=CalendarYear,MONTH(JulSun1+21)=7),JulSun1+21,"")) | X59: =IF(DAY(JulSun1)=1,IF(AND(YEAR(JulSun1+15)=CalendarYear,MONTH(JulSun1+15)=7),JulSun1+15,""),IF(AND(YEAR(JulSun1+22)=CalendarYear,MONTH(JulSun1+22)=7),JulSun1+22,"")) | Y59: =IF(DAY(JulSun1)=1,IF(AND(YEAR(JulSun1+16)=CalendarYear,MONTH(JulSun1+16)=7),JulSun1+16,""),IF(AND(YEAR(JulSun1+23)=CalendarYear,MONTH(JulSun1+23)=7),JulSun1+23,"")) | Z59: =IF(DAY(JulSun1)=1,IF(AND(YEAR(JulSun1+17)=CalendarYear,MONTH(JulSun1+17)=7),JulSun1+17,""),IF(AND(YEAR(JulSun1+24)=CalendarYear,MONTH(JulSun1+24)=7),JulSun1+24,"")) | AA59: =IF(DAY(JulSun1)=1,IF(AND(YEAR(JulSun1+18)=CalendarYear,MONTH(JulSun1+18)=7),JulSun1+18,""),IF(AND(YEAR(JulSun1+25)=CalendarYear,MONTH(JulSun1+25)=7),JulSun1+25,"")) | AB59: =IF(DAY(JulSun1)=1,IF(AND(YEAR(JulSun1+19)=CalendarYear,MONTH(JulSun1+19)=7),JulSun1+19,""),IF(AND(YEAR(JulSun1+26)=CalendarYear,MONTH(JulSun1+26)=7),JulSun1+26,"")) | AC59: =IF(DAY(JulSun1)=1,IF(AND(YEAR(JulSun1+20)=CalendarYear,MONTH(JulSun1+20)=7),JulSun1+20,""),IF(AND(YEAR(JulSun1+27)=CalendarYear,MONTH(JulSun1+27)=7),JulSun1+27,"")) | AD59: =IF(DAY(JulSun1)=1,IF(AND(YEAR(JulSun1+21)=CalendarYear,MONTH(JulSun1+21)=7),JulSun1+21,""),IF(AND(YEAR(JulSun1+28)=CalendarYear,MONTH(JulSun1+28)=7),JulSun1+28,"")) | AE59: =IF(DAY(JulSun1)=1,IF(AND(YEAR(JulSun1+22)=CalendarYear,MONTH(JulSun1+22)=7),JulSun1+22,""),IF(AND(YEAR(JulSun1+29)=CalendarYear,MONTH(JulSun1+29)=7),JulSun1+29,"")) | AF59: =IF(DAY(JulSun1)=1,IF(AND(YEAR(JulSun1+23)=CalendarYear,MONTH(JulSun1+23)=7),JulSun1+23,""),IF(AND(YEAR(JulSun1+30)=CalendarYear,MONTH(JulSun1+30)=7),JulSun1+30,"")) | AG59: =IF(DAY(JulSun1)=1,IF(AND(YEAR(JulSun1+24)=CalendarYear,MONTH(JulSun1+24)=7),JulSun1+24,""),IF(AND(YEAR(JulSun1+31)=CalendarYear,MONTH(JulSun1+31)=7),JulSun1+31,"")) | AH59: =IF(DAY(JulSun1)=1,IF(AND(YEAR(JulSun1+25)=CalendarYear,MONTH(JulSun1+25)=7),JulSun1+25,""),IF(AND(YEAR(JulSun1+32)=CalendarYear,MONTH(JulSun1+32)=7),JulSun1+32,"")) | AI59: =IF(DAY(JulSun1)=1,IF(AND(YEAR(JulSun1+26)=CalendarYear,MONTH(JulSun1+26)=7),JulSun1+26,""),IF(AND(YEAR(JulSun1+33)=CalendarYear,MONTH(JulSun1+33)=7),JulSun1+33,"")) | AJ59: =IF(DAY(JulSun1)=1,IF(AND(YEAR(JulSun1+27)=CalendarYear,MONTH(JulSun1+27)=7),JulSun1+27,""),IF(AND(YEAR(JulSun1+34)=CalendarYear,MONTH(JulSun1+34)=7),JulSun1+34,"")) | AK59: =IF(DAY(JulSun1)=1,IF(AND(YEAR(JulSun1+28)=CalendarYear,MONTH(JulSun1+28)=7),JulSun1+28,""),IF(AND(YEAR(JulSun1+35)=CalendarYear,MONTH(JulSun1+35)=7),JulSun1+35,"")) | AL59: =IF(DAY(JulSun1)=1,IF(AND(YEAR(JulSun1+29)=CalendarYear,MONTH(JulSun1+29)=7),JulSun1+29,""),IF(AND(YEAR(JulSun1+36)=CalendarYear,MONTH(JulSun1+36)=7),JulSun1+36,"")) | AM59: =IF(DAY(JulSun1)=1,IF(AND(YEAR(JulSun1+30)=CalendarYear,MONTH(JulSun1+30)=7),JulSun1+30,""),IF(AND(YEAR(JulSun1+37)=CalendarYear,MONTH(JulSun1+37)=7),JulSun1+37,""))
C60: Di | D60: Lu | E60: Ma | F60: Me | G60: Je | H60: Ve | I60: Sa | J60: Di | K60: Lu | L60: Ma | M60: Me | N60: Je | O60: Ve | P60: Sa | Q60: Di | R60: Lu | S60: Ma | T60: Me | U60: Je | V60: Ve | W60: Sa | X60: Di | Y60: Lu | Z60: Ma | AA60: Me | AB60: Je | AC60: Ve | AD60: Sa | AE60: Di | AF60: Lu | AG60: Ma | AH60: Me | AI60: Je | AJ60: Ve | AK60: Sa | AL60: Di | AM60: Lu
B66: TOTAL : | C66: =SUMIF('FICHE CHANTIER'!$J:$J,C59,'FICHE CHANTIER'!$K:$K) -> 0 | D66: =SUMIF('FICHE CHANTIER'!$J:$J,D59,'FICHE CHANTIER'!$K:$K) -> 0 | E66: =SUMIF('FICHE CHANTIER'!$J:$J,E59,'FICHE CHANTIER'!$K:$K) -> 0 | F66: =SUMIF('FICHE CHANTIER'!$J:$J,F59,'FICHE CHANTIER'!$K:$K) -> 0 | G66: =SUMIF('FICHE CHANTIER'!$J:$J,G59,'FICHE CHANTIER'!$K:$K) -> 0 | H66: =SUMIF('FICHE CHANTIER'!$J:$J,H59,'FICHE CHANTIER'!$K:$K) -> 0 | I66: =SUMIF('FICHE CHANTIER'!$J:$J,I59,'FICHE CHANTIER'!$K:$K) -> 0 | J66: =SUMIF('FICHE CHANTIER'!$J:$J,J59,'FICHE CHANTIER'!$K:$K) -> 0 | ... AM66: =SUMIF('FICHE CHANTIER'!$J:$J,AM59,'FICHE CHANTIER'!$K:$K) -> 0
B68: 8 | C68: 44774 | D68: =IF(DAY(AugSun1)=1,"",IF(AND(YEAR(AugSun1+2)=CalendarYear,MONTH(AugSun1+2)=8),AugSun1+2,"")) | E68: =IF(DAY(AugSun1)=1,"",IF(AND(YEAR(AugSun1+3)=CalendarYear,MONTH(AugSun1+3)=8),AugSun1+3,"")) | F68: =IF(DAY(AugSun1)=1,"",IF(AND(YEAR(AugSun1+4)=CalendarYear,MONTH(AugSun1+4)=8),AugSun1+4,"")) | G68: =IF(DAY(AugSun1)=1,"",IF(AND(YEAR(AugSun1+5)=CalendarYear,MONTH(AugSun1+5)=8),AugSun1+5,"")) | H68: =IF(DAY(AugSun1)=1,"",IF(AND(YEAR(AugSun1+6)=CalendarYear,MONTH(AugSun1+6)=8),AugSun1+6,"")) | I68: =IF(DAY(AugSun1)=1,IF(AND(YEAR(AugSun1)=CalendarYear,MONTH(AugSun1)=8),AugSun1,""),IF(AND(YEAR(AugSun1+7)=CalendarYear,MONTH(AugSun1+7)=8),AugSun1+7,"")) | J68: =IF(DAY(AugSun1)=1,IF(AND(YEAR(AugSun1+1)=CalendarYear,MONTH(AugSun1+1)=8),AugSun1+1,""),IF(AND(YEAR(AugSun1+8)=CalendarYear,MONTH(AugSun1+8)=8),AugSun1+8,"")) | K68: =IF(DAY(AugSun1)=1,IF(AND(YEAR(AugSun1+2)=CalendarYear,MONTH(AugSun1+2)=8),AugSun1+2,""),IF(AND(YEAR(AugSun1+9)=CalendarYear,MONTH(AugSun1+9)=8),AugSun1+9,"")) | L68: =IF(DAY(AugSun1)=1,IF(AND(YEAR(AugSun1+3)=CalendarYear,MONTH(AugSun1+3)=8),AugSun1+3,""),IF(AND(YEAR(AugSun1+10)=CalendarYear,MONTH(AugSun1+10)=8),AugSun1+10,"")) | M68: =IF(DAY(AugSun1)=1,IF(AND(YEAR(AugSun1+4)=CalendarYear,MONTH(AugSun1+4)=8),AugSun1+4,""),IF(AND(YEAR(AugSun1+11)=CalendarYear,MONTH(AugSun1+11)=8),AugSun1+11,"")) | N68: =IF(DAY(AugSun1)=1,IF(AND(YEAR(AugSun1+5)=CalendarYear,MONTH(AugSun1+5)=8),AugSun1+5,""),IF(AND(YEAR(AugSun1+12)=CalendarYear,MONTH(AugSun1+12)=8),AugSun1+12,"")) | O68: =IF(DAY(AugSun1)=1,IF(AND(YEAR(AugSun1+6)=CalendarYear,MONTH(AugSun1+6)=8),AugSun1+6,""),IF(AND(YEAR(AugSun1+13)=CalendarYear,MONTH(AugSun1+13)=8),AugSun1+13,"")) | P68: =IF(DAY(AugSun1)=1,IF(AND(YEAR(AugSun1+7)=CalendarYear,MONTH(AugSun1+7)=8),AugSun1+7,""),IF(AND(YEAR(AugSun1+14)=CalendarYear,MONTH(AugSun1+14)=8),AugSun1+14,"")) | Q68: =IF(DAY(AugSun1)=1,IF(AND(YEAR(AugSun1+8)=CalendarYear,MONTH(AugSun1+8)=8),AugSun1+8,""),IF(AND(YEAR(AugSun1+15)=CalendarYear,MONTH(AugSun1+15)=8),AugSun1+15,"")) | R68: =IF(DAY(AugSun1)=1,IF(AND(YEAR(AugSun1+9)=CalendarYear,MONTH(AugSun1+9)=8),AugSun1+9,""),IF(AND(YEAR(AugSun1+16)=CalendarYear,MONTH(AugSun1+16)=8),AugSun1+16,"")) | S68: =IF(DAY(AugSun1)=1,IF(AND(YEAR(AugSun1+10)=CalendarYear,MONTH(AugSun1+10)=8),AugSun1+10,""),IF(AND(YEAR(AugSun1+17)=CalendarYear,MONTH(AugSun1+17)=8),AugSun1+17,"")) | T68: =IF(DAY(AugSun1)=1,IF(AND(YEAR(AugSun1+11)=CalendarYear,MONTH(AugSun1+11)=8),AugSun1+11,""),IF(AND(YEAR(AugSun1+18)=CalendarYear,MONTH(AugSun1+18)=8),AugSun1+18,"")) | U68: =IF(DAY(AugSun1)=1,IF(AND(YEAR(AugSun1+12)=CalendarYear,MONTH(AugSun1+12)=8),AugSun1+12,""),IF(AND(YEAR(AugSun1+19)=CalendarYear,MONTH(AugSun1+19)=8),AugSun1+19,"")) | V68: =IF(DAY(AugSun1)=1,IF(AND(YEAR(AugSun1+13)=CalendarYear,MONTH(AugSun1+13)=8),AugSun1+13,""),IF(AND(YEAR(AugSun1+20)=CalendarYear,MONTH(AugSun1+20)=8),AugSun1+20,"")) | W68: =IF(DAY(AugSun1)=1,IF(AND(YEAR(AugSun1+14)=CalendarYear,MONTH(AugSun1+14)=8),AugSun1+14,""),IF(AND(YEAR(AugSun1+21)=CalendarYear,MONTH(AugSun1+21)=8),AugSun1+21,"")) | X68: =IF(DAY(AugSun1)=1,IF(AND(YEAR(AugSun1+15)=CalendarYear,MONTH(AugSun1+15)=8),AugSun1+15,""),IF(AND(YEAR(AugSun1+22)=CalendarYear,MONTH(AugSun1+22)=8),AugSun1+22,"")) | Y68: =IF(DAY(AugSun1)=1,IF(AND(YEAR(AugSun1+16)=CalendarYear,MONTH(AugSun1+16)=8),AugSun1+16,""),IF(AND(YEAR(AugSun1+23)=CalendarYear,MONTH(AugSun1+23)=8),AugSun1+23,"")) | Z68: =IF(DAY(AugSun1)=1,IF(AND(YEAR(AugSun1+17)=CalendarYear,MONTH(AugSun1+17)=8),AugSun1+17,""),IF(AND(YEAR(AugSun1+24)=CalendarYear,MONTH(AugSun1+24)=8),AugSun1+24,"")) | AA68: =IF(DAY(AugSun1)=1,IF(AND(YEAR(AugSun1+18)=CalendarYear,MONTH(AugSun1+18)=8),AugSun1+18,""),IF(AND(YEAR(AugSun1+25)=CalendarYear,MONTH(AugSun1+25)=8),AugSun1+25,"")) | AB68: =IF(DAY(AugSun1)=1,IF(AND(YEAR(AugSun1+19)=CalendarYear,MONTH(AugSun1+19)=8),AugSun1+19,""),IF(AND(YEAR(AugSun1+26)=CalendarYear,MONTH(AugSun1+26)=8),AugSun1+26,"")) | AC68: =IF(DAY(AugSun1)=1,IF(AND(YEAR(AugSun1+20)=CalendarYear,MONTH(AugSun1+20)=8),AugSun1+20,""),IF(AND(YEAR(AugSun1+27)=CalendarYear,MONTH(AugSun1+27)=8),AugSun1+27,"")) | AD68: =IF(DAY(AugSun1)=1,IF(AND(YEAR(AugSun1+21)=CalendarYear,MONTH(AugSun1+21)=8),AugSun1+21,""),IF(AND(YEAR(AugSun1+28)=CalendarYear,MONTH(AugSun1+28)=8),AugSun1+28,"")) | AE68: =IF(DAY(AugSun1)=1,IF(AND(YEAR(AugSun1+22)=CalendarYear,MONTH(AugSun1+22)=8),AugSun1+22,""),IF(AND(YEAR(AugSun1+29)=CalendarYear,MONTH(AugSun1+29)=8),AugSun1+29,"")) | AF68: =IF(DAY(AugSun1)=1,IF(AND(YEAR(AugSun1+23)=CalendarYear,MONTH(AugSun1+23)=8),AugSun1+23,""),IF(AND(YEAR(AugSun1+30)=CalendarYear,MONTH(AugSun1+30)=8),AugSun1+30,"")) | AG68: =IF(DAY(AugSun1)=1,IF(AND(YEAR(AugSun1+24)=CalendarYear,MONTH(AugSun1+24)=8),AugSun1+24,""),IF(AND(YEAR(AugSun1+31)=CalendarYear,MONTH(AugSun1+31)=8),AugSun1+31,"")) | AH68: =IF(DAY(AugSun1)=1,IF(AND(YEAR(AugSun1+25)=CalendarYear,MONTH(AugSun1+25)=8),AugSun1+25,""),IF(AND(YEAR(AugSun1+32)=CalendarYear,MONTH(AugSun1+32)=8),AugSun1+32,"")) | AI68: =IF(DAY(AugSun1)=1,IF(AND(YEAR(AugSun1+26)=CalendarYear,MONTH(AugSun1+26)=8),AugSun1+26,""),IF(AND(YEAR(AugSun1+33)=CalendarYear,MONTH(AugSun1+33)=8),AugSun1+33,"")) | AJ68: =IF(DAY(AugSun1)=1,IF(AND(YEAR(AugSun1+27)=CalendarYear,MONTH(AugSun1+27)=8),AugSun1+27,""),IF(AND(YEAR(AugSun1+34)=CalendarYear,MONTH(AugSun1+34)=8),AugSun1+34,"")) | AK68: =IF(DAY(AugSun1)=1,IF(AND(YEAR(AugSun1+28)=CalendarYear,MONTH(AugSun1+28)=8),AugSun1+28,""),IF(AND(YEAR(AugSun1+35)=CalendarYear,MONTH(AugSun1+35)=8),AugSun1+35,"")) | AL68: =IF(DAY(AugSun1)=1,IF(AND(YEAR(AugSun1+29)=CalendarYear,MONTH(AugSun1+29)=8),AugSun1+29,""),IF(AND(YEAR(AugSun1+36)=CalendarYear,MONTH(AugSun1+36)=8),AugSun1+36,"")) | AM68: =IF(DAY(AugSun1)=1,IF(AND(YEAR(AugSun1+30)=CalendarYear,MONTH(AugSun1+30)=8),AugSun1+30,""),IF(AND(YEAR(AugSun1+37)=CalendarYear,MONTH(AugSun1+37)=8),AugSun1+37,""))
C69: Di | D69: Lu | E69: Ma | F69: Me | G69: Je | H69: Ve | I69: Sa | J69: Di | K69: Lu | L69: Ma | M69: Me | N69: Je | O69: Ve | P69: Sa | Q69: Di | R69: Lu | S69: Ma | T69: Me | U69: Je | V69: Ve | W69: Sa | X69: Di | Y69: Lu | Z69: Ma | AA69: Me | AB69: Je | AC69: Ve | AD69: Sa | AE69: Di | AF69: Lu | AG69: Ma | AH69: Me | AI69: Je | AJ69: Ve | AK69: Sa | AL69: Di | AM69: Lu
B73: TOTAL : | C73: =SUMIF('FICHE CHANTIER'!$J:$J,C66,'FICHE CHANTIER'!$K:$K) -> 0 | D73: =SUMIF('FICHE CHANTIER'!$J:$J,D66,'FICHE CHANTIER'!$K:$K) -> 0 | E73: =SUMIF('FICHE CHANTIER'!$J:$J,E66,'FICHE CHANTIER'!$K:$K) -> 0 | F73: =SUMIF('FICHE CHANTIER'!$J:$J,F66,'FICHE CHANTIER'!$K:$K) -> 0 | G73: =SUMIF('FICHE CHANTIER'!$J:$J,G66,'FICHE CHANTIER'!$K:$K) -> 0 | H73: =SUMIF('FICHE CHANTIER'!$J:$J,H66,'FICHE CHANTIER'!$K:$K) -> 0 | I73: =SUMIF('FICHE CHANTIER'!$J:$J,I66,'FICHE CHANTIER'!$K:$K) -> 0 | J73: =SUMIF('FICHE CHANTIER'!$J:$J,J66,'FICHE CHANTIER'!$K:$K) -> 0 | ... AM73: =SUMIF('FICHE CHANTIER'!$J:$J,AM66,'FICHE CHANTIER'!$K:$K) -> 0
B75: 9 | C75: 44805 | D75: =IF(DAY(SepSun1)=1,"",IF(AND(YEAR(SepSun1+2)=CalendarYear,MONTH(SepSun1+2)=9),SepSun1+2,"")) | E75: =IF(DAY(SepSun1)=1,"",IF(AND(YEAR(SepSun1+3)=CalendarYear,MONTH(SepSun1+3)=9),SepSun1+3,"")) | F75: =IF(DAY(SepSun1)=1,"",IF(AND(YEAR(SepSun1+4)=CalendarYear,MONTH(SepSun1+4)=9),SepSun1+4,"")) | G75: =IF(DAY(SepSun1)=1,"",IF(AND(YEAR(SepSun1+5)=CalendarYear,MONTH(SepSun1+5)=9),SepSun1+5,"")) | H75: =IF(DAY(SepSun1)=1,"",IF(AND(YEAR(SepSun1+6)=CalendarYear,MONTH(SepSun1+6)=9),SepSun1+6,"")) | I75: =IF(DAY(SepSun1)=1,IF(AND(YEAR(SepSun1)=CalendarYear,MONTH(SepSun1)=9),SepSun1,""),IF(AND(YEAR(SepSun1+7)=CalendarYear,MONTH(SepSun1+7)=9),SepSun1+7,"")) | J75: =IF(DAY(SepSun1)=1,IF(AND(YEAR(SepSun1+1)=CalendarYear,MONTH(SepSun1+1)=9),SepSun1+1,""),IF(AND(YEAR(SepSun1+8)=CalendarYear,MONTH(SepSun1+8)=9),SepSun1+8,"")) | K75: =IF(DAY(SepSun1)=1,IF(AND(YEAR(SepSun1+2)=CalendarYear,MONTH(SepSun1+2)=9),SepSun1+2,""),IF(AND(YEAR(SepSun1+9)=CalendarYear,MONTH(SepSun1+9)=9),SepSun1+9,"")) | L75: =IF(DAY(SepSun1)=1,IF(AND(YEAR(SepSun1+3)=CalendarYear,MONTH(SepSun1+3)=9),SepSun1+3,""),IF(AND(YEAR(SepSun1+10)=CalendarYear,MONTH(SepSun1+10)=9),SepSun1+10,"")) | M75: =IF(DAY(SepSun1)=1,IF(AND(YEAR(SepSun1+4)=CalendarYear,MONTH(SepSun1+4)=9),SepSun1+4,""),IF(AND(YEAR(SepSun1+11)=CalendarYear,MONTH(SepSun1+11)=9),SepSun1+11,"")) | N75: =IF(DAY(SepSun1)=1,IF(AND(YEAR(SepSun1+5)=CalendarYear,MONTH(SepSun1+5)=9),SepSun1+5,""),IF(AND(YEAR(SepSun1+12)=CalendarYear,MONTH(SepSun1+12)=9),SepSun1+12,"")) | O75: =IF(DAY(SepSun1)=1,IF(AND(YEAR(SepSun1+6)=CalendarYear,MONTH(SepSun1+6)=9),SepSun1+6,""),IF(AND(YEAR(SepSun1+13)=CalendarYear,MONTH(SepSun1+13)=9),SepSun1+13,"")) | P75: =IF(DAY(SepSun1)=1,IF(AND(YEAR(SepSun1+7)=CalendarYear,MONTH(SepSun1+7)=9),SepSun1+7,""),IF(AND(YEAR(SepSun1+14)=CalendarYear,MONTH(SepSun1+14)=9),SepSun1+14,"")) | Q75: =IF(DAY(SepSun1)=1,IF(AND(YEAR(SepSun1+8)=CalendarYear,MONTH(SepSun1+8)=9),SepSun1+8,""),IF(AND(YEAR(SepSun1+15)=CalendarYear,MONTH(SepSun1+15)=9),SepSun1+15,"")) | R75: =IF(DAY(SepSun1)=1,IF(AND(YEAR(SepSun1+9)=CalendarYear,MONTH(SepSun1+9)=9),SepSun1+9,""),IF(AND(YEAR(SepSun1+16)=CalendarYear,MONTH(SepSun1+16)=9),SepSun1+16,"")) | S75: =IF(DAY(SepSun1)=1,IF(AND(YEAR(SepSun1+10)=CalendarYear,MONTH(SepSun1+10)=9),SepSun1+10,""),IF(AND(YEAR(SepSun1+17)=CalendarYear,MONTH(SepSun1+17)=9),SepSun1+17,"")) | T75: =IF(DAY(SepSun1)=1,IF(AND(YEAR(SepSun1+11)=CalendarYear,MONTH(SepSun1+11)=9),SepSun1+11,""),IF(AND(YEAR(SepSun1+18)=CalendarYear,MONTH(SepSun1+18)=9),SepSun1+18,"")) | U75: =IF(DAY(SepSun1)=1,IF(AND(YEAR(SepSun1+12)=CalendarYear,MONTH(SepSun1+12)=9),SepSun1+12,""),IF(AND(YEAR(SepSun1+19)=CalendarYear,MONTH(SepSun1+19)=9),SepSun1+19,"")) | V75: =IF(DAY(SepSun1)=1,IF(AND(YEAR(SepSun1+13)=CalendarYear,MONTH(SepSun1+13)=9),SepSun1+13,""),IF(AND(YEAR(SepSun1+20)=CalendarYear,MONTH(SepSun1+20)=9),SepSun1+20,"")) | W75: =IF(DAY(SepSun1)=1,IF(AND(YEAR(SepSun1+14)=CalendarYear,MONTH(SepSun1+14)=9),SepSun1+14,""),IF(AND(YEAR(SepSun1+21)=CalendarYear,MONTH(SepSun1+21)=9),SepSun1+21,"")) | X75: =IF(DAY(SepSun1)=1,IF(AND(YEAR(SepSun1+15)=CalendarYear,MONTH(SepSun1+15)=9),SepSun1+15,""),IF(AND(YEAR(SepSun1+22)=CalendarYear,MONTH(SepSun1+22)=9),SepSun1+22,"")) | Y75: =IF(DAY(SepSun1)=1,IF(AND(YEAR(SepSun1+16)=CalendarYear,MONTH(SepSun1+16)=9),SepSun1+16,""),IF(AND(YEAR(SepSun1+23)=CalendarYear,MONTH(SepSun1+23)=9),SepSun1+23,"")) | Z75: =IF(DAY(SepSun1)=1,IF(AND(YEAR(SepSun1+17)=CalendarYear,MONTH(SepSun1+17)=9),SepSun1+17,""),IF(AND(YEAR(SepSun1+24)=CalendarYear,MONTH(SepSun1+24)=9),SepSun1+24,"")) | AA75: =IF(DAY(SepSun1)=1,IF(AND(YEAR(SepSun1+18)=CalendarYear,MONTH(SepSun1+18)=9),SepSun1+18,""),IF(AND(YEAR(SepSun1+25)=CalendarYear,MONTH(SepSun1+25)=9),SepSun1+25,"")) | AB75: =IF(DAY(SepSun1)=1,IF(AND(YEAR(SepSun1+19)=CalendarYear,MONTH(SepSun1+19)=9),SepSun1+19,""),IF(AND(YEAR(SepSun1+26)=CalendarYear,MONTH(SepSun1+26)=9),SepSun1+26,"")) | AC75: =IF(DAY(SepSun1)=1,IF(AND(YEAR(SepSun1+20)=CalendarYear,MONTH(SepSun1+20)=9),SepSun1+20,""),IF(AND(YEAR(SepSun1+27)=CalendarYear,MONTH(SepSun1+27)=9),SepSun1+27,"")) | AD75: =IF(DAY(SepSun1)=1,IF(AND(YEAR(SepSun1+21)=CalendarYear,MONTH(SepSun1+21)=9),SepSun1+21,""),IF(AND(YEAR(SepSun1+28)=CalendarYear,MONTH(SepSun1+28)=9),SepSun1+28,"")) | AE75: =IF(DAY(SepSun1)=1,IF(AND(YEAR(SepSun1+22)=CalendarYear,MONTH(SepSun1+22)=9),SepSun1+22,""),IF(AND(YEAR(SepSun1+29)=CalendarYear,MONTH(SepSun1+29)=9),SepSun1+29,"")) | AF75: =IF(DAY(SepSun1)=1,IF(AND(YEAR(SepSun1+23)=CalendarYear,MONTH(SepSun1+23)=9),SepSun1+23,""),IF(AND(YEAR(SepSun1+30)=CalendarYear,MONTH(SepSun1+30)=9),SepSun1+30,"")) | AG75: =IF(DAY(SepSun1)=1,IF(AND(YEAR(SepSun1+24)=CalendarYear,MONTH(SepSun1+24)=9),SepSun1+24,""),IF(AND(YEAR(SepSun1+31)=CalendarYear,MONTH(SepSun1+31)=9),SepSun1+31,"")) | AH75: =IF(DAY(SepSun1)=1,IF(AND(YEAR(SepSun1+25)=CalendarYear,MONTH(SepSun1+25)=9),SepSun1+25,""),IF(AND(YEAR(SepSun1+32)=CalendarYear,MONTH(SepSun1+32)=9),SepSun1+32,"")) | AI75: =IF(DAY(SepSun1)=1,IF(AND(YEAR(SepSun1+26)=CalendarYear,MONTH(SepSun1+26)=9),SepSun1+26,""),IF(AND(YEAR(SepSun1+33)=CalendarYear,MONTH(SepSun1+33)=9),SepSun1+33,"")) | AJ75: =IF(DAY(SepSun1)=1,IF(AND(YEAR(SepSun1+27)=CalendarYear,MONTH(SepSun1+27)=9),SepSun1+27,""),IF(AND(YEAR(SepSun1+34)=CalendarYear,MONTH(SepSun1+34)=9),SepSun1+34,"")) | AK75: =IF(DAY(SepSun1)=1,IF(AND(YEAR(SepSun1+28)=CalendarYear,MONTH(SepSun1+28)=9),SepSun1+28,""),IF(AND(YEAR(SepSun1+35)=CalendarYear,MONTH(SepSun1+35)=9),SepSun1+35,"")) | AL75: =IF(DAY(SepSun1)=1,IF(AND(YEAR(SepSun1+29)=CalendarYear,MONTH(SepSun1+29)=9),SepSun1+29,""),IF(AND(YEAR(SepSun1+36)=CalendarYear,MONTH(SepSun1+36)=9),SepSun1+36,"")) | AM75: =IF(DAY(SepSun1)=1,IF(AND(YEAR(SepSun1+30)=CalendarYear,MONTH(SepSun1+30)=9),SepSun1+30,""),IF(AND(YEAR(SepSun1+37)=CalendarYear,MONTH(SepSun1+37)=9),SepSun1+37,""))
C76: Di | D76: Lu | E76: Ma | F76: Me | G76: Je | H76: Ve | I76: Sa | J76: Di | K76: Lu | L76: Ma | M76: Me | N76: Je | O76: Ve | P76: Sa | Q76: Di | R76: Lu | S76: Ma | T76: Me | U76: Je | V76: Ve | W76: Sa | X76: Di | Y76: Lu | Z76: Ma | AA76: Me | AB76: Je | AC76: Ve | AD76: Sa | AE76: Di | AF76: Lu | AG76: Ma | AH76: Me | AI76: Je | AJ76: Ve | AK76: Sa | AL76: Di | AM76: Lu
B80: TOTAL : | C80: =SUMIF('FICHE CHANTIER'!$J:$J,C73,'FICHE CHANTIER'!$K:$K) -> 0 | D80: =SUMIF('FICHE CHANTIER'!$J:$J,D73,'FICHE CHANTIER'!$K:$K) -> 0 | E80: =SUMIF('FICHE CHANTIER'!$J:$J,E73,'FICHE CHANTIER'!$K:$K) -> 0 | F80: =SUMIF('FICHE CHANTIER'!$J:$J,F73,'FICHE CHANTIER'!$K:$K) -> 0 | G80: =SUMIF('FICHE CHANTIER'!$J:$J,G73,'FICHE CHANTIER'!$K:$K) -> 0 | H80: =SUMIF('FICHE CHANTIER'!$J:$J,H73,'FICHE CHANTIER'!$K:$K) -> 0 | I80: =SUMIF('FICHE CHANTIER'!$J:$J,I73,'FICHE CHANTIER'!$K:$K) -> 0 | J80: =SUMIF('FICHE CHANTIER'!$J:$J,J73,'FICHE CHANTIER'!$K:$K) -> 0 | ... AM80: =SUMIF('FICHE CHANTIER'!$J:$J,AM73,'FICHE CHANTIER'!$K:$K) -> 0
B82: 10 | C82: 44835 | D82: =IF(DAY(OctSun1)=1,"",IF(AND(YEAR(OctSun1+2)=CalendarYear,MONTH(OctSun1+2)=10),OctSun1+2,"")) | E82: =IF(DAY(OctSun1)=1,"",IF(AND(YEAR(OctSun1+3)=CalendarYear,MONTH(OctSun1+3)=10),OctSun1+3,"")) | F82: =IF(DAY(OctSun1)=1,"",IF(AND(YEAR(OctSun1+4)=CalendarYear,MONTH(OctSun1+4)=10),OctSun1+4,"")) | G82: =IF(DAY(OctSun1)=1,"",IF(AND(YEAR(OctSun1+5)=CalendarYear,MONTH(OctSun1+5)=10),OctSun1+5,"")) | H82: =IF(DAY(OctSun1)=1,"",IF(AND(YEAR(OctSun1+6)=CalendarYear,MONTH(OctSun1+6)=10),OctSun1+6,"")) | I82: =IF(DAY(OctSun1)=1,IF(AND(YEAR(OctSun1)=CalendarYear,MONTH(OctSun1)=10),OctSun1,""),IF(AND(YEAR(OctSun1+7)=CalendarYear,MONTH(OctSun1+7)=10),OctSun1+7,"")) | J82: =IF(DAY(OctSun1)=1,IF(AND(YEAR(OctSun1+1)=CalendarYear,MONTH(OctSun1+1)=10),OctSun1+1,""),IF(AND(YEAR(OctSun1+8)=CalendarYear,MONTH(OctSun1+8)=10),OctSun1+8,"")) | K82: =IF(DAY(OctSun1)=1,IF(AND(YEAR(OctSun1+2)=CalendarYear,MONTH(OctSun1+2)=10),OctSun1+2,""),IF(AND(YEAR(OctSun1+9)=CalendarYear,MONTH(OctSun1+9)=10),OctSun1+9,"")) | L82: =IF(DAY(OctSun1)=1,IF(AND(YEAR(OctSun1+3)=CalendarYear,MONTH(OctSun1+3)=10),OctSun1+3,""),IF(AND(YEAR(OctSun1+10)=CalendarYear,MONTH(OctSun1+10)=10),OctSun1+10,"")) | M82: =IF(DAY(OctSun1)=1,IF(AND(YEAR(OctSun1+4)=CalendarYear,MONTH(OctSun1+4)=10),OctSun1+4,""),IF(AND(YEAR(OctSun1+11)=CalendarYear,MONTH(OctSun1+11)=10),OctSun1+11,"")) | N82: =IF(DAY(OctSun1)=1,IF(AND(YEAR(OctSun1+5)=CalendarYear,MONTH(OctSun1+5)=10),OctSun1+5,""),IF(AND(YEAR(OctSun1+12)=CalendarYear,MONTH(OctSun1+12)=10),OctSun1+12,"")) | O82: =IF(DAY(OctSun1)=1,IF(AND(YEAR(OctSun1+6)=CalendarYear,MONTH(OctSun1+6)=10),OctSun1+6,""),IF(AND(YEAR(OctSun1+13)=CalendarYear,MONTH(OctSun1+13)=10),OctSun1+13,"")) | P82: =IF(DAY(OctSun1)=1,IF(AND(YEAR(OctSun1+7)=CalendarYear,MONTH(OctSun1+7)=10),OctSun1+7,""),IF(AND(YEAR(OctSun1+14)=CalendarYear,MONTH(OctSun1+14)=10),OctSun1+14,"")) | Q82: =IF(DAY(OctSun1)=1,IF(AND(YEAR(OctSun1+8)=CalendarYear,MONTH(OctSun1+8)=10),OctSun1+8,""),IF(AND(YEAR(OctSun1+15)=CalendarYear,MONTH(OctSun1+15)=10),OctSun1+15,"")) | R82: =IF(DAY(OctSun1)=1,IF(AND(YEAR(OctSun1+9)=CalendarYear,MONTH(OctSun1+9)=10),OctSun1+9,""),IF(AND(YEAR(OctSun1+16)=CalendarYear,MONTH(OctSun1+16)=10),OctSun1+16,"")) | S82: =IF(DAY(OctSun1)=1,IF(AND(YEAR(OctSun1+10)=CalendarYear,MONTH(OctSun1+10)=10),OctSun1+10,""),IF(AND(YEAR(OctSun1+17)=CalendarYear,MONTH(OctSun1+17)=10),OctSun1+17,"")) | T82: =IF(DAY(OctSun1)=1,IF(AND(YEAR(OctSun1+11)=CalendarYear,MONTH(OctSun1+11)=10),OctSun1+11,""),IF(AND(YEAR(OctSun1+18)=CalendarYear,MONTH(OctSun1+18)=10),OctSun1+18,"")) | U82: =IF(DAY(OctSun1)=1,IF(AND(YEAR(OctSun1+12)=CalendarYear,MONTH(OctSun1+12)=10),OctSun1+12,""),IF(AND(YEAR(OctSun1+19)=CalendarYear,MONTH(OctSun1+19)=10),OctSun1+19,"")) | V82: =IF(DAY(OctSun1)=1,IF(AND(YEAR(OctSun1+13)=CalendarYear,MONTH(OctSun1+13)=10),OctSun1+13,""),IF(AND(YEAR(OctSun1+20)=CalendarYear,MONTH(OctSun1+20)=10),OctSun1+20,"")) | W82: =IF(DAY(OctSun1)=1,IF(AND(YEAR(OctSun1+14)=CalendarYear,MONTH(OctSun1+14)=10),OctSun1+14,""),IF(AND(YEAR(OctSun1+21)=CalendarYear,MONTH(OctSun1+21)=10),OctSun1+21,"")) | X82: =IF(DAY(OctSun1)=1,IF(AND(YEAR(OctSun1+15)=CalendarYear,MONTH(OctSun1+15)=10),OctSun1+15,""),IF(AND(YEAR(OctSun1+22)=CalendarYear,MONTH(OctSun1+22)=10),OctSun1+22,"")) | Y82: =IF(DAY(OctSun1)=1,IF(AND(YEAR(OctSun1+16)=CalendarYear,MONTH(OctSun1+16)=10),OctSun1+16,""),IF(AND(YEAR(OctSun1+23)=CalendarYear,MONTH(OctSun1+23)=10),OctSun1+23,"")) | Z82: =IF(DAY(OctSun1)=1,IF(AND(YEAR(OctSun1+17)=CalendarYear,MONTH(OctSun1+17)=10),OctSun1+17,""),IF(AND(YEAR(OctSun1+24)=CalendarYear,MONTH(OctSun1+24)=10),OctSun1+24,"")) | AA82: =IF(DAY(OctSun1)=1,IF(AND(YEAR(OctSun1+18)=CalendarYear,MONTH(OctSun1+18)=10),OctSun1+18,""),IF(AND(YEAR(OctSun1+25)=CalendarYear,MONTH(OctSun1+25)=10),OctSun1+25,"")) | AB82: =IF(DAY(OctSun1)=1,IF(AND(YEAR(OctSun1+19)=CalendarYear,MONTH(OctSun1+19)=10),OctSun1+19,""),IF(AND(YEAR(OctSun1+26)=CalendarYear,MONTH(OctSun1+26)=10),OctSun1+26,"")) | AC82: =IF(DAY(OctSun1)=1,IF(AND(YEAR(OctSun1+20)=CalendarYear,MONTH(OctSun1+20)=10),OctSun1+20,""),IF(AND(YEAR(OctSun1+27)=CalendarYear,MONTH(OctSun1+27)=10),OctSun1+27,"")) | AD82: =IF(DAY(OctSun1)=1,IF(AND(YEAR(OctSun1+21)=CalendarYear,MONTH(OctSun1+21)=10),OctSun1+21,""),IF(AND(YEAR(OctSun1+28)=CalendarYear,MONTH(OctSun1+28)=10),OctSun1+28,"")) | AE82: =IF(DAY(OctSun1)=1,IF(AND(YEAR(OctSun1+22)=CalendarYear,MONTH(OctSun1+22)=10),OctSun1+22,""),IF(AND(YEAR(OctSun1+29)=CalendarYear,MONTH(OctSun1+29)=10),OctSun1+29,"")) | AF82: =IF(DAY(OctSun1)=1,IF(AND(YEAR(OctSun1+23)=CalendarYear,MONTH(OctSun1+23)=10),OctSun1+23,""),IF(AND(YEAR(OctSun1+30)=CalendarYear,MONTH(OctSun1+30)=10),OctSun1+30,"")) | AG82: =IF(DAY(OctSun1)=1,IF(AND(YEAR(OctSun1+24)=CalendarYear,MONTH(OctSun1+24)=10),OctSun1+24,""),IF(AND(YEAR(OctSun1+31)=CalendarYear,MONTH(OctSun1+31)=10),OctSun1+31,"")) | AH82: =IF(DAY(OctSun1)=1,IF(AND(YEAR(OctSun1+25)=CalendarYear,MONTH(OctSun1+25)=10),OctSun1+25,""),IF(AND(YEAR(OctSun1+32)=CalendarYear,MONTH(OctSun1+32)=10),OctSun1+32,"")) | AI82: =IF(DAY(OctSun1)=1,IF(AND(YEAR(OctSun1+26)=CalendarYear,MONTH(OctSun1+26)=10),OctSun1+26,""),IF(AND(YEAR(OctSun1+33)=CalendarYear,MONTH(OctSun1+33)=10),OctSun1+33,"")) | AJ82: =IF(DAY(OctSun1)=1,IF(AND(YEAR(OctSun1+27)=CalendarYear,MONTH(OctSun1+27)=10),OctSun1+27,""),IF(AND(YEAR(OctSun1+34)=CalendarYear,MONTH(OctSun1+34)=10),OctSun1+34,"")) | AK82: =IF(DAY(OctSun1)=1,IF(AND(YEAR(OctSun1+28)=CalendarYear,MONTH(OctSun1+28)=10),OctSun1+28,""),IF(AND(YEAR(OctSun1+35)=CalendarYear,MONTH(OctSun1+35)=10),OctSun1+35,"")) | AL82: =IF(DAY(OctSun1)=1,IF(AND(YEAR(OctSun1+29)=CalendarYear,MONTH(OctSun1+29)=10),OctSun1+29,""),IF(AND(YEAR(OctSun1+36)=CalendarYear,MONTH(OctSun1+36)=10),OctSun1+36,"")) | AM82: =IF(DAY(OctSun1)=1,IF(AND(YEAR(OctSun1+30)=CalendarYear,MONTH(OctSun1+30)=10),OctSun1+30,""),IF(AND(YEAR(OctSun1+37)=CalendarYear,MONTH(OctSun1+37)=10),OctSun1+37,""))
C83: Di | D83: Lu | E83: Ma | F83: Me | G83: Je | H83: Ve | I83: Sa | J83: Di | K83: Lu | L83: Ma | M83: Me | N83: Je | O83: Ve | P83: Sa | Q83: Di | R83: Lu | S83: Ma | T83: Me | U83: Je | V83: Ve | W83: Sa | X83: Di | Y83: Lu | Z83: Ma | AA83: Me | AB83: Je | AC83: Ve | AD83: Sa | AE83: Di | AF83: Lu | AG83: Ma | AH83: Me | AI83: Je | AJ83: Ve | AK83: Sa | AL83: Di | AM83: Lu
B87: TOTAL : | C87: =SUMIF('FICHE CHANTIER'!$J:$J,C80,'FICHE CHANTIER'!$K:$K) -> 0 | D87: =SUMIF('FICHE CHANTIER'!$J:$J,D80,'FICHE CHANTIER'!$K:$K) -> 0 | E87: =SUMIF('FICHE CHANTIER'!$J:$J,E80,'FICHE CHANTIER'!$K:$K) -> 0 | F87: =SUMIF('FICHE CHANTIER'!$J:$J,F80,'FICHE CHANTIER'!$K:$K) -> 0 | G87: =SUMIF('FICHE CHANTIER'!$J:$J,G80,'FICHE CHANTIER'!$K:$K) -> 0 | H87: =SUMIF('FICHE CHANTIER'!$J:$J,H80,'FICHE CHANTIER'!$K:$K) -> 0 | I87: =SUMIF('FICHE CHANTIER'!$J:$J,I80,'FICHE CHANTIER'!$K:$K) -> 0 | J87: =SUMIF('FICHE CHANTIER'!$J:$J,J80,'FICHE CHANTIER'!$K:$K) -> 0 | ... AM87: =SUMIF('FICHE CHANTIER'!$J:$J,AM80,'FICHE CHANTIER'!$K:$K) -> 0
B89: 11 | C89: 44866 | D89: =IF(DAY(NovSun1)=1,"",IF(AND(YEAR(NovSun1+2)=CalendarYear,MONTH(NovSun1+2)=11),NovSun1+2,"")) | E89: =IF(DAY(NovSun1)=1,"",IF(AND(YEAR(NovSun1+3)=CalendarYear,MONTH(NovSun1+3)=11),NovSun1+3,"")) | F89: =IF(DAY(NovSun1)=1,"",IF(AND(YEAR(NovSun1+4)=CalendarYear,MONTH(NovSun1+4)=11),NovSun1+4,"")) | G89: =IF(DAY(NovSun1)=1,"",IF(AND(YEAR(NovSun1+5)=CalendarYear,MONTH(NovSun1+5)=11),NovSun1+5,"")) | H89: =IF(DAY(NovSun1)=1,"",IF(AND(YEAR(NovSun1+6)=CalendarYear,MONTH(NovSun1+6)=11),NovSun1+6,"")) | I89: =IF(DAY(NovSun1)=1,IF(AND(YEAR(NovSun1)=CalendarYear,MONTH(NovSun1)=11),NovSun1,""),IF(AND(YEAR(NovSun1+7)=CalendarYear,MONTH(NovSun1+7)=11),NovSun1+7,"")) | J89: =IF(DAY(NovSun1)=1,IF(AND(YEAR(NovSun1+1)=CalendarYear,MONTH(NovSun1+1)=11),NovSun1+1,""),IF(AND(YEAR(NovSun1+8)=CalendarYear,MONTH(NovSun1+8)=11),NovSun1+8,"")) | K89: =IF(DAY(NovSun1)=1,IF(AND(YEAR(NovSun1+2)=CalendarYear,MONTH(NovSun1+2)=11),NovSun1+2,""),IF(AND(YEAR(NovSun1+9)=CalendarYear,MONTH(NovSun1+9)=11),NovSun1+9,"")) | L89: =IF(DAY(NovSun1)=1,IF(AND(YEAR(NovSun1+3)=CalendarYear,MONTH(NovSun1+3)=11),NovSun1+3,""),IF(AND(YEAR(NovSun1+10)=CalendarYear,MONTH(NovSun1+10)=11),NovSun1+10,"")) | M89: =IF(DAY(NovSun1)=1,IF(AND(YEAR(NovSun1+4)=CalendarYear,MONTH(NovSun1+4)=11),NovSun1+4,""),IF(AND(YEAR(NovSun1+11)=CalendarYear,MONTH(NovSun1+11)=11),NovSun1+11,"")) | N89: =IF(DAY(NovSun1)=1,IF(AND(YEAR(NovSun1+5)=CalendarYear,MONTH(NovSun1+5)=11),NovSun1+5,""),IF(AND(YEAR(NovSun1+12)=CalendarYear,MONTH(NovSun1+12)=11),NovSun1+12,"")) | O89: =IF(DAY(NovSun1)=1,IF(AND(YEAR(NovSun1+6)=CalendarYear,MONTH(NovSun1+6)=11),NovSun1+6,""),IF(AND(YEAR(NovSun1+13)=CalendarYear,MONTH(NovSun1+13)=11),NovSun1+13,"")) | P89: =IF(DAY(NovSun1)=1,IF(AND(YEAR(NovSun1+7)=CalendarYear,MONTH(NovSun1+7)=11),NovSun1+7,""),IF(AND(YEAR(NovSun1+14)=CalendarYear,MONTH(NovSun1+14)=11),NovSun1+14,"")) | Q89: =IF(DAY(NovSun1)=1,IF(AND(YEAR(NovSun1+8)=CalendarYear,MONTH(NovSun1+8)=11),NovSun1+8,""),IF(AND(YEAR(NovSun1+15)=CalendarYear,MONTH(NovSun1+15)=11),NovSun1+15,"")) | R89: =IF(DAY(NovSun1)=1,IF(AND(YEAR(NovSun1+9)=CalendarYear,MONTH(NovSun1+9)=11),NovSun1+9,""),IF(AND(YEAR(NovSun1+16)=CalendarYear,MONTH(NovSun1+16)=11),NovSun1+16,"")) | S89: =IF(DAY(NovSun1)=1,IF(AND(YEAR(NovSun1+10)=CalendarYear,MONTH(NovSun1+10)=11),NovSun1+10,""),IF(AND(YEAR(NovSun1+17)=CalendarYear,MONTH(NovSun1+17)=11),NovSun1+17,"")) | T89: =IF(DAY(NovSun1)=1,IF(AND(YEAR(NovSun1+11)=CalendarYear,MONTH(NovSun1+11)=11),NovSun1+11,""),IF(AND(YEAR(NovSun1+18)=CalendarYear,MONTH(NovSun1+18)=11),NovSun1+18,"")) | U89: =IF(DAY(NovSun1)=1,IF(AND(YEAR(NovSun1+12)=CalendarYear,MONTH(NovSun1+12)=11),NovSun1+12,""),IF(AND(YEAR(NovSun1+19)=CalendarYear,MONTH(NovSun1+19)=11),NovSun1+19,"")) | V89: =IF(DAY(NovSun1)=1,IF(AND(YEAR(NovSun1+13)=CalendarYear,MONTH(NovSun1+13)=11),NovSun1+13,""),IF(AND(YEAR(NovSun1+20)=CalendarYear,MONTH(NovSun1+20)=11),NovSun1+20,"")) | W89: =IF(DAY(NovSun1)=1,IF(AND(YEAR(NovSun1+14)=CalendarYear,MONTH(NovSun1+14)=11),NovSun1+14,""),IF(AND(YEAR(NovSun1+21)=CalendarYear,MONTH(NovSun1+21)=11),NovSun1+21,"")) | X89: =IF(DAY(NovSun1)=1,IF(AND(YEAR(NovSun1+15)=CalendarYear,MONTH(NovSun1+15)=11),NovSun1+15,""),IF(AND(YEAR(NovSun1+22)=CalendarYear,MONTH(NovSun1+22)=11),NovSun1+22,"")) | Y89: =IF(DAY(NovSun1)=1,IF(AND(YEAR(NovSun1+16)=CalendarYear,MONTH(NovSun1+16)=11),NovSun1+16,""),IF(AND(YEAR(NovSun1+23)=CalendarYear,MONTH(NovSun1+23)=11),NovSun1+23,"")) | Z89: =IF(DAY(NovSun1)=1,IF(AND(YEAR(NovSun1+17)=CalendarYear,MONTH(NovSun1+17)=11),NovSun1+17,""),IF(AND(YEAR(NovSun1+24)=CalendarYear,MONTH(NovSun1+24)=11),NovSun1+24,"")) | AA89: =IF(DAY(NovSun1)=1,IF(AND(YEAR(NovSun1+18)=CalendarYear,MONTH(NovSun1+18)=11),NovSun1+18,""),IF(AND(YEAR(NovSun1+25)=CalendarYear,MONTH(NovSun1+25)=11),NovSun1+25,"")) | AB89: =IF(DAY(NovSun1)=1,IF(AND(YEAR(NovSun1+19)=CalendarYear,MONTH(NovSun1+19)=11),NovSun1+19,""),IF(AND(YEAR(NovSun1+26)=CalendarYear,MONTH(NovSun1+26)=11),NovSun1+26,"")) | AC89: =IF(DAY(NovSun1)=1,IF(AND(YEAR(NovSun1+20)=CalendarYear,MONTH(NovSun1+20)=11),NovSun1+20,""),IF(AND(YEAR(NovSun1+27)=CalendarYear,MONTH(NovSun1+27)=11),NovSun1+27,"")) | AD89: =IF(DAY(NovSun1)=1,IF(AND(YEAR(NovSun1+21)=CalendarYear,MONTH(NovSun1+21)=11),NovSun1+21,""),IF(AND(YEAR(NovSun1+28)=CalendarYear,MONTH(NovSun1+28)=11),NovSun1+28,"")) | AE89: =IF(DAY(NovSun1)=1,IF(AND(YEAR(NovSun1+22)=CalendarYear,MONTH(NovSun1+22)=11),NovSun1+22,""),IF(AND(YEAR(NovSun1+29)=CalendarYear,MONTH(NovSun1+29)=11),NovSun1+29,"")) | AF89: =IF(DAY(NovSun1)=1,IF(AND(YEAR(NovSun1+23)=CalendarYear,MONTH(NovSun1+23)=11),NovSun1+23,""),IF(AND(YEAR(NovSun1+30)=CalendarYear,MONTH(NovSun1+30)=11),NovSun1+30,"")) | AG89: =IF(DAY(NovSun1)=1,IF(AND(YEAR(NovSun1+24)=CalendarYear,MONTH(NovSun1+24)=11),NovSun1+24,""),IF(AND(YEAR(NovSun1+31)=CalendarYear,MONTH(NovSun1+31)=11),NovSun1+31,"")) | AH89: =IF(DAY(NovSun1)=1,IF(AND(YEAR(NovSun1+25)=CalendarYear,MONTH(NovSun1+25)=11),NovSun1+25,""),IF(AND(YEAR(NovSun1+32)=CalendarYear,MONTH(NovSun1+32)=11),NovSun1+32,"")) | AI89: =IF(DAY(NovSun1)=1,IF(AND(YEAR(NovSun1+26)=CalendarYear,MONTH(NovSun1+26)=11),NovSun1+26,""),IF(AND(YEAR(NovSun1+33)=CalendarYear,MONTH(NovSun1+33)=11),NovSun1+33,"")) | AJ89: =IF(DAY(NovSun1)=1,IF(AND(YEAR(NovSun1+27)=CalendarYear,MONTH(NovSun1+27)=11),NovSun1+27,""),IF(AND(YEAR(NovSun1+34)=CalendarYear,MONTH(NovSun1+34)=11),NovSun1+34,"")) | AK89: =IF(DAY(NovSun1)=1,IF(AND(YEAR(NovSun1+28)=CalendarYear,MONTH(NovSun1+28)=11),NovSun1+28,""),IF(AND(YEAR(NovSun1+35)=CalendarYear,MONTH(NovSun1+35)=11),NovSun1+35,"")) | AL89: =IF(DAY(NovSun1)=1,IF(AND(YEAR(NovSun1+29)=CalendarYear,MONTH(NovSun1+29)=11),NovSun1+29,""),IF(AND(YEAR(NovSun1+36)=CalendarYear,MONTH(NovSun1+36)=11),NovSun1+36,"")) | AM89: =IF(DAY(NovSun1)=1,IF(AND(YEAR(NovSun1+30)=CalendarYear,MONTH(NovSun1+30)=11),NovSun1+30,""),IF(AND(YEAR(NovSun1+37)=CalendarYear,MONTH(NovSun1+37)=11),NovSun1+37,""))
C90: Di | D90: Lu | E90: Ma | F90: Me | G90: Je | H90: Ve | I90: Sa | J90: Di | K90: Lu | L90: Ma | M90: Me | N90: Je | O90: Ve | P90: Sa | Q90: Di | R90: Lu | S90: Ma | T90: Me | U90: Je | V90: Ve | W90: Sa | X90: Di | Y90: Lu | Z90: Ma | AA90: Me | AB90: Je | AC90: Ve | AD90: Sa | AE90: Di | AF90: Lu | AG90: Ma | AH90: Me | AI90: Je | AJ90: Ve | AK90: Sa | AL90: Di | AM90: Lu
B94: TOTAL : | C94: =SUMIF('FICHE CHANTIER'!$J:$J,C87,'FICHE CHANTIER'!$K:$K) -> 0 | D94: =SUMIF('FICHE CHANTIER'!$J:$J,D87,'FICHE CHANTIER'!$K:$K) -> 0 | E94: =SUMIF('FICHE CHANTIER'!$J:$J,E87,'FICHE CHANTIER'!$K:$K) -> 0 | F94: =SUMIF('FICHE CHANTIER'!$J:$J,F87,'FICHE CHANTIER'!$K:$K) -> 0 | G94: =SUMIF('FICHE CHANTIER'!$J:$J,G87,'FICHE CHANTIER'!$K:$K) -> 0 | H94: =SUMIF('FICHE CHANTIER'!$J:$J,H87,'FICHE CHANTIER'!$K:$K) -> 0 | I94: =SUMIF('FICHE CHANTIER'!$J:$J,I87,'FICHE CHANTIER'!$K:$K) -> 0 | J94: =SUMIF('FICHE CHANTIER'!$J:$J,J87,'FICHE CHANTIER'!$K:$K) -> 0 | ... AM94: =SUMIF('FICHE CHANTIER'!$J:$J,AM87,'FICHE CHANTIER'!$K:$K) -> 0
B96: 12 | C96: 44896 | D96: =IF(DAY(DecSun1)=1,"",IF(AND(YEAR(DecSun1+2)=CalendarYear,MONTH(DecSun1+2)=12),DecSun1+2,"")) | E96: =IF(DAY(DecSun1)=1,"",IF(AND(YEAR(DecSun1+3)=CalendarYear,MONTH(DecSun1+3)=12),DecSun1+3,"")) | F96: =IF(DAY(DecSun1)=1,"",IF(AND(YEAR(DecSun1+4)=CalendarYear,MONTH(DecSun1+4)=12),DecSun1+4,"")) | G96: =IF(DAY(DecSun1)=1,"",IF(AND(YEAR(DecSun1+5)=CalendarYear,MONTH(DecSun1+5)=12),DecSun1+5,"")) | H96: =IF(DAY(DecSun1)=1,"",IF(AND(YEAR(DecSun1+6)=CalendarYear,MONTH(DecSun1+6)=12),DecSun1+6,"")) | I96: =IF(DAY(DecSun1)=1,IF(AND(YEAR(DecSun1)=CalendarYear,MONTH(DecSun1)=12),DecSun1,""),IF(AND(YEAR(DecSun1+7)=CalendarYear,MONTH(DecSun1+7)=12),DecSun1+7,"")) | J96: =IF(DAY(DecSun1)=1,IF(AND(YEAR(DecSun1+1)=CalendarYear,MONTH(DecSun1+1)=12),DecSun1+1,""),IF(AND(YEAR(DecSun1+8)=CalendarYear,MONTH(DecSun1+8)=12),DecSun1+8,"")) | K96: =IF(DAY(DecSun1)=1,IF(AND(YEAR(DecSun1+2)=CalendarYear,MONTH(DecSun1+2)=12),DecSun1+2,""),IF(AND(YEAR(DecSun1+9)=CalendarYear,MONTH(DecSun1+9)=12),DecSun1+9,"")) | L96: =IF(DAY(DecSun1)=1,IF(AND(YEAR(DecSun1+3)=CalendarYear,MONTH(DecSun1+3)=12),DecSun1+3,""),IF(AND(YEAR(DecSun1+10)=CalendarYear,MONTH(DecSun1+10)=12),DecSun1+10,"")) | M96: =IF(DAY(DecSun1)=1,IF(AND(YEAR(DecSun1+4)=CalendarYear,MONTH(DecSun1+4)=12),DecSun1+4,""),IF(AND(YEAR(DecSun1+11)=CalendarYear,MONTH(DecSun1+11)=12),DecSun1+11,"")) | N96: =IF(DAY(DecSun1)=1,IF(AND(YEAR(DecSun1+5)=CalendarYear,MONTH(DecSun1+5)=12),DecSun1+5,""),IF(AND(YEAR(DecSun1+12)=CalendarYear,MONTH(DecSun1+12)=12),DecSun1+12,"")) | O96: =IF(DAY(DecSun1)=1,IF(AND(YEAR(DecSun1+6)=CalendarYear,MONTH(DecSun1+6)=12),DecSun1+6,""),IF(AND(YEAR(DecSun1+13)=CalendarYear,MONTH(DecSun1+13)=12),DecSun1+13,"")) | P96: =IF(DAY(DecSun1)=1,IF(AND(YEAR(DecSun1+7)=CalendarYear,MONTH(DecSun1+7)=12),DecSun1+7,""),IF(AND(YEAR(DecSun1+14)=CalendarYear,MONTH(DecSun1+14)=12),DecSun1+14,"")) | Q96: =IF(DAY(DecSun1)=1,IF(AND(YEAR(DecSun1+8)=CalendarYear,MONTH(DecSun1+8)=12),DecSun1+8,""),IF(AND(YEAR(DecSun1+15)=CalendarYear,MONTH(DecSun1+15)=12),DecSun1+15,"")) | R96: =IF(DAY(DecSun1)=1,IF(AND(YEAR(DecSun1+9)=CalendarYear,MONTH(DecSun1+9)=12),DecSun1+9,""),IF(AND(YEAR(DecSun1+16)=CalendarYear,MONTH(DecSun1+16)=12),DecSun1+16,"")) | S96: =IF(DAY(DecSun1)=1,IF(AND(YEAR(DecSun1+10)=CalendarYear,MONTH(DecSun1+10)=12),DecSun1+10,""),IF(AND(YEAR(DecSun1+17)=CalendarYear,MONTH(DecSun1+17)=12),DecSun1+17,"")) | T96: =IF(DAY(DecSun1)=1,IF(AND(YEAR(DecSun1+11)=CalendarYear,MONTH(DecSun1+11)=12),DecSun1+11,""),IF(AND(YEAR(DecSun1+18)=CalendarYear,MONTH(DecSun1+18)=12),DecSun1+18,"")) | U96: =IF(DAY(DecSun1)=1,IF(AND(YEAR(DecSun1+12)=CalendarYear,MONTH(DecSun1+12)=12),DecSun1+12,""),IF(AND(YEAR(DecSun1+19)=CalendarYear,MONTH(DecSun1+19)=12),DecSun1+19,"")) | V96: =IF(DAY(DecSun1)=1,IF(AND(YEAR(DecSun1+13)=CalendarYear,MONTH(DecSun1+13)=12),DecSun1+13,""),IF(AND(YEAR(DecSun1+20)=CalendarYear,MONTH(DecSun1+20)=12),DecSun1+20,"")) | W96: =IF(DAY(DecSun1)=1,IF(AND(YEAR(DecSun1+14)=CalendarYear,MONTH(DecSun1+14)=12),DecSun1+14,""),IF(AND(YEAR(DecSun1+21)=CalendarYear,MONTH(DecSun1+21)=12),DecSun1+21,"")) | X96: =IF(DAY(DecSun1)=1,IF(AND(YEAR(DecSun1+15)=CalendarYear,MONTH(DecSun1+15)=12),DecSun1+15,""),IF(AND(YEAR(DecSun1+22)=CalendarYear,MONTH(DecSun1+22)=12),DecSun1+22,"")) | Y96: =IF(DAY(DecSun1)=1,IF(AND(YEAR(DecSun1+16)=CalendarYear,MONTH(DecSun1+16)=12),DecSun1+16,""),IF(AND(YEAR(DecSun1+23)=CalendarYear,MONTH(DecSun1+23)=12),DecSun1+23,"")) | Z96: =IF(DAY(DecSun1)=1,IF(AND(YEAR(DecSun1+17)=CalendarYear,MONTH(DecSun1+17)=12),DecSun1+17,""),IF(AND(YEAR(DecSun1+24)=CalendarYear,MONTH(DecSun1+24)=12),DecSun1+24,"")) | AA96: =IF(DAY(DecSun1)=1,IF(AND(YEAR(DecSun1+18)=CalendarYear,MONTH(DecSun1+18)=12),DecSun1+18,""),IF(AND(YEAR(DecSun1+25)=CalendarYear,MONTH(DecSun1+25)=12),DecSun1+25,"")) | AB96: =IF(DAY(DecSun1)=1,IF(AND(YEAR(DecSun1+19)=CalendarYear,MONTH(DecSun1+19)=12),DecSun1+19,""),IF(AND(YEAR(DecSun1+26)=CalendarYear,MONTH(DecSun1+26)=12),DecSun1+26,"")) | AC96: =IF(DAY(DecSun1)=1,IF(AND(YEAR(DecSun1+20)=CalendarYear,MONTH(DecSun1+20)=12),DecSun1+20,""),IF(AND(YEAR(DecSun1+27)=CalendarYear,MONTH(DecSun1+27)=12),DecSun1+27,"")) | AD96: =IF(DAY(DecSun1)=1,IF(AND(YEAR(DecSun1+21)=CalendarYear,MONTH(DecSun1+21)=12),DecSun1+21,""),IF(AND(YEAR(DecSun1+28)=CalendarYear,MONTH(DecSun1+28)=12),DecSun1+28,"")) | AE96: =IF(DAY(DecSun1)=1,IF(AND(YEAR(DecSun1+22)=CalendarYear,MONTH(DecSun1+22)=12),DecSun1+22,""),IF(AND(YEAR(DecSun1+29)=CalendarYear,MONTH(DecSun1+29)=12),DecSun1+29,"")) | AF96: =IF(DAY(DecSun1)=1,IF(AND(YEAR(DecSun1+23)=CalendarYear,MONTH(DecSun1+23)=12),DecSun1+23,""),IF(AND(YEAR(DecSun1+30)=CalendarYear,MONTH(DecSun1+30)=12),DecSun1+30,"")) | AG96: =IF(DAY(DecSun1)=1,IF(AND(YEAR(DecSun1+24)=CalendarYear,MONTH(DecSun1+24)=12),DecSun1+24,""),IF(AND(YEAR(DecSun1+31)=CalendarYear,MONTH(DecSun1+31)=12),DecSun1+31,"")) | AH96: =IF(DAY(DecSun1)=1,IF(AND(YEAR(DecSun1+25)=CalendarYear,MONTH(DecSun1+25)=12),DecSun1+25,""),IF(AND(YEAR(DecSun1+32)=CalendarYear,MONTH(DecSun1+32)=12),DecSun1+32,"")) | AI96: =IF(DAY(DecSun1)=1,IF(AND(YEAR(DecSun1+26)=CalendarYear,MONTH(DecSun1+26)=12),DecSun1+26,""),IF(AND(YEAR(DecSun1+33)=CalendarYear,MONTH(DecSun1+33)=12),DecSun1+33,"")) | AJ96: =IF(DAY(DecSun1)=1,IF(AND(YEAR(DecSun1+27)=CalendarYear,MONTH(DecSun1+27)=12),DecSun1+27,""),IF(AND(YEAR(DecSun1+34)=CalendarYear,MONTH(DecSun1+34)=12),DecSun1+34,"")) | AK96: =IF(DAY(DecSun1)=1,IF(AND(YEAR(DecSun1+28)=CalendarYear,MONTH(DecSun1+28)=12),DecSun1+28,""),IF(AND(YEAR(DecSun1+35)=CalendarYear,MONTH(DecSun1+35)=12),DecSun1+35,"")) | AL96: =IF(DAY(DecSun1)=1,IF(AND(YEAR(DecSun1+29)=CalendarYear,MONTH(DecSun1+29)=12),DecSun1+29,""),IF(AND(YEAR(DecSun1+36)=CalendarYear,MONTH(DecSun1+36)=12),DecSun1+36,"")) | AM96: =IF(DAY(DecSun1)=1,IF(AND(YEAR(DecSun1+30)=CalendarYear,MONTH(DecSun1+30)=12),DecSun1+30,""),IF(AND(YEAR(DecSun1+37)=CalendarYear,MONTH(DecSun1+37)=12),DecSun1+37,""))
C97: Di | D97: Lu | E97: Ma | F97: Me | G97: Je | H97: Ve | I97: Sa | J97: Di | K97: Lu | L97: Ma | M97: Me | N97: Je | O97: Ve | P97: Sa | Q97: Di | R97: Lu | S97: Ma | T97: Me | U97: Je | V97: Ve | W97: Sa | X97: Di | Y97: Lu | Z97: Ma | AA97: Me | AB97: Je | AC97: Ve | AD97: Sa | AE97: Di | AF97: Lu | AG97: Ma | AH97: Me | AI97: Je | AJ97: Ve | AK97: Sa | AL97: Di | AM97: Lu
B101: TOTAL : | C101: =SUMIF('FICHE CHANTIER'!$J:$J,C94,'FICHE CHANTIER'!$K:$K) -> 0 | D101: =SUMIF('FICHE CHANTIER'!$J:$J,D94,'FICHE CHANTIER'!$K:$K) -> 0 | E101: =SUMIF('FICHE CHANTIER'!$J:$J,E94,'FICHE CHANTIER'!$K:$K) -> 0 | F101: =SUMIF('FICHE CHANTIER'!$J:$J,F94,'FICHE CHANTIER'!$K:$K) -> 0 | G101: =SUMIF('FICHE CHANTIER'!$J:$J,G94,'FICHE CHANTIER'!$K:$K) -> 0 | H101: =SUMIF('FICHE CHANTIER'!$J:$J,H94,'FICHE CHANTIER'!$K:$K) -> 0 | I101: =SUMIF('FICHE CHANTIER'!$J:$J,I94,'FICHE CHANTIER'!$K:$K) -> 0 | J101: =SUMIF('FICHE CHANTIER'!$J:$J,J94,'FICHE CHANTIER'!$K:$K) -> 0 | ... AM101: =SUMIF('FICHE CHANTIER'!$J:$J,AM94,'FICHE CHANTIER'!$K:$K) -> 0
B171: OUI
B172: NON

Sheet FICHE CHANTIER
H2: SITUATION 1 | M2: SITUATION 2
B3: CHANTIER | D3: MONTANT TOTAL | E3: ACOMPTE ? | F3: ACOMPTE 30% | H3: DATE DE DEPOT | I3: DELAI PAIEMENT | J3: DATE PAIEMENT | K3: MONTANT | M3: DATE DE DEPOT | N3: DELAI PAIEMENT | O3: MONTANT
C5: tttt | D5: 100 | E5: OUI | F5: =IF(E5="OUI",D5*30%,0) -> 30 | H5: 44586 | I5: 5 | J5: =H5+I5 -> 44591 | K5: 600
C7: ttrgertgrtg | D7: 9337.9 | E7: NON | F7: =IF(E7="OUI",D7*30%,0) -> 0 | H7: 44614 | I7: 4 | J7: =H7+I7 -> 44618 | K7: 700
C9: getgt | D9: 200 | E9: NON | F9: =IF(E9="OUI",D9*30%,0) -> 0 | H9: 44613 | I9: 2 | J9: =H9+I9 -> 44615 | K9: 500
C11: grrtge | D11: 5000 | E11: OUI | F11: =IF(E11="OUI",D11*30%,0) -> 1500 | H11: 44631 | I11: 2 | J11: =H11+I11 -> 44633 | K11: 300
C13: grgregfdsf | D13: 2000 | E13: OUI | F13: =IF(E13="OUI",D13*30%,0) -> 600 | H13: 44583 | I13: 5 | J13: =H13+I13 -> 44588 | K13: 400
C15: csdcs | D15: 1450 | E15: OUI | F15: =IF(E15="OUI",D15*30%,0) -> 435 | H15: 44615 | I15: 5 | J15: =H15+I15 -> 44620 | K15: 300
C17: dcqzd | D17: 2000 | E17: NON | F17: =IF(E17="OUI",D17*30%,0) -> 0 | H17: 44586 | I17: 5 | J17: =H17+I17 -> 44591 | K17: 200
C19: zdqzcfsrv | D19: 400 | E19: OUI | F19: =IF(E19="OUI",D19*30%,0) -> 120 | H19: 44587 | I19: 7 | J19: =H19+I19 -> 44594 | K19: 200
C21: csvrvvd | D21: 400 | E21: OUI | F21: =IF(E21="OUI",D21*30%,0) -> 120 | J21: =H21+I21 -> 0
C23: vdrvrtgv | D23: 800 | E23: OUI | F23: =IF(E23="OUI",D23*30%,0) -> 240 | J23: =H23+I23 -> 0
J25: =H25+I25 -> 0
J27: =H27+I27 -> 0
J29: =H29+I29 -> 0
J31: =H31+I31 -> 0
J33: =H33+I33 -> 0
J35: =H35+I35 -> 0
J37: =H37+I37 -> 0
J39: =H39+I39 -> 0
J41: =H41+I41 -> 0
J43: =H43+I43 -> 0
