Workbook

Sheet REPORTING GIRODO
A1: Somme de Montant salarial | C1: Étiquettes de colonnes
A2: Étiquettes de lignes | B2: Intitulé Rubrique | C2: 1 | D2: 2 | E2: 7 | F2: 4 | G2: 5 | H2: Total général
A3: 1 | B3: Salaire mensuel | C3: 8284.68 | D3: 2750 | E3: 2750 | F3: 2570.86 | G3: 2774.52 | H3: 19130.06
A4: 2 | B4: Salaire Horaire | C4: 325.31 | D4: 107.99 | E4: 107.99 | F4: 100.95 | G4: 108.95 | H4: 751.19
A5: 3 | B5: Salaire de base/Indem.Préavis | C5: 861 | D5: 428.7 | E5: 285.8 | F5: 267.18 | G5: 288.35 | H5: 2131.03
A6: 4 | B6: Absence en jrs | C6: 450 | D6: 147.24 | E6: 140.84 | F6: 131.67 | G6: 400 | H6: 1269.75
A7: 5 | B7: Congé Maladie | C7: 268.8 | D7: 74.28 | E7: 71.05 | F7: 66.42 | G7: 160.02 | H7: 640.57
A8: 6 | B8: Jour férié | C8: 214.04 | D8: 657.34 | E8: 628.76 | F8: 587.8 | G8: 80.72 | H8: 2168.66
A9: 7 | B9: Jour fériés travaillés | C9: 1894.2 | D9: 26 | E9: 26 | F9: 26 | G9: 714.36 | H9: 2686.56
A10: 8 | B10: Heures fériés travaillés | C10: 26 | D10: 90 | E10: 90 | F10: 90 | G10: 26 | H10: 322
A11: 10 | B11: Congés Payés | C11: 90 | D11: 26 | E11: 26 | F11: 26 | G11: 26 | H11: 194
A12: 11 | B12: Congé Naissance/Décès | C12: 26 | D12: 2407.83 | E12: 2303.14 | F12: 2153.1 | G12: 2616.72 | H12: 9506.79
A13: 12 | B13: Congé Maternité/maladie | C13: 7093.95 | D13: 1.75 | E13: 1.63 | F13: 1.63 | G13: 10 | H13: 7108.96
A14: 13 | B14: Congé STC | C14: 34 | D14: 3.5 | E14: 3.26 | F14: 3.26 | G14: -11.68 | H14: 32.34
... A24: 30 | B24: H. SUPP. Normal | C24: 26 | D24: 3065 | E24: 2932 | F24: 2741 | G24: 3319 | H24: 12083
A25: Total général | C25: 21126.94 | D25: 10766.43 | E25: 10252.87 | F25: 9601.9 | G25: 11323.65 | H25: 63071.79

Sheet BASE
A1: Matricule | B1: Code Rubrique | C1: Intitulé Rubrique | D1: Montant salarial
A2: 1 | B2: 1 | C2: Salaire mensuel | D2: 8284.68
A3: 1 | B3: 2 | C3: Salaire Horaire | D3: 325.31
A4: 1 | B4: 3 | C4: Salaire de base/Indem.Préavis | D4: 861
A5: 1 | B5: 4 | C5: Absence en jrs | D5: 450
A6: 1 | B6: 5 | C6: Congé Maladie | D6: 268.8
A7: 1 | B7: 6 | C7: Jour férié | D7: 214.04
A8: 1 | B8: 7 | C8: Jour fériés travaillés | D8: 1894.2
A9: 1 | B9: 8 | C9: Heures fériés travaillés | D9: 26
A10: 1 | B10: 10 | C10: Congés Payés | D10: 90
A11: 1 | B11: 11 | C11: Congé Naissance/Décès | D11: 26
A12: 1 | B12: 12 | C12: Congé Maternité/maladie | D12: 7093.95
A13: 1 | B13: 13 | C13: Congé STC | D13: 34
... A111: 5 | B111: 30 | C111: H. SUPP. Normal | D111: 3319

Sheet REPORTING
A1: Code | B1: Rubrique | C1: 1 | D1: 2 | E1: 3 | F1: 4 | G1: 5
A2: 1 | B2: Salaire mensuel | C2: =SUMIFS(BASE!$D$2:$D$111,BASE!$A$2:$A$111,C$1,BASE!$B$2:$B$111,$A2) -> 8284.68 | D2: =SUMIFS(BASE!$D$2:$D$111,BASE!$A$2:$A$111,$D$1,BASE!$B$2:$B$111,$A2) -> 2750 | E2: =SUMIFS(BASE!$D$2:$D$111,BASE!$A$2:$A$111,$E$1,BASE!$B$2:$B$111,$A2) -> 2750 | F2: =SUMIFS(BASE!$D$2:$D$111,BASE!$A$2:$A$111,$F$1,BASE!$B$2:$B$111,$A2) -> 2570.86 | G2: =SUMIFS(BASE!$D$2:$D$111,BASE!$A$2:$A$111,$G$1,BASE!$B$2:$B$111,$A2) -> 2774.52
A3: 2 | B3: Salaire Horaire | C3: =SUMIFS(BASE!$D$2:$D$111,BASE!$A$2:$A$111,C$1,BASE!$B$2:$B$111,$A3) -> 325.31 | D3: =SUMIFS(BASE!$D$2:$D$111,BASE!$A$2:$A$111,$D$1,BASE!$B$2:$B$111,$A3) -> 107.99 | E3: =SUMIFS(BASE!$D$2:$D$111,BASE!$A$2:$A$111,$E$1,BASE!$B$2:$B$111,$A3) -> 107.99 | F3: =SUMIFS(BASE!$D$2:$D$111,BASE!$A$2:$A$111,$F$1,BASE!$B$2:$B$111,$A3) -> 100.95 | G3: =SUMIFS(BASE!$D$2:$D$111,BASE!$A$2:$A$111,$G$1,BASE!$B$2:$B$111,$A3) -> 108.95
A4: 3 | B4: Salaire de base/Indem.Préavis | C4: =SUMIFS(BASE!$D$2:$D$111,BASE!$A$2:$A$111,C$1,BASE!$B$2:$B$111,$A4) -> 861 | D4: =SUMIFS(BASE!$D$2:$D$111,BASE!$A$2:$A$111,$D$1,BASE!$B$2:$B$111,$A4) -> 428.7 | E4: =SUMIFS(BASE!$D$2:$D$111,BASE!$A$2:$A$111,$E$1,BASE!$B$2:$B$111,$A4) -> 285.8 | F4: =SUMIFS(BASE!$D$2:$D$111,BASE!$A$2:$A$111,$F$1,BASE!$B$2:$B$111,$A4) -> 267.18 | G4: =SUMIFS(BASE!$D$2:$D$111,BASE!$A$2:$A$111,$G$1,BASE!$B$2:$B$111,$A4) -> 288.35
A5: 4 | B5: Absence en jrs | C5: =SUMIFS(BASE!$D$2:$D$111,BASE!$A$2:$A$111,C$1,BASE!$B$2:$B$111,$A5) -> 450 | D5: =SUMIFS(BASE!$D$2:$D$111,BASE!$A$2:$A$111,$D$1,BASE!$B$2:$B$111,$A5) -> 147.24 | E5: =SUMIFS(BASE!$D$2:$D$111,BASE!$A$2:$A$111,$E$1,BASE!$B$2:$B$111,$A5) -> 140.84 | F5: =SUMIFS(BASE!$D$2:$D$111,BASE!$A$2:$A$111,$F$1,BASE!$B$2:$B$111,$A5) -> 131.67 | G5: =SUMIFS(BASE!$D$2:$D$111,BASE!$A$2:$A$111,$G$1,BASE!$B$2:$B$111,$A5) -> 400
A6: 5 | B6: Congé Maladie | C6: =SUMIFS(BASE!$D$2:$D$111,BASE!$A$2:$A$111,C$1,BASE!$B$2:$B$111,$A6) -> 268.8 | D6: =SUMIFS(BASE!$D$2:$D$111,BASE!$A$2:$A$111,$D$1,BASE!$B$2:$B$111,$A6) -> 74.28 | E6: =SUMIFS(BASE!$D$2:$D$111,BASE!$A$2:$A$111,$E$1,BASE!$B$2:$B$111,$A6) -> 71.05 | F6: =SUMIFS(BASE!$D$2:$D$111,BASE!$A$2:$A$111,$F$1,BASE!$B$2:$B$111,$A6) -> 66.42 | G6: =SUMIFS(BASE!$D$2:$D$111,BASE!$A$2:$A$111,$G$1,BASE!$B$2:$B$111,$A6) -> 160.02
A7: 6 | B7: Jour férié | C7: =SUMIFS(BASE!$D$2:$D$111,BASE!$A$2:$A$111,C$1,BASE!$B$2:$B$111,$A7) -> 214.04 | D7: =SUMIFS(BASE!$D$2:$D$111,BASE!$A$2:$A$111,$D$1,BASE!$B$2:$B$111,$A7) -> 657.34 | E7: =SUMIFS(BASE!$D$2:$D$111,BASE!$A$2:$A$111,$E$1,BASE!$B$2:$B$111,$A7) -> 628.76 | F7: =SUMIFS(BASE!$D$2:$D$111,BASE!$A$2:$A$111,$F$1,BASE!$B$2:$B$111,$A7) -> 587.8 | G7: =SUMIFS(BASE!$D$2:$D$111,BASE!$A$2:$A$111,$G$1,BASE!$B$2:$B$111,$A7) -> 80.72
A8: 7 | B8: Jour fériés travaillés | C8: =SUMIFS(BASE!$D$2:$D$111,BASE!$A$2:$A$111,C$1,BASE!$B$2:$B$111,$A8) -> 1894.2 | D8: =SUMIFS(BASE!$D$2:$D$111,BASE!$A$2:$A$111,$D$1,BASE!$B$2:$B$111,$A8) -> 26 | E8: =SUMIFS(BASE!$D$2:$D$111,BASE!$A$2:$A$111,$E$1,BASE!$B$2:$B$111,$A8) -> 26 | F8: =SUMIFS(BASE!$D$2:$D$111,BASE!$A$2:$A$111,$F$1,BASE!$B$2:$B$111,$A8) -> 26 | G8: =SUMIFS(BASE!$D$2:$D$111,BASE!$A$2:$A$111,$G$1,BASE!$B$2:$B$111,$A8) -> 714.36
A9: 8 | B9: Heures fériés travaillés | C9: =SUMIFS(BASE!$D$2:$D$111,BASE!$A$2:$A$111,C$1,BASE!$B$2:$B$111,$A9) -> 26 | D9: =SUMIFS(BASE!$D$2:$D$111,BASE!$A$2:$A$111,$D$1,BASE!$B$2:$B$111,$A9) -> 90 | E9: =SUMIFS(BASE!$D$2:$D$111,BASE!$A$2:$A$111,$E$1,BASE!$B$2:$B$111,$A9) -> 90 | F9: =SUMIFS(BASE!$D$2:$D$111,BASE!$A$2:$A$111,$F$1,BASE!$B$2:$B$111,$A9) -> 90 | G9: =SUMIFS(BASE!$D$2:$D$111,BASE!$A$2:$A$111,$G$1,BASE!$B$2:$B$111,$A9) -> 26
A10: 10 | B10: Congés Payés | C10: =SUMIFS(BASE!$D$2:$D$111,BASE!$A$2:$A$111,C$1,BASE!$B$2:$B$111,$A10) -> 90 | D10: =SUMIFS(BASE!$D$2:$D$111,BASE!$A$2:$A$111,$D$1,BASE!$B$2:$B$111,$A10) -> 26 | E10: =SUMIFS(BASE!$D$2:$D$111,BASE!$A$2:$A$111,$E$1,BASE!$B$2:$B$111,$A10) -> 26 | F10: =SUMIFS(BASE!$D$2:$D$111,BASE!$A$2:$A$111,$F$1,BASE!$B$2:$B$111,$A10) -> 26 | G10: =SUMIFS(BASE!$D$2:$D$111,BASE!$A$2:$A$111,$G$1,BASE!$B$2:$B$111,$A10) -> 26
A11: 11 | B11: Congé Naissance/Décès | C11: =SUMIFS(BASE!$D$2:$D$111,BASE!$A$2:$A$111,C$1,BASE!$B$2:$B$111,$A11) -> 26 | D11: =SUMIFS(BASE!$D$2:$D$111,BASE!$A$2:$A$111,$D$1,BASE!$B$2:$B$111,$A11) -> 2407.83 | E11: =SUMIFS(BASE!$D$2:$D$111,BASE!$A$2:$A$111,$E$1,BASE!$B$2:$B$111,$A11) -> 2303.14 | F11: =SUMIFS(BASE!$D$2:$D$111,BASE!$A$2:$A$111,$F$1,BASE!$B$2:$B$111,$A11) -> 2153.1 | G11: =SUMIFS(BASE!$D$2:$D$111,BASE!$A$2:$A$111,$G$1,BASE!$B$2:$B$111,$A11) -> 2616.72
A12: 12 | B12: Congé Maternité/maladie | C12: =SUMIFS(BASE!$D$2:$D$111,BASE!$A$2:$A$111,C$1,BASE!$B$2:$B$111,$A12) -> 7093.95 | D12: =SUMIFS(BASE!$D$2:$D$111,BASE!$A$2:$A$111,$D$1,BASE!$B$2:$B$111,$A12) -> 1.75 | E12: =SUMIFS(BASE!$D$2:$D$111,BASE!$A$2:$A$111,$E$1,BASE!$B$2:$B$111,$A12) -> 1.63 | F12: =SUMIFS(BASE!$D$2:$D$111,BASE!$A$2:$A$111,$F$1,BASE!$B$2:$B$111,$A12) -> 1.63 | G12: =SUMIFS(BASE!$D$2:$D$111,BASE!$A$2:$A$111,$G$1,BASE!$B$2:$B$111,$A12) -> 10
A13: 13 | B13: Congé STC | C13: =SUMIFS(BASE!$D$2:$D$111,BASE!$A$2:$A$111,C$1,BASE!$B$2:$B$111,$A13) -> 34 | D13: =SUMIFS(BASE!$D$2:$D$111,BASE!$A$2:$A$111,$D$1,BASE!$B$2:$B$111,$A13) -> 3.5 | E13: =SUMIFS(BASE!$D$2:$D$111,BASE!$A$2:$A$111,$E$1,BASE!$B$2:$B$111,$A13) -> 3.26 | F13: =SUMIFS(BASE!$D$2:$D$111,BASE!$A$2:$A$111,$F$1,BASE!$B$2:$B$111,$A13) -> 3.26 | G13: =SUMIFS(BASE!$D$2:$D$111,BASE!$A$2:$A$111,$G$1,BASE!$B$2:$B$111,$A13) -> -11.68
... A37: 127 | B37: Prime de poste/risque | C37: =SUMIFS(BASE!$D$2:$D$111,BASE!$A$2:$A$111,C$1,BASE!$B$2:$B$111,$A37) -> 0 | D37: =SUMIFS(BASE!$D$2:$D$111,BASE!$A$2:$A$111,$D$1,BASE!$B$2:$B$111,$A37) -> 0 | E37: =SUMIFS(BASE!$D$2:$D$111,BASE!$A$2:$A$111,$E$1,BASE!$B$2:$B$111,$A37) -> 0 | F37: =SUMIFS(BASE!$D$2:$D$111,BASE!$A$2:$A$111,$F$1,BASE!$B$2:$B$111,$A37) -> 0 | G37: =SUMIFS(BASE!$D$2:$D$111,BASE!$A$2:$A$111,$G$1,BASE!$B$2:$B$111,$A37) -> 0
