Workbook

Sheet Feuil1
A2: Date | B2: Jour | C2: Activité | D2: Durée en min | E2: calorie dépensée | F2: gramme perdu | G2: Objectif | H2: Poids Théorique
A3: 43369 | B3: M | E3: =SUMIFS(Activité!D:D,Activité!A:A,Feuil1!C3,Activité!C:C,Feuil1!D3) -> 0 | F3: =E3/7.7 -> 0 | G3: 75 | H3: 80
A4: 43370 | B4: J | C4: Marche à pieds | D4: 30 | E4: =SUMIFS(Activité!D:D,Activité!A:A,Feuil1!C4,Activité!C:C,Feuil1!D4) -> 162 | F4: =E4/7.7 -> 21.038961 | G4: =G3 -> 75 | H4: =H3-F4/1000 -> 79.978961
A5: 43371 | B5: V | E5: =SUMIFS(Activité!D:D,Activité!A:A,Feuil1!C5,Activité!C:C,Feuil1!D5) -> 0 | F5: =E5/7.7 -> 0 | G5: =G4 -> 75 | H5: =H4-F5/1000 -> 79.978961
A6: 43372 | B6: S | C6: Marche à pieds | D6: 120 | E6: =SUMIFS(Activité!D:D,Activité!A:A,Feuil1!C6,Activité!C:C,Feuil1!D6) -> 648 | F6: =E6/7.7 -> 84.155844 | G6: =G5 -> 75 | H6: =H5-F6/1000 -> 79.894805
A7: 43373 | B7: D | E7: =SUMIFS(Activité!D:D,Activité!A:A,Feuil1!C7,Activité!C:C,Feuil1!D7) -> 0 | F7: =E7/7.7 -> 0 | G7: =G6 -> 75 | H7: =H6-F7/1000 -> 79.894805
A8: 43374 | B8: L | C8: Marche à pieds | D8: 120 | E8: =SUMIFS(Activité!D:D,Activité!A:A,Feuil1!C8,Activité!C:C,Feuil1!D8) -> 648 | F8: =E8/7.7 -> 84.155844 | G8: =G7 -> 75 | H8: =H7-F8/1000 -> 79.810649
A9: 43375 | B9: M | E9: =SUMIFS(Activité!D:D,Activité!A:A,Feuil1!C9,Activité!C:C,Feuil1!D9) -> 0 | F9: =E9/7.7 -> 0 | G9: =G8 -> 75 | H9: =H8-F9/1000 -> 79.810649
A10: 43376 | B10: M | E10: =SUMIFS(Activité!D:D,Activité!A:A,Feuil1!C10,Activité!C:C,Feuil1!D10) -> 0 | F10: =E10/7.7 -> 0 | G10: =G9 -> 75 | H10: =H9-F10/1000 -> 79.810649
A11: 43377 | B11: J | C11: Marche à pieds | D11: 120 | E11: =SUMIFS(Activité!D:D,Activité!A:A,Feuil1!C11,Activité!C:C,Feuil1!D11) -> 648 | F11: =E11/7.7 -> 84.155844 | G11: =G10 -> 75 | H11: =H10-F11/1000 -> 79.726494
A12: 43378 | B12: V | C12: Marche à pieds | D12: 120 | E12: =SUMIFS(Activité!D:D,Activité!A:A,Feuil1!C12,Activité!C:C,Feuil1!D12) -> 648 | F12: =E12/7.7 -> 84.155844 | G12: =G11 -> 75 | H12: =H11-F12/1000 -> 79.642338
A13: 43379 | B13: S | E13: =SUMIFS(Activité!D:D,Activité!A:A,Feuil1!C13,Activité!C:C,Feuil1!D13) -> 0 | F13: =E13/7.7 -> 0 | G13: =G12 -> 75 | H13: =H12-F13/1000 -> 79.642338
A14: 43380 | B14: D | E14: =SUMIFS(Activité!D:D,Activité!A:A,Feuil1!C14,Activité!C:C,Feuil1!D14) -> 0 | F14: =E14/7.7 -> 0 | G14: =G13 -> 75 | H14: =H13-F14/1000 -> 79.642338
A15: 43381 | B15: L | C15: Marche à pieds | D15: 120 | E15: =SUMIFS(Activité!D:D,Activité!A:A,Feuil1!C15,Activité!C:C,Feuil1!D15) -> 648 | F15: =E15/7.7 -> 84.155844 | G15: =G14 -> 75 | H15: =H14-F15/1000 -> 79.558182
A16: 43382 | B16: M | E16: =SUMIFS(Activité!D:D,Activité!A:A,Feuil1!C16,Activité!C:C,Feuil1!D16) -> 0 | F16: =E16/7.7 -> 0 | G16: =G15 -> 75 | H16: =H15-F16/1000 -> 79.558182
A17: 43383 | B17: M | E17: =SUMIFS(Activité!D:D,Activité!A:A,Feuil1!C17,Activité!C:C,Feuil1!D17) -> 0 | F17: =E17/7.7 -> 0 | G17: =G16 -> 75 | H17: =H16-F17/1000 -> 79.558182
A18: 43384 | B18: J | C18: Marche à pieds | D18: 60 | E18: =SUMIFS(Activité!D:D,Activité!A:A,Feuil1!C18,Activité!C:C,Feuil1!D18) -> 324 | F18: =E18/7.7 -> 42.077922 | G18: =G17 -> 75 | H18: =H17-F18/1000 -> 79.516104
A19: 43385 | B19: V | E19: =SUMIFS(Activité!D:D,Activité!A:A,Feuil1!C19,Activité!C:C,Feuil1!D19) -> 0 | F19: =E19/7.7 -> 0 | G19: =G18 -> 75 | H19: =H18-F19/1000 -> 79.516104
A20: 43386 | B20: S | E20: =SUMIFS(Activité!D:D,Activité!A:A,Feuil1!C20,Activité!C:C,Feuil1!D20) -> 0 | F20: =E20/7.7 -> 0 | G20: =G19 -> 75 | H20: =H19-F20/1000 -> 79.516104
A21: 43387 | B21: D | E21: =SUMIFS(Activité!D:D,Activité!A:A,Feuil1!C21,Activité!C:C,Feuil1!D21) -> 0 | F21: =E21/7.7 -> 0 | G21: =G20 -> 75 | H21: =H20-F21/1000 -> 79.516104
A22: 43388 | B22: L | E22: =SUMIFS(Activité!D:D,Activité!A:A,Feuil1!C22,Activité!C:C,Feuil1!D22) -> 0 | F22: =E22/7.7 -> 0 | G22: =G21 -> 75 | H22: =H21-F22/1000 -> 79.516104
A23: 43389 | B23: M | E23: =SUMIFS(Activité!D:D,Activité!A:A,Feuil1!C23,Activité!C:C,Feuil1!D23) -> 0 | F23: =E23/7.7 -> 0 | G23: =G22 -> 75 | H23: =H22-F23/1000 -> 79.516104
A24: 43390 | B24: M | E24: =SUMIFS(Activité!D:D,Activité!A:A,Feuil1!C24,Activité!C:C,Feuil1!D24) -> 0 | F24: =E24/7.7 -> 0 | G24: =G23 -> 75 | H24: =H23-F24/1000 -> 79.516104
A25: 43391 | B25: J | C25: Marche à pieds | D25: 30 | E25: =SUMIFS(Activité!D:D,Activité!A:A,Feuil1!C25,Activité!C:C,Feuil1!D25) -> 162 | F25: =E25/7.7 -> 21.038961 | G25: =G24 -> 75 | H25: =H24-F25/1000 -> 79.495065
A26: 43392 | B26: V | E26: =SUMIFS(Activité!D:D,Activité!A:A,Feuil1!C26,Activité!C:C,Feuil1!D26) -> 0 | F26: =E26/7.7 -> 0 | G26: =G25 -> 75 | H26: =H25-F26/1000 -> 79.495065
A27: 43393 | B27: S | C27: Marche à pieds | D27: 120 | E27: =SUMIFS(Activité!D:D,Activité!A:A,Feuil1!C27,Activité!C:C,Feuil1!D27) -> 648 | F27: =E27/7.7 -> 84.155844 | G27: =G26 -> 75 | H27: =H26-F27/1000 -> 79.410909
A28: 43394 | B28: D | E28: =SUMIFS(Activité!D:D,Activité!A:A,Feuil1!C28,Activité!C:C,Feuil1!D28) -> 0 | F28: =E28/7.7 -> 0 | G28: =G27 -> 75 | H28: =H27-F28/1000 -> 79.410909
A29: 43395 | B29: L | C29: Marche à pieds | D29: 120 | E29: =SUMIFS(Activité!D:D,Activité!A:A,Feuil1!C29,Activité!C:C,Feuil1!D29) -> 648 | F29: =E29/7.7 -> 84.155844 | G29: =G28 -> 75 | H29: =H28-F29/1000 -> 79.326753
A30: 43396 | B30: M | E30: =SUMIFS(Activité!D:D,Activité!A:A,Feuil1!C30,Activité!C:C,Feuil1!D30) -> 0 | F30: =E30/7.7 -> 0 | G30: =G29 -> 75 | H30: =H29-F30/1000 -> 79.326753
A31: 43397 | B31: M | E31: =SUMIFS(Activité!D:D,Activité!A:A,Feuil1!C31,Activité!C:C,Feuil1!D31) -> 0 | F31: =E31/7.7 -> 0 | G31: =G30 -> 75 | H31: =H30-F31/1000 -> 79.326753
A32: 43398 | B32: J | C32: Marche à pieds | D32: 120 | E32: =SUMIFS(Activité!D:D,Activité!A:A,Feuil1!C32,Activité!C:C,Feuil1!D32) -> 648 | F32: =E32/7.7 -> 84.155844 | G32: =G31 -> 75 | H32: =H31-F32/1000 -> 79.242597
A33: 43399 | B33: V | C33: Marche à pieds | D33: 120 | E33: =SUMIFS(Activité!D:D,Activité!A:A,Feuil1!C33,Activité!C:C,Feuil1!D33) -> 648 | F33: =E33/7.7 -> 84.155844 | G33: =G32 -> 75 | H33: =H32-F33/1000 -> 79.158442
A34: 43400 | B34: S | E34: =SUMIFS(Activité!D:D,Activité!A:A,Feuil1!C34,Activité!C:C,Feuil1!D34) -> 0 | F34: =E34/7.7 -> 0 | G34: =G33 -> 75 | H34: =H33-F34/1000 -> 79.158442
A35: 43401 | B35: D | E35: =SUMIFS(Activité!D:D,Activité!A:A,Feuil1!C35,Activité!C:C,Feuil1!D35) -> 0 | F35: =E35/7.7 -> 0 | G35: =G34 -> 75 | H35: =H34-F35/1000 -> 79.158442
A36: 43402 | B36: L | C36: Marche à pieds | D36: 120 | E36: =SUMIFS(Activité!D:D,Activité!A:A,Feuil1!C36,Activité!C:C,Feuil1!D36) -> 648 | F36: =E36/7.7 -> 84.155844 | G36: =G35 -> 75 | H36: =H35-F36/1000 -> 79.074286
A37: 43403 | B37: M | E37: =SUMIFS(Activité!D:D,Activité!A:A,Feuil1!C37,Activité!C:C,Feuil1!D37) -> 0 | F37: =E37/7.7 -> 0 | G37: =G36 -> 75 | H37: =H36-F37/1000 -> 79.074286
A38: 43404 | B38: M | E38: =SUMIFS(Activité!D:D,Activité!A:A,Feuil1!C38,Activité!C:C,Feuil1!D38) -> 0 | F38: =E38/7.7 -> 0 | G38: =G37 -> 75 | H38: =H37-F38/1000 -> 79.074286
A39: 43405 | B39: J | C39: Marche à pieds | D39: 30 | E39: =SUMIFS(Activité!D:D,Activité!A:A,Feuil1!C39,Activité!C:C,Feuil1!D39) -> 162 | F39: =E39/7.7 -> 21.038961 | G39: =G38 -> 75 | H39: =H38-F39/1000 -> 79.053247
A40: 43406 | B40: V | E40: =SUMIFS(Activité!D:D,Activité!A:A,Feuil1!C40,Activité!C:C,Feuil1!D40) -> 0 | F40: =E40/7.7 -> 0 | G40: =G39 -> 75 | H40: =H39-F40/1000 -> 79.053247
A41: 43407 | B41: S | C41: Marche à pieds | D41: 120 | E41: =SUMIFS(Activité!D:D,Activité!A:A,Feuil1!C41,Activité!C:C,Feuil1!D41) -> 648 | F41: =E41/7.7 -> 84.155844 | G41: =G40 -> 75 | H41: =H40-F41/1000 -> 78.969091
A42: 43408 | B42: D | E42: =SUMIFS(Activité!D:D,Activité!A:A,Feuil1!C42,Activité!C:C,Feuil1!D42) -> 0 | F42: =E42/7.7 -> 0 | G42: =G41 -> 75 | H42: =H41-F42/1000 -> 78.969091
A43: 43409 | B43: L | C43: Marche à pieds | D43: 120 | E43: =SUMIFS(Activité!D:D,Activité!A:A,Feuil1!C43,Activité!C:C,Feuil1!D43) -> 648 | F43: =E43/7.7 -> 84.155844 | G43: =G42 -> 75 | H43: =H42-F43/1000 -> 78.884935
A44: 43410 | B44: M | E44: =SUMIFS(Activité!D:D,Activité!A:A,Feuil1!C44,Activité!C:C,Feuil1!D44) -> 0 | F44: =E44/7.7 -> 0 | G44: =G43 -> 75 | H44: =H43-F44/1000 -> 78.884935
A45: 43411 | B45: M | E45: =SUMIFS(Activité!D:D,Activité!A:A,Feuil1!C45,Activité!C:C,Feuil1!D45) -> 0 | F45: =E45/7.7 -> 0 | G45: =G44 -> 75 | H45: =H44-F45/1000 -> 78.884935
A46: 43412 | B46: J | C46: Marche à pieds | D46: 120 | E46: =SUMIFS(Activité!D:D,Activité!A:A,Feuil1!C46,Activité!C:C,Feuil1!D46) -> 648 | F46: =E46/7.7 -> 84.155844 | G46: =G45 -> 75 | H46: =H45-F46/1000 -> 78.800779
A47: 43413 | B47: V | C47: Marche à pieds | D47: 120 | E47: =SUMIFS(Activité!D:D,Activité!A:A,Feuil1!C47,Activité!C:C,Feuil1!D47) -> 648 | F47: =E47/7.7 -> 84.155844 | G47: =G46 -> 75 | H47: =H46-F47/1000 -> 78.716623
A48: 43414 | B48: S | E48: =SUMIFS(Activité!D:D,Activité!A:A,Feuil1!C48,Activité!C:C,Feuil1!D48) -> 0 | F48: =E48/7.7 -> 0 | G48: =G47 -> 75 | H48: =H47-F48/1000 -> 78.716623
A49: 43415 | B49: D | E49: =SUMIFS(Activité!D:D,Activité!A:A,Feuil1!C49,Activité!C:C,Feuil1!D49) -> 0 | F49: =E49/7.7 -> 0 | G49: =G48 -> 75 | H49: =H48-F49/1000 -> 78.716623
A50: 43416 | B50: L | C50: Marche à pieds | D50: 120 | E50: =SUMIFS(Activité!D:D,Activité!A:A,Feuil1!C50,Activité!C:C,Feuil1!D50) -> 648 | F50: =E50/7.7 -> 84.155844 | G50: =G49 -> 75 | H50: =H49-F50/1000 -> 78.632468
A51: 43417 | B51: M | E51: =SUMIFS(Activité!D:D,Activité!A:A,Feuil1!C51,Activité!C:C,Feuil1!D51) -> 0 | F51: =E51/7.7 -> 0 | G51: =G50 -> 75 | H51: =H50-F51/1000 -> 78.632468
A52: 43418 | B52: M | E52: =SUMIFS(Activité!D:D,Activité!A:A,Feuil1!C52,Activité!C:C,Feuil1!D52) -> 0 | F52: =E52/7.7 -> 0 | G52: =G51 -> 75 | H52: =H51-F52/1000 -> 78.632468
A53: 43419 | B53: J | C53: Marche à pieds | D53: 30 | E53: =SUMIFS(Activité!D:D,Activité!A:A,Feuil1!C53,Activité!C:C,Feuil1!D53) -> 162 | F53: =E53/7.7 -> 21.038961 | G53: =G52 -> 75 | H53: =H52-F53/1000 -> 78.611429
A54: 43420 | B54: V | E54: =SUMIFS(Activité!D:D,Activité!A:A,Feuil1!C54,Activité!C:C,Feuil1!D54) -> 0 | F54: =E54/7.7 -> 0 | G54: =G53 -> 75 | H54: =H53-F54/1000 -> 78.611429
A55: 43421 | B55: S | C55: Marche à pieds | D55: 120 | E55: =SUMIFS(Activité!D:D,Activité!A:A,Feuil1!C55,Activité!C:C,Feuil1!D55) -> 648 | F55: =E55/7.7 -> 84.155844 | G55: =G54 -> 75 | H55: =H54-F55/1000 -> 78.527273
A56: 43422 | B56: D | E56: =SUMIFS(Activité!D:D,Activité!A:A,Feuil1!C56,Activité!C:C,Feuil1!D56) -> 0 | F56: =E56/7.7 -> 0 | G56: =G55 -> 75 | H56: =H55-F56/1000 -> 78.527273
A57: 43423 | B57: L | C57: Marche à pieds | D57: 120 | E57: =SUMIFS(Activité!D:D,Activité!A:A,Feuil1!C57,Activité!C:C,Feuil1!D57) -> 648 | F57: =E57/7.7 -> 84.155844 | G57: =G56 -> 75 | H57: =H56-F57/1000 -> 78.443117
A58: 43424 | B58: M | E58: =SUMIFS(Activité!D:D,Activité!A:A,Feuil1!C58,Activité!C:C,Feuil1!D58) -> 0 | F58: =E58/7.7 -> 0 | G58: =G57 -> 75 | H58: =H57-F58/1000 -> 78.443117
A59: 43425 | B59: M | E59: =SUMIFS(Activité!D:D,Activité!A:A,Feuil1!C59,Activité!C:C,Feuil1!D59) -> 0 | F59: =E59/7.7 -> 0 | G59: =G58 -> 75 | H59: =H58-F59/1000 -> 78.443117
A60: 43426 | B60: J | C60: Marche à pieds | D60: 120 | E60: =SUMIFS(Activité!D:D,Activité!A:A,Feuil1!C60,Activité!C:C,Feuil1!D60) -> 648 | F60: =E60/7.7 -> 84.155844 | G60: =G59 -> 75 | H60: =H59-F60/1000 -> 78.358961
A61: 43427 | B61: V | C61: Marche à pieds | D61: 120 | E61: =SUMIFS(Activité!D:D,Activité!A:A,Feuil1!C61,Activité!C:C,Feuil1!D61) -> 648 | F61: =E61/7.7 -> 84.155844 | G61: =G60 -> 75 | H61: =H60-F61/1000 -> 78.274805
A62: 43428 | B62: S | E62: =SUMIFS(Activité!D:D,Activité!A:A,Feuil1!C62,Activité!C:C,Feuil1!D62) -> 0 | F62: =E62/7.7 -> 0 | G62: =G61 -> 75 | H62: =H61-F62/1000 -> 78.274805
A63: 43429 | B63: D | E63: =SUMIFS(Activité!D:D,Activité!A:A,Feuil1!C63,Activité!C:C,Feuil1!D63) -> 0 | F63: =E63/7.7 -> 0 | G63: =G62 -> 75 | H63: =H62-F63/1000 -> 78.274805
A64: 43430 | B64: L | C64: Marche à pieds | D64: 120 | E64: =SUMIFS(Activité!D:D,Activité!A:A,Feuil1!C64,Activité!C:C,Feuil1!D64) -> 648 | F64: =E64/7.7 -> 84.155844 | G64: =G63 -> 75 | H64: =H63-F64/1000 -> 78.190649
A65: 43431 | B65: M | E65: =SUMIFS(Activité!D:D,Activité!A:A,Feuil1!C65,Activité!C:C,Feuil1!D65) -> 0 | F65: =E65/7.7 -> 0 | G65: =G64 -> 75 | H65: =H64-F65/1000 -> 78.190649
A66: 43432 | B66: M | E66: =SUMIFS(Activité!D:D,Activité!A:A,Feuil1!C66,Activité!C:C,Feuil1!D66) -> 0 | F66: =E66/7.7 -> 0 | G66: =G65 -> 75 | H66: =H65-F66/1000 -> 78.190649
A67: 43433 | B67: J | C67: Marche à pieds | D67: 30 | E67: =SUMIFS(Activité!D:D,Activité!A:A,Feuil1!C67,Activité!C:C,Feuil1!D67) -> 162 | F67: =E67/7.7 -> 21.038961 | G67: =G66 -> 75 | H67: =H66-F67/1000 -> 78.16961
A68: 43434 | B68: V | E68: =SUMIFS(Activité!D:D,Activité!A:A,Feuil1!C68,Activité!C:C,Feuil1!D68) -> 0 | F68: =E68/7.7 -> 0 | G68: =G67 -> 75 | H68: =H67-F68/1000 -> 78.16961
A69: 43435 | B69: S | C69: Marche à pieds | D69: 120 | E69: =SUMIFS(Activité!D:D,Activité!A:A,Feuil1!C69,Activité!C:C,Feuil1!D69) -> 648 | F69: =E69/7.7 -> 84.155844 | G69: =G68 -> 75 | H69: =H68-F69/1000 -> 78.085455
A70: 43436 | B70: D | E70: =SUMIFS(Activité!D:D,Activité!A:A,Feuil1!C70,Activité!C:C,Feuil1!D70) -> 0 | F70: =E70/7.7 -> 0 | G70: =G69 -> 75 | H70: =H69-F70/1000 -> 78.085455
A71: 43437 | B71: L | C71: Marche à pieds | D71: 120 | E71: =SUMIFS(Activité!D:D,Activité!A:A,Feuil1!C71,Activité!C:C,Feuil1!D71) -> 648 | F71: =E71/7.7 -> 84.155844 | G71: =G70 -> 75 | H71: =H70-F71/1000 -> 78.001299
A72: 43438 | B72: M | E72: =SUMIFS(Activité!D:D,Activité!A:A,Feuil1!C72,Activité!C:C,Feuil1!D72) -> 0 | F72: =E72/7.7 -> 0 | G72: =G71 -> 75 | H72: =H71-F72/1000 -> 78.001299
A73: 43439 | B73: M | E73: =SUMIFS(Activité!D:D,Activité!A:A,Feuil1!C73,Activité!C:C,Feuil1!D73) -> 0 | F73: =E73/7.7 -> 0 | G73: =G72 -> 75 | H73: =H72-F73/1000 -> 78.001299
A74: 43440 | B74: J | C74: Marche à pieds | D74: 120 | E74: =SUMIFS(Activité!D:D,Activité!A:A,Feuil1!C74,Activité!C:C,Feuil1!D74) -> 648 | F74: =E74/7.7 -> 84.155844 | G74: =G73 -> 75 | H74: =H73-F74/1000 -> 77.917143
A75: 43441 | B75: V | C75: Marche à pieds | D75: 120 | E75: =SUMIFS(Activité!D:D,Activité!A:A,Feuil1!C75,Activité!C:C,Feuil1!D75) -> 648 | F75: =E75/7.7 -> 84.155844 | G75: =G74 -> 75 | H75: =H74-F75/1000 -> 77.832987
A76: 43442 | B76: S | E76: =SUMIFS(Activité!D:D,Activité!A:A,Feuil1!C76,Activité!C:C,Feuil1!D76) -> 0 | F76: =E76/7.7 -> 0 | G76: =G75 -> 75 | H76: =H75-F76/1000 -> 77.832987
A77: 43443 | B77: D | E77: =SUMIFS(Activité!D:D,Activité!A:A,Feuil1!C77,Activité!C:C,Feuil1!D77) -> 0 | F77: =E77/7.7 -> 0 | G77: =G76 -> 75 | H77: =H76-F77/1000 -> 77.832987
A78: 43444 | B78: L | C78: Marche à pieds | D78: 120 | E78: =SUMIFS(Activité!D:D,Activité!A:A,Feuil1!C78,Activité!C:C,Feuil1!D78) -> 648 | F78: =E78/7.7 -> 84.155844 | G78: =G77 -> 75 | H78: =H77-F78/1000 -> 77.748831
A79: 43445 | B79: M | E79: =SUMIFS(Activité!D:D,Activité!A:A,Feuil1!C79,Activité!C:C,Feuil1!D79) -> 0 | F79: =E79/7.7 -> 0 | G79: =G78 -> 75 | H79: =H78-F79/1000 -> 77.748831
A80: 43446 | B80: M | E80: =SUMIFS(Activité!D:D,Activité!A:A,Feuil1!C80,Activité!C:C,Feuil1!D80) -> 0 | F80: =E80/7.7 -> 0 | G80: =G79 -> 75 | H80: =H79-F80/1000 -> 77.748831
A81: 43447 | B81: J | C81: Marche à pieds | D81: 30 | E81: =SUMIFS(Activité!D:D,Activité!A:A,Feuil1!C81,Activité!C:C,Feuil1!D81) -> 162 | F81: =E81/7.7 -> 21.038961 | G81: =G80 -> 75 | H81: =H80-F81/1000 -> 77.727792
A82: 43448 | B82: V | E82: =SUMIFS(Activité!D:D,Activité!A:A,Feuil1!C82,Activité!C:C,Feuil1!D82) -> 0 | F82: =E82/7.7 -> 0 | G82: =G81 -> 75 | H82: =H81-F82/1000 -> 77.727792
A83: 43449 | B83: S | C83: Marche à pieds | D83: 120 | E83: =SUMIFS(Activité!D:D,Activité!A:A,Feuil1!C83,Activité!C:C,Feuil1!D83) -> 648 | F83: =E83/7.7 -> 84.155844 | G83: =G82 -> 75 | H83: =H82-F83/1000 -> 77.643636
A84: 43450 | B84: D | E84: =SUMIFS(Activité!D:D,Activité!A:A,Feuil1!C84,Activité!C:C,Feuil1!D84) -> 0 | F84: =E84/7.7 -> 0 | G84: =G83 -> 75 | H84: =H83-F84/1000 -> 77.643636
A85: 43451 | B85: L | C85: Marche à pieds | D85: 120 | E85: =SUMIFS(Activité!D:D,Activité!A:A,Feuil1!C85,Activité!C:C,Feuil1!D85) -> 648 | F85: =E85/7.7 -> 84.155844 | G85: =G84 -> 75 | H85: =H84-F85/1000 -> 77.559481
A86: 43452 | B86: M | E86: =SUMIFS(Activité!D:D,Activité!A:A,Feuil1!C86,Activité!C:C,Feuil1!D86) -> 0 | F86: =E86/7.7 -> 0 | G86: =G85 -> 75 | H86: =H85-F86/1000 -> 77.559481
A87: 43453 | B87: M | E87: =SUMIFS(Activité!D:D,Activité!A:A,Feuil1!C87,Activité!C:C,Feuil1!D87) -> 0 | F87: =E87/7.7 -> 0 | G87: =G86 -> 75 | H87: =H86-F87/1000 -> 77.559481
A88: 43454 | B88: J | C88: Marche à pieds | D88: 120 | E88: =SUMIFS(Activité!D:D,Activité!A:A,Feuil1!C88,Activité!C:C,Feuil1!D88) -> 648 | F88: =E88/7.7 -> 84.155844 | G88: =G87 -> 75 | H88: =H87-F88/1000 -> 77.475325
A89: 43455 | B89: V | C89: Marche à pieds | D89: 120 | E89: =SUMIFS(Activité!D:D,Activité!A:A,Feuil1!C89,Activité!C:C,Feuil1!D89) -> 648 | F89: =E89/7.7 -> 84.155844 | G89: =G88 -> 75 | H89: =H88-F89/1000 -> 77.391169
A90: 43456 | B90: S | E90: =SUMIFS(Activité!D:D,Activité!A:A,Feuil1!C90,Activité!C:C,Feuil1!D90) -> 0 | F90: =E90/7.7 -> 0 | G90: =G89 -> 75 | H90: =H89-F90/1000 -> 77.391169
A91: 43457 | B91: D | E91: =SUMIFS(Activité!D:D,Activité!A:A,Feuil1!C91,Activité!C:C,Feuil1!D91) -> 0 | F91: =E91/7.7 -> 0 | G91: =G90 -> 75 | H91: =H90-F91/1000 -> 77.391169
A92: 43458 | B92: L | C92: Marche à pieds | D92: 120 | E92: =SUMIFS(Activité!D:D,Activité!A:A,Feuil1!C92,Activité!C:C,Feuil1!D92) -> 648 | F92: =E92/7.7 -> 84.155844 | G92: =G91 -> 75 | H92: =H91-F92/1000 -> 77.307013
A93: 43459 | B93: M | E93: =SUMIFS(Activité!D:D,Activité!A:A,Feuil1!C93,Activité!C:C,Feuil1!D93) -> 0 | F93: =E93/7.7 -> 0 | G93: =G92 -> 75 | H93: =H92-F93/1000 -> 77.307013
A94: 43460 | B94: M | E94: =SUMIFS(Activité!D:D,Activité!A:A,Feuil1!C94,Activité!C:C,Feuil1!D94) -> 0 | F94: =E94/7.7 -> 0 | G94: =G93 -> 75 | H94: =H93-F94/1000 -> 77.307013
A95: 43461 | B95: J | C95: Marche à pieds | D95: 30 | E95: =SUMIFS(Activité!D:D,Activité!A:A,Feuil1!C95,Activité!C:C,Feuil1!D95) -> 162 | F95: =E95/7.7 -> 21.038961 | G95: =G94 -> 75 | H95: =H94-F95/1000 -> 77.285974
A96: 43462 | B96: V | E96: =SUMIFS(Activité!D:D,Activité!A:A,Feuil1!C96,Activité!C:C,Feuil1!D96) -> 0 | F96: =E96/7.7 -> 0 | G96: =G95 -> 75 | H96: =H95-F96/1000 -> 77.285974
A97: 43463 | B97: S | C97: Marche à pieds | D97: 120 | E97: =SUMIFS(Activité!D:D,Activité!A:A,Feuil1!C97,Activité!C:C,Feuil1!D97) -> 648 | F97: =E97/7.7 -> 84.155844 | G97: =G96 -> 75 | H97: =H96-F97/1000 -> 77.201818
A98: 43464 | B98: D | E98: =SUMIFS(Activité!D:D,Activité!A:A,Feuil1!C98,Activité!C:C,Feuil1!D98) -> 0 | F98: =E98/7.7 -> 0 | G98: =G97 -> 75 | H98: =H97-F98/1000 -> 77.201818
A99: 43465 | B99: L | C99: Marche à pieds | D99: 120 | E99: =SUMIFS(Activité!D:D,Activité!A:A,Feuil1!C99,Activité!C:C,Feuil1!D99) -> 648 | F99: =E99/7.7 -> 84.155844 | G99: =G98 -> 75 | H99: =H98-F99/1000 -> 77.117662
A100: 43466 | B100: M | E100: =SUMIFS(Activité!D:D,Activité!A:A,Feuil1!C100,Activité!C:C,Feuil1!D100) -> 0 | F100: =E100/7.7 -> 0 | G100: =G99 -> 75 | H100: =H99-F100/1000 -> 77.117662
A101: 43467 | B101: M | E101: =SUMIFS(Activité!D:D,Activité!A:A,Feuil1!C101,Activité!C:C,Feuil1!D101) -> 0 | F101: =E101/7.7 -> 0 | G101: =G100 -> 75 | H101: =H100-F101/1000 -> 77.117662
...

Sheet Activité
A1: Type | B1: durée | C1: durée | D1: calorie | F1: calorie | G1: kg
A2: Marche à pieds | B2: 1/2 heure | C2: 30 | D2: 162 | F2: 7700 | G2: 1
A3: Marche à pieds | B3: 1 heure | C3: 60 | D3: 324
A4: Marche à pieds | B4: 1 heure 30 | C4: 90 | D4: 412
A5: Marche à pieds | B5: 2 heures | C5: 120 | D5: 648
A6: Marche à pieds | B6: 3 heures | C6: 180
