Workbook

Sheet Feuil1
A2: Date | B2: Jour | C2: Activité | D2: Durée en min | E2: calorie dépensée | F2: gramme perdu | G2: Objectif | H2: Poids Théorique
A3: 43369 | B3: M | E3: =SUMIFS(Activité!D:D,Activité!A:A,Feuil1!C3,Activité!C:C,Feuil1!D3) -> 0 | F3: =E3/7.7 -> 0 | G3: 75 | H3: 80
A4: 43370 | B4: J | C4: Marche à pieds | D4: 30 | E4: =SUMIFS(Activité!D:D,Activité!A:A,Feuil1!C4,Activité!C:C,Feuil1!D4) -> 162 | F4: =E4/7.7 -> 21.038961 | G4: =G3 -> 75 | H4: =H3-F4/1000 -> 79.978961
A5: 43371 | B5: V | E5: =SUMIFS(Activité!D:D,Activité!A:A,Feuil1!C5,Activité!C:C,Feuil1!D5) -> 0 | F5: =E5/7.7 -> 0 | G5: =G4 -> 75 | H5: =H4-F5/1000 -> 79.978961
A6: 43372 | B6: S | C6: Marche à pieds | D6: 120 | E6: =SUMIFS(Activité!D:D,Activité!A:A,Feuil1!C6,Activité!C:C,Feuil1!D6) -> 648 | F6: =E6/7.7 -> 84.155844 | G6: =G5 -> 75 | H6: =H5-F6/1000 -> 79.894805
A7: 43373 | B7: D | E7: =SUMIFS(Activité!D:D,Activité!A:A,Feuil1!C7,Activité!C:C,Feuil1!D7) -> 0 | F7: =E7/7.7 -> 0 | G7: =G6 -> 75 | H7: =H6-F7/1000 -> 79.894805
A8: 43374 | B8: L | C8: Marche à pieds | D8: 120 | E8: =SUMIFS(Activité!D:D,Activité!A:A,Feuil1!C8,Activité!C:C,Feuil1!D8) -> 648 | F8: =E8/7.7 -> 84.155844 | G8: =G7 -> 75 | H8: =H7-F8/1000 -> 79.810649
A9: 43375 | B9: M | E9: =SUMIFS(Activité!D:D,Activité!A:A,Feuil1!C9,Activité!C:C,Feuil1!D9) -> 0 | F9: =E9/7.7 -> 0 | G9: =G8 -> 75 | H9: =H8-F9/1000 -> 79.810649
A10: 43376 | B10: M | E10: =SUMIFS(Activité!D:D,Activité!A:A,Feuil1!C10,Activité!C:C,Feuil1!D10) -> 0 | F10: =E10/7.7 -> 0 | G10: =G9 -> 75 | H10: =H9-F10/1000 -> 79.810649
A11: 43377 | B11: J | C11: Marche à pieds | D11: 120 | E11: =SUMIFS(Activité!D:D,Activité!A:A,Feuil1!C11,Activité!C:C,Feuil1!D11) -> 648 | F11: =E11/7.7 -> 84.155844 | G11: =G10 -> 75 | H11: =H10-F11/1000 -> 79.726494
A12: 43378 | B12: V | C12: Marche à pieds | D12: 120 | E12: =SUMIFS(Activité!D:D,Activité!A:A,Feuil1!C12,Activité!C:C,Feuil1!D12) -> 648 | F12: =E12/7.7 -> 84.155844 | G12: =G11 -> 75 | H12: =H11-F12/1000 -> 79.642338
A13: 43379 | B13: S | E13: =SUMIFS(Activité!D:D,Activité!A:A,Feuil1!C13,Activité!C:C,Feuil1!D13) -> 0 | F13: =E13/7.7 -> 0 | G13: =G12 -> 75 | H13: =H12-F13/1000 -> 79.642338
A14: 43380 | B14: D | E14: =SUMIFS(Activité!D:D,Activité!A:A,Feuil1!C14,Activité!C:C,Feuil1!D14) -> 0 | F14: =E14/7.7 -> 0 | G14: =G13 -> 75 | H14: =H13-F14/1000 -> 79.642338
A15: 43381 | B15: L | C15: Marche à pieds | D15: 120 | E15: =SUMIFS(Activité!D:D,Activité!A:A,Feuil1!C15,Activité!C:C,Feuil1!D15) -> 648 | F15: =E15/7.7 -> 84.155844 | G15: =G14 -> 75 | H15: =H14-F15/1000 -> 79.558182
A16: 43382 | B16: M | E16: =SUMIFS(Activité!D:D,Activité!A:A,Feuil1!C16,Activité!C:C,Feuil1!D16) -> 0 | F16: =E16/7.7 -> 0 | G16: =G15 -> 75 | H16: =H15-F16/1000 -> 79.558182
A17: 43383 | B17: M | E17: =SUMIFS(Activité!D:D,Activité!A:A,Feuil1!C17,Activité!C:C,Feuil1!D17) -> 0 | F17: =E17/7.7 -> 0 | G17: =G16 -> 75 | H17: =H16-F17/1000 -> 79.558182
A18: 43384 | B18: J | C18: Marche à pieds | D18: 60 | E18: =SUMIFS(Activité!D:D,Activité!A:A,Feuil1!C18,Activité!C:C,Feuil1!D18) -> 324 | F18: =E18/7.7 -> 42.077922 | G18: =G17 -> 75 | H18: =H17-F18/1000 -> 79.516104
A19: 43385 | B19: V | E19: =SUMIFS(Activité!D:D,Activité!A:A,Feuil1!C19,Activité!C:C,Feuil1!D19) -> 0 | F19: =E19/7.7 -> 0 | G19: =G18 -> 75 | H19: =H18-F19/1000 -> 79.516104
A20: 43386 | B20: S | E20: =SUMIFS(Activité!D:D,Activité!A:A,Feuil1!C20,Activité!C:C,Feuil1!D20) -> 0 | F20: =E20/7.7 -> 0 | G20: =G19 -> 75 | H20: =H19-F20/1000 -> 79.516104
A21: 43387 | B21: D | E21: =SUMIFS(Activité!D:D,Activité!A:A,Feuil1!C21,Activité!C:C,Feuil1!D21) -> 0 | F21: =E21/7.7 -> 0 | G21: =G20 -> 75 | H21: =H20-F21/1000 -> 79.516104
A22: 43388 | B22: L | E22: =SUMIFS(Activité!D:D,Activité!A:A,Feuil1!C22,Activité!C:C,Feuil1!D22) -> 0 | F22: =E22/7.7 -> 0 | G22: =G21 -> 75 | H22: =H21-F22/1000 -> 79.516104
A23: 43389 | B23: M | E23: =SUMIFS(Activité!D:D,Activité!A:A,Feuil1!C23,Activité!C:C,Feuil1!D23) -> 0 | F23: =E23/7.7 -> 0 | G23: =G22 -> 75 | H23: =H22-F23/1000 -> 79.516104
A24: 43390 | B24: M | E24: =SUMIFS(Activité!D:D,Activité!A:A,Feuil1!C24,Activité!C:C,Feuil1!D24) -> 0 | F24: =E24/7.7 -> 0 | G24: =G23 -> 75 | H24: =H23-F24/1000 -> 79.516104
A25: 43391 | B25: J | C25: Marche à pieds | D25: 30 | E25: =SUMIFS(Activité!D:D,Activité!A:A,Feuil1!C25,Activité!C:C,Feuil1!D25) -> 162 | F25: =E25/7.7 -> 21.038961 | G25: =G24 -> 75 | H25: =H24-F25/1000 -> 79.495065
A26: 43392 | B26: V | E26: =SUMIFS(Activité!D:D,Activité!A:A,Feuil1!C26,Activité!C:C,Feuil1!D26) -> 0 | F26: =E26/7.7 -> 0 | G26: =G25 -> 75 | H26: =H25-F26/1000 -> 79.495065
A27: 43393 | B27: S | C27: Marche à pieds | D27: 120 | E27: =SUMIFS(Activité!D:D,Activité!A:A,Feuil1!C27,Activité!C:C,Feuil1!D27) -> 648 | F27: =E27/7.7 -> 84.155844 | G27: =G26 -> 75 | H27: =H26-F27/1000 -> 79.410909
A28: 43394 | B28: D | E28: =SUMIFS(Activité!D:D,Activité!A:A,Feuil1!C28,Activité!C:C,Feuil1!D28) -> 0 | F28: =E28/7.7 -> 0 | G28: =G27 -> 75 | H28: =H27-F28/1000 -> 79.410909
A29: 43395 | B29: L | C29: Marche à pieds | D29: 120 | E29: =SUMIFS(Activité!D:D,Activité!A:A,Feuil1!C29,Activité!C:C,Feuil1!D29) -> 648 | F29: =E29/7.7 -> 84.155844 | G29: =G28 -> 75 | H29: =H28-F29/1000 -> 79.326753
A30: 43396 | B30: M | E30: =SUMIFS(Activité!D:D,Activité!A:A,Feuil1!C30,Activité!C:C,Feuil1!D30) -> 0 | F30: =E30/7.7 -> 0 | G30: =G29 -> 75 | H30: =H29-F30/1000 -> 79.326753
A31: 43397 | B31: M | E31: =SUMIFS(Activité!D:D,Activité!A:A,Feuil1!C31,Activité!C:C,Feuil1!D31) -> 0 | F31: =E31/7.7 -> 0 | G31: =G30 -> 75 | H31: =H30-F31/1000 -> 79.326753
A32: 43398 | B32: J | C32: Marche à pieds | D32: 120 | E32: =SUMIFS(Activité!D:D,Activité!A:A,Feuil1!C32,Activité!C:C,Feuil1!D32) -> 648 | F32: =E32/7.7 -> 84.155844 | G32: =G31 -> 75 | H32: =H31-F32/1000 -> 79.242597
A33: 43399 | B33: V | C33: Marche à pieds | D33: 120 | E33: =SUMIFS(Activité!D:D,Activité!A:A,Feuil1!C33,Activité!C:C,Feuil1!D33) -> 648 | F33: =E33/7.7 -> 84.155844 | G33: =G32 -> 75 | H33: =H32-F33/1000 -> 79.158442
A34: 43400 | B34: S | E34: =SUMIFS(Activité!D:D,Activité!A:A,Feuil1!C34,Activité!C:C,Feuil1!D34) -> 0 | F34: =E34/7.7 -> 0 | G34: =G33 -> 75 | H34: =H33-F34/1000 -> 79.158442
A35: 43401 | B35: D | E35: =SUMIFS(Activité!D:D,Activité!A:A,Feuil1!C35,Activité!C:C,Feuil1!D35) -> 0 | F35: =E35/7.7 -> 0 | G35: =G34 -> 75 | H35: =H34-F35/1000 -> 79.158442
A36: 43402 | B36: L | C36: Marche à pieds | D36: 120 | E36: =SUMIFS(Activité!D:D,Activité!A:A,Feuil1!C36,Activité!C:C,Feuil1!D36) -> 648 | F36: =E36/7.7 -> 84.155844 | G36: =G35 -> 75 | H36: =H35-F36/1000 -> 79.074286
A37: 43403 | B37: M | E37: =SUMIFS(Activité!D:D,Activité!A:A,Feuil1!C37,Activité!C:C,Feuil1!D37) -> 0 | F37: =E37/7.7 -> 0 | G37: =G36 -> 75 | H37: =H36-F37/1000 -> 79.074286
A38: 43404 | B38: M | E38: =SUMIFS(Activité!D:D,Activité!A:A,Feuil1!C38,Activité!C:C,Feuil1!D38) -> 0 | F38: =E38/7.7 -> 0 | G38: =G37 -> 75 | H38: =H37-F38/1000 -> 79.074286
A39: 43405 | B39: J | C39: Marche à pieds | D39: 30 | E39: =SUMIFS(Activité!D:D,Activité!A:A,Feuil1!C39,Activité!C:C,Feuil1!D39) -> 162 | F39: =E39/7.7 -> 21.038961 | G39: =G38 -> 75 | H39: =H38-F39/1000 -> 79.053247
A40: 43406 | B40: V | E40: =SUMIFS(Activité!D:D,Activité!A:A,Feuil1!C40,Activité!C:C,Feuil1!D40) -> 0 | F40: =E40/7.7 -> 0 | G40: =G39 -> 75 | H40: =H39-F40/1000 -> 79.053247
A41: 43407 | B41: S | C41: Marche à pieds | D41: 120 | E41: =SUMIFS(Activité!D:D,Activité!A:A,Feuil1!C41,Activité!C:C,Feuil1!D41) -> 648 | F41: =E41/7.7 -> 84.155844 | G41: =G40 -> 75 | H41: =H40-F41/1000 -> 78.969091
...

Sheet Activité
A1: Type | B1: durée | C1: durée | D1: calorie | F1: calorie | G1: kg
A2: Marche à pieds | B2: 1/2 heure | C2: 30 | D2: 162 | F2: 7700 | G2: 1
A3: Marche à pieds | B3: 1 heure | C3: 60 | D3: 324
A4: Marche à pieds | B4: 1 heure 30 | C4: 90 | D4: 412
A5: Marche à pieds | B5: 2 heures | C5: 120 | D5: 648
A6: Marche à pieds | B6: 3 heures | C6: 180
