Workbook

Sheet Tableau de bord 
C3: Tableau de bord
D6: Janvier | E6: Février | F6: Mars | G6: Avril | H6: Mai | I6: Juin | J6: Juillet | K6: Aout | L6: Septembre | M6: Octobre | N6: Novembre | O6: Décembre | P6: Année 2018
C7: Chiffres d'affaires | D7: =Janvier!C41 -> 433 | E7: =Février!C40 -> 0 | F7: =Mars!C40 -> 0 | G7: =Avril!C40 -> 0 | H7: =Mai!C40 -> 0 | I7: =Juin!C40 -> 0 | J7: =Juillet!C40 -> 0 | K7: =Aout!C40 -> 0 | L7: ='Septembre '!C40 -> 0 | M7: =Octobre!C40 -> 0 | N7: =Novembre!C40 -> 0 | O7: ='Décembre '!D40 -> 0 | P7: =SUM(D7:O7) -> 433
C8: Couts d'achat et d'approvisionnement | D8: =Janvier!H41 -> 110 | E8: =Février!H40 -> 0 | F8: =Mars!H40 -> 0 | G8: =Avril!H40 -> 0 | H8: =Mai!H40 -> 0 | I8: =Juin!H40 -> 0 | J8: =Juillet!H40 -> 0 | K8: =Aout!H40 -> 0 | L8: ='Septembre '!H40 -> 0 | M8: =Octobre!H40 -> 0 | N8: =Novembre!H40 -> 0 | O8: ='Décembre '!I40 -> 0 | P8: =SUM(D8:O8) -> 110
C9: Coûts de la production | D9: =Janvier!K41 -> 23 | E9: =Février!K40 -> 0 | F9: =Mars!K40 -> 0 | G9: =Avril!K40 -> 0 | H9: =Mai!K40 -> 0 | I9: =Juin!K40 -> 0 | J9: =Juillet!K40 -> 0 | K9: =Aout!K40 -> 0 | L9: ='Septembre '!K40 -> 0 | M9: =Octobre!K40 -> 0 | N9: =Novembre!K40 -> 0 | O9: ='Décembre '!L40 -> 0 | P9: =SUM(D9:O9) -> 23
C10: Coûts de commercialisation | D10: =Janvier!P41 -> 0 | E10: =Janvier!P41 -> 0 | F10: =Février!P40 -> 0 | G10: =Avril!P40 -> 0 | H10: =Mai!P40 -> 0 | I10: =Juin!P40 -> 0 | J10: =Juillet!P40 -> 0 | K10: =Aout!P40 -> 0 | L10: ='Septembre '!P40 -> 0 | M10: =Octobre!P40 -> 0 | N10: =Novembre!P40 -> 0 | O10: ='Décembre '!Q40 -> 0 | P10: =SUM(D10:O10) -> 0
C11: Coûts administratifs | D11: =Janvier!T41 -> 13 | E11: =Janvier!T41 -> 13 | F11: =Mars!T40 -> 0 | G11: =Avril!T40 -> 0 | H11: =Mai!T40 -> 0 | I11: =Juin!T40 -> 0 | J11: =Juillet!T40 -> 0 | K11: =Aout!T40 -> 0 | L11: ='Septembre '!T40 -> 0 | M11: =Octobre!T40 -> 0 | N11: =Novembre!T40 -> 0 | O11: ='Décembre '!U40 -> 0 | P11: =SUM(D11:O11) -> 26
C12: Cout de revient | D12: =SUM(D8:D11) -> 146 | E12: =SUM(E8:E11) -> 13 | F12: =SUM(F8:F11) -> 0 | G12: =SUM(G8:G11) -> 0 | H12: =SUM(H8:H11) -> 0 | I12: =SUM(I8:I11) -> 0 | J12: =SUM(J8:J11) -> 0 | K12: =SUM(K8:K11) -> 0 | ... O12: =SUM(O8:O11) -> 0 | P12: =SUM(D12:O12) -> 159
C13: Marge nette | D13: =D7-D12 -> 287 | E13: =E7-E12 -> -13 | F13: =F7-F12 -> 0 | G13: =G7-G12 -> 0 | H13: =H7-H12 -> 0 | I13: =I7-I12 -> 0 | J13: =J7-J12 -> 0 | K13: =K7-K12 -> 0 | ... P13: =P7-P12 -> 274

Sheet Janvier
B1: Chiffres d'affaires | D1: Charges directes | L1: Charges indirectes | U1: Coût de revient | V1: Marge nette
A2: Date | B2: Libellé de la prestation de services | C2: Montant HT | D2: Matières premières | E2: Marchandises | F2: Consommables | G2: Frais de livraison liés aux achats | H2: Couts d'achat et d'approvisionnement | I2: Mains d’œuvre avec charges sociales et patronales, | J2: Charges locatives | K2: Coûts de production | L2: Marketing | M2: Prospection | N2: Commerciaux | O2: Livraison | P2: Coûts de commercialisation et distribution | Q2: services généraux | R2: frais divers | S2: impôts | T2: Coûts administratifs | U2: Coût de revient unitaire | V2: Marge nette sur prestation | W2: Taux de marge | X2: Taux de marque
B3: Systeme | H3: =IF(B3="","",SUM(D3:G3)) -> 0 | K3: =IF(B3:B3="","",SUM(I3:J3)) -> 0 | P3: =IF(B3:B3="","",SUM(L3:O3)) -> 0 | T3: =IF(B3:B3="","",SUM(Q3:S3)) -> 0 | U3: =IF(B3:B3="","",H3:H3+K3:K3+P3:P3+T3:T3) -> 0 | V3: =IF(B3:B3="","",C3:C3-K3:K3-P3:P3-T3:T3) -> 0 | W3: =IF(C3:C3="","",V3:V3/U3:U3) | X3: =IF(C3:C3="","",V3:V3/C3:C3)
B4: Systeme | H4: =IF(B4:B4="","",SUM(D4:G4)) -> 0 | K4: =IF(B4:B4="","",SUM(I4:J4)) -> 0 | P4: =IF(B4:B4="","",SUM(L4:O4)) -> 0 | T4: =IF(B4:B4="","",SUM(Q4:S4)) -> 0 | U4: =IF(B4:B4="","",H4:H4+K4:K4+P4:P4+T4:T4) -> 0 | V4: =IF(B4:B4="","",C4:C4-K4:K4-P4:P4-T4:T4) -> 0 | W4: =IF(C4:C4="","",V4:V4/U4:U4) | X4: =IF(C4:C4="","",V4:V4/C4:C4)
B5: Systeme | H5: =IF(B5:B5="","",SUM(D5:G5)) -> 0 | K5: =IF(B5:B5="","",SUM(I5:J5)) -> 0 | P5: =IF(B5:B5="","",SUM(L5:O5)) -> 0 | T5: =IF(B5:B5="","",SUM(Q5:S5)) -> 0 | U5: =IF(B5:B5="","",H5:H5+K5:K5+P5:P5+T5:T5) -> 0 | V5: =IF(B5:B5="","",C5:C5-K5:K5-P5:P5-T5:T5) -> 0 | W5: =IF(C5:C5="","",V5:V5/U5:U5) | X5: =IF(C5:C5="","",V5:V5/C5:C5)
B6: Systeme | H6: =IF(B6:B6="","",SUM(D6:G6)) -> 0 | K6: =IF(B6:B6="","",SUM(I6:J6)) -> 0 | P6: =IF(B6:B6="","",SUM(L6:O6)) -> 0 | T6: =IF(B6:B6="","",SUM(Q6:S6)) -> 0 | U6: =IF(B6:B6="","",H6:H6+K6:K6+P6:P6+T6:T6) -> 0 | V6: =IF(B6:B6="","",C6:C6-K6:K6-P6:P6-T6:T6) -> 0 | W6: =IF(C6:C6="","",V6:V6/U6:U6) | X6: =IF(C6:C6="","",V6:V6/C6:C6)
B7: Systeme | H7: =IF(B7:B7="","",SUM(D7:G7)) -> 0 | K7: =IF(B7:B7="","",SUM(I7:J7)) -> 0 | P7: =IF(B7:B7="","",SUM(L7:O7)) -> 0 | T7: =IF(B7:B7="","",SUM(Q7:S7)) -> 0 | U7: =IF(B7:B7="","",H7:H7+K7:K7+P7:P7+T7:T7) -> 0 | V7: =IF(B7:B7="","",C7:C7-K7:K7-P7:P7-T7:T7) -> 0 | W7: =IF(C7:C7="","",V7:V7/U7:U7) | X7: =IF(C7:C7="","",V7:V7/C7:C7)
B8: Systeme | H8: =IF(B8:B8="","",SUM(D8:G8)) -> 0 | K8: =IF(B8:B8="","",SUM(I8:J8)) -> 0 | P8: =IF(B8:B8="","",SUM(L8:O8)) -> 0 | T8: =IF(B8:B8="","",SUM(Q8:S8)) -> 0 | U8: =IF(B8:B8="","",H8:H8+K8:K8+P8:P8+T8:T8) -> 0 | V8: =IF(B8:B8="","",C8:C8-K8:K8-P8:P8-T8:T8) -> 0 | W8: =IF(C8:C8="","",V8:V8/U8:U8) | X8: =IF(C8:C8="","",V8:V8/C8:C8)
B9: Systeme | H9: =IF(B9:B9="","",SUM(D9:G9)) -> 0 | K9: =IF(B9:B9="","",SUM(I9:J9)) -> 0 | P9: =IF(B9:B9="","",SUM(L9:O9)) -> 0 | T9: =IF(B9:B9="","",SUM(Q9:S9)) -> 0 | U9: =IF(B9:B9="","",H9:H9+K9:K9+P9:P9+T9:T9) -> 0 | V9: =IF(B9:B9="","",C9:C9-K9:K9-P9:P9-T9:T9) -> 0 | W9: =IF(C9:C9="","",V9:V9/U9:U9) | X9: =IF(C9:C9="","",V9:V9/C9:C9)
B10: Systeme | H10: =IF(B10:B10="","",SUM(D10:G10)) -> 0 | K10: =IF(B10:B10="","",SUM(I10:J10)) -> 0 | P10: =IF(B10:B10="","",SUM(L10:O10)) -> 0 | T10: =IF(B10:B10="","",SUM(Q10:S10)) -> 0 | U10: =IF(B10:B10="","",H10:H10+K10:K10+P10:P10+T10:T10) -> 0 | V10: =IF(B10:B10="","",C10:C10-K10:K10-P10:P10-T10:T10) -> 0 | W10: =IF(C10:C10="","",V10:V10/U10:U10) | X10: =IF(C10:C10="","",V10:V10/C10:C10)
B11: Systeme | H11: =IF(B11:B11="","",SUM(D11:G11)) -> 0 | K11: =IF(B11:B11="","",SUM(I11:J11)) -> 0 | P11: =IF(B11:B11="","",SUM(L11:O11)) -> 0 | T11: =IF(B11:B11="","",SUM(Q11:S11)) -> 0 | U11: =IF(B11:B11="","",H11:H11+K11:K11+P11:P11+T11:T11) -> 0 | V11: =IF(B11:B11="","",C11:C11-K11:K11-P11:P11-T11:T11) -> 0 | W11: =IF(C11:C11="","",V11:V11/U11:U11) | X11: =IF(C11:C11="","",V11:V11/C11:C11)
B12: Systeme | H12: =IF(B12:B12="","",SUM(D12:G12)) -> 0 | K12: =IF(B12:B12="","",SUM(I12:J12)) -> 0 | P12: =IF(B12:B12="","",SUM(L12:O12)) -> 0 | T12: =IF(B12:B12="","",SUM(Q12:S12)) -> 0 | U12: =IF(B12:B12="","",H12:H12+K12:K12+P12:P12+T12:T12) -> 0 | V12: =IF(B12:B12="","",C12:C12-K12:K12-P12:P12-T12:T12) -> 0 | W12: =IF(C12:C12="","",V12:V12/U12:U12) | X12: =IF(C12:C12="","",V12:V12/C12:C12)
B13: Systeme | C13: 400 | D13: 100 | H13: =IF(B13:B13="","",SUM(D13:G13)) -> 100 | I13: 20 | K13: =IF(B13:B13="","",SUM(I13:J13)) -> 20 | P13: =IF(B13:B13="","",SUM(L13:O13)) -> 0 | R13: 1 | T13: =IF(B13:B13="","",SUM(Q13:S13)) -> 1 | U13: =IF(B13:B13="","",H13:H13+K13:K13+P13:P13+T13:T13) -> 121 | V13: =IF(B13:B13="","",C13:C13-K13:K13-P13:P13-T13:T13) -> 379 | W13: =IF(C13:C13="","",V13:V13/U13:U13) -> 3.1322314 | X13: =IF(C13:C13="","",V13:V13/C13:C13) -> 0.9475
B14: Systeme | H14: =IF(B14:B14="","",SUM(D14:G14)) -> 0 | K14: =IF(B14:B14="","",SUM(I14:J14)) -> 0 | P14: =IF(B14:B14="","",SUM(L14:O14)) -> 0 | T14: =IF(B14:B14="","",SUM(Q14:S14)) -> 0 | U14: =IF(B14:B14="","",H14:H14+K14:K14+P14:P14+T14:T14) -> 0 | V14: =IF(B14:B14="","",C14:C14-K14:K14-P14:P14-T14:T14) -> 0 | W14: =IF(C14:C14="","",V14:V14/U14:U14) | X14: =IF(C14:C14="","",V14:V14/C14:C14)
B15: Systeme | H15: =IF(B15:B15="","",SUM(D15:G15)) -> 0 | K15: =IF(B15:B15="","",SUM(I15:J15)) -> 0 | P15: =IF(B15:B15="","",SUM(L15:O15)) -> 0 | T15: =IF(B15:B15="","",SUM(Q15:S15)) -> 0 | U15: =IF(B15:B15="","",H15:H15+K15:K15+P15:P15+T15:T15) -> 0 | V15: =IF(B15:B15="","",C15:C15-K15:K15-P15:P15-T15:T15) -> 0 | W15: =IF(C15:C15="","",V15:V15/U15:U15) | X15: =IF(C15:C15="","",V15:V15/C15:C15)
B16: Systeme | H16: =IF(B16:B16="","",SUM(D16:G16)) -> 0 | K16: =IF(B16:B16="","",SUM(I16:J16)) -> 0 | P16: =IF(B16:B16="","",SUM(L16:O16)) -> 0 | T16: =IF(B16:B16="","",SUM(Q16:S16)) -> 0 | U16: =IF(B16:B16="","",H16:H16+K16:K16+P16:P16+T16:T16) -> 0 | V16: =IF(B16:B16="","",C16:C16-K16:K16-P16:P16-T16:T16) -> 0 | W16: =IF(C16:C16="","",V16:V16/U16:U16) | X16: =IF(C16:C16="","",V16:V16/C16:C16)
B17: Systeme | H17: =IF(B17:B17="","",SUM(D17:G17)) -> 0 | K17: =IF(B17:B17="","",SUM(I17:J17)) -> 0 | P17: =IF(B17:B17="","",SUM(L17:O17)) -> 0 | T17: =IF(B17:B17="","",SUM(Q17:S17)) -> 0 | U17: =IF(B17:B17="","",H17:H17+K17:K17+P17:P17+T17:T17) -> 0 | V17: =IF(B17:B17="","",C17:C17-K17:K17-P17:P17-T17:T17) -> 0 | W17: =IF(C17:C17="","",V17:V17/U17:U17) | X17: =IF(C17:C17="","",V17:V17/C17:C17)
B18: Systeme | H18: =IF(B18:B18="","",SUM(D18:G18)) -> 0 | K18: =IF(B18:B18="","",SUM(I18:J18)) -> 0 | P18: =IF(B18:B18="","",SUM(L18:O18)) -> 0 | T18: =IF(B18:B18="","",SUM(Q18:S18)) -> 0 | U18: =IF(B18:B18="","",H18:H18+K18:K18+P18:P18+T18:T18) -> 0 | V18: =IF(B18:B18="","",C18:C18-K18:K18-P18:P18-T18:T18) -> 0 | W18: =IF(C18:C18="","",V18:V18/U18:U18) | X18: =IF(C18:C18="","",V18:V18/C18:C18)
B19: Systeme | H19: =IF(B19:B19="","",SUM(D19:G19)) -> 0 | K19: =IF(B19:B19="","",SUM(I19:J19)) -> 0 | P19: =IF(B19:B19="","",SUM(L19:O19)) -> 0 | T19: =IF(B19:B19="","",SUM(Q19:S19)) -> 0 | U19: =IF(B19:B19="","",H19:H19+K19:K19+P19:P19+T19:T19) -> 0 | V19: =IF(B19:B19="","",C19:C19-K19:K19-P19:P19-T19:T19) -> 0 | W19: =IF(C19:C19="","",V19:V19/U19:U19) | X19: =IF(C19:C19="","",V19:V19/C19:C19)
B20: Systeme | H20: =IF(B20:B20="","",SUM(D20:G20)) -> 0 | K20: =IF(B20:B20="","",SUM(I20:J20)) -> 0 | P20: =IF(B20:B20="","",SUM(L20:O20)) -> 0 | T20: =IF(B20:B20="","",SUM(Q20:S20)) -> 0 | U20: =IF(B20:B20="","",H20:H20+K20:K20+P20:P20+T20:T20) -> 0 | V20: =IF(B20:B20="","",C20:C20-K20:K20-P20:P20-T20:T20) -> 0 | W20: =IF(C20:C20="","",V20:V20/U20:U20) | X20: =IF(C20:C20="","",V20:V20/C20:C20)
B21: impression | C21: 33 | D21: 10 | H21: =IF(B21:B21="","",SUM(D21:G21)) -> 10 | I21: 3 | K21: =IF(B21:B21="","",SUM(I21:J21)) -> 3 | P21: =IF(B21:B21="","",SUM(L21:O21)) -> 0 | R21: 12 | T21: =IF(B21:B21="","",SUM(Q21:S21)) -> 12 | U21: =IF(B21:B21="","",H21:H21+K21:K21+P21:P21+T21:T21) -> 25 | V21: =IF(B21:B21="","",C21:C21-K21:K21-P21:P21-T21:T21) -> 18 | W21: =IF(C21:C21="","",V21:V21/U21:U21) -> 0.72 | X21: =IF(C21:C21="","",V21:V21/C21:C21) -> 0.54545455
B22: Systeme | H22: =IF(B22:B22="","",SUM(D22:G22)) -> 0 | K22: =IF(B22:B22="","",SUM(I22:J22)) -> 0 | P22: =IF(B22:B22="","",SUM(L22:O22)) -> 0 | T22: =IF(B22:B22="","",SUM(Q22:S22)) -> 0 | U22: =IF(B22:B22="","",H22:H22+K22:K22+P22:P22+T22:T22) -> 0 | V22: =IF(B22:B22="","",C22:C22-K22:K22-P22:P22-T22:T22) -> 0 | W22: =IF(C22:C22="","",V22:V22/U22:U22) | X22: =IF(C22:C22="","",V22:V22/C22:C22)
B23: Systeme | H23: =IF(B23:B23="","",SUM(D23:G23)) -> 0 | K23: =IF(B23:B23="","",SUM(I23:J23)) -> 0 | P23: =IF(B23:B23="","",SUM(L23:O23)) -> 0 | T23: =IF(B23:B23="","",SUM(Q23:S23)) -> 0 | U23: =IF(B23:B23="","",H23:H23+K23:K23+P23:P23+T23:T23) -> 0 | V23: =IF(B23:B23="","",C23:C23-K23:K23-P23:P23-T23:T23) -> 0 | W23: =IF(C23:C23="","",V23:V23/U23:U23) | X23: =IF(C23:C23="","",V23:V23/C23:C23)
B24: Systeme | H24: =IF(B24:B24="","",SUM(D24:G24)) -> 0 | K24: =IF(B24:B24="","",SUM(I24:J24)) -> 0 | P24: =IF(B24:B24="","",SUM(L24:O24)) -> 0 | T24: =IF(B24:B24="","",SUM(Q24:S24)) -> 0 | U24: =IF(B24:B24="","",H24:H24+K24:K24+P24:P24+T24:T24) -> 0 | V24: =IF(B24:B24="","",C24:C24-K24:K24-P24:P24-T24:T24) -> 0 | W24: =IF(C24:C24="","",V24:V24/U24:U24) | X24: =IF(C24:C24="","",V24:V24/C24:C24)
B25: Systeme | H25: =IF(B25:B25="","",SUM(D25:G25)) -> 0 | K25: =IF(B25:B25="","",SUM(I25:J25)) -> 0 | P25: =IF(B25:B25="","",SUM(L25:O25)) -> 0 | T25: =IF(B25:B25="","",SUM(Q25:S25)) -> 0 | U25: =IF(B25:B25="","",H25:H25+K25:K25+P25:P25+T25:T25) -> 0 | V25: =IF(B25:B25="","",C25:C25-K25:K25-P25:P25-T25:T25) -> 0 | W25: =IF(C25:C25="","",V25:V25/U25:U25) | X25: =IF(C25:C25="","",V25:V25/C25:C25)
B26: Systeme | H26: =IF(B26:B26="","",SUM(D26:G26)) -> 0 | K26: =IF(B26:B26="","",SUM(I26:J26)) -> 0 | P26: =IF(B26:B26="","",SUM(L26:O26)) -> 0 | T26: =IF(B26:B26="","",SUM(Q26:S26)) -> 0 | U26: =IF(B26:B26="","",H26:H26+K26:K26+P26:P26+T26:T26) -> 0 | V26: =IF(B26:B26="","",C26:C26-K26:K26-P26:P26-T26:T26) -> 0 | W26: =IF(C26:C26="","",V26:V26/U26:U26) | X26: =IF(C26:C26="","",V26:V26/C26:C26)
B27: Systeme | H27: =IF(B27:B27="","",SUM(D27:G27)) -> 0 | K27: =IF(B27:B27="","",SUM(I27:J27)) -> 0 | P27: =IF(B27:B27="","",SUM(L27:O27)) -> 0 | T27: =IF(B27:B27="","",SUM(Q27:S27)) -> 0 | U27: =IF(B27:B27="","",H27:H27+K27:K27+P27:P27+T27:T27) -> 0 | V27: =IF(B27:B27="","",C27:C27-K27:K27-P27:P27-T27:T27) -> 0 | W27: =IF(C27:C27="","",V27:V27/U27:U27) | X27: =IF(C27:C27="","",V27:V27/C27:C27)
B28: Systeme | H28: =IF(B28:B28="","",SUM(D28:G28)) -> 0 | K28: =IF(B28:B28="","",SUM(I28:J28)) -> 0 | P28: =IF(B28:B28="","",SUM(L28:O28)) -> 0 | T28: =IF(B28:B28="","",SUM(Q28:S28)) -> 0 | U28: =IF(B28:B28="","",H28:H28+K28:K28+P28:P28+T28:T28) -> 0 | V28: =IF(B28:B28="","",C28:C28-K28:K28-P28:P28-T28:T28) -> 0 | W28: =IF(C28:C28="","",V28:V28/U28:U28) | X28: =IF(C28:C28="","",V28:V28/C28:C28)
B29: Systeme | H29: =IF(B29:B29="","",SUM(D29:G29)) -> 0 | K29: =IF(B29:B29="","",SUM(I29:J29)) -> 0 | P29: =IF(B29:B29="","",SUM(L29:O29)) -> 0 | T29: =IF(B29:B29="","",SUM(Q29:S29)) -> 0 | U29: =IF(B29:B29="","",H29:H29+K29:K29+P29:P29+T29:T29) -> 0 | V29: =IF(B29:B29="","",C29:C29-K29:K29-P29:P29-T29:T29) -> 0 | W29: =IF(C29:C29="","",V29:V29/U29:U29) | X29: =IF(C29:C29="","",V29:V29/C29:C29)
B30: Systeme | H30: =IF(B30:B30="","",SUM(D30:G30)) -> 0 | K30: =IF(B30:B30="","",SUM(I30:J30)) -> 0 | P30: =IF(B30:B30="","",SUM(L30:O30)) -> 0 | T30: =IF(B30:B30="","",SUM(Q30:S30)) -> 0 | U30: =IF(B30:B30="","",H30:H30+K30:K30+P30:P30+T30:T30) -> 0 | V30: =IF(B30:B30="","",C30:C30-K30:K30-P30:P30-T30:T30) -> 0 | W30: =IF(C30:C30="","",V30:V30/U30:U30) | X30: =IF(C30:C30="","",V30:V30/C30:C30)
B31: Systeme | H31: =IF(B31:B31="","",SUM(D31:G31)) -> 0 | K31: =IF(B31:B31="","",SUM(I31:J31)) -> 0 | P31: =IF(B31:B31="","",SUM(L31:O31)) -> 0 | T31: =IF(B31:B31="","",SUM(Q31:S31)) -> 0 | U31: =IF(B31:B31="","",H31:H31+K31:K31+P31:P31+T31:T31) -> 0 | V31: =IF(B31:B31="","",C31:C31-K31:K31-P31:P31-T31:T31) -> 0 | W31: =IF(C31:C31="","",V31:V31/U31:U31) | X31: =IF(C31:C31="","",V31:V31/C31:C31)
B32: Systeme | H32: =IF(B32:B32="","",SUM(D32:G32)) -> 0 | K32: =IF(B32:B32="","",SUM(I32:J32)) -> 0 | P32: =IF(B32:B32="","",SUM(L32:O32)) -> 0 | T32: =IF(B32:B32="","",SUM(Q32:S32)) -> 0 | U32: =IF(B32:B32="","",H32:H32+K32:K32+P32:P32+T32:T32) -> 0 | V32: =IF(B32:B32="","",C32:C32-K32:K32-P32:P32-T32:T32) -> 0 | W32: =IF(C32:C32="","",V32:V32/U32:U32) | X32: =IF(C32:C32="","",V32:V32/C32:C32)
B33: Systeme | H33: =IF(B33:B33="","",SUM(D33:G33)) -> 0 | K33: =IF(B33:B33="","",SUM(I33:J33)) -> 0 | P33: =IF(B33:B33="","",SUM(L33:O33)) -> 0 | T33: =IF(B33:B33="","",SUM(Q33:S33)) -> 0 | U33: =IF(B33:B33="","",H33:H33+K33:K33+P33:P33+T33:T33) -> 0 | V33: =IF(B33:B33="","",C33:C33-K33:K33-P33:P33-T33:T33) -> 0 | W33: =IF(C33:C33="","",V33:V33/U33:U33) | X33: =IF(C33:C33="","",V33:V33/C33:C33)
... B40: Systeme | H40: =IF(B40:B40="","",SUM(D40:G40)) -> 0 | K40: =IF(B40:B40="","",SUM(I40:J40)) -> 0 | P40: =IF(B40:B40="","",SUM(L40:O40)) -> 0 | T40: =IF(B40:B40="","",SUM(Q40:S40)) -> 0 | U40: =IF(B40:B40="","",H40:H40+K40:K40+P40:P40+T40:T40) -> 0 | V40: =IF(B40:B40="","",C40:C40-K40:K40-P40:P40-T40:T40) -> 0 | W40: =IF(C40:C40="","",V40:V40/U40:U40) | X40: =IF(C40:C40="","",V40:V40/C40:C40)
B41: =COUNTA(B3:B40) -> 38 | C41: =SUM(C3:C40) -> 433 | D41: =SUM(D3:D40) -> 110 | E41: =SUM(E3:E40) -> 0 | F41: =SUM(F3:F40) -> 0 | G41: =SUM(G3:G40) -> 0 | H41: =SUM(H3:H40) -> 110 | I41: =SUM(I3:I40) -> 23 | J41: =SUM(J3:J40) -> 0 | ... X41: =SUM(X3:X40) -> 1.4929545
Z44: Rentabilité par prestation
AA45: Montant total HT | AB45: Cout de revient total | AC45: Marge Net total | AD45: Taux de marge total
Z46: Systeme
Z47: Impression
C48: c | D48: u | E48: v | F48: w
B49: Libellé de la prestation de services | C49: Montant HT | D49: Coût de revient | E49: Marge nette sur prestation | F49: Taux de marge
B50: impression | C50: =SUMIF($B$3:$B$40,$B50,C$3:C$40) -> 33 | D50: =SUMIF($B$3:$B$40,$B50,U$3:U$40) -> 25 | E50: =SUMIF($B$3:$B$40,$B50,V$3:V$40) -> 18 | F50: =E50/C50 -> 0.54545455
B51: Systeme | C51: =SUMIF($B$3:$B$40,$B51,C$3:C$40) -> 400 | D51: =SUMIF($B$3:$B$40,$B51,U$3:U$40) -> 121 | E51: =SUMIF($B$3:$B$40,$B51,V$3:V$40) -> 379 | F51: =E51/C51 -> 0.9475
C52: =SUM(C50:C51) -> 433 | D52: =SUM(D50:D51) -> 146 | E52: =SUM(E50:E51) -> 397

Sheet Février
B1: Chiffres d'affaires | D1: Charges directes | L1: Charges indirectes | U1: Coût de revient | V1: Marge nette
A2: Date | B2: Libellé de la prestation de services | C2: Montant HT | D2: Matières premières | E2: Marchandises | F2: Consommables | G2: Frais de livraison liés aux achats | H2: Couts d'achat et d'approvisionnement | I2: Mains d’œuvre avec charges sociales et patronales, | J2: Charges locatives | K2: Coûts de production | L2: Marketing | M2: Prospection | N2: Commerciaux | O2: Livraison | P2: Coûts de commercialisation et distribution | Q2: services généraux | R2: frais divers | S2: impôts | T2: Coûts administratifs | U2: Coût de revient unitaire | V2: Marge nette sur prestation | W2: Taux de marge | X2: Taux de marque
H3: =IF(B3:B3="","",SUM(D3:G3)) | K3: =IF(B3:B3="","",SUM(I3:J3)) | P3: =IF(B3:B3="","",SUM(L3:O3)) | T3: =IF(B3:B3="","",SUM(Q3:S3)) | U3: =IF(B3:B3="","",H3:H3+K3:K3+P3:P3+T3:T3) | V3: =IF(B3:B3="","",C3:C3-K3:K3-P3:P3-T3:T3) | W3: =IF(C3:C3="","",V3:V3/U3:U3) | X3: =IF(C3:C3="","",V3:V3/C3:C3)
H4: =IF(B4:B4="","",SUM(D4:G4)) | K4: =IF(B4:B4="","",SUM(I4:J4)) | P4: =IF(B4:B4="","",SUM(L4:O4)) | T4: =IF(B4:B4="","",SUM(Q4:S4)) | U4: =IF(B4:B4="","",H4:H4+K4:K4+P4:P4+T4:T4) | V4: =IF(B4:B4="","",C4:C4-K4:K4-P4:P4-T4:T4) | W4: =IF(C4:C4="","",V4:V4/U4:U4) | X4: =IF(C4:C4="","",V4:V4/C4:C4)
H5: =IF(B5:B5="","",SUM(D5:G5)) | K5: =IF(B5:B5="","",SUM(I5:J5)) | P5: =IF(B5:B5="","",SUM(L5:O5)) | T5: =IF(B5:B5="","",SUM(Q5:S5)) | U5: =IF(B5:B5="","",H5:H5+K5:K5+P5:P5+T5:T5) | V5: =IF(B5:B5="","",C5:C5-K5:K5-P5:P5-T5:T5) | W5: =IF(C5:C5="","",V5:V5/U5:U5) | X5: =IF(C5:C5="","",V5:V5/C5:C5)
H6: =IF(B6:B6="","",SUM(D6:G6)) | K6: =IF(B6:B6="","",SUM(I6:J6)) | P6: =IF(B6:B6="","",SUM(L6:O6)) | T6: =IF(B6:B6="","",SUM(Q6:S6)) | U6: =IF(B6:B6="","",H6:H6+K6:K6+P6:P6+T6:T6) | V6: =IF(B6:B6="","",C6:C6-K6:K6-P6:P6-T6:T6) | W6: =IF(C6:C6="","",V6:V6/U6:U6) | X6: =IF(C6:C6="","",V6:V6/C6:C6)
H7: =IF(B7:B7="","",SUM(D7:G7)) | K7: =IF(B7:B7="","",SUM(I7:J7)) | P7: =IF(B7:B7="","",SUM(L7:O7)) | T7: =IF(B7:B7="","",SUM(Q7:S7)) | U7: =IF(B7:B7="","",H7:H7+K7:K7+P7:P7+T7:T7) | V7: =IF(B7:B7="","",C7:C7-K7:K7-P7:P7-T7:T7) | W7: =IF(C7:C7="","",V7:V7/U7:U7) | X7: =IF(C7:C7="","",V7:V7/C7:C7)
H8: =IF(B8:B8="","",SUM(D8:G8)) | K8: =IF(B8:B8="","",SUM(I8:J8)) | P8: =IF(B8:B8="","",SUM(L8:O8)) | T8: =IF(B8:B8="","",SUM(Q8:S8)) | U8: =IF(B8:B8="","",H8:H8+K8:K8+P8:P8+T8:T8) | V8: =IF(B8:B8="","",C8:C8-K8:K8-P8:P8-T8:T8) | W8: =IF(C8:C8="","",V8:V8/U8:U8) | X8: =IF(C8:C8="","",V8:V8/C8:C8)
H9: =IF(B9:B9="","",SUM(D9:G9)) | K9: =IF(B9:B9="","",SUM(I9:J9)) | P9: =IF(B9:B9="","",SUM(L9:O9)) | T9: =IF(B9:B9="","",SUM(Q9:S9)) | U9: =IF(B9:B9="","",H9:H9+K9:K9+P9:P9+T9:T9) | V9: =IF(B9:B9="","",C9:C9-K9:K9-P9:P9-T9:T9) | W9: =IF(C9:C9="","",V9:V9/U9:U9) | X9: =IF(C9:C9="","",V9:V9/C9:C9)
H10: =IF(B10:B10="","",SUM(D10:G10)) | K10: =IF(B10:B10="","",SUM(I10:J10)) | P10: =IF(B10:B10="","",SUM(L10:O10)) | T10: =IF(B10:B10="","",SUM(Q10:S10)) | U10: =IF(B10:B10="","",H10:H10+K10:K10+P10:P10+T10:T10) | V10: =IF(B10:B10="","",C10:C10-K10:K10-P10:P10-T10:T10) | W10: =IF(C10:C10="","",V10:V10/U10:U10) | X10: =IF(C10:C10="","",V10:V10/C10:C10)
H11: =IF(B11:B11="","",SUM(D11:G11)) | K11: =IF(B11:B11="","",SUM(I11:J11)) | P11: =IF(B11:B11="","",SUM(L11:O11)) | T11: =IF(B11:B11="","",SUM(Q11:S11)) | U11: =IF(B11:B11="","",H11:H11+K11:K11+P11:P11+T11:T11) | V11: =IF(B11:B11="","",C11:C11-K11:K11-P11:P11-T11:T11) | W11: =IF(C11:C11="","",V11:V11/U11:U11) | X11: =IF(C11:C11="","",V11:V11/C11:C11)
H12: =IF(B12:B12="","",SUM(D12:G12)) | K12: =IF(B12:B12="","",SUM(I12:J12)) | P12: =IF(B12:B12="","",SUM(L12:O12)) | T12: =IF(B12:B12="","",SUM(Q12:S12)) | U12: =IF(B12:B12="","",H12:H12+K12:K12+P12:P12+T12:T12) | V12: =IF(B12:B12="","",C12:C12-K12:K12-P12:P12-T12:T12) | W12: =IF(C12:C12="","",V12:V12/U12:U12) | X12: =IF(C12:C12="","",V12:V12/C12:C12)
H13: =IF(B13:B13="","",SUM(D13:G13)) | K13: =IF(B13:B13="","",SUM(I13:J13)) | P13: =IF(B13:B13="","",SUM(L13:O13)) | T13: =IF(B13:B13="","",SUM(Q13:S13)) | U13: =IF(B13:B13="","",H13:H13+K13:K13+P13:P13+T13:T13) | V13: =IF(B13:B13="","",C13:C13-K13:K13-P13:P13-T13:T13) | W13: =IF(C13:C13="","",V13:V13/U13:U13) | X13: =IF(C13:C13="","",V13:V13/C13:C13)
H14: =IF(B14:B14="","",SUM(D14:G14)) | K14: =IF(B14:B14="","",SUM(I14:J14)) | P14: =IF(B14:B14="","",SUM(L14:O14)) | T14: =IF(B14:B14="","",SUM(Q14:S14)) | U14: =IF(B14:B14="","",H14:H14+K14:K14+P14:P14+T14:T14) | V14: =IF(B14:B14="","",C14:C14-K14:K14-P14:P14-T14:T14) | W14: =IF(C14:C14="","",V14:V14/U14:U14) | X14: =IF(C14:C14="","",V14:V14/C14:C14)
... H39: =IF(B39:B39="","",SUM(D39:G39)) | K39: =IF(B39:B39="","",SUM(I39:J39)) | P39: =IF(B39:B39="","",SUM(L39:O39)) | T39: =IF(B39:B39="","",SUM(Q39:S39)) | U39: =IF(B39:B39="","",H39:H39+K39:K39+P39:P39+T39:T39) | V39: =IF(B39:B39="","",C39:C39-K39:K39-P39:P39-T39:T39) | W39: =IF(C39:C39="","",V39:V39/U39:U39) | X39: =IF(C39:C39="","",V39:V39/C39:C39)
B40: =COUNTA(B3:B39) -> 0 | C40: =SUM(C3:C39) -> 0 | D40: =SUM(D3:D39) -> 0 | E40: =SUM(E3:E39) -> 0 | F40: =SUM(F3:F39) -> 0 | G40: =SUM(G3:G39) -> 0 | H40: =SUM(H3:H39) -> 0 | I40: =SUM(I3:I39) -> 0 | J40: =SUM(J3:J39) -> 0 | ... X40: =SUM(X3:X39) -> 0

Sheet Mars
B1: Chiffres d'affaires | D1: Charges directes | L1: Charges indirectes | U1: Coût de revient | V1: Marge nette
A2: Date | B2: Libellé de la prestation de services | C2: Montant HT | D2: Matières premières | E2: Marchandises | F2: Consommables | G2: Frais de livraison liés aux achats | H2: Couts d'achat et d'approvisionnement | I2: Mains d’œuvre avec charges sociales et patronales, | J2: Charges locatives | K2: Coûts de production | L2: Marketing | M2: Prospection | N2: Commerciaux | O2: Livraison | P2: Coûts de commercialisation et distribution | Q2: services généraux | R2: frais divers | S2: impôts | T2: Coûts administratifs | U2: Coût de revient unitaire | V2: Marge nette sur prestation | W2: Taux de marge | X2: Taux de marque
H3: =IF(B3:B3="","",SUM(D3:G3)) | K3: =IF(B3:B3="","",SUM(I3:J3)) | P3: =IF(B3:B3="","",SUM(L3:O3)) | T3: =IF(B3:B3="","",SUM(Q3:S3)) | U3: =IF(B3:B3="","",H3:H3+K3:K3+P3:P3+T3:T3) | V3: =IF(B3:B3="","",C3:C3-K3:K3-P3:P3-T3:T3) | W3: =IF(C3:C3="","",V3:V3/U3:U3) | X3: =IF(C3:C3="","",V3:V3/C3:C3)
H4: =IF(B4:B4="","",SUM(D4:G4)) | K4: =IF(B4:B4="","",SUM(I4:J4)) | P4: =IF(B4:B4="","",SUM(L4:O4)) | T4: =IF(B4:B4="","",SUM(Q4:S4)) | U4: =IF(B4:B4="","",H4:H4+K4:K4+P4:P4+T4:T4) | V4: =IF(B4:B4="","",C4:C4-K4:K4-P4:P4-T4:T4) | W4: =IF(C4:C4="","",V4:V4/U4:U4) | X4: =IF(C4:C4="","",V4:V4/C4:C4)
H5: =IF(B5:B5="","",SUM(D5:G5)) | K5: =IF(B5:B5="","",SUM(I5:J5)) | P5: =IF(B5:B5="","",SUM(L5:O5)) | T5: =IF(B5:B5="","",SUM(Q5:S5)) | U5: =IF(B5:B5="","",H5:H5+K5:K5+P5:P5+T5:T5) | V5: =IF(B5:B5="","",C5:C5-K5:K5-P5:P5-T5:T5) | W5: =IF(C5:C5="","",V5:V5/U5:U5) | X5: =IF(C5:C5="","",V5:V5/C5:C5)
H6: =IF(B6:B6="","",SUM(D6:G6)) | K6: =IF(B6:B6="","",SUM(I6:J6)) | P6: =IF(B6:B6="","",SUM(L6:O6)) | T6: =IF(B6:B6="","",SUM(Q6:S6)) | U6: =IF(B6:B6="","",H6:H6+K6:K6+P6:P6+T6:T6) | V6: =IF(B6:B6="","",C6:C6-K6:K6-P6:P6-T6:T6) | W6: =IF(C6:C6="","",V6:V6/U6:U6) | X6: =IF(C6:C6="","",V6:V6/C6:C6)
H7: =IF(B7:B7="","",SUM(D7:G7)) | K7: =IF(B7:B7="","",SUM(I7:J7)) | P7: =IF(B7:B7="","",SUM(L7:O7)) | T7: =IF(B7:B7="","",SUM(Q7:S7)) | U7: =IF(B7:B7="","",H7:H7+K7:K7+P7:P7+T7:T7) | V7: =IF(B7:B7="","",C7:C7-K7:K7-P7:P7-T7:T7) | W7: =IF(C7:C7="","",V7:V7/U7:U7) | X7: =IF(C7:C7="","",V7:V7/C7:C7)
H8: =IF(B8:B8="","",SUM(D8:G8)) | K8: =IF(B8:B8="","",SUM(I8:J8)) | P8: =IF(B8:B8="","",SUM(L8:O8)) | T8: =IF(B8:B8="","",SUM(Q8:S8)) | U8: =IF(B8:B8="","",H8:H8+K8:K8+P8:P8+T8:T8) | V8: =IF(B8:B8="","",C8:C8-K8:K8-P8:P8-T8:T8) | W8: =IF(C8:C8="","",V8:V8/U8:U8) | X8: =IF(C8:C8="","",V8:V8/C8:C8)
H9: =IF(B9:B9="","",SUM(D9:G9)) | K9: =IF(B9:B9="","",SUM(I9:J9)) | P9: =IF(B9:B9="","",SUM(L9:O9)) | T9: =IF(B9:B9="","",SUM(Q9:S9)) | U9: =IF(B9:B9="","",H9:H9+K9:K9+P9:P9+T9:T9) | V9: =IF(B9:B9="","",C9:C9-K9:K9-P9:P9-T9:T9) | W9: =IF(C9:C9="","",V9:V9/U9:U9) | X9: =IF(C9:C9="","",V9:V9/C9:C9)
H10: =IF(B10:B10="","",SUM(D10:G10)) | K10: =IF(B10:B10="","",SUM(I10:J10)) | P10: =IF(B10:B10="","",SUM(L10:O10)) | T10: =IF(B10:B10="","",SUM(Q10:S10)) | U10: =IF(B10:B10="","",H10:H10+K10:K10+P10:P10+T10:T10) | V10: =IF(B10:B10="","",C10:C10-K10:K10-P10:P10-T10:T10) | W10: =IF(C10:C10="","",V10:V10/U10:U10) | X10: =IF(C10:C10="","",V10:V10/C10:C10)
H11: =IF(B11:B11="","",SUM(D11:G11)) | K11: =IF(B11:B11="","",SUM(I11:J11)) | P11: =IF(B11:B11="","",SUM(L11:O11)) | T11: =IF(B11:B11="","",SUM(Q11:S11)) | U11: =IF(B11:B11="","",H11:H11+K11:K11+P11:P11+T11:T11) | V11: =IF(B11:B11="","",C11:C11-K11:K11-P11:P11-T11:T11) | W11: =IF(C11:C11="","",V11:V11/U11:U11) | X11: =IF(C11:C11="","",V11:V11/C11:C11)
H12: =IF(B12:B12="","",SUM(D12:G12)) | K12: =IF(B12:B12="","",SUM(I12:J12)) | P12: =IF(B12:B12="","",SUM(L12:O12)) | T12: =IF(B12:B12="","",SUM(Q12:S12)) | U12: =IF(B12:B12="","",H12:H12+K12:K12+P12:P12+T12:T12) | V12: =IF(B12:B12="","",C12:C12-K12:K12-P12:P12-T12:T12) | W12: =IF(C12:C12="","",V12:V12/U12:U12) | X12: =IF(C12:C12="","",V12:V12/C12:C12)
H13: =IF(B13:B13="","",SUM(D13:G13)) | K13: =IF(B13:B13="","",SUM(I13:J13)) | P13: =IF(B13:B13="","",SUM(L13:O13)) | T13: =IF(B13:B13="","",SUM(Q13:S13)) | U13: =IF(B13:B13="","",H13:H13+K13:K13+P13:P13+T13:T13) | V13: =IF(B13:B13="","",C13:C13-K13:K13-P13:P13-T13:T13) | W13: =IF(C13:C13="","",V13:V13/U13:U13) | X13: =IF(C13:C13="","",V13:V13/C13:C13)
H14: =IF(B14:B14="","",SUM(D14:G14)) | K14: =IF(B14:B14="","",SUM(I14:J14)) | P14: =IF(B14:B14="","",SUM(L14:O14)) | T14: =IF(B14:B14="","",SUM(Q14:S14)) | U14: =IF(B14:B14="","",H14:H14+K14:K14+P14:P14+T14:T14) | V14: =IF(B14:B14="","",C14:C14-K14:K14-P14:P14-T14:T14) | W14: =IF(C14:C14="","",V14:V14/U14:U14) | X14: =IF(C14:C14="","",V14:V14/C14:C14)
... H39: =IF(B39:B39="","",SUM(D39:G39)) | K39: =IF(B39:B39="","",SUM(I39:J39)) | P39: =IF(B39:B39="","",SUM(L39:O39)) | T39: =IF(B39:B39="","",SUM(Q39:S39)) | U39: =IF(B39:B39="","",H39:H39+K39:K39+P39:P39+T39:T39) | V39: =IF(B39:B39="","",C39:C39-K39:K39-P39:P39-T39:T39) | W39: =IF(C39:C39="","",V39:V39/U39:U39) | X39: =IF(C39:C39="","",V39:V39/C39:C39)
B40: =COUNTA(B3:B39) -> 0 | C40: =SUM(C3:C39) -> 0 | D40: =SUM(D3:D39) -> 0 | E40: =SUM(E3:E39) -> 0 | F40: =SUM(F3:F39) -> 0 | G40: =SUM(G3:G39) -> 0 | H40: =SUM(H3:H39) -> 0 | I40: =SUM(I3:I39) -> 0 | J40: =SUM(J3:J39) -> 0 | ... X40: =SUM(X3:X39) -> 0

Sheet Avril
B1: Chiffres d'affaires | D1: Charges directes | L1: Charges indirectes | U1: Coût de revient | V1: Marge nette
A2: Date | B2: Libellé de la prestation de services | C2: Montant HT | D2: Matières premières | E2: Marchandises | F2: Consommables | G2: Frais de livraison liés aux achats | H2: Couts d'achat et d'approvisionnement | I2: Mains d’œuvre avec charges sociales et patronales, | J2: Charges locatives | K2: Coûts de production | L2: Marketing | M2: Prospection | N2: Commerciaux | O2: Livraison | P2: Coûts de commercialisation et distribution | Q2: services généraux | R2: frais divers | S2: impôts | T2: Coûts administratifs | U2: Coût de revient unitaire | V2: Marge nette sur prestation | W2: Taux de marge | X2: Taux de marque
H3: =IF(B3:B3="","",SUM(D3:G3)) | K3: =IF(B3:B3="","",SUM(I3:J3)) | P3: =IF(B3:B3="","",SUM(L3:O3)) | T3: =IF(B3:B3="","",SUM(Q3:S3)) | U3: =IF(B3:B3="","",H3:H3+K3:K3+P3:P3+T3:T3) | V3: =IF(B3:B3="","",C3:C3-K3:K3-P3:P3-T3:T3) | W3: =IF(C3:C3="","",V3:V3/U3:U3) | X3: =IF(C3:C3="","",V3:V3/C3:C3)
H4: =IF(B4:B4="","",SUM(D4:G4)) | K4: =IF(B4:B4="","",SUM(I4:J4)) | P4: =IF(B4:B4="","",SUM(L4:O4)) | T4: =IF(B4:B4="","",SUM(Q4:S4)) | U4: =IF(B4:B4="","",H4:H4+K4:K4+P4:P4+T4:T4) | V4: =IF(B4:B4="","",C4:C4-K4:K4-P4:P4-T4:T4) | W4: =IF(C4:C4="","",V4:V4/U4:U4) | X4: =IF(C4:C4="","",V4:V4/C4:C4)
H5: =IF(B5:B5="","",SUM(D5:G5)) | K5: =IF(B5:B5="","",SUM(I5:J5)) | P5: =IF(B5:B5="","",SUM(L5:O5)) | T5: =IF(B5:B5="","",SUM(Q5:S5)) | U5: =IF(B5:B5="","",H5:H5+K5:K5+P5:P5+T5:T5) | V5: =IF(B5:B5="","",C5:C5-K5:K5-P5:P5-T5:T5) | W5: =IF(C5:C5="","",V5:V5/U5:U5) | X5: =IF(C5:C5="","",V5:V5/C5:C5)
H6: =IF(B6:B6="","",SUM(D6:G6)) | K6: =IF(B6:B6="","",SUM(I6:J6)) | P6: =IF(B6:B6="","",SUM(L6:O6)) | T6: =IF(B6:B6="","",SUM(Q6:S6)) | U6: =IF(B6:B6="","",H6:H6+K6:K6+P6:P6+T6:T6) | V6: =IF(B6:B6="","",C6:C6-K6:K6-P6:P6-T6:T6) | W6: =IF(C6:C6="","",V6:V6/U6:U6) | X6: =IF(C6:C6="","",V6:V6/C6:C6)
H7: =IF(B7:B7="","",SUM(D7:G7)) | K7: =IF(B7:B7="","",SUM(I7:J7)) | P7: =IF(B7:B7="","",SUM(L7:O7)) | T7: =IF(B7:B7="","",SUM(Q7:S7)) | U7: =IF(B7:B7="","",H7:H7+K7:K7+P7:P7+T7:T7) | V7: =IF(B7:B7="","",C7:C7-K7:K7-P7:P7-T7:T7) | W7: =IF(C7:C7="","",V7:V7/U7:U7) | X7: =IF(C7:C7="","",V7:V7/C7:C7)
H8: =IF(B8:B8="","",SUM(D8:G8)) | K8: =IF(B8:B8="","",SUM(I8:J8)) | P8: =IF(B8:B8="","",SUM(L8:O8)) | T8: =IF(B8:B8="","",SUM(Q8:S8)) | U8: =IF(B8:B8="","",H8:H8+K8:K8+P8:P8+T8:T8) | V8: =IF(B8:B8="","",C8:C8-K8:K8-P8:P8-T8:T8) | W8: =IF(C8:C8="","",V8:V8/U8:U8) | X8: =IF(C8:C8="","",V8:V8/C8:C8)
H9: =IF(B9:B9="","",SUM(D9:G9)) | K9: =IF(B9:B9="","",SUM(I9:J9)) | P9: =IF(B9:B9="","",SUM(L9:O9)) | T9: =IF(B9:B9="","",SUM(Q9:S9)) | U9: =IF(B9:B9="","",H9:H9+K9:K9+P9:P9+T9:T9) | V9: =IF(B9:B9="","",C9:C9-K9:K9-P9:P9-T9:T9) | W9: =IF(C9:C9="","",V9:V9/U9:U9) | X9: =IF(C9:C9="","",V9:V9/C9:C9)
H10: =IF(B10:B10="","",SUM(D10:G10)) | K10: =IF(B10:B10="","",SUM(I10:J10)) | P10: =IF(B10:B10="","",SUM(L10:O10)) | T10: =IF(B10:B10="","",SUM(Q10:S10)) | U10: =IF(B10:B10="","",H10:H10+K10:K10+P10:P10+T10:T10) | V10: =IF(B10:B10="","",C10:C10-K10:K10-P10:P10-T10:T10) | W10: =IF(C10:C10="","",V10:V10/U10:U10) | X10: =IF(C10:C10="","",V10:V10/C10:C10)
H11: =IF(B11:B11="","",SUM(D11:G11)) | K11: =IF(B11:B11="","",SUM(I11:J11)) | P11: =IF(B11:B11="","",SUM(L11:O11)) | T11: =IF(B11:B11="","",SUM(Q11:S11)) | U11: =IF(B11:B11="","",H11:H11+K11:K11+P11:P11+T11:T11) | V11: =IF(B11:B11="","",C11:C11-K11:K11-P11:P11-T11:T11) | W11: =IF(C11:C11="","",V11:V11/U11:U11) | X11: =IF(C11:C11="","",V11:V11/C11:C11)
H12: =IF(B12:B12="","",SUM(D12:G12)) | K12: =IF(B12:B12="","",SUM(I12:J12)) | P12: =IF(B12:B12="","",SUM(L12:O12)) | T12: =IF(B12:B12="","",SUM(Q12:S12)) | U12: =IF(B12:B12="","",H12:H12+K12:K12+P12:P12+T12:T12) | V12: =IF(B12:B12="","",C12:C12-K12:K12-P12:P12-T12:T12) | W12: =IF(C12:C12="","",V12:V12/U12:U12) | X12: =IF(C12:C12="","",V12:V12/C12:C12)
H13: =IF(B13:B13="","",SUM(D13:G13)) | K13: =IF(B13:B13="","",SUM(I13:J13)) | P13: =IF(B13:B13="","",SUM(L13:O13)) | T13: =IF(B13:B13="","",SUM(Q13:S13)) | U13: =IF(B13:B13="","",H13:H13+K13:K13+P13:P13+T13:T13) | V13: =IF(B13:B13="","",C13:C13-K13:K13-P13:P13-T13:T13) | W13: =IF(C13:C13="","",V13:V13/U13:U13) | X13: =IF(C13:C13="","",V13:V13/C13:C13)
H14: =IF(B14:B14="","",SUM(D14:G14)) | K14: =IF(B14:B14="","",SUM(I14:J14)) | P14: =IF(B14:B14="","",SUM(L14:O14)) | T14: =IF(B14:B14="","",SUM(Q14:S14)) | U14: =IF(B14:B14="","",H14:H14+K14:K14+P14:P14+T14:T14) | V14: =IF(B14:B14="","",C14:C14-K14:K14-P14:P14-T14:T14) | W14: =IF(C14:C14="","",V14:V14/U14:U14) | X14: =IF(C14:C14="","",V14:V14/C14:C14)
... H39: =IF(B39:B39="","",SUM(D39:G39)) | K39: =IF(B39:B39="","",SUM(I39:J39)) | P39: =IF(B39:B39="","",SUM(L39:O39)) | T39: =IF(B39:B39="","",SUM(Q39:S39)) | U39: =IF(B39:B39="","",H39:H39+K39:K39+P39:P39+T39:T39) | V39: =IF(B39:B39="","",C39:C39-K39:K39-P39:P39-T39:T39) | W39: =IF(C39:C39="","",V39:V39/U39:U39) | X39: =IF(C39:C39="","",V39:V39/C39:C39)
B40: =COUNTA(B3:B39) -> 0 | C40: =SUM(C3:C39) -> 0 | D40: =SUM(D3:D39) -> 0 | E40: =SUM(E3:E39) -> 0 | F40: =SUM(F3:F39) -> 0 | G40: =SUM(G3:G39) -> 0 | H40: =SUM(H3:H39) -> 0 | I40: =SUM(I3:I39) -> 0 | J40: =SUM(J3:J39) -> 0 | ... X40: =SUM(X3:X39) -> 0

Sheet Mai
B1: Chiffres d'affaires | D1: Charges directes | L1: Charges indirectes | U1: Coût de revient | V1: Marge nette
A2: Date | B2: Libellé de la prestation de services | C2: Montant HT | D2: Matières premières | E2: Marchandises | F2: Consommables | G2: Frais de livraison liés aux achats | H2: Couts d'achat et d'approvisionnement | I2: Mains d’œuvre avec charges sociales et patronales, | J2: Charges locatives | K2: Coûts de production | L2: Marketing | M2: Prospection | N2: Commerciaux | O2: Livraison | P2: Coûts de commercialisation et distribution | Q2: services généraux | R2: frais divers | S2: impôts | T2: Coûts administratifs | U2: Coût de revient unitaire | V2: Marge nette sur prestation | W2: Taux de marge | X2: Taux de marque
H3: =IF(B3:B3="","",SUM(D3:G3)) | K3: =IF(B3:B3="","",SUM(I3:J3)) | P3: =IF(B3:B3="","",SUM(L3:O3)) | T3: =IF(B3:B3="","",SUM(Q3:S3)) | U3: =IF(B3:B3="","",H3:H3+K3:K3+P3:P3+T3:T3) | V3: =IF(B3:B3="","",C3:C3-K3:K3-P3:P3-T3:T3) | W3: =IF(C3:C3="","",V3:V3/U3:U3) | X3: =IF(C3:C3="","",V3:V3/C3:C3)
H4: =IF(B4:B4="","",SUM(D4:G4)) | K4: =IF(B4:B4="","",SUM(I4:J4)) | P4: =IF(B4:B4="","",SUM(L4:O4)) | T4: =IF(B4:B4="","",SUM(Q4:S4)) | U4: =IF(B4:B4="","",H4:H4+K4:K4+P4:P4+T4:T4) | V4: =IF(B4:B4="","",C4:C4-K4:K4-P4:P4-T4:T4) | W4: =IF(C4:C4="","",V4:V4/U4:U4) | X4: =IF(C4:C4="","",V4:V4/C4:C4)
H5: =IF(B5:B5="","",SUM(D5:G5)) | K5: =IF(B5:B5="","",SUM(I5:J5)) | P5: =IF(B5:B5="","",SUM(L5:O5)) | T5: =IF(B5:B5="","",SUM(Q5:S5)) | U5: =IF(B5:B5="","",H5:H5+K5:K5+P5:P5+T5:T5) | V5: =IF(B5:B5="","",C5:C5-K5:K5-P5:P5-T5:T5) | W5: =IF(C5:C5="","",V5:V5/U5:U5) | X5: =IF(C5:C5="","",V5:V5/C5:C5)
H6: =IF(B6:B6="","",SUM(D6:G6)) | K6: =IF(B6:B6="","",SUM(I6:J6)) | P6: =IF(B6:B6="","",SUM(L6:O6)) | T6: =IF(B6:B6="","",SUM(Q6:S6)) | U6: =IF(B6:B6="","",H6:H6+K6:K6+P6:P6+T6:T6) | V6: =IF(B6:B6="","",C6:C6-K6:K6-P6:P6-T6:T6) | W6: =IF(C6:C6="","",V6:V6/U6:U6) | X6: =IF(C6:C6="","",V6:V6/C6:C6)
H7: =IF(B7:B7="","",SUM(D7:G7)) | K7: =IF(B7:B7="","",SUM(I7:J7)) | P7: =IF(B7:B7="","",SUM(L7:O7)) | T7: =IF(B7:B7="","",SUM(Q7:S7)) | U7: =IF(B7:B7="","",H7:H7+K7:K7+P7:P7+T7:T7) | V7: =IF(B7:B7="","",C7:C7-K7:K7-P7:P7-T7:T7) | W7: =IF(C7:C7="","",V7:V7/U7:U7) | X7: =IF(C7:C7="","",V7:V7/C7:C7)
H8: =IF(B8:B8="","",SUM(D8:G8)) | K8: =IF(B8:B8="","",SUM(I8:J8)) | P8: =IF(B8:B8="","",SUM(L8:O8)) | T8: =IF(B8:B8="","",SUM(Q8:S8)) | U8: =IF(B8:B8="","",H8:H8+K8:K8+P8:P8+T8:T8) | V8: =IF(B8:B8="","",C8:C8-K8:K8-P8:P8-T8:T8) | W8: =IF(C8:C8="","",V8:V8/U8:U8) | X8: =IF(C8:C8="","",V8:V8/C8:C8)
H9: =IF(B9:B9="","",SUM(D9:G9)) | K9: =IF(B9:B9="","",SUM(I9:J9)) | P9: =IF(B9:B9="","",SUM(L9:O9)) | T9: =IF(B9:B9="","",SUM(Q9:S9)) | U9: =IF(B9:B9="","",H9:H9+K9:K9+P9:P9+T9:T9) | V9: =IF(B9:B9="","",C9:C9-K9:K9-P9:P9-T9:T9) | W9: =IF(C9:C9="","",V9:V9/U9:U9) | X9: =IF(C9:C9="","",V9:V9/C9:C9)
H10: =IF(B10:B10="","",SUM(D10:G10)) | K10: =IF(B10:B10="","",SUM(I10:J10)) | P10: =IF(B10:B10="","",SUM(L10:O10)) | T10: =IF(B10:B10="","",SUM(Q10:S10)) | U10: =IF(B10:B10="","",H10:H10+K10:K10+P10:P10+T10:T10) | V10: =IF(B10:B10="","",C10:C10-K10:K10-P10:P10-T10:T10) | W10: =IF(C10:C10="","",V10:V10/U10:U10) | X10: =IF(C10:C10="","",V10:V10/C10:C10)
H11: =IF(B11:B11="","",SUM(D11:G11)) | K11: =IF(B11:B11="","",SUM(I11:J11)) | P11: =IF(B11:B11="","",SUM(L11:O11)) | T11: =IF(B11:B11="","",SUM(Q11:S11)) | U11: =IF(B11:B11="","",H11:H11+K11:K11+P11:P11+T11:T11) | V11: =IF(B11:B11="","",C11:C11-K11:K11-P11:P11-T11:T11) | W11: =IF(C11:C11="","",V11:V11/U11:U11) | X11: =IF(C11:C11="","",V11:V11/C11:C11)
H12: =IF(B12:B12="","",SUM(D12:G12)) | K12: =IF(B12:B12="","",SUM(I12:J12)) | P12: =IF(B12:B12="","",SUM(L12:O12)) | T12: =IF(B12:B12="","",SUM(Q12:S12)) | U12: =IF(B12:B12="","",H12:H12+K12:K12+P12:P12+T12:T12) | V12: =IF(B12:B12="","",C12:C12-K12:K12-P12:P12-T12:T12) | W12: =IF(C12:C12="","",V12:V12/U12:U12) | X12: =IF(C12:C12="","",V12:V12/C12:C12)
H13: =IF(B13:B13="","",SUM(D13:G13)) | K13: =IF(B13:B13="","",SUM(I13:J13)) | P13: =IF(B13:B13="","",SUM(L13:O13)) | T13: =IF(B13:B13="","",SUM(Q13:S13)) | U13: =IF(B13:B13="","",H13:H13+K13:K13+P13:P13+T13:T13) | V13: =IF(B13:B13="","",C13:C13-K13:K13-P13:P13-T13:T13) | W13: =IF(C13:C13="","",V13:V13/U13:U13) | X13: =IF(C13:C13="","",V13:V13/C13:C13)
H14: =IF(B14:B14="","",SUM(D14:G14)) | K14: =IF(B14:B14="","",SUM(I14:J14)) | P14: =IF(B14:B14="","",SUM(L14:O14)) | T14: =IF(B14:B14="","",SUM(Q14:S14)) | U14: =IF(B14:B14="","",H14:H14+K14:K14+P14:P14+T14:T14) | V14: =IF(B14:B14="","",C14:C14-K14:K14-P14:P14-T14:T14) | W14: =IF(C14:C14="","",V14:V14/U14:U14) | X14: =IF(C14:C14="","",V14:V14/C14:C14)
... H39: =IF(B39:B39="","",SUM(D39:G39)) | K39: =IF(B39:B39="","",SUM(I39:J39)) | P39: =IF(B39:B39="","",SUM(L39:O39)) | T39: =IF(B39:B39="","",SUM(Q39:S39)) | U39: =IF(B39:B39="","",H39:H39+K39:K39+P39:P39+T39:T39) | V39: =IF(B39:B39="","",C39:C39-K39:K39-P39:P39-T39:T39) | W39: =IF(C39:C39="","",V39:V39/U39:U39) | X39: =IF(C39:C39="","",V39:V39/C39:C39)
B40: =COUNTA(B3:B39) -> 0 | C40: =SUM(C3:C39) -> 0 | D40: =SUM(D3:D39) -> 0 | E40: =SUM(E3:E39) -> 0 | F40: =SUM(F3:F39) -> 0 | G40: =SUM(G3:G39) -> 0 | H40: =SUM(H3:H39) -> 0 | I40: =SUM(I3:I39) -> 0 | J40: =SUM(J3:J39) -> 0 | ... X40: =SUM(X3:X39) -> 0

Sheet Juin
B1: Chiffres d'affaires | D1: Charges directes | L1: Charges indirectes | U1: Coût de revient | V1: Marge nette
A2: Date | B2: Libellé de la prestation de services | C2: Montant HT | D2: Matières premières | E2: Marchandises | F2: Consommables | G2: Frais de livraison liés aux achats | H2: Couts d'achat et d'approvisionnement | I2: Mains d’œuvre avec charges sociales et patronales, | J2: Charges locatives | K2: Coûts de production | L2: Marketing | M2: Prospection | N2: Commerciaux | O2: Livraison | P2: Coûts de commercialisation et distribution | Q2: services généraux | R2: frais divers | S2: impôts | T2: Coûts administratifs | U2: Coût de revient unitaire | V2: Marge nette sur prestation | W2: Taux de marge | X2: Taux de marque
H3: =IF(B3:B3="","",SUM(D3:G3)) | K3: =IF(B3:B3="","",SUM(I3:J3)) | P3: =IF(B3:B3="","",SUM(L3:O3)) | T3: =IF(B3:B3="","",SUM(Q3:S3)) | U3: =IF(B3:B3="","",H3:H3+K3:K3+P3:P3+T3:T3) | V3: =IF(B3:B3="","",C3:C3-K3:K3-P3:P3-T3:T3) | W3: =IF(C3:C3="","",V3:V3/U3:U3) | X3: =IF(C3:C3="","",V3:V3/C3:C3)
H4: =IF(B4:B4="","",SUM(D4:G4)) | K4: =IF(B4:B4="","",SUM(I4:J4)) | P4: =IF(B4:B4="","",SUM(L4:O4)) | T4: =IF(B4:B4="","",SUM(Q4:S4)) | U4: =IF(B4:B4="","",H4:H4+K4:K4+P4:P4+T4:T4) | V4: =IF(B4:B4="","",C4:C4-K4:K4-P4:P4-T4:T4) | W4: =IF(C4:C4="","",V4:V4/U4:U4) | X4: =IF(C4:C4="","",V4:V4/C4:C4)
H5: =IF(B5:B5="","",SUM(D5:G5)) | K5: =IF(B5:B5="","",SUM(I5:J5)) | P5: =IF(B5:B5="","",SUM(L5:O5)) | T5: =IF(B5:B5="","",SUM(Q5:S5)) | U5: =IF(B5:B5="","",H5:H5+K5:K5+P5:P5+T5:T5) | V5: =IF(B5:B5="","",C5:C5-K5:K5-P5:P5-T5:T5) | W5: =IF(C5:C5="","",V5:V5/U5:U5) | X5: =IF(C5:C5="","",V5:V5/C5:C5)
H6: =IF(B6:B6="","",SUM(D6:G6)) | K6: =IF(B6:B6="","",SUM(I6:J6)) | P6: =IF(B6:B6="","",SUM(L6:O6)) | T6: =IF(B6:B6="","",SUM(Q6:S6)) | U6: =IF(B6:B6="","",H6:H6+K6:K6+P6:P6+T6:T6) | V6: =IF(B6:B6="","",C6:C6-K6:K6-P6:P6-T6:T6) | W6: =IF(C6:C6="","",V6:V6/U6:U6) | X6: =IF(C6:C6="","",V6:V6/C6:C6)
H7: =IF(B7:B7="","",SUM(D7:G7)) | K7: =IF(B7:B7="","",SUM(I7:J7)) | P7: =IF(B7:B7="","",SUM(L7:O7)) | T7: =IF(B7:B7="","",SUM(Q7:S7)) | U7: =IF(B7:B7="","",H7:H7+K7:K7+P7:P7+T7:T7) | V7: =IF(B7:B7="","",C7:C7-K7:K7-P7:P7-T7:T7) | W7: =IF(C7:C7="","",V7:V7/U7:U7) | X7: =IF(C7:C7="","",V7:V7/C7:C7)
H8: =IF(B8:B8="","",SUM(D8:G8)) | K8: =IF(B8:B8="","",SUM(I8:J8)) | P8: =IF(B8:B8="","",SUM(L8:O8)) | T8: =IF(B8:B8="","",SUM(Q8:S8)) | U8: =IF(B8:B8="","",H8:H8+K8:K8+P8:P8+T8:T8) | V8: =IF(B8:B8="","",C8:C8-K8:K8-P8:P8-T8:T8) | W8: =IF(C8:C8="","",V8:V8/U8:U8) | X8: =IF(C8:C8="","",V8:V8/C8:C8)
H9: =IF(B9:B9="","",SUM(D9:G9)) | K9: =IF(B9:B9="","",SUM(I9:J9)) | P9: =IF(B9:B9="","",SUM(L9:O9)) | T9: =IF(B9:B9="","",SUM(Q9:S9)) | U9: =IF(B9:B9="","",H9:H9+K9:K9+P9:P9+T9:T9) | V9: =IF(B9:B9="","",C9:C9-K9:K9-P9:P9-T9:T9) | W9: =IF(C9:C9="","",V9:V9/U9:U9) | X9: =IF(C9:C9="","",V9:V9/C9:C9)
H10: =IF(B10:B10="","",SUM(D10:G10)) | K10: =IF(B10:B10="","",SUM(I10:J10)) | P10: =IF(B10:B10="","",SUM(L10:O10)) | T10: =IF(B10:B10="","",SUM(Q10:S10)) | U10: =IF(B10:B10="","",H10:H10+K10:K10+P10:P10+T10:T10) | V10: =IF(B10:B10="","",C10:C10-K10:K10-P10:P10-T10:T10) | W10: =IF(C10:C10="","",V10:V10/U10:U10) | X10: =IF(C10:C10="","",V10:V10/C10:C10)
H11: =IF(B11:B11="","",SUM(D11:G11)) | K11: =IF(B11:B11="","",SUM(I11:J11)) | P11: =IF(B11:B11="","",SUM(L11:O11)) | T11: =IF(B11:B11="","",SUM(Q11:S11)) | U11: =IF(B11:B11="","",H11:H11+K11:K11+P11:P11+T11:T11) | V11: =IF(B11:B11="","",C11:C11-K11:K11-P11:P11-T11:T11) | W11: =IF(C11:C11="","",V11:V11/U11:U11) | X11: =IF(C11:C11="","",V11:V11/C11:C11)
H12: =IF(B12:B12="","",SUM(D12:G12)) | K12: =IF(B12:B12="","",SUM(I12:J12)) | P12: =IF(B12:B12="","",SUM(L12:O12)) | T12: =IF(B12:B12="","",SUM(Q12:S12)) | U12: =IF(B12:B12="","",H12:H12+K12:K12+P12:P12+T12:T12) | V12: =IF(B12:B12="","",C12:C12-K12:K12-P12:P12-T12:T12) | W12: =IF(C12:C12="","",V12:V12/U12:U12) | X12: =IF(C12:C12="","",V12:V12/C12:C12)
H13: =IF(B13:B13="","",SUM(D13:G13)) | K13: =IF(B13:B13="","",SUM(I13:J13)) | P13: =IF(B13:B13="","",SUM(L13:O13)) | T13: =IF(B13:B13="","",SUM(Q13:S13)) | U13: =IF(B13:B13="","",H13:H13+K13:K13+P13:P13+T13:T13) | V13: =IF(B13:B13="","",C13:C13-K13:K13-P13:P13-T13:T13) | W13: =IF(C13:C13="","",V13:V13/U13:U13) | X13: =IF(C13:C13="","",V13:V13/C13:C13)
H14: =IF(B14:B14="","",SUM(D14:G14)) | K14: =IF(B14:B14="","",SUM(I14:J14)) | P14: =IF(B14:B14="","",SUM(L14:O14)) | T14: =IF(B14:B14="","",SUM(Q14:S14)) | U14: =IF(B14:B14="","",H14:H14+K14:K14+P14:P14+T14:T14) | V14: =IF(B14:B14="","",C14:C14-K14:K14-P14:P14-T14:T14) | W14: =IF(C14:C14="","",V14:V14/U14:U14) | X14: =IF(C14:C14="","",V14:V14/C14:C14)
... H39: =IF(B39:B39="","",SUM(D39:G39)) | K39: =IF(B39:B39="","",SUM(I39:J39)) | P39: =IF(B39:B39="","",SUM(L39:O39)) | T39: =IF(B39:B39="","",SUM(Q39:S39)) | U39: =IF(B39:B39="","",H39:H39+K39:K39+P39:P39+T39:T39) | V39: =IF(B39:B39="","",C39:C39-K39:K39-P39:P39-T39:T39) | W39: =IF(C39:C39="","",V39:V39/U39:U39) | X39: =IF(C39:C39="","",V39:V39/C39:C39)
B40: =COUNTA(B3:B39) -> 0 | C40: =SUM(C3:C39) -> 0 | D40: =SUM(D3:D39) -> 0 | E40: =SUM(E3:E39) -> 0 | F40: =SUM(F3:F39) -> 0 | G40: =SUM(G3:G39) -> 0 | H40: =SUM(H3:H39) -> 0 | I40: =SUM(I3:I39) -> 0 | J40: =SUM(J3:J39) -> 0 | ... X40: =SUM(X3:X39) -> 0

Sheet Juillet
B1: Chiffres d'affaires | D1: Charges directes | L1: Charges indirectes | U1: Coût de revient | V1: Marge nette
A2: Date | B2: Libellé de la prestation de services | C2: Montant HT | D2: Matières premières | E2: Marchandises | F2: Consommables | G2: Frais de livraison liés aux achats | H2: Couts d'achat et d'approvisionnement | I2: Mains d’œuvre avec charges sociales et patronales, | J2: Charges locatives | K2: Coûts de production | L2: Marketing | M2: Prospection | N2: Commerciaux | O2: Livraison | P2: Coûts de commercialisation et distribution | Q2: services généraux | R2: frais divers | S2: impôts | T2: Coûts administratifs | U2: Coût de revient unitaire | V2: Marge nette sur prestation | W2: Taux de marge | X2: Taux de marque
H3: =IF(B3:B3="","",SUM(D3:G3)) | K3: =IF(B3:B3="","",SUM(I3:J3)) | P3: =IF(B3:B3="","",SUM(L3:O3)) | T3: =IF(B3:B3="","",SUM(Q3:S3)) | U3: =IF(B3:B3="","",H3:H3+K3:K3+P3:P3+T3:T3) | V3: =IF(B3:B3="","",C3:C3-K3:K3-P3:P3-T3:T3) | W3: =IF(C3:C3="","",V3:V3/U3:U3) | X3: =IF(C3:C3="","",V3:V3/C3:C3)
H4: =IF(B4:B4="","",SUM(D4:G4)) | K4: =IF(B4:B4="","",SUM(I4:J4)) | P4: =IF(B4:B4="","",SUM(L4:O4)) | T4: =IF(B4:B4="","",SUM(Q4:S4)) | U4: =IF(B4:B4="","",H4:H4+K4:K4+P4:P4+T4:T4) | V4: =IF(B4:B4="","",C4:C4-K4:K4-P4:P4-T4:T4) | W4: =IF(C4:C4="","",V4:V4/U4:U4) | X4: =IF(C4:C4="","",V4:V4/C4:C4)
H5: =IF(B5:B5="","",SUM(D5:G5)) | K5: =IF(B5:B5="","",SUM(I5:J5)) | P5: =IF(B5:B5="","",SUM(L5:O5)) | T5: =IF(B5:B5="","",SUM(Q5:S5)) | U5: =IF(B5:B5="","",H5:H5+K5:K5+P5:P5+T5:T5) | V5: =IF(B5:B5="","",C5:C5-K5:K5-P5:P5-T5:T5) | W5: =IF(C5:C5="","",V5:V5/U5:U5) | X5: =IF(C5:C5="","",V5:V5/C5:C5)
H6: =IF(B6:B6="","",SUM(D6:G6)) | K6: =IF(B6:B6="","",SUM(I6:J6)) | P6: =IF(B6:B6="","",SUM(L6:O6)) | T6: =IF(B6:B6="","",SUM(Q6:S6)) | U6: =IF(B6:B6="","",H6:H6+K6:K6+P6:P6+T6:T6) | V6: =IF(B6:B6="","",C6:C6-K6:K6-P6:P6-T6:T6) | W6: =IF(C6:C6="","",V6:V6/U6:U6) | X6: =IF(C6:C6="","",V6:V6/C6:C6)
H7: =IF(B7:B7="","",SUM(D7:G7)) | K7: =IF(B7:B7="","",SUM(I7:J7)) | P7: =IF(B7:B7="","",SUM(L7:O7)) | T7: =IF(B7:B7="","",SUM(Q7:S7)) | U7: =IF(B7:B7="","",H7:H7+K7:K7+P7:P7+T7:T7) | V7: =IF(B7:B7="","",C7:C7-K7:K7-P7:P7-T7:T7) | W7: =IF(C7:C7="","",V7:V7/U7:U7) | X7: =IF(C7:C7="","",V7:V7/C7:C7)
H8: =IF(B8:B8="","",SUM(D8:G8)) | K8: =IF(B8:B8="","",SUM(I8:J8)) | P8: =IF(B8:B8="","",SUM(L8:O8)) | T8: =IF(B8:B8="","",SUM(Q8:S8)) | U8: =IF(B8:B8="","",H8:H8+K8:K8+P8:P8+T8:T8) | V8: =IF(B8:B8="","",C8:C8-K8:K8-P8:P8-T8:T8) | W8: =IF(C8:C8="","",V8:V8/U8:U8) | X8: =IF(C8:C8="","",V8:V8/C8:C8)
H9: =IF(B9:B9="","",SUM(D9:G9)) | K9: =IF(B9:B9="","",SUM(I9:J9)) | P9: =IF(B9:B9="","",SUM(L9:O9)) | T9: =IF(B9:B9="","",SUM(Q9:S9)) | U9: =IF(B9:B9="","",H9:H9+K9:K9+P9:P9+T9:T9) | V9: =IF(B9:B9="","",C9:C9-K9:K9-P9:P9-T9:T9) | W9: =IF(C9:C9="","",V9:V9/U9:U9) | X9: =IF(C9:C9="","",V9:V9/C9:C9)
H10: =IF(B10:B10="","",SUM(D10:G10)) | K10: =IF(B10:B10="","",SUM(I10:J10)) | P10: =IF(B10:B10="","",SUM(L10:O10)) | T10: =IF(B10:B10="","",SUM(Q10:S10)) | U10: =IF(B10:B10="","",H10:H10+K10:K10+P10:P10+T10:T10) | V10: =IF(B10:B10="","",C10:C10-K10:K10-P10:P10-T10:T10) | W10: =IF(C10:C10="","",V10:V10/U10:U10) | X10: =IF(C10:C10="","",V10:V10/C10:C10)
H11: =IF(B11:B11="","",SUM(D11:G11)) | K11: =IF(B11:B11="","",SUM(I11:J11)) | P11: =IF(B11:B11="","",SUM(L11:O11)) | T11: =IF(B11:B11="","",SUM(Q11:S11)) | U11: =IF(B11:B11="","",H11:H11+K11:K11+P11:P11+T11:T11) | V11: =IF(B11:B11="","",C11:C11-K11:K11-P11:P11-T11:T11) | W11: =IF(C11:C11="","",V11:V11/U11:U11) | X11: =IF(C11:C11="","",V11:V11/C11:C11)
H12: =IF(B12:B12="","",SUM(D12:G12)) | K12: =IF(B12:B12="","",SUM(I12:J12)) | P12: =IF(B12:B12="","",SUM(L12:O12)) | T12: =IF(B12:B12="","",SUM(Q12:S12)) | U12: =IF(B12:B12="","",H12:H12+K12:K12+P12:P12+T12:T12) | V12: =IF(B12:B12="","",C12:C12-K12:K12-P12:P12-T12:T12) | W12: =IF(C12:C12="","",V12:V12/U12:U12) | X12: =IF(C12:C12="","",V12:V12/C12:C12)
H13: =IF(B13:B13="","",SUM(D13:G13)) | K13: =IF(B13:B13="","",SUM(I13:J13)) | P13: =IF(B13:B13="","",SUM(L13:O13)) | T13: =IF(B13:B13="","",SUM(Q13:S13)) | U13: =IF(B13:B13="","",H13:H13+K13:K13+P13:P13+T13:T13) | V13: =IF(B13:B13="","",C13:C13-K13:K13-P13:P13-T13:T13) | W13: =IF(C13:C13="","",V13:V13/U13:U13) | X13: =IF(C13:C13="","",V13:V13/C13:C13)
H14: =IF(B14:B14="","",SUM(D14:G14)) | K14: =IF(B14:B14="","",SUM(I14:J14)) | P14: =IF(B14:B14="","",SUM(L14:O14)) | T14: =IF(B14:B14="","",SUM(Q14:S14)) | U14: =IF(B14:B14="","",H14:H14+K14:K14+P14:P14+T14:T14) | V14: =IF(B14:B14="","",C14:C14-K14:K14-P14:P14-T14:T14) | W14: =IF(C14:C14="","",V14:V14/U14:U14) | X14: =IF(C14:C14="","",V14:V14/C14:C14)
... H39: =IF(B39:B39="","",SUM(D39:G39)) | K39: =IF(B39:B39="","",SUM(I39:J39)) | P39: =IF(B39:B39="","",SUM(L39:O39)) | T39: =IF(B39:B39="","",SUM(Q39:S39)) | U39: =IF(B39:B39="","",H39:H39+K39:K39+P39:P39+T39:T39) | V39: =IF(B39:B39="","",C39:C39-K39:K39-P39:P39-T39:T39) | W39: =IF(C39:C39="","",V39:V39/U39:U39) | X39: =IF(C39:C39="","",V39:V39/C39:C39)
B40: =COUNTA(B3:B39) -> 0 | C40: =SUM(C3:C39) -> 0 | D40: =SUM(D3:D39) -> 0 | E40: =SUM(E3:E39) -> 0 | F40: =SUM(F3:F39) -> 0 | G40: =SUM(G3:G39) -> 0 | H40: =SUM(H3:H39) -> 0 | I40: =SUM(I3:I39) -> 0 | J40: =SUM(J3:J39) -> 0 | ... X40: =SUM(X3:X39) -> 0

Sheet Aout
B1: Chiffres d'affaires | D1: Charges directes | L1: Charges indirectes | U1: Coût de revient | V1: Marge nette
A2: Date | B2: Libellé de la prestation de services | C2: Montant HT | D2: Matières premières | E2: Marchandises | F2: Consommables | G2: Frais de livraison liés aux achats | H2: Couts d'achat et d'approvisionnement | I2: Mains d’œuvre avec charges sociales et patronales, | J2: Charges locatives | K2: Coûts de production | L2: Marketing | M2: Prospection | N2: Commerciaux | O2: Livraison | P2: Coûts de commercialisation et distribution | Q2: services généraux | R2: frais divers | S2: impôts | T2: Coûts administratifs | U2: Coût de revient unitaire | V2: Marge nette sur prestation | W2: Taux de marge | X2: Taux de marque
H3: =IF(B3:B3="","",SUM(D3:G3)) | K3: =IF(B3:B3="","",SUM(I3:J3)) | P3: =IF(B3:B3="","",SUM(L3:O3)) | T3: =IF(B3:B3="","",SUM(Q3:S3)) | U3: =IF(B3:B3="","",H3:H3+K3:K3+P3:P3+T3:T3) | V3: =IF(B3:B3="","",C3:C3-K3:K3-P3:P3-T3:T3) | W3: =IF(C3:C3="","",V3:V3/U3:U3) | X3: =IF(C3:C3="","",V3:V3/C3:C3)
H4: =IF(B4:B4="","",SUM(D4:G4)) | K4: =IF(B4:B4="","",SUM(I4:J4)) | P4: =IF(B4:B4="","",SUM(L4:O4)) | T4: =IF(B4:B4="","",SUM(Q4:S4)) | U4: =IF(B4:B4="","",H4:H4+K4:K4+P4:P4+T4:T4) | V4: =IF(B4:B4="","",C4:C4-K4:K4-P4:P4-T4:T4) | W4: =IF(C4:C4="","",V4:V4/U4:U4) | X4: =IF(C4:C4="","",V4:V4/C4:C4)
H5: =IF(B5:B5="","",SUM(D5:G5)) | K5: =IF(B5:B5="","",SUM(I5:J5)) | P5: =IF(B5:B5="","",SUM(L5:O5)) | T5: =IF(B5:B5="","",SUM(Q5:S5)) | U5: =IF(B5:B5="","",H5:H5+K5:K5+P5:P5+T5:T5) | V5: =IF(B5:B5="","",C5:C5-K5:K5-P5:P5-T5:T5) | W5: =IF(C5:C5="","",V5:V5/U5:U5) | X5: =IF(C5:C5="","",V5:V5/C5:C5)
H6: =IF(B6:B6="","",SUM(D6:G6)) | K6: =IF(B6:B6="","",SUM(I6:J6)) | P6: =IF(B6:B6="","",SUM(L6:O6)) | T6: =IF(B6:B6="","",SUM(Q6:S6)) | U6: =IF(B6:B6="","",H6:H6+K6:K6+P6:P6+T6:T6) | V6: =IF(B6:B6="","",C6:C6-K6:K6-P6:P6-T6:T6) | W6: =IF(C6:C6="","",V6:V6/U6:U6) | X6: =IF(C6:C6="","",V6:V6/C6:C6)
H7: =IF(B7:B7="","",SUM(D7:G7)) | K7: =IF(B7:B7="","",SUM(I7:J7)) | P7: =IF(B7:B7="","",SUM(L7:O7)) | T7: =IF(B7:B7="","",SUM(Q7:S7)) | U7: =IF(B7:B7="","",H7:H7+K7:K7+P7:P7+T7:T7) | V7: =IF(B7:B7="","",C7:C7-K7:K7-P7:P7-T7:T7) | W7: =IF(C7:C7="","",V7:V7/U7:U7) | X7: =IF(C7:C7="","",V7:V7/C7:C7)
H8: =IF(B8:B8="","",SUM(D8:G8)) | K8: =IF(B8:B8="","",SUM(I8:J8)) | P8: =IF(B8:B8="","",SUM(L8:O8)) | T8: =IF(B8:B8="","",SUM(Q8:S8)) | U8: =IF(B8:B8="","",H8:H8+K8:K8+P8:P8+T8:T8) | V8: =IF(B8:B8="","",C8:C8-K8:K8-P8:P8-T8:T8) | W8: =IF(C8:C8="","",V8:V8/U8:U8) | X8: =IF(C8:C8="","",V8:V8/C8:C8)
H9: =IF(B9:B9="","",SUM(D9:G9)) | K9: =IF(B9:B9="","",SUM(I9:J9)) | P9: =IF(B9:B9="","",SUM(L9:O9)) | T9: =IF(B9:B9="","",SUM(Q9:S9)) | U9: =IF(B9:B9="","",H9:H9+K9:K9+P9:P9+T9:T9) | V9: =IF(B9:B9="","",C9:C9-K9:K9-P9:P9-T9:T9) | W9: =IF(C9:C9="","",V9:V9/U9:U9) | X9: =IF(C9:C9="","",V9:V9/C9:C9)
H10: =IF(B10:B10="","",SUM(D10:G10)) | K10: =IF(B10:B10="","",SUM(I10:J10)) | P10: =IF(B10:B10="","",SUM(L10:O10)) | T10: =IF(B10:B10="","",SUM(Q10:S10)) | U10: =IF(B10:B10="","",H10:H10+K10:K10+P10:P10+T10:T10) | V10: =IF(B10:B10="","",C10:C10-K10:K10-P10:P10-T10:T10) | W10: =IF(C10:C10="","",V10:V10/U10:U10) | X10: =IF(C10:C10="","",V10:V10/C10:C10)
H11: =IF(B11:B11="","",SUM(D11:G11)) | K11: =IF(B11:B11="","",SUM(I11:J11)) | P11: =IF(B11:B11="","",SUM(L11:O11)) | T11: =IF(B11:B11="","",SUM(Q11:S11)) | U11: =IF(B11:B11="","",H11:H11+K11:K11+P11:P11+T11:T11) | V11: =IF(B11:B11="","",C11:C11-K11:K11-P11:P11-T11:T11) | W11: =IF(C11:C11="","",V11:V11/U11:U11) | X11: =IF(C11:C11="","",V11:V11/C11:C11)
H12: =IF(B12:B12="","",SUM(D12:G12)) | K12: =IF(B12:B12="","",SUM(I12:J12)) | P12: =IF(B12:B12="","",SUM(L12:O12)) | T12: =IF(B12:B12="","",SUM(Q12:S12)) | U12: =IF(B12:B12="","",H12:H12+K12:K12+P12:P12+T12:T12) | V12: =IF(B12:B12="","",C12:C12-K12:K12-P12:P12-T12:T12) | W12: =IF(C12:C12="","",V12:V12/U12:U12) | X12: =IF(C12:C12="","",V12:V12/C12:C12)
H13: =IF(B13:B13="","",SUM(D13:G13)) | K13: =IF(B13:B13="","",SUM(I13:J13)) | P13: =IF(B13:B13="","",SUM(L13:O13)) | T13: =IF(B13:B13="","",SUM(Q13:S13)) | U13: =IF(B13:B13="","",H13:H13+K13:K13+P13:P13+T13:T13) | V13: =IF(B13:B13="","",C13:C13-K13:K13-P13:P13-T13:T13) | W13: =IF(C13:C13="","",V13:V13/U13:U13) | X13: =IF(C13:C13="","",V13:V13/C13:C13)
H14: =IF(B14:B14="","",SUM(D14:G14)) | K14: =IF(B14:B14="","",SUM(I14:J14)) | P14: =IF(B14:B14="","",SUM(L14:O14)) | T14: =IF(B14:B14="","",SUM(Q14:S14)) | U14: =IF(B14:B14="","",H14:H14+K14:K14+P14:P14+T14:T14) | V14: =IF(B14:B14="","",C14:C14-K14:K14-P14:P14-T14:T14) | W14: =IF(C14:C14="","",V14:V14/U14:U14) | X14: =IF(C14:C14="","",V14:V14/C14:C14)
... H39: =IF(B39:B39="","",SUM(D39:G39)) | K39: =IF(B39:B39="","",SUM(I39:J39)) | P39: =IF(B39:B39="","",SUM(L39:O39)) | T39: =IF(B39:B39="","",SUM(Q39:S39)) | U39: =IF(B39:B39="","",H39:H39+K39:K39+P39:P39+T39:T39) | V39: =IF(B39:B39="","",C39:C39-K39:K39-P39:P39-T39:T39) | W39: =IF(C39:C39="","",V39:V39/U39:U39) | X39: =IF(C39:C39="","",V39:V39/C39:C39)
B40: =COUNTA(B3:B39) -> 0 | C40: =SUM(C3:C39) -> 0 | D40: =SUM(D3:D39) -> 0 | E40: =SUM(E3:E39) -> 0 | F40: =SUM(F3:F39) -> 0 | G40: =SUM(G3:G39) -> 0 | H40: =SUM(H3:H39) -> 0 | I40: =SUM(I3:I39) -> 0 | J40: =SUM(J3:J39) -> 0 | ... X40: =SUM(X3:X39) -> 0

Sheet Septembre 
B1: Chiffres d'affaires | D1: Charges directes | L1: Charges indirectes | U1: Coût de revient | V1: Marge nette
A2: Date | B2: Libellé de la prestation de services | C2: Montant HT | D2: Matières premières | E2: Marchandises | F2: Consommables | G2: Frais de livraison liés aux achats | H2: Couts d'achat et d'approvisionnement | I2: Mains d’œuvre avec charges sociales et patronales, | J2: Charges locatives | K2: Coûts de production | L2: Marketing | M2: Prospection | N2: Commerciaux | O2: Livraison | P2: Coûts de commercialisation et distribution | Q2: services généraux | R2: frais divers | S2: impôts | T2: Coûts administratifs | U2: Coût de revient unitaire | V2: Marge nette sur prestation | W2: Taux de marge | X2: Taux de marque
H3: =IF(B3:B3="","",SUM(D3:G3)) | K3: =IF(B3:B3="","",SUM(I3:J3)) | P3: =IF(B3:B3="","",SUM(L3:O3)) | T3: =IF(B3:B3="","",SUM(Q3:S3)) | U3: =IF(B3:B3="","",H3:H3+K3:K3+P3:P3+T3:T3) | V3: =IF(B3:B3="","",C3:C3-K3:K3-P3:P3-T3:T3) | W3: =IF(C3:C3="","",V3:V3/U3:U3) | X3: =IF(C3:C3="","",V3:V3/C3:C3)
H4: =IF(B4:B4="","",SUM(D4:G4)) | K4: =IF(B4:B4="","",SUM(I4:J4)) | P4: =IF(B4:B4="","",SUM(L4:O4)) | T4: =IF(B4:B4="","",SUM(Q4:S4)) | U4: =IF(B4:B4="","",H4:H4+K4:K4+P4:P4+T4:T4) | V4: =IF(B4:B4="","",C4:C4-K4:K4-P4:P4-T4:T4) | W4: =IF(C4:C4="","",V4:V4/U4:U4) | X4: =IF(C4:C4="","",V4:V4/C4:C4)
H5: =IF(B5:B5="","",SUM(D5:G5)) | K5: =IF(B5:B5="","",SUM(I5:J5)) | P5: =IF(B5:B5="","",SUM(L5:O5)) | T5: =IF(B5:B5="","",SUM(Q5:S5)) | U5: =IF(B5:B5="","",H5:H5+K5:K5+P5:P5+T5:T5) | V5: =IF(B5:B5="","",C5:C5-K5:K5-P5:P5-T5:T5) | W5: =IF(C5:C5="","",V5:V5/U5:U5) | X5: =IF(C5:C5="","",V5:V5/C5:C5)
H6: =IF(B6:B6="","",SUM(D6:G6)) | K6: =IF(B6:B6="","",SUM(I6:J6)) | P6: =IF(B6:B6="","",SUM(L6:O6)) | T6: =IF(B6:B6="","",SUM(Q6:S6)) | U6: =IF(B6:B6="","",H6:H6+K6:K6+P6:P6+T6:T6) | V6: =IF(B6:B6="","",C6:C6-K6:K6-P6:P6-T6:T6) | W6: =IF(C6:C6="","",V6:V6/U6:U6) | X6: =IF(C6:C6="","",V6:V6/C6:C6)
H7: =IF(B7:B7="","",SUM(D7:G7)) | K7: =IF(B7:B7="","",SUM(I7:J7)) | P7: =IF(B7:B7="","",SUM(L7:O7)) | T7: =IF(B7:B7="","",SUM(Q7:S7)) | U7: =IF(B7:B7="","",H7:H7+K7:K7+P7:P7+T7:T7) | V7: =IF(B7:B7="","",C7:C7-K7:K7-P7:P7-T7:T7) | W7: =IF(C7:C7="","",V7:V7/U7:U7) | X7: =IF(C7:C7="","",V7:V7/C7:C7)
H8: =IF(B8:B8="","",SUM(D8:G8)) | K8: =IF(B8:B8="","",SUM(I8:J8)) | P8: =IF(B8:B8="","",SUM(L8:O8)) | T8: =IF(B8:B8="","",SUM(Q8:S8)) | U8: =IF(B8:B8="","",H8:H8+K8:K8+P8:P8+T8:T8) | V8: =IF(B8:B8="","",C8:C8-K8:K8-P8:P8-T8:T8) | W8: =IF(C8:C8="","",V8:V8/U8:U8) | X8: =IF(C8:C8="","",V8:V8/C8:C8)
H9: =IF(B9:B9="","",SUM(D9:G9)) | K9: =IF(B9:B9="","",SUM(I9:J9)) | P9: =IF(B9:B9="","",SUM(L9:O9)) | T9: =IF(B9:B9="","",SUM(Q9:S9)) | U9: =IF(B9:B9="","",H9:H9+K9:K9+P9:P9+T9:T9) | V9: =IF(B9:B9="","",C9:C9-K9:K9-P9:P9-T9:T9) | W9: =IF(C9:C9="","",V9:V9/U9:U9) | X9: =IF(C9:C9="","",V9:V9/C9:C9)
H10: =IF(B10:B10="","",SUM(D10:G10)) | K10: =IF(B10:B10="","",SUM(I10:J10)) | P10: =IF(B10:B10="","",SUM(L10:O10)) | T10: =IF(B10:B10="","",SUM(Q10:S10)) | U10: =IF(B10:B10="","",H10:H10+K10:K10+P10:P10+T10:T10) | V10: =IF(B10:B10="","",C10:C10-K10:K10-P10:P10-T10:T10) | W10: =IF(C10:C10="","",V10:V10/U10:U10) | X10: =IF(C10:C10="","",V10:V10/C10:C10)
H11: =IF(B11:B11="","",SUM(D11:G11)) | K11: =IF(B11:B11="","",SUM(I11:J11)) | P11: =IF(B11:B11="","",SUM(L11:O11)) | T11: =IF(B11:B11="","",SUM(Q11:S11)) | U11: =IF(B11:B11="","",H11:H11+K11:K11+P11:P11+T11:T11) | V11: =IF(B11:B11="","",C11:C11-K11:K11-P11:P11-T11:T11) | W11: =IF(C11:C11="","",V11:V11/U11:U11) | X11: =IF(C11:C11="","",V11:V11/C11:C11)
H12: =IF(B12:B12="","",SUM(D12:G12)) | K12: =IF(B12:B12="","",SUM(I12:J12)) | P12: =IF(B12:B12="","",SUM(L12:O12)) | T12: =IF(B12:B12="","",SUM(Q12:S12)) | U12: =IF(B12:B12="","",H12:H12+K12:K12+P12:P12+T12:T12) | V12: =IF(B12:B12="","",C12:C12-K12:K12-P12:P12-T12:T12) | W12: =IF(C12:C12="","",V12:V12/U12:U12) | X12: =IF(C12:C12="","",V12:V12/C12:C12)
H13: =IF(B13:B13="","",SUM(D13:G13)) | K13: =IF(B13:B13="","",SUM(I13:J13)) | P13: =IF(B13:B13="","",SUM(L13:O13)) | T13: =IF(B13:B13="","",SUM(Q13:S13)) | U13: =IF(B13:B13="","",H13:H13+K13:K13+P13:P13+T13:T13) | V13: =IF(B13:B13="","",C13:C13-K13:K13-P13:P13-T13:T13) | W13: =IF(C13:C13="","",V13:V13/U13:U13) | X13: =IF(C13:C13="","",V13:V13/C13:C13)
H14: =IF(B14:B14="","",SUM(D14:G14)) | K14: =IF(B14:B14="","",SUM(I14:J14)) | P14: =IF(B14:B14="","",SUM(L14:O14)) | T14: =IF(B14:B14="","",SUM(Q14:S14)) | U14: =IF(B14:B14="","",H14:H14+K14:K14+P14:P14+T14:T14) | V14: =IF(B14:B14="","",C14:C14-K14:K14-P14:P14-T14:T14) | W14: =IF(C14:C14="","",V14:V14/U14:U14) | X14: =IF(C14:C14="","",V14:V14/C14:C14)
... H39: =IF(B39:B39="","",SUM(D39:G39)) | K39: =IF(B39:B39="","",SUM(I39:J39)) | P39: =IF(B39:B39="","",SUM(L39:O39)) | T39: =IF(B39:B39="","",SUM(Q39:S39)) | U39: =IF(B39:B39="","",H39:H39+K39:K39+P39:P39+T39:T39) | V39: =IF(B39:B39="","",C39:C39-K39:K39-P39:P39-T39:T39) | W39: =IF(C39:C39="","",V39:V39/U39:U39) | X39: =IF(C39:C39="","",V39:V39/C39:C39)
B40: =COUNTA(B3:B39) -> 0 | C40: =SUM(C3:C39) -> 0 | D40: =SUM(D3:D39) -> 0 | E40: =SUM(E3:E39) -> 0 | F40: =SUM(F3:F39) -> 0 | G40: =SUM(G3:G39) -> 0 | H40: =SUM(H3:H39) -> 0 | I40: =SUM(I3:I39) -> 0 | J40: =SUM(J3:J39) -> 0 | ... X40: =SUM(X3:X39) -> 0

Sheet Octobre
B1: Chiffres d'affaires | D1: Charges directes | L1: Charges indirectes | U1: Coût de revient | V1: Marge nette
A2: Date | B2: Libellé de la prestation de services | C2: Montant HT | D2: Matières premières | E2: Marchandises | F2: Consommables | G2: Frais de livraison liés aux achats | H2: Couts d'achat et d'approvisionnement | I2: Mains d’œuvre avec charges sociales et patronales, | J2: Charges locatives | K2: Coûts de production | L2: Marketing | M2: Prospection | N2: Commerciaux | O2: Livraison | P2: Coûts de commercialisation et distribution | Q2: services généraux | R2: frais divers | S2: impôts | T2: Coûts administratifs | U2: Coût de revient unitaire | V2: Marge nette sur prestation | W2: Taux de marge | X2: Taux de marque
H3: =IF(B3:B3="","",SUM(D3:G3)) | K3: =IF(B3:B3="","",SUM(I3:J3)) | P3: =IF(B3:B3="","",SUM(L3:O3)) | T3: =IF(B3:B3="","",SUM(Q3:S3)) | U3: =IF(B3:B3="","",H3:H3+K3:K3+P3:P3+T3:T3) | V3: =IF(B3:B3="","",C3:C3-K3:K3-P3:P3-T3:T3) | W3: =IF(C3:C3="","",V3:V3/U3:U3) | X3: =IF(C3:C3="","",V3:V3/C3:C3)
H4: =IF(B4:B4="","",SUM(D4:G4)) | K4: =IF(B4:B4="","",SUM(I4:J4)) | P4: =IF(B4:B4="","",SUM(L4:O4)) | T4: =IF(B4:B4="","",SUM(Q4:S4)) | U4: =IF(B4:B4="","",H4:H4+K4:K4+P4:P4+T4:T4) | V4: =IF(B4:B4="","",C4:C4-K4:K4-P4:P4-T4:T4) | W4: =IF(C4:C4="","",V4:V4/U4:U4) | X4: =IF(C4:C4="","",V4:V4/C4:C4)
H5: =IF(B5:B5="","",SUM(D5:G5)) | K5: =IF(B5:B5="","",SUM(I5:J5)) | P5: =IF(B5:B5="","",SUM(L5:O5)) | T5: =IF(B5:B5="","",SUM(Q5:S5)) | U5: =IF(B5:B5="","",H5:H5+K5:K5+P5:P5+T5:T5) | V5: =IF(B5:B5="","",C5:C5-K5:K5-P5:P5-T5:T5) | W5: =IF(C5:C5="","",V5:V5/U5:U5) | X5: =IF(C5:C5="","",V5:V5/C5:C5)
H6: =IF(B6:B6="","",SUM(D6:G6)) | K6: =IF(B6:B6="","",SUM(I6:J6)) | P6: =IF(B6:B6="","",SUM(L6:O6)) | T6: =IF(B6:B6="","",SUM(Q6:S6)) | U6: =IF(B6:B6="","",H6:H6+K6:K6+P6:P6+T6:T6) | V6: =IF(B6:B6="","",C6:C6-K6:K6-P6:P6-T6:T6) | W6: =IF(C6:C6="","",V6:V6/U6:U6) | X6: =IF(C6:C6="","",V6:V6/C6:C6)
H7: =IF(B7:B7="","",SUM(D7:G7)) | K7: =IF(B7:B7="","",SUM(I7:J7)) | P7: =IF(B7:B7="","",SUM(L7:O7)) | T7: =IF(B7:B7="","",SUM(Q7:S7)) | U7: =IF(B7:B7="","",H7:H7+K7:K7+P7:P7+T7:T7) | V7: =IF(B7:B7="","",C7:C7-K7:K7-P7:P7-T7:T7) | W7: =IF(C7:C7="","",V7:V7/U7:U7) | X7: =IF(C7:C7="","",V7:V7/C7:C7)
H8: =IF(B8:B8="","",SUM(D8:G8)) | K8: =IF(B8:B8="","",SUM(I8:J8)) | P8: =IF(B8:B8="","",SUM(L8:O8)) | T8: =IF(B8:B8="","",SUM(Q8:S8)) | U8: =IF(B8:B8="","",H8:H8+K8:K8+P8:P8+T8:T8) | V8: =IF(B8:B8="","",C8:C8-K8:K8-P8:P8-T8:T8) | W8: =IF(C8:C8="","",V8:V8/U8:U8) | X8: =IF(C8:C8="","",V8:V8/C8:C8)
H9: =IF(B9:B9="","",SUM(D9:G9)) | K9: =IF(B9:B9="","",SUM(I9:J9)) | P9: =IF(B9:B9="","",SUM(L9:O9)) | T9: =IF(B9:B9="","",SUM(Q9:S9)) | U9: =IF(B9:B9="","",H9:H9+K9:K9+P9:P9+T9:T9) | V9: =IF(B9:B9="","",C9:C9-K9:K9-P9:P9-T9:T9) | W9: =IF(C9:C9="","",V9:V9/U9:U9) | X9: =IF(C9:C9="","",V9:V9/C9:C9)
H10: =IF(B10:B10="","",SUM(D10:G10)) | K10: =IF(B10:B10="","",SUM(I10:J10)) | P10: =IF(B10:B10="","",SUM(L10:O10)) | T10: =IF(B10:B10="","",SUM(Q10:S10)) | U10: =IF(B10:B10="","",H10:H10+K10:K10+P10:P10+T10:T10) | V10: =IF(B10:B10="","",C10:C10-K10:K10-P10:P10-T10:T10) | W10: =IF(C10:C10="","",V10:V10/U10:U10) | X10: =IF(C10:C10="","",V10:V10/C10:C10)
H11: =IF(B11:B11="","",SUM(D11:G11)) | K11: =IF(B11:B11="","",SUM(I11:J11)) | P11: =IF(B11:B11="","",SUM(L11:O11)) | T11: =IF(B11:B11="","",SUM(Q11:S11)) | U11: =IF(B11:B11="","",H11:H11+K11:K11+P11:P11+T11:T11) | V11: =IF(B11:B11="","",C11:C11-K11:K11-P11:P11-T11:T11) | W11: =IF(C11:C11="","",V11:V11/U11:U11) | X11: =IF(C11:C11="","",V11:V11/C11:C11)
H12: =IF(B12:B12="","",SUM(D12:G12)) | K12: =IF(B12:B12="","",SUM(I12:J12)) | P12: =IF(B12:B12="","",SUM(L12:O12)) | T12: =IF(B12:B12="","",SUM(Q12:S12)) | U12: =IF(B12:B12="","",H12:H12+K12:K12+P12:P12+T12:T12) | V12: =IF(B12:B12="","",C12:C12-K12:K12-P12:P12-T12:T12) | W12: =IF(C12:C12="","",V12:V12/U12:U12) | X12: =IF(C12:C12="","",V12:V12/C12:C12)
H13: =IF(B13:B13="","",SUM(D13:G13)) | K13: =IF(B13:B13="","",SUM(I13:J13)) | P13: =IF(B13:B13="","",SUM(L13:O13)) | T13: =IF(B13:B13="","",SUM(Q13:S13)) | U13: =IF(B13:B13="","",H13:H13+K13:K13+P13:P13+T13:T13) | V13: =IF(B13:B13="","",C13:C13-K13:K13-P13:P13-T13:T13) | W13: =IF(C13:C13="","",V13:V13/U13:U13) | X13: =IF(C13:C13="","",V13:V13/C13:C13)
H14: =IF(B14:B14="","",SUM(D14:G14)) | K14: =IF(B14:B14="","",SUM(I14:J14)) | P14: =IF(B14:B14="","",SUM(L14:O14)) | T14: =IF(B14:B14="","",SUM(Q14:S14)) | U14: =IF(B14:B14="","",H14:H14+K14:K14+P14:P14+T14:T14) | V14: =IF(B14:B14="","",C14:C14-K14:K14-P14:P14-T14:T14) | W14: =IF(C14:C14="","",V14:V14/U14:U14) | X14: =IF(C14:C14="","",V14:V14/C14:C14)
... H39: =IF(B39:B39="","",SUM(D39:G39)) | K39: =IF(B39:B39="","",SUM(I39:J39)) | P39: =IF(B39:B39="","",SUM(L39:O39)) | T39: =IF(B39:B39="","",SUM(Q39:S39)) | U39: =IF(B39:B39="","",H39:H39+K39:K39+P39:P39+T39:T39) | V39: =IF(B39:B39="","",C39:C39-K39:K39-P39:P39-T39:T39) | W39: =IF(C39:C39="","",V39:V39/U39:U39) | X39: =IF(C39:C39="","",V39:V39/C39:C39)
B40: =COUNTA(B3:B39) -> 0 | C40: =SUM(C3:C39) -> 0 | D40: =SUM(D3:D39) -> 0 | E40: =SUM(E3:E39) -> 0 | F40: =SUM(F3:F39) -> 0 | G40: =SUM(G3:G39) -> 0 | H40: =SUM(H3:H39) -> 0 | I40: =SUM(I3:I39) -> 0 | J40: =SUM(J3:J39) -> 0 | ... X40: =SUM(X3:X39) -> 0

Sheet Novembre
B1: Chiffres d'affaires | D1: Charges directes | L1: Charges indirectes | U1: Coût de revient | V1: Marge nette
A2: Date | B2: Libellé de la prestation de services | C2: Montant HT | D2: Matières premières | E2: Marchandises | F2: Consommables | G2: Frais de livraison liés aux achats | H2: Couts d'achat et d'approvisionnement | I2: Mains d’œuvre avec charges sociales et patronales, | J2: Charges locatives | K2: Coûts de production | L2: Marketing | M2: Prospection | N2: Commerciaux | O2: Livraison | P2: Coûts de commercialisation et distribution | Q2: services généraux | R2: frais divers | S2: impôts | T2: Coûts administratifs | U2: Coût de revient unitaire | V2: Marge nette sur prestation | W2: Taux de marge | X2: Taux de marque
H3: =IF(B3:B3="","",SUM(D3:G3)) | K3: =IF(B3:B3="","",SUM(I3:J3)) | P3: =IF(B3:B3="","",SUM(L3:O3)) | T3: =IF(B3:B3="","",SUM(Q3:S3)) | U3: =IF(B3:B3="","",H3:H3+K3:K3+P3:P3+T3:T3) | V3: =IF(B3:B3="","",C3:C3-K3:K3-P3:P3-T3:T3) | W3: =IF(C3:C3="","",V3:V3/U3:U3) | X3: =IF(C3:C3="","",V3:V3/C3:C3)
H4: =IF(B4:B4="","",SUM(D4:G4)) | K4: =IF(B4:B4="","",SUM(I4:J4)) | P4: =IF(B4:B4="","",SUM(L4:O4)) | T4: =IF(B4:B4="","",SUM(Q4:S4)) | U4: =IF(B4:B4="","",H4:H4+K4:K4+P4:P4+T4:T4) | V4: =IF(B4:B4="","",C4:C4-K4:K4-P4:P4-T4:T4) | W4: =IF(C4:C4="","",V4:V4/U4:U4) | X4: =IF(C4:C4="","",V4:V4/C4:C4)
H5: =IF(B5:B5="","",SUM(D5:G5)) | K5: =IF(B5:B5="","",SUM(I5:J5)) | P5: =IF(B5:B5="","",SUM(L5:O5)) | T5: =IF(B5:B5="","",SUM(Q5:S5)) | U5: =IF(B5:B5="","",H5:H5+K5:K5+P5:P5+T5:T5) | V5: =IF(B5:B5="","",C5:C5-K5:K5-P5:P5-T5:T5) | W5: =IF(C5:C5="","",V5:V5/U5:U5) | X5: =IF(C5:C5="","",V5:V5/C5:C5)
H6: =IF(B6:B6="","",SUM(D6:G6)) | K6: =IF(B6:B6="","",SUM(I6:J6)) | P6: =IF(B6:B6="","",SUM(L6:O6)) | T6: =IF(B6:B6="","",SUM(Q6:S6)) | U6: =IF(B6:B6="","",H6:H6+K6:K6+P6:P6+T6:T6) | V6: =IF(B6:B6="","",C6:C6-K6:K6-P6:P6-T6:T6) | W6: =IF(C6:C6="","",V6:V6/U6:U6) | X6: =IF(C6:C6="","",V6:V6/C6:C6)
H7: =IF(B7:B7="","",SUM(D7:G7)) | K7: =IF(B7:B7="","",SUM(I7:J7)) | P7: =IF(B7:B7="","",SUM(L7:O7)) | T7: =IF(B7:B7="","",SUM(Q7:S7)) | U7: =IF(B7:B7="","",H7:H7+K7:K7+P7:P7+T7:T7) | V7: =IF(B7:B7="","",C7:C7-K7:K7-P7:P7-T7:T7) | W7: =IF(C7:C7="","",V7:V7/U7:U7) | X7: =IF(C7:C7="","",V7:V7/C7:C7)
H8: =IF(B8:B8="","",SUM(D8:G8)) | K8: =IF(B8:B8="","",SUM(I8:J8)) | P8: =IF(B8:B8="","",SUM(L8:O8)) | T8: =IF(B8:B8="","",SUM(Q8:S8)) | U8: =IF(B8:B8="","",H8:H8+K8:K8+P8:P8+T8:T8) | V8: =IF(B8:B8="","",C8:C8-K8:K8-P8:P8-T8:T8) | W8: =IF(C8:C8="","",V8:V8/U8:U8) | X8: =IF(C8:C8="","",V8:V8/C8:C8)
H9: =IF(B9:B9="","",SUM(D9:G9)) | K9: =IF(B9:B9="","",SUM(I9:J9)) | P9: =IF(B9:B9="","",SUM(L9:O9)) | T9: =IF(B9:B9="","",SUM(Q9:S9)) | U9: =IF(B9:B9="","",H9:H9+K9:K9+P9:P9+T9:T9) | V9: =IF(B9:B9="","",C9:C9-K9:K9-P9:P9-T9:T9) | W9: =IF(C9:C9="","",V9:V9/U9:U9) | X9: =IF(C9:C9="","",V9:V9/C9:C9)
H10: =IF(B10:B10="","",SUM(D10:G10)) | K10: =IF(B10:B10="","",SUM(I10:J10)) | P10: =IF(B10:B10="","",SUM(L10:O10)) | T10: =IF(B10:B10="","",SUM(Q10:S10)) | U10: =IF(B10:B10="","",H10:H10+K10:K10+P10:P10+T10:T10) | V10: =IF(B10:B10="","",C10:C10-K10:K10-P10:P10-T10:T10) | W10: =IF(C10:C10="","",V10:V10/U10:U10) | X10: =IF(C10:C10="","",V10:V10/C10:C10)
H11: =IF(B11:B11="","",SUM(D11:G11)) | K11: =IF(B11:B11="","",SUM(I11:J11)) | P11: =IF(B11:B11="","",SUM(L11:O11)) | T11: =IF(B11:B11="","",SUM(Q11:S11)) | U11: =IF(B11:B11="","",H11:H11+K11:K11+P11:P11+T11:T11) | V11: =IF(B11:B11="","",C11:C11-K11:K11-P11:P11-T11:T11) | W11: =IF(C11:C11="","",V11:V11/U11:U11) | X11: =IF(C11:C11="","",V11:V11/C11:C11)
H12: =IF(B12:B12="","",SUM(D12:G12)) | K12: =IF(B12:B12="","",SUM(I12:J12)) | P12: =IF(B12:B12="","",SUM(L12:O12)) | T12: =IF(B12:B12="","",SUM(Q12:S12)) | U12: =IF(B12:B12="","",H12:H12+K12:K12+P12:P12+T12:T12) | V12: =IF(B12:B12="","",C12:C12-K12:K12-P12:P12-T12:T12) | W12: =IF(C12:C12="","",V12:V12/U12:U12) | X12: =IF(C12:C12="","",V12:V12/C12:C12)
H13: =IF(B13:B13="","",SUM(D13:G13)) | K13: =IF(B13:B13="","",SUM(I13:J13)) | P13: =IF(B13:B13="","",SUM(L13:O13)) | T13: =IF(B13:B13="","",SUM(Q13:S13)) | U13: =IF(B13:B13="","",H13:H13+K13:K13+P13:P13+T13:T13) | V13: =IF(B13:B13="","",C13:C13-K13:K13-P13:P13-T13:T13) | W13: =IF(C13:C13="","",V13:V13/U13:U13) | X13: =IF(C13:C13="","",V13:V13/C13:C13)
H14: =IF(B14:B14="","",SUM(D14:G14)) | K14: =IF(B14:B14="","",SUM(I14:J14)) | P14: =IF(B14:B14="","",SUM(L14:O14)) | T14: =IF(B14:B14="","",SUM(Q14:S14)) | U14: =IF(B14:B14="","",H14:H14+K14:K14+P14:P14+T14:T14) | V14: =IF(B14:B14="","",C14:C14-K14:K14-P14:P14-T14:T14) | W14: =IF(C14:C14="","",V14:V14/U14:U14) | X14: =IF(C14:C14="","",V14:V14/C14:C14)
... H39: =IF(B39:B39="","",SUM(D39:G39)) | K39: =IF(B39:B39="","",SUM(I39:J39)) | P39: =IF(B39:B39="","",SUM(L39:O39)) | T39: =IF(B39:B39="","",SUM(Q39:S39)) | U39: =IF(B39:B39="","",H39:H39+K39:K39+P39:P39+T39:T39) | V39: =IF(B39:B39="","",C39:C39-K39:K39-P39:P39-T39:T39) | W39: =IF(C39:C39="","",V39:V39/U39:U39) | X39: =IF(C39:C39="","",V39:V39/C39:C39)
B40: =COUNTA(B3:B39) -> 0 | C40: =SUM(C3:C39) -> 0 | D40: =SUM(D3:D39) -> 0 | E40: =SUM(E3:E39) -> 0 | F40: =SUM(F3:F39) -> 0 | G40: =SUM(G3:G39) -> 0 | H40: =SUM(H3:H39) -> 0 | I40: =SUM(I3:I39) -> 0 | J40: =SUM(J3:J39) -> 0 | ... X40: =SUM(X3:X39) -> 0

Sheet Décembre 
C1: Chiffres d'affaires | E1: Charges directes | M1: Charges indirectes | V1: Coût de revient | W1: Marge nette
A2: Date | B2: Clients | C2: Libellé de la prestation de services | D2: Montant HT | E2: Matières premières | F2: Marchandises | G2: Consommables | H2: Frais de livraison liés aux achats | I2: Couts d'achat et d'approvisionnement | J2: Mains d’œuvre avec charges sociales et patronales, | K2: Charges locatives | L2: Coûts de production | M2: Marketing | N2: Prospection | O2: Commerciaux | P2: Livraison | Q2: Coûts de commercialisation et distribution | R2: services généraux | S2: frais divers | T2: impôts | U2: Coûts administratifs | V2: Coût de revient unitaire | W2: Marge nette sur prestation | X2: Taux de marge | Y2: Taux de marque
I3: =IF(C3:C3="","",SUM(E3:H3)) | L3: =IF(C3:C3="","",SUM(J3:K3)) | Q3: =IF(C3:C3="","",SUM(M3:P3)) | U3: =IF(C3:C3="","",SUM(R3:T3)) | V3: =IF(C3:C3="","",I3:I3+L3:L3+Q3:Q3+U3:U3) | W3: =IF(C3:C3="","",D3:D3-L3:L3-Q3:Q3-U3:U3) | X3: =IF(D3:D3="","",W3:W3/V3:V3) | Y3: =IF(D3:D3="","",W3:W3/D3:D3)
I4: =IF(C4:C4="","",SUM(E4:H4)) | L4: =IF(C4:C4="","",SUM(J4:K4)) | Q4: =IF(C4:C4="","",SUM(M4:P4)) | U4: =IF(C4:C4="","",SUM(R4:T4)) | V4: =IF(C4:C4="","",I4:I4+L4:L4+Q4:Q4+U4:U4) | W4: =IF(C4:C4="","",D4:D4-L4:L4-Q4:Q4-U4:U4) | X4: =IF(D4:D4="","",W4:W4/V4:V4) | Y4: =IF(D4:D4="","",W4:W4/D4:D4)
I5: =IF(C5:C5="","",SUM(E5:H5)) | L5: =IF(C5:C5="","",SUM(J5:K5)) | Q5: =IF(C5:C5="","",SUM(M5:P5)) | U5: =IF(C5:C5="","",SUM(R5:T5)) | V5: =IF(C5:C5="","",I5:I5+L5:L5+Q5:Q5+U5:U5) | W5: =IF(C5:C5="","",D5:D5-L5:L5-Q5:Q5-U5:U5) | X5: =IF(D5:D5="","",W5:W5/V5:V5) | Y5: =IF(D5:D5="","",W5:W5/D5:D5)
I6: =IF(C6:C6="","",SUM(E6:H6)) | L6: =IF(C6:C6="","",SUM(J6:K6)) | Q6: =IF(C6:C6="","",SUM(M6:P6)) | U6: =IF(C6:C6="","",SUM(R6:T6)) | V6: =IF(C6:C6="","",I6:I6+L6:L6+Q6:Q6+U6:U6) | W6: =IF(C6:C6="","",D6:D6-L6:L6-Q6:Q6-U6:U6) | X6: =IF(D6:D6="","",W6:W6/V6:V6) | Y6: =IF(D6:D6="","",W6:W6/D6:D6)
I7: =IF(C7:C7="","",SUM(E7:H7)) | L7: =IF(C7:C7="","",SUM(J7:K7)) | Q7: =IF(C7:C7="","",SUM(M7:P7)) | U7: =IF(C7:C7="","",SUM(R7:T7)) | V7: =IF(C7:C7="","",I7:I7+L7:L7+Q7:Q7+U7:U7) | W7: =IF(C7:C7="","",D7:D7-L7:L7-Q7:Q7-U7:U7) | X7: =IF(D7:D7="","",W7:W7/V7:V7) | Y7: =IF(D7:D7="","",W7:W7/D7:D7)
I8: =IF(C8:C8="","",SUM(E8:H8)) | L8: =IF(C8:C8="","",SUM(J8:K8)) | Q8: =IF(C8:C8="","",SUM(M8:P8)) | U8: =IF(C8:C8="","",SUM(R8:T8)) | V8: =IF(C8:C8="","",I8:I8+L8:L8+Q8:Q8+U8:U8) | W8: =IF(C8:C8="","",D8:D8-L8:L8-Q8:Q8-U8:U8) | X8: =IF(D8:D8="","",W8:W8/V8:V8) | Y8: =IF(D8:D8="","",W8:W8/D8:D8)
I9: =IF(C9:C9="","",SUM(E9:H9)) | L9: =IF(C9:C9="","",SUM(J9:K9)) | Q9: =IF(C9:C9="","",SUM(M9:P9)) | U9: =IF(C9:C9="","",SUM(R9:T9)) | V9: =IF(C9:C9="","",I9:I9+L9:L9+Q9:Q9+U9:U9) | W9: =IF(C9:C9="","",D9:D9-L9:L9-Q9:Q9-U9:U9) | X9: =IF(D9:D9="","",W9:W9/V9:V9) | Y9: =IF(D9:D9="","",W9:W9/D9:D9)
I10: =IF(C10:C10="","",SUM(E10:H10)) | L10: =IF(C10:C10="","",SUM(J10:K10)) | Q10: =IF(C10:C10="","",SUM(M10:P10)) | U10: =IF(C10:C10="","",SUM(R10:T10)) | V10: =IF(C10:C10="","",I10:I10+L10:L10+Q10:Q10+U10:U10) | W10: =IF(C10:C10="","",D10:D10-L10:L10-Q10:Q10-U10:U10) | X10: =IF(D10:D10="","",W10:W10/V10:V10) | Y10: =IF(D10:D10="","",W10:W10/D10:D10)
I11: =IF(C11:C11="","",SUM(E11:H11)) | L11: =IF(C11:C11="","",SUM(J11:K11)) | Q11: =IF(C11:C11="","",SUM(M11:P11)) | U11: =IF(C11:C11="","",SUM(R11:T11)) | V11: =IF(C11:C11="","",I11:I11+L11:L11+Q11:Q11+U11:U11) | W11: =IF(C11:C11="","",D11:D11-L11:L11-Q11:Q11-U11:U11) | X11: =IF(D11:D11="","",W11:W11/V11:V11) | Y11: =IF(D11:D11="","",W11:W11/D11:D11)
I12: =IF(C12:C12="","",SUM(E12:H12)) | L12: =IF(C12:C12="","",SUM(J12:K12)) | Q12: =IF(C12:C12="","",SUM(M12:P12)) | U12: =IF(C12:C12="","",SUM(R12:T12)) | V12: =IF(C12:C12="","",I12:I12+L12:L12+Q12:Q12+U12:U12) | W12: =IF(C12:C12="","",D12:D12-L12:L12-Q12:Q12-U12:U12) | X12: =IF(D12:D12="","",W12:W12/V12:V12) | Y12: =IF(D12:D12="","",W12:W12/D12:D12)
I13: =IF(C13:C13="","",SUM(E13:H13)) | L13: =IF(C13:C13="","",SUM(J13:K13)) | Q13: =IF(C13:C13="","",SUM(M13:P13)) | U13: =IF(C13:C13="","",SUM(R13:T13)) | V13: =IF(C13:C13="","",I13:I13+L13:L13+Q13:Q13+U13:U13) | W13: =IF(C13:C13="","",D13:D13-L13:L13-Q13:Q13-U13:U13) | X13: =IF(D13:D13="","",W13:W13/V13:V13) | Y13: =IF(D13:D13="","",W13:W13/D13:D13)
I14: =IF(C14:C14="","",SUM(E14:H14)) | L14: =IF(C14:C14="","",SUM(J14:K14)) | Q14: =IF(C14:C14="","",SUM(M14:P14)) | U14: =IF(C14:C14="","",SUM(R14:T14)) | V14: =IF(C14:C14="","",I14:I14+L14:L14+Q14:Q14+U14:U14) | W14: =IF(C14:C14="","",D14:D14-L14:L14-Q14:Q14-U14:U14) | X14: =IF(D14:D14="","",W14:W14/V14:V14) | Y14: =IF(D14:D14="","",W14:W14/D14:D14)
... I39: =IF(C39:C39="","",SUM(E39:H39)) | L39: =IF(C39:C39="","",SUM(J39:K39)) | Q39: =IF(C39:C39="","",SUM(M39:P39)) | U39: =IF(C39:C39="","",SUM(R39:T39)) | V39: =IF(C39:C39="","",I39:I39+L39:L39+Q39:Q39+U39:U39) | W39: =IF(C39:C39="","",D39:D39-L39:L39-Q39:Q39-U39:U39) | X39: =IF(D39:D39="","",W39:W39/V39:V39) | Y39: =IF(D39:D39="","",W39:W39/D39:D39)
C40: =COUNTA(C3:C39) -> 0 | D40: =SUM(D3:D39) -> 0 | E40: =SUM(E3:E39) -> 0 | F40: =SUM(F3:F39) -> 0 | G40: =SUM(G3:G39) -> 0 | H40: =SUM(H3:H39) -> 0 | I40: =SUM(I3:I39) -> 0 | J40: =SUM(J3:J39) -> 0 | K40: =SUM(K3:K39) -> 0 | ... Y40: =SUM(Y3:Y39) -> 0
