Workbook

Sheet Liste Chauffeurs
B1: Nom | C1: Prénom | D1: Présent
A2: =COUNTIF(D$2:D2,TRUE) -> 1 | B2: Nom1 | C2: Prénom1 | D2: TRUE
A3: =COUNTIF(D$2:D3,TRUE) -> 2 | B3: Nom2 | C3: Prénom2 | D3: TRUE
A4: =COUNTIF(D$2:D4,TRUE) -> 3 | B4: Nom3 | C4: Prénom3 | D4: TRUE
A5: =COUNTIF(D$2:D5,TRUE) -> 4 | B5: Nom4 | C5: Prénom4 | D5: TRUE
A6: =COUNTIF(D$2:D6,TRUE) -> 5 | B6: Nom5 | C6: Prénom5 | D6: TRUE
A7: =COUNTIF(D$2:D7,TRUE) -> 5 | B7: Nom6 | C7: Prénom6
A8: =COUNTIF(D$2:D8,TRUE) -> 6 | B8: Nom7 | C8: Prénom7 | D8: TRUE
A9: =COUNTIF(D$2:D9,TRUE) -> 7 | B9: Nom8 | C9: Prénom8 | D9: TRUE
A10: =COUNTIF(D$2:D10,TRUE) -> 7 | B10: Nom9 | C10: Prénom9
A11: =COUNTIF(D$2:D11,TRUE) -> 8 | B11: Nom10 | C11: Prénom10 | D11: TRUE
A12: =COUNTIF(D$2:D12,TRUE) -> 9 | B12: Nom11 | C12: Prénom11 | D12: TRUE
A13: =COUNTIF(D$2:D13,TRUE) -> 10 | B13: Nom12 | C13: Prénom12 | D13: TRUE
A14: =COUNTIF(D$2:D14,TRUE) -> 10 | B14: Nom13 | C14: Prénom13
A15: =COUNTIF(D$2:D15,TRUE) -> 10 | B15: Nom14 | C15: Prénom14
A16: =COUNTIF(D$2:D16,TRUE) -> 10 | B16: Nom15 | C16: Prénom15
A17: =COUNTIF(D$2:D17,TRUE) -> 10 | B17: Nom16 | C17: Prénom16
A18: =COUNTIF(D$2:D18,TRUE) -> 10 | B18: Nom17 | C18: Prénom17
A19: =COUNTIF(D$2:D19,TRUE) -> 10 | B19: Nom18 | C19: Prénom18
A20: =COUNTIF(D$2:D20,TRUE) -> 10 | B20: Nom19 | C20: Prénom19
A21: =COUNTIF(D$2:D21,TRUE) -> 10 | B21: Nom20 | C21: Prénom20
A22: =COUNTIF(D$2:D22,TRUE) -> 10 | B22: Nom21 | C22: Prénom21
A23: =COUNTIF(D$2:D23,TRUE) -> 10 | B23: Nom22 | C23: Prénom22
A24: =COUNTIF(D$2:D24,TRUE) -> 10 | B24: Nom23 | C24: Prénom23
A25: =COUNTIF(D$2:D25,TRUE) -> 10 | B25: Nom24 | C25: Prénom24
... A31: =COUNTIF(D$2:D31,TRUE) -> 10 | B31: Nom30 | C31: Prénom30

Sheet Chauffeurs du Jour
B1: Nom | C1: Prénom
A2: 1 | B2: =IFERROR(VLOOKUP(A2,'Liste Chauffeurs'!A:D,2,FALSE),"") -> Nom1 | C2: =IFERROR(VLOOKUP(A2,'Liste Chauffeurs'!A:D,3,FALSE),"") -> Prénom1
A3: 2 | B3: =IFERROR(VLOOKUP(A3,'Liste Chauffeurs'!A:D,2,FALSE),"") -> Nom2 | C3: =IFERROR(VLOOKUP(A3,'Liste Chauffeurs'!A:D,3,FALSE),"") -> Prénom2
A4: 3 | B4: =IFERROR(VLOOKUP(A4,'Liste Chauffeurs'!A:D,2,FALSE),"") -> Nom3 | C4: =IFERROR(VLOOKUP(A4,'Liste Chauffeurs'!A:D,3,FALSE),"") -> Prénom3
A5: 4 | B5: =IFERROR(VLOOKUP(A5,'Liste Chauffeurs'!A:D,2,FALSE),"") -> Nom4 | C5: =IFERROR(VLOOKUP(A5,'Liste Chauffeurs'!A:D,3,FALSE),"") -> Prénom4
A6: 5 | B6: =IFERROR(VLOOKUP(A6,'Liste Chauffeurs'!A:D,2,FALSE),"") -> Nom5 | C6: =IFERROR(VLOOKUP(A6,'Liste Chauffeurs'!A:D,3,FALSE),"") -> Prénom5
A7: 6 | B7: =IFERROR(VLOOKUP(A7,'Liste Chauffeurs'!A:D,2,FALSE),"") -> Nom7 | C7: =IFERROR(VLOOKUP(A7,'Liste Chauffeurs'!A:D,3,FALSE),"") -> Prénom7
A8: 7 | B8: =IFERROR(VLOOKUP(A8,'Liste Chauffeurs'!A:D,2,FALSE),"") -> Nom8 | C8: =IFERROR(VLOOKUP(A8,'Liste Chauffeurs'!A:D,3,FALSE),"") -> Prénom8
A9: 8 | B9: =IFERROR(VLOOKUP(A9,'Liste Chauffeurs'!A:D,2,FALSE),"") -> Nom10 | C9: =IFERROR(VLOOKUP(A9,'Liste Chauffeurs'!A:D,3,FALSE),"") -> Prénom10
A10: 9 | B10: =IFERROR(VLOOKUP(A10,'Liste Chauffeurs'!A:D,2,FALSE),"") -> Nom11 | C10: =IFERROR(VLOOKUP(A10,'Liste Chauffeurs'!A:D,3,FALSE),"") -> Prénom11
A11: 10 | B11: =IFERROR(VLOOKUP(A11,'Liste Chauffeurs'!A:D,2,FALSE),"") -> Nom12 | C11: =IFERROR(VLOOKUP(A11,'Liste Chauffeurs'!A:D,3,FALSE),"") -> Prénom12
A12: 11 | B12: =IFERROR(VLOOKUP(A12,'Liste Chauffeurs'!A:D,2,FALSE),"") | C12: =IFERROR(VLOOKUP(A12,'Liste Chauffeurs'!A:D,3,FALSE),"")
A13: 12 | B13: =IFERROR(VLOOKUP(A13,'Liste Chauffeurs'!A:D,2,FALSE),"") | C13: =IFERROR(VLOOKUP(A13,'Liste Chauffeurs'!A:D,3,FALSE),"")
... A31: 30 | B31: =IFERROR(VLOOKUP(A31,'Liste Chauffeurs'!A:D,2,FALSE),"") | C31: =IFERROR(VLOOKUP(A31,'Liste Chauffeurs'!A:D,3,FALSE),"")
