Workbook

Sheet Gest.-IPA
A1: Nom | B1: Prénom | C1: Init. | D1: Réf. | E1: Nom | F1: Prénom | G1: Init. | H1: Réf.
A2: Section A | E2: SAV | F2: Ya | G2: YSY | H2: 50
C3: CBE | D3: 242 | G3: FES | H3: 42
C4: UHN | D4: 245 | G4: MCB | H4: 45
C5: ACO | D5: 247 | G5: EGN | H5: 47
C6: AKN | D6: 255 | G6: MTA | H6: 55
C7: SCL | D7: 257 | G7: EDG | H7: 57
C8: CMR | D8: 258 | G8: DSA | H8: 58
C9: LSI | D9: 261 | G9: MVN | H9: 61
C10: LBI | D10: 263 | G10: ISA | H10: 63
C11: JMB | D11: 265 | G11: MSR | H11: 65
A12: Section B | E12: GAL | F12: Eli | G12: EGA | H12: 60
C13: CKA | D13: 343 | G13: LMD | H13: 43
C14: ACH | D14: 351 | G14: RNE | H14: 51
C15: EZR | D15: 353 | G15: SIA | H15: 53
C16: RMD | D16: 354 | G16: CDT | H16: 54
C17: CCO | D17: 356 | G17: JPF | H17: 56
C18: JBL | D18: 359 | G18: DDU | H18: 59
C19: RSL | D19: 364 | G19: CNR | H19: 64
C20: AVA | D20: 367 | G20: DDG | H20: 67
C21: ALE | D21: 370 | G21: RLE | H21: 70
A22: Section C | E22: SCH | F22: Je | G22: JSR | H22: 40
C23: CIF | D23: 441 | G23: JBD | H23: 41
C24: DBJ | D24: 444 | G24: LWS | H24: 44
C25: CGO | D25: 446 | G25: SCE | H25: 46
C26: TBT | D26: 452 | G26: SOA | H26: 52
C27: RMI | D27: 462 | G27: SCA | H27: 62
C28: DRO | D28: 466 | G28: ACT | H28: 66
C29: BBI | D29: 468 | G29: SOF | H29: 68
C30: ACA | D30: 469 | G30: ASY | H30: 69

Sheet Tab.-Job
A1: N° du dossier | B1: N° Volet | C1: Statut LAMal | D1: Statut | E1: Statut Lieu-vie | F1: Section | G1: N° Gest. | H1: Gestionnaire | I1: N° IPA | J1: IPA | K1: IPA Fonction | L1: CdS | M1: Contrôle
A2: 457 | B2: 0000045701 | C2: Actif | D2: 0000045701 - Actif | E2: Actif | F2: Adulte-Section A | G2: 255 | H2: Ly | I2: 55 | L2: =VLOOKUP(RIGHT(F2,9),'Gest.-IPA'!$A$2:$H$30,5,FALSE)&" "&VLOOKUP(RIGHT(F2,9),'Gest.-IPA'!$A$2:$H$30,6,FALSE) -> SAV Ya | M2: ='Gest.-IPA'!E2 &" "& 'Gest.-IPA'!F2 -> SAV Ya
A3: 458 | B3: 0000045801 | C3: Actif | D3: 0000045801 - Actif | E3: Actif | F3: Adulte-Section B | G3: 351 | H3: Ly | I3: 51 | L3: =VLOOKUP(RIGHT(F3,9),'Gest.-IPA'!$A$2:$H$30,5,FALSE)&" "&VLOOKUP(RIGHT(F3,9),'Gest.-IPA'!$A$2:$H$30,6,FALSE) -> GAL Eli
A4: 461 | B4: 0000046101 | C4: Actif | D4: 0000046101 - Actif | E4: Actif | F4: Adulte-Section A | G4: 257 | H4: Ly | I4: 57 | L4: =VLOOKUP(RIGHT(F4,9),'Gest.-IPA'!$A$2:$H$30,5,FALSE)&" "&VLOOKUP(RIGHT(F4,9),'Gest.-IPA'!$A$2:$H$30,6,FALSE) -> SAV Ya
A5: 464 | B5: 0000046401 | C5: Actif | D5: 0000046401 - Actif | E5: Actif | F5: Adulte-Section A | G5: 247 | H5: Ly | I5: 47 | L5: =VLOOKUP(RIGHT(F5,9),'Gest.-IPA'!$A$2:$H$30,5,FALSE)&" "&VLOOKUP(RIGHT(F5,9),'Gest.-IPA'!$A$2:$H$30,6,FALSE) -> SAV Ya
A6: 465 | B6: 0000046501 | C6: Actif | D6: 0000046501 - Actif | E6: Actif | F6: Adulte-Section C | G6: 462 | H6: Ly | I6: 62 | L6: =VLOOKUP(RIGHT(F6,9),'Gest.-IPA'!$A$2:$H$30,5,FALSE)&" "&VLOOKUP(RIGHT(F6,9),'Gest.-IPA'!$A$2:$H$30,6,FALSE) -> SCH Je
A7: 466 | B7: 0000046601 | C7: Actif | D7: 0000046601 - Actif | E7: Actif | F7: Adulte-Section B | G7: 351 | H7: Ly | I7: 51 | L7: =VLOOKUP(RIGHT(F7,9),'Gest.-IPA'!$A$2:$H$30,5,FALSE)&" "&VLOOKUP(RIGHT(F7,9),'Gest.-IPA'!$A$2:$H$30,6,FALSE) -> GAL Eli | M7: ='Gest.-IPA'!E12 &" "& 'Gest.-IPA'!F12 -> GAL Eli
A8: 469 | B8: 0000046901 | C8: Actif | D8: 0000046901 - Actif | E8: Actif | F8: Adulte-Section B | G8: 353 | H8: Ly | I8: 53 | L8: =VLOOKUP(RIGHT(F8,9),'Gest.-IPA'!$A$2:$H$30,5,FALSE)&" "&VLOOKUP(RIGHT(F8,9),'Gest.-IPA'!$A$2:$H$30,6,FALSE) -> GAL Eli
A9: 473 | B9: 0000047301 | C9: Actif | D9: 0000047301 - Actif | E9: Actif | F9: Adulte-Section A | G9: 247 | H9: Ly | I9: 47 | L9: =VLOOKUP(RIGHT(F9,9),'Gest.-IPA'!$A$2:$H$30,5,FALSE)&" "&VLOOKUP(RIGHT(F9,9),'Gest.-IPA'!$A$2:$H$30,6,FALSE) -> SAV Ya
A10: 476 | B10: 0000047601 | C10: Actif | D10: 0000047601 - Actif | E10: Actif | F10: Adulte-Section C | G10: 469 | H10: Ly | I10: 69 | L10: =VLOOKUP(RIGHT(F10,9),'Gest.-IPA'!$A$2:$H$30,5,FALSE)&" "&VLOOKUP(RIGHT(F10,9),'Gest.-IPA'!$A$2:$H$30,6,FALSE) -> SCH Je | M10: ='Gest.-IPA'!E22 &" "& 'Gest.-IPA'!F22 -> SCH Je
A11: 477 | B11: 0000047701 | C11: Actif | D11: 0000047701 - Actif | E11: Actif | F11: Adulte-Section B | G11: 370 | H11: Ly | I11: 70 | L11: =VLOOKUP(RIGHT(F11,9),'Gest.-IPA'!$A$2:$H$30,5,FALSE)&" "&VLOOKUP(RIGHT(F11,9),'Gest.-IPA'!$A$2:$H$30,6,FALSE) -> GAL Eli
A12: 480 | B12: 0000048001 | C12: Actif | D12: 0000048001 - Actif | E12: Actif | F12: Adulte-Section C | G12: 468 | H12: Ly | I12: 68 | L12: =VLOOKUP(RIGHT(F12,9),'Gest.-IPA'!$A$2:$H$30,5,FALSE)&" "&VLOOKUP(RIGHT(F12,9),'Gest.-IPA'!$A$2:$H$30,6,FALSE) -> SCH Je
A13: 484 | B13: 0000048401 | C13: Actif | D13: 0000048401 - Actif | E13: Actif | F13: Adulte-Section B | G13: 370 | H13: Ly | I13: 70 | L13: =VLOOKUP(RIGHT(F13,9),'Gest.-IPA'!$A$2:$H$30,5,FALSE)&" "&VLOOKUP(RIGHT(F13,9),'Gest.-IPA'!$A$2:$H$30,6,FALSE) -> GAL Eli
A14: 489 | B14: 0000048901 | C14: Actif | D14: 0000048901 - Actif | E14: Actif | F14: Adulte-Section C | G14: 466 | H14: Ly | I14: 66 | L14: =VLOOKUP(RIGHT(F14,9),'Gest.-IPA'!$A$2:$H$30,5,FALSE)&" "&VLOOKUP(RIGHT(F14,9),'Gest.-IPA'!$A$2:$H$30,6,FALSE) -> SCH Je
A15: 490 | B15: 0000049001 | C15: Actif | D15: 0000049001 - Actif | E15: Actif | F15: Adulte-Section A | G15: 258 | H15: Ly | I15: 58 | L15: =VLOOKUP(RIGHT(F15,9),'Gest.-IPA'!$A$2:$H$30,5,FALSE)&" "&VLOOKUP(RIGHT(F15,9),'Gest.-IPA'!$A$2:$H$30,6,FALSE) -> SAV Ya
A16: 492 | B16: 0000049201 | C16: Actif | D16: 0000049201 - Actif | E16: Actif | F16: Adulte-Section A | G16: 245 | H16: Ly | I16: 45 | L16: =VLOOKUP(RIGHT(F16,9),'Gest.-IPA'!$A$2:$H$30,5,FALSE)&" "&VLOOKUP(RIGHT(F16,9),'Gest.-IPA'!$A$2:$H$30,6,FALSE) -> SAV Ya
A17: 494 | B17: 0000049401 | C17: Actif | D17: 0000049401 - Actif | E17: Actif | F17: Adulte-Section B | G17: 359 | H17: Ly | I17: 59 | L17: =VLOOKUP(RIGHT(F17,9),'Gest.-IPA'!$A$2:$H$30,5,FALSE)&" "&VLOOKUP(RIGHT(F17,9),'Gest.-IPA'!$A$2:$H$30,6,FALSE) -> GAL Eli
A18: 497 | B18: 0000049701 | C18: Actif | D18: 0000049701 - Actif | E18: Actif | F18: Adulte-Section A | G18: 263 | H18: Ly | I18: 63 | L18: =VLOOKUP(RIGHT(F18,9),'Gest.-IPA'!$A$2:$H$30,5,FALSE)&" "&VLOOKUP(RIGHT(F18,9),'Gest.-IPA'!$A$2:$H$30,6,FALSE) -> SAV Ya
A19: 499 | B19: 0000049901 | C19: Actif | D19: 0000049901 - Actif | E19: Actif | F19: Adulte-Section B | G19: 370 | H19: Ly | I19: 70 | L19: =VLOOKUP(RIGHT(F19,9),'Gest.-IPA'!$A$2:$H$30,5,FALSE)&" "&VLOOKUP(RIGHT(F19,9),'Gest.-IPA'!$A$2:$H$30,6,FALSE) -> GAL Eli
A20: 503 | B20: 0000050301 | C20: Actif | D20: 0000050301 - Actif | E20: Actif | F20: Adulte-Section C | G20: 441 | H20: Ly | I20: 41 | L20: =VLOOKUP(RIGHT(F20,9),'Gest.-IPA'!$A$2:$H$30,5,FALSE)&" "&VLOOKUP(RIGHT(F20,9),'Gest.-IPA'!$A$2:$H$30,6,FALSE) -> SCH Je
A21: 505 | B21: 0000050501 | C21: Actif | D21: 0000050501 - Actif | E21: Actif | F21: Adulte-Section A | G21: 258 | H21: Ly | I21: 58 | L21: =VLOOKUP(RIGHT(F21,9),'Gest.-IPA'!$A$2:$H$30,5,FALSE)&" "&VLOOKUP(RIGHT(F21,9),'Gest.-IPA'!$A$2:$H$30,6,FALSE) -> SAV Ya
A22: 509 | B22: 0000050901 | C22: Actif | D22: 0000050901 - Actif | E22: Actif | F22: Adulte-Section B | G22: 356 | H22: Ly | I22: 56 | L22: =VLOOKUP(RIGHT(F22,9),'Gest.-IPA'!$A$2:$H$30,5,FALSE)&" "&VLOOKUP(RIGHT(F22,9),'Gest.-IPA'!$A$2:$H$30,6,FALSE) -> GAL Eli
... A29: 531 | B29: 0000053101 | C29: Actif | D29: 0000053101 - Actif | E29: Actif | F29: Adulte-Section C | G29: 466 | H29: Ly | I29: 66 | L29: =VLOOKUP(RIGHT(F29,9),'Gest.-IPA'!$A$2:$H$30,5,FALSE)&" "&VLOOKUP(RIGHT(F29,9),'Gest.-IPA'!$A$2:$H$30,6,FALSE) -> SCH Je
L30: =VLOOKUP(RIGHT(F30,9),'Gest.-IPA'!$A$2:$H$30,5,FALSE)&" "&VLOOKUP(RIGHT(F30,9),'Gest.-IPA'!$A$2:$H$30,6,FALSE) -> #N/A
L31: =VLOOKUP(RIGHT(F31,9),'Gest.-IPA'!$A$2:$H$30,5,FALSE)&" "&VLOOKUP(RIGHT(F31,9),'Gest.-IPA'!$A$2:$H$30,6,FALSE) -> #N/A
