Workbook

Sheet Feuil1
A1: Client | B1: Satut | C1: Date | D1: Mois
A2: A | B2: Shooté | C2: 43609 | D2: =MONTH(C2) -> 5
A3: B | B3: Gagné | C3: 43573 | D3: =MONTH(C3) -> 4
A4: C | B4: Shooté | C4: 43509 | D4: =MONTH(C4) -> 2
A5: D | B5: Shooté | C5: 43477 | D5: =MONTH(C5) -> 1
A6: E | B6: Gagné | C6: 43514 | D6: =MONTH(C6) -> 2
A7: F | B7: Gagné | C7: 43525 | D7: =MONTH(C7) -> 3

Sheet Feuil2
A1: KPI 2019 | B1: Janvier | C1: Février | D1: Mars | E1: Avril | F1: Mai | G1: Juin | H1: Juillet | I1: Août | J1: Septembre | K1: Octobre | L1: Novembre | M1: Décembre | N1: Total
B2: 1 | C2: 2 | D2: 3 | E2: 4 | F2: 5 | G2: 6 | H2: 7 | I2: 8 | J2: 9 | K2: 10 | L2: 11 | M2: 12
A4: Hit ratio | B4: =B5+B6 -> 1 | C4: =C5+C6 -> 2 | D4: =D5+D6 -> 1 | E4: =E5+E6 -> 1 | F4: =F5+F6 -> 1 | G4: =G5+G6 -> 0 | H4: =H5+H6 -> 0 | I4: =I5+I6 -> 0 | ... M4: =M5+M6 -> 0 | N4: =SUM(B4:M4) -> 6
A5: Nb dossiers Shootés | B5: =COUNTIFS(Feuil1!$D:$D,B$2,Feuil1!$B:$B,"Shooté") -> 1 | C5: =COUNTIFS(Feuil1!$D:$D,C2,Feuil1!$B:$B,"Shooté") -> 1 | D5: =COUNTIFS(Feuil1!$D:$D,D2,Feuil1!$B:$B,"Shooté") -> 0 | E5: =COUNTIFS(Feuil1!$D:$D,E2,Feuil1!$B:$B,"Shooté") -> 0 | F5: =COUNTIFS(Feuil1!$D:$D,F2,Feuil1!$B:$B,"Shooté") -> 1 | G5: =COUNTIFS(Feuil1!$D:$D,G2,Feuil1!$B:$B,"Shooté") -> 0 | H5: =COUNTIFS(Feuil1!$D:$D,H2,Feuil1!$B:$B,"Shooté") -> 0 | I5: =COUNTIFS(Feuil1!$D:$D,I2,Feuil1!$B:$B,"Shooté") -> 0 | J5: =COUNTIFS(Feuil1!$D:$D,J2,Feuil1!$B:$B,"Shooté") -> 0 | ... M5: =COUNTIFS(Feuil1!$D:$D,M2,Feuil1!$B:$B,"Shooté") -> 0 | N5: =SUM(B5:M5) -> 3
A6: Nb dossiers gagnés | B6: =COUNTIFS(Feuil1!$D:$D,B$2,Feuil1!$B:$B,"Gagné") -> 0 | C6: =COUNTIFS(Feuil1!$D:$D,C$2,Feuil1!$B:$B,"Gagné") -> 1 | D6: =COUNTIFS(Feuil1!$D:$D,D$2,Feuil1!$B:$B,"Gagné") -> 1 | E6: =COUNTIFS(Feuil1!$D:$D,E$2,Feuil1!$B:$B,"Gagné") -> 1 | F6: =COUNTIFS(Feuil1!$D:$D,F$2,Feuil1!$B:$B,"Gagné") -> 0 | G6: =COUNTIFS(Feuil1!$D:$D,G$2,Feuil1!$B:$B,"Gagné") -> 0 | H6: =COUNTIFS(Feuil1!$D:$D,H$2,Feuil1!$B:$B,"Gagné") -> 0 | I6: =COUNTIFS(Feuil1!$D:$D,I$2,Feuil1!$B:$B,"Gagné") -> 0 | ... M6: =COUNTIFS(Feuil1!$D:$D,M$2,Feuil1!$B:$B,"Gagné") -> 0 | N6: =SUM(B6:M6) -> 3
