Workbook

Sheet Feuil1
A1: 1 | B1: 2 | C1: 3 | D1: 4 | E1: 5 | F1: 6 | G1: 7 | H1: 8 | I1: 9 | J1: 10 | K1: 11 | L1: 12 | M1: 13 | N1: 14 | O1: 15 | P1: 16 | Q1: 17 | R1: 18 | S1: 19 | T1: 20 | U1: 21 | V1: 22 | W1: 23 | X1: 24 | Y1: 25 | Z1: 26 | AA1: 27 | AB1: 28 | AC1: 29 | AD1: 30
A19: =ROW(B18)+1&"/"&COLUMN(B18)-1 -> 19/1 | C19: =ROW(D18)+1&"/"&COLUMN(D18)-1 -> 19/3 | D19: =ROW(E18)+1&"/"&COLUMN(E18)-1 -> 19/4 | E19: =ROW(F18)+1&"/"&COLUMN(F18)-1 -> 19/5 | F19: =ROW(G18)+1&"/"&COLUMN(G18)-1 -> 19/6 | G19: =ROW(H18)+1&"/"&COLUMN(H18)-1 -> 19/7 | H19: =ROW(I18)+1&"/"&COLUMN(I18)-1 -> 19/8 | I19: =ROW(J18)+1&"/"&COLUMN(J18)-1 -> 19/9 | J19: =ROW(K18)+1&"/"&COLUMN(K18)-1 -> 19/10 | ... AD19: =ROW(AE18)+1&"/"&COLUMN(AE18)-1 -> 19/30
A20: =ROW(B19)+1&"/"&COLUMN(B19)-1 -> 20/1 | B20: =ROW(C19)+1&"/"&COLUMN(C19)-1 -> 20/2 | C20: =ROW(D19)+1&"/"&COLUMN(D19)-1 -> 20/3 | D20: =ROW(E19)+1&"/"&COLUMN(E19)-1 -> 20/4 | E20: =ROW(F19)+1&"/"&COLUMN(F19)-1 -> 20/5 | F20: =ROW(G19)+1&"/"&COLUMN(G19)-1 -> 20/6 | G20: =ROW(H19)+1&"/"&COLUMN(H19)-1 -> 20/7 | H20: =ROW(I19)+1&"/"&COLUMN(I19)-1 -> 20/8 | ... AD20: =ROW(AE19)+1&"/"&COLUMN(AE19)-1 -> 20/30
A21: =ROW(B20)+1&"/"&COLUMN(B20)-1 -> 21/1 | B21: =ROW(C20)+1&"/"&COLUMN(C20)-1 -> 21/2 | D21: =ROW(E20)+1&"/"&COLUMN(E20)-1 -> 21/4 | E21: =ROW(F20)+1&"/"&COLUMN(F20)-1 -> 21/5 | F21: =ROW(G20)+1&"/"&COLUMN(G20)-1 -> 21/6 | G21: =ROW(H20)+1&"/"&COLUMN(H20)-1 -> 21/7 | H21: =ROW(I20)+1&"/"&COLUMN(I20)-1 -> 21/8 | I21: =ROW(J20)+1&"/"&COLUMN(J20)-1 -> 21/9 | J21: =ROW(K20)+1&"/"&COLUMN(K20)-1 -> 21/10 | K21: =ROW(L20)+1&"/"&COLUMN(L20)-1 -> 21/11 | ... AD21: =ROW(AE20)+1&"/"&COLUMN(AE20)-1 -> 21/30
B22: =ROW(C21)+1&"/"&COLUMN(C21)-1 -> 22/2 | C22: =ROW(D21)+1&"/"&COLUMN(D21)-1 -> 22/3 | D22: =ROW(E21)+1&"/"&COLUMN(E21)-1 -> 22/4 | E22: =ROW(F21)+1&"/"&COLUMN(F21)-1 -> 22/5 | G22: =ROW(H21)+1&"/"&COLUMN(H21)-1 -> 22/7 | H22: =ROW(I21)+1&"/"&COLUMN(I21)-1 -> 22/8 | I22: =ROW(J21)+1&"/"&COLUMN(J21)-1 -> 22/9 | J22: =ROW(K21)+1&"/"&COLUMN(K21)-1 -> 22/10 | K22: =ROW(L21)+1&"/"&COLUMN(L21)-1 -> 22/11 | L22: =ROW(M21)+1&"/"&COLUMN(M21)-1 -> 22/12 | M22: =ROW(N21)+1&"/"&COLUMN(N21)-1 -> 22/13 | N22: =ROW(O21)+1&"/"&COLUMN(O21)-1 -> 22/14 | ... AD22: =ROW(AE21)+1&"/"&COLUMN(AE21)-1 -> 22/30
A23: =ROW(B22)+1&"/"&COLUMN(B22)-1 -> 23/1 | C23: =ROW(D22)+1&"/"&COLUMN(D22)-1 -> 23/3 | D23: =ROW(E22)+1&"/"&COLUMN(E22)-1 -> 23/4 | E23: =ROW(F22)+1&"/"&COLUMN(F22)-1 -> 23/5 | F23: =ROW(G22)+1&"/"&COLUMN(G22)-1 -> 23/6 | G23: =ROW(H22)+1&"/"&COLUMN(H22)-1 -> 23/7 | H23: =ROW(I22)+1&"/"&COLUMN(I22)-1 -> 23/8 | I23: =ROW(J22)+1&"/"&COLUMN(J22)-1 -> 23/9 | J23: =ROW(K22)+1&"/"&COLUMN(K22)-1 -> 23/10 | L23: =ROW(M22)+1&"/"&COLUMN(M22)-1 -> 23/12 | M23: =ROW(N22)+1&"/"&COLUMN(N22)-1 -> 23/13 | N23: =ROW(O22)+1&"/"&COLUMN(O22)-1 -> 23/14 | O23: =ROW(P22)+1&"/"&COLUMN(P22)-1 -> 23/15 | P23: =ROW(Q22)+1&"/"&COLUMN(Q22)-1 -> 23/16 | Q23: =ROW(R22)+1&"/"&COLUMN(R22)-1 -> 23/17 | R23: =ROW(S22)+1&"/"&COLUMN(S22)-1 -> 23/18 | S23: =ROW(T22)+1&"/"&COLUMN(T22)-1 -> 23/19 | ... AD23: =ROW(AE22)+1&"/"&COLUMN(AE22)-1 -> 23/30
A24: =ROW(B23)+1&"/"&COLUMN(B23)-1 -> 24/1 | B24: =ROW(C23)+1&"/"&COLUMN(C23)-1 -> 24/2 | C24: =ROW(D23)+1&"/"&COLUMN(D23)-1 -> 24/3 | D24: =ROW(E23)+1&"/"&COLUMN(E23)-1 -> 24/4 | E24: =ROW(F23)+1&"/"&COLUMN(F23)-1 -> 24/5 | F24: =ROW(G23)+1&"/"&COLUMN(G23)-1 -> 24/6 | G24: =ROW(H23)+1&"/"&COLUMN(H23)-1 -> 24/7 | H24: =ROW(I23)+1&"/"&COLUMN(I23)-1 -> 24/8 | ... AD24: =ROW(AE23)+1&"/"&COLUMN(AE23)-1 -> 24/30
A25: =ROW(B24)+1&"/"&COLUMN(B24)-1 -> 25/1 | B25: =ROW(C24)+1&"/"&COLUMN(C24)-1 -> 25/2 | C25: =ROW(D24)+1&"/"&COLUMN(D24)-1 -> 25/3 | D25: =ROW(E24)+1&"/"&COLUMN(E24)-1 -> 25/4 | E25: =ROW(F24)+1&"/"&COLUMN(F24)-1 -> 25/5 | F25: =ROW(G24)+1&"/"&COLUMN(G24)-1 -> 25/6 | G25: =ROW(H24)+1&"/"&COLUMN(H24)-1 -> 25/7 | H25: =ROW(I24)+1&"/"&COLUMN(I24)-1 -> 25/8 | ... AD25: =ROW(AE24)+1&"/"&COLUMN(AE24)-1 -> 25/30
A26: =ROW(B25)+1&"/"&COLUMN(B25)-1 -> 26/1 | B26: =ROW(C25)+1&"/"&COLUMN(C25)-1 -> 26/2 | C26: =ROW(D25)+1&"/"&COLUMN(D25)-1 -> 26/3 | D26: =ROW(E25)+1&"/"&COLUMN(E25)-1 -> 26/4 | F26: =ROW(G25)+1&"/"&COLUMN(G25)-1 -> 26/6 | G26: =ROW(H25)+1&"/"&COLUMN(H25)-1 -> 26/7 | H26: =ROW(I25)+1&"/"&COLUMN(I25)-1 -> 26/8 | I26: =ROW(J25)+1&"/"&COLUMN(J25)-1 -> 26/9 | J26: =ROW(K25)+1&"/"&COLUMN(K25)-1 -> 26/10 | K26: =ROW(L25)+1&"/"&COLUMN(L25)-1 -> 26/11 | L26: =ROW(M25)+1&"/"&COLUMN(M25)-1 -> 26/12 | M26: =ROW(N25)+1&"/"&COLUMN(N25)-1 -> 26/13 | ... AD26: =ROW(AE25)+1&"/"&COLUMN(AE25)-1 -> 26/30
A27: =ROW(B26)+1&"/"&COLUMN(B26)-1 -> 27/1 | B27: =ROW(C26)+1&"/"&COLUMN(C26)-1 -> 27/2 | C27: =ROW(D26)+1&"/"&COLUMN(D26)-1 -> 27/3 | D27: =ROW(E26)+1&"/"&COLUMN(E26)-1 -> 27/4 | E27: =ROW(F26)+1&"/"&COLUMN(F26)-1 -> 27/5 | F27: =ROW(G26)+1&"/"&COLUMN(G26)-1 -> 27/6 | G27: =ROW(H26)+1&"/"&COLUMN(H26)-1 -> 27/7 | H27: =ROW(I26)+1&"/"&COLUMN(I26)-1 -> 27/8 | J27: =ROW(K26)+1&"/"&COLUMN(K26)-1 -> 27/10 | K27: =ROW(L26)+1&"/"&COLUMN(L26)-1 -> 27/11 | L27: =ROW(M26)+1&"/"&COLUMN(M26)-1 -> 27/12 | M27: =ROW(N26)+1&"/"&COLUMN(N26)-1 -> 27/13 | N27: =ROW(O26)+1&"/"&COLUMN(O26)-1 -> 27/14 | O27: =ROW(P26)+1&"/"&COLUMN(P26)-1 -> 27/15 | P27: =ROW(Q26)+1&"/"&COLUMN(Q26)-1 -> 27/16 | Q27: =ROW(R26)+1&"/"&COLUMN(R26)-1 -> 27/17 | ... AD27: =ROW(AE26)+1&"/"&COLUMN(AE26)-1 -> 27/30
A28: =ROW(B27)+1&"/"&COLUMN(B27)-1 -> 28/1 | B28: =ROW(C27)+1&"/"&COLUMN(C27)-1 -> 28/2 | D28: =ROW(E27)+1&"/"&COLUMN(E27)-1 -> 28/4 | E28: =ROW(F27)+1&"/"&COLUMN(F27)-1 -> 28/5 | F28: =ROW(G27)+1&"/"&COLUMN(G27)-1 -> 28/6 | G28: =ROW(H27)+1&"/"&COLUMN(H27)-1 -> 28/7 | H28: =ROW(I27)+1&"/"&COLUMN(I27)-1 -> 28/8 | I28: =ROW(J27)+1&"/"&COLUMN(J27)-1 -> 28/9 | J28: =ROW(K27)+1&"/"&COLUMN(K27)-1 -> 28/10 | K28: =ROW(L27)+1&"/"&COLUMN(L27)-1 -> 28/11 | ... AD28: =ROW(AE27)+1&"/"&COLUMN(AE27)-1 -> 28/30
A29: =ROW(B28)+1&"/"&COLUMN(B28)-1 -> 29/1 | B29: =ROW(C28)+1&"/"&COLUMN(C28)-1 -> 29/2 | C29: =ROW(D28)+1&"/"&COLUMN(D28)-1 -> 29/3 | D29: =ROW(E28)+1&"/"&COLUMN(E28)-1 -> 29/4 | E29: =ROW(F28)+1&"/"&COLUMN(F28)-1 -> 29/5 | F29: =ROW(G28)+1&"/"&COLUMN(G28)-1 -> 29/6 | G29: =ROW(H28)+1&"/"&COLUMN(H28)-1 -> 29/7 | H29: =ROW(I28)+1&"/"&COLUMN(I28)-1 -> 29/8 | ... AD29: =ROW(AE28)+1&"/"&COLUMN(AE28)-1 -> 29/30
A30: =ROW(B29)+1&"/"&COLUMN(B29)-1 -> 30/1 | B30: =ROW(C29)+1&"/"&COLUMN(C29)-1 -> 30/2 | C30: =ROW(D29)+1&"/"&COLUMN(D29)-1 -> 30/3 | D30: =ROW(E29)+1&"/"&COLUMN(E29)-1 -> 30/4 | E30: =ROW(F29)+1&"/"&COLUMN(F29)-1 -> 30/5 | F30: =ROW(G29)+1&"/"&COLUMN(G29)-1 -> 30/6 | G30: =ROW(H29)+1&"/"&COLUMN(H29)-1 -> 30/7 | H30: =ROW(I29)+1&"/"&COLUMN(I29)-1 -> 30/8 | ... AD30: =ROW(AE29)+1&"/"&COLUMN(AE29)-1 -> 30/30
A31: =ROW(B30)+1&"/"&COLUMN(B30)-1 -> 31/1 | B31: =ROW(C30)+1&"/"&COLUMN(C30)-1 -> 31/2 | C31: =ROW(D30)+1&"/"&COLUMN(D30)-1 -> 31/3 | D31: =ROW(E30)+1&"/"&COLUMN(E30)-1 -> 31/4 | E31: =ROW(F30)+1&"/"&COLUMN(F30)-1 -> 31/5 | F31: =ROW(G30)+1&"/"&COLUMN(G30)-1 -> 31/6 | G31: =ROW(H30)+1&"/"&COLUMN(H30)-1 -> 31/7 | H31: =ROW(I30)+1&"/"&COLUMN(I30)-1 -> 31/8 | ... AD31: =ROW(AE30)+1&"/"&COLUMN(AE30)-1 -> 31/30
A32: =ROW(B31)+1&"/"&COLUMN(B31)-1 -> 32/1 | B32: =ROW(C31)+1&"/"&COLUMN(C31)-1 -> 32/2 | C32: =ROW(D31)+1&"/"&COLUMN(D31)-1 -> 32/3 | D32: =ROW(E31)+1&"/"&COLUMN(E31)-1 -> 32/4 | E32: =ROW(F31)+1&"/"&COLUMN(F31)-1 -> 32/5 | F32: =ROW(G31)+1&"/"&COLUMN(G31)-1 -> 32/6 | G32: =ROW(H31)+1&"/"&COLUMN(H31)-1 -> 32/7 | H32: =ROW(I31)+1&"/"&COLUMN(I31)-1 -> 32/8 | ... AD32: =ROW(AE31)+1&"/"&COLUMN(AE31)-1 -> 32/30
A33: =ROW(B32)+1&"/"&COLUMN(B32)-1 -> 33/1 | B33: =ROW(C32)+1&"/"&COLUMN(C32)-1 -> 33/2 | C33: =ROW(D32)+1&"/"&COLUMN(D32)-1 -> 33/3 | D33: =ROW(E32)+1&"/"&COLUMN(E32)-1 -> 33/4 | E33: =ROW(F32)+1&"/"&COLUMN(F32)-1 -> 33/5 | F33: =ROW(G32)+1&"/"&COLUMN(G32)-1 -> 33/6 | G33: =ROW(H32)+1&"/"&COLUMN(H32)-1 -> 33/7 | H33: =ROW(I32)+1&"/"&COLUMN(I32)-1 -> 33/8 | ... AD33: =ROW(AE32)+1&"/"&COLUMN(AE32)-1 -> 33/30
A34: =ROW(B33)+1&"/"&COLUMN(B33)-1 -> 34/1 | B34: =ROW(C33)+1&"/"&COLUMN(C33)-1 -> 34/2 | C34: =ROW(D33)+1&"/"&COLUMN(D33)-1 -> 34/3 | D34: =ROW(E33)+1&"/"&COLUMN(E33)-1 -> 34/4 | E34: =ROW(F33)+1&"/"&COLUMN(F33)-1 -> 34/5 | F34: =ROW(G33)+1&"/"&COLUMN(G33)-1 -> 34/6 | G34: =ROW(H33)+1&"/"&COLUMN(H33)-1 -> 34/7 | H34: =ROW(I33)+1&"/"&COLUMN(I33)-1 -> 34/8 | ... AD34: =ROW(AE33)+1&"/"&COLUMN(AE33)-1 -> 34/30
A35: =ROW(B34)+1&"/"&COLUMN(B34)-1 -> 35/1 | B35: =ROW(C34)+1&"/"&COLUMN(C34)-1 -> 35/2 | C35: =ROW(D34)+1&"/"&COLUMN(D34)-1 -> 35/3 | D35: =ROW(E34)+1&"/"&COLUMN(E34)-1 -> 35/4 | E35: =ROW(F34)+1&"/"&COLUMN(F34)-1 -> 35/5 | F35: =ROW(G34)+1&"/"&COLUMN(G34)-1 -> 35/6 | G35: =ROW(H34)+1&"/"&COLUMN(H34)-1 -> 35/7 | H35: =ROW(I34)+1&"/"&COLUMN(I34)-1 -> 35/8 | ... AD35: =ROW(AE34)+1&"/"&COLUMN(AE34)-1 -> 35/30
A36: =ROW(B35)+1&"/"&COLUMN(B35)-1 -> 36/1 | B36: =ROW(C35)+1&"/"&COLUMN(C35)-1 -> 36/2 | C36: =ROW(D35)+1&"/"&COLUMN(D35)-1 -> 36/3 | D36: =ROW(E35)+1&"/"&COLUMN(E35)-1 -> 36/4 | E36: =ROW(F35)+1&"/"&COLUMN(F35)-1 -> 36/5 | F36: =ROW(G35)+1&"/"&COLUMN(G35)-1 -> 36/6 | G36: =ROW(H35)+1&"/"&COLUMN(H35)-1 -> 36/7 | H36: =ROW(I35)+1&"/"&COLUMN(I35)-1 -> 36/8 | ... AD36: =ROW(AE35)+1&"/"&COLUMN(AE35)-1 -> 36/30
A37: =ROW(B36)+1&"/"&COLUMN(B36)-1 -> 37/1 | B37: =ROW(C36)+1&"/"&COLUMN(C36)-1 -> 37/2 | C37: =ROW(D36)+1&"/"&COLUMN(D36)-1 -> 37/3 | D37: =ROW(E36)+1&"/"&COLUMN(E36)-1 -> 37/4 | E37: =ROW(F36)+1&"/"&COLUMN(F36)-1 -> 37/5 | F37: =ROW(G36)+1&"/"&COLUMN(G36)-1 -> 37/6 | G37: =ROW(H36)+1&"/"&COLUMN(H36)-1 -> 37/7 | H37: =ROW(I36)+1&"/"&COLUMN(I36)-1 -> 37/8 | ... AD37: =ROW(AE36)+1&"/"&COLUMN(AE36)-1 -> 37/30
A38: =ROW(B37)+1&"/"&COLUMN(B37)-1 -> 38/1 | B38: =ROW(C37)+1&"/"&COLUMN(C37)-1 -> 38/2 | C38: =ROW(D37)+1&"/"&COLUMN(D37)-1 -> 38/3 | D38: =ROW(E37)+1&"/"&COLUMN(E37)-1 -> 38/4 | E38: =ROW(F37)+1&"/"&COLUMN(F37)-1 -> 38/5 | F38: =ROW(G37)+1&"/"&COLUMN(G37)-1 -> 38/6 | G38: =ROW(H37)+1&"/"&COLUMN(H37)-1 -> 38/7 | H38: =ROW(I37)+1&"/"&COLUMN(I37)-1 -> 38/8 | ... AD38: =ROW(AE37)+1&"/"&COLUMN(AE37)-1 -> 38/30
A39: =ROW(B38)+1&"/"&COLUMN(B38)-1 -> 39/1 | B39: =ROW(C38)+1&"/"&COLUMN(C38)-1 -> 39/2 | C39: =ROW(D38)+1&"/"&COLUMN(D38)-1 -> 39/3 | D39: =ROW(E38)+1&"/"&COLUMN(E38)-1 -> 39/4 | E39: =ROW(F38)+1&"/"&COLUMN(F38)-1 -> 39/5 | F39: =ROW(G38)+1&"/"&COLUMN(G38)-1 -> 39/6 | G39: =ROW(H38)+1&"/"&COLUMN(H38)-1 -> 39/7 | H39: =ROW(I38)+1&"/"&COLUMN(I38)-1 -> 39/8 | ... AD39: =ROW(AE38)+1&"/"&COLUMN(AE38)-1 -> 39/30
A40: =ROW(B39)+1&"/"&COLUMN(B39)-1 -> 40/1 | B40: =ROW(C39)+1&"/"&COLUMN(C39)-1 -> 40/2 | C40: =ROW(D39)+1&"/"&COLUMN(D39)-1 -> 40/3 | D40: =ROW(E39)+1&"/"&COLUMN(E39)-1 -> 40/4 | E40: =ROW(F39)+1&"/"&COLUMN(F39)-1 -> 40/5 | F40: =ROW(G39)+1&"/"&COLUMN(G39)-1 -> 40/6 | G40: =ROW(H39)+1&"/"&COLUMN(H39)-1 -> 40/7 | H40: =ROW(I39)+1&"/"&COLUMN(I39)-1 -> 40/8 | ... AD40: =ROW(AE39)+1&"/"&COLUMN(AE39)-1 -> 40/30

Sheet Feuil2
A1: =INDEX(Feuil1!$A$19:$AD$40,1,B1) -> 19/1 | B1: 1
A2: =INDEX(Feuil1!$A$19:$AD$40,2,B2) -> 20/1 | B2: 1
A3: =INDEX(Feuil1!$A$19:$AD$40,3,B3) -> 21/1 | B3: 1
A4: =INDEX(Feuil1!$A$19:$AD$40,4,B4) -> 0 | B4: 1
A5: =INDEX(Feuil1!$A$19:$AD$40,5,B5) -> 23/1 | B5: 1
A6: =INDEX(Feuil1!$A$19:$AD$40,6,B6) -> 24/1 | B6: 1
A7: =INDEX(Feuil1!$A$19:$AD$40,7,B7) -> 25/1 | B7: 1
A8: =INDEX(Feuil1!$A$19:$AD$40,8,B8) -> 26/1 | B8: 1
A9: =INDEX(Feuil1!$A$19:$AD$40,9,B9) -> 27/1 | B9: 1
A10: =INDEX(Feuil1!$A$19:$AD$40,10,B10) -> 28/1 | B10: 1
A11: =INDEX(Feuil1!$A$19:$AD$40,11,B11) -> 29/1 | B11: 1
A12: =INDEX(Feuil1!$A$19:$AD$40,12,B12) -> 30/1 | B12: 1
A13: =INDEX(Feuil1!$A$19:$AD$40,13,B13) -> 31/1 | B13: 1
A14: =INDEX(Feuil1!$A$19:$AD$40,14,B14) -> 32/1 | B14: 1
A15: =INDEX(Feuil1!$A$19:$AD$40,15,B15) -> 33/1 | B15: 1
A16: =INDEX(Feuil1!$A$19:$AD$40,16,B16) -> 34/1 | B16: 1
A17: =INDEX(Feuil1!$A$19:$AD$40,17,B17) -> 35/1 | B17: 1
A18: =INDEX(Feuil1!$A$19:$AD$40,18,B18) -> 36/1 | B18: 1
A19: =INDEX(Feuil1!$A$19:$AD$40,19,B19) -> 37/1 | B19: 1
A20: =INDEX(Feuil1!$A$19:$AD$40,20,B20) -> 38/1 | B20: 1
A21: =INDEX(Feuil1!$A$19:$AD$40,21,B21) -> 39/1 | B21: 1
A22: =INDEX(Feuil1!$A$19:$AD$40,22,B22) -> 40/1 | B22: 1
A23: =INDEX(Feuil1!$A$19:$AD$40,1,B23) -> 0 | B23: =B1+1 -> 2
A24: =INDEX(Feuil1!$A$19:$AD$40,2,B24) -> 20/2 | B24: =B2+1 -> 2
A25: =INDEX(Feuil1!$A$19:$AD$40,3,B25) -> 21/2 | B25: =B3+1 -> 2
A26: =INDEX(Feuil1!$A$19:$AD$40,4,B26) -> 22/2 | B26: =B4+1 -> 2
A27: =INDEX(Feuil1!$A$19:$AD$40,5,B27) -> 0 | B27: =B5+1 -> 2
A28: =INDEX(Feuil1!$A$19:$AD$40,6,B28) -> 24/2 | B28: =B6+1 -> 2
A29: =INDEX(Feuil1!$A$19:$AD$40,7,B29) -> 25/2 | B29: =B7+1 -> 2
A30: =INDEX(Feuil1!$A$19:$AD$40,8,B30) -> 26/2 | B30: =B8+1 -> 2
A31: =INDEX(Feuil1!$A$19:$AD$40,9,B31) -> 27/2 | B31: =B9+1 -> 2
A32: =INDEX(Feuil1!$A$19:$AD$40,10,B32) -> 28/2 | B32: =B10+1 -> 2
A33: =INDEX(Feuil1!$A$19:$AD$40,11,B33) -> 29/2 | B33: =B11+1 -> 2
A34: =INDEX(Feuil1!$A$19:$AD$40,12,B34) -> 30/2 | B34: =B12+1 -> 2
A35: =INDEX(Feuil1!$A$19:$AD$40,13,B35) -> 31/2 | B35: =B13+1 -> 2
A36: =INDEX(Feuil1!$A$19:$AD$40,14,B36) -> 32/2 | B36: =B14+1 -> 2
A37: =INDEX(Feuil1!$A$19:$AD$40,15,B37) -> 33/2 | B37: =B15+1 -> 2
A38: =INDEX(Feuil1!$A$19:$AD$40,16,B38) -> 34/2 | B38: =B16+1 -> 2
A39: =INDEX(Feuil1!$A$19:$AD$40,17,B39) -> 35/2 | B39: =B17+1 -> 2
A40: =INDEX(Feuil1!$A$19:$AD$40,18,B40) -> 36/2 | B40: =B18+1 -> 2
...
