Workbook

Sheet Liste Joueurs
A1: Liste des joueurs
A2: Alphonse A
A3: Bertrand B
A4: Cédric C
A5: Damien D
A6: Eric E
A7: Frédéric F
A8: Gérard G
A9: Hugo H
A10: Isidore I
A11: Jacques J
A12: Kévin K
... A27: Zaccharie Z

Sheet Rencontres Saison Régulière
L1: Classement | P1: Classement
B2: Joueurs | C2: Set 1 | D2: Set 2 | E2: Set 3 | F2: Set 4 | G2: Set 5 | I2: Points | J2: Diff. | L2: Rang | M2: Joueur | N2: Points | O2: Diff. | P2: N° Joueur | Q2: Rang | R2: Joueur | S2: Points | T2: Diff. | U2: Score
A3: Rencontre n°1 | B3: Damien D | C3: 9 | D3: 9 | E3: 9 | I3: =IF(COUNTA(C3:G3)=0,0,IF((COUNTIF(C3,">"&C4)+COUNTIF(D3,">"&D4)+COUNTIF(E3,">"&E4)+COUNTIF(F3,">"&F4)+COUNTIF(G3,">"&G4))=3,3,1)) -> 1 | J3: =SUM(C3:G3)-SUM(C4:G4) -> -6 | L3: 1 | M3: =VLOOKUP(L3,$Q$3:$T$32,2,FALSE) -> Cédric C | N3: =VLOOKUP(L3,$Q$3:$T$32,3,FALSE) -> 6 | O3: =VLOOKUP(L3,$Q$3:$T$32,4,FALSE) -> 12 | P3: 30 | Q3: =RANK(U3,$U$3:$U$32) -> 4 | R3: =IF('Liste Joueurs'!A2="","",'Liste Joueurs'!A2) -> Alphonse A | S3: =SUMIF(B:B,R3,I:I) -> 0 | T3: =SUMIF(B:B,R3,J:J) -> 0 | U3: =S3*100000+T3+P3/10000 -> 0.003
B4: Cédric C | C4: 11 | D4: 11 | E4: 11 | I4: =IF(COUNTA(C3:G3)=0,0,IF((COUNTIF(C3,"<"&C4)+COUNTIF(D3,"<"&D4)+COUNTIF(E3,"<"&E4)+COUNTIF(F3,"<"&F4)+COUNTIF(G3,"<"&G4))=3,3,1)) -> 3 | J4: =SUM(C4:G4)-SUM(C3:G3) -> 6 | L4: 2 | M4: =VLOOKUP(L4,$Q$3:$T$32,2,FALSE) -> Bertrand B | N4: =VLOOKUP(L4,$Q$3:$T$32,3,FALSE) -> 1 | O4: =VLOOKUP(L4,$Q$3:$T$32,4,FALSE) -> -6 | P4: 29 | Q4: =RANK(U4,$U$3:$U$32) -> 2 | R4: =IF('Liste Joueurs'!A3="","",'Liste Joueurs'!A3) -> Bertrand B | S4: =SUMIF(B:B,R4,I:I) -> 1 | T4: =SUMIF(B:B,R4,J:J) -> -6 | U4: =S4*100000+T4+P4/10000 -> 99994.003
L5: 3 | M5: =VLOOKUP(L5,$Q$3:$T$32,2,FALSE) -> Damien D | N5: =VLOOKUP(L5,$Q$3:$T$32,3,FALSE) -> 1 | O5: =VLOOKUP(L5,$Q$3:$T$32,4,FALSE) -> -6 | P5: 28 | Q5: =RANK(U5,$U$3:$U$32) -> 1 | R5: =IF('Liste Joueurs'!A4="","",'Liste Joueurs'!A4) -> Cédric C | S5: =SUMIF(B:B,R5,I:I) -> 6 | T5: =SUMIF(B:B,R5,J:J) -> 12 | U5: =S5*100000+T5+P5/10000 -> 600012
B6: Joueurs | C6: Set 1 | D6: Set 2 | E6: Set 3 | F6: Set 4 | G6: Set 5 | I6: Points | J6: Diff. | L6: 4 | M6: =VLOOKUP(L6,$Q$3:$T$32,2,FALSE) -> Alphonse A | N6: =VLOOKUP(L6,$Q$3:$T$32,3,FALSE) -> 0 | O6: =VLOOKUP(L6,$Q$3:$T$32,4,FALSE) -> 0 | P6: 27 | Q6: =RANK(U6,$U$3:$U$32) -> 3 | R6: =IF('Liste Joueurs'!A5="","",'Liste Joueurs'!A5) -> Damien D | S6: =SUMIF(B:B,R6,I:I) -> 1 | T6: =SUMIF(B:B,R6,J:J) -> -6 | U6: =S6*100000+T6+P6/10000 -> 99994.003
A7: Rencontre n°2 | B7: Bertrand B | C7: 9 | D7: 9 | E7: 9 | I7: =IF(COUNTA(C7:G7)=0,0,IF((COUNTIF(C7,">"&C8)+COUNTIF(D7,">"&D8)+COUNTIF(E7,">"&E8)+COUNTIF(F7,">"&F8)+COUNTIF(G7,">"&G8))=3,3,1)) -> 1 | J7: =SUM(C7:G7)-SUM(C8:G8) -> -6 | L7: 5 | M7: =VLOOKUP(L7,$Q$3:$T$32,2,FALSE) -> Eric E | N7: =VLOOKUP(L7,$Q$3:$T$32,3,FALSE) -> 0 | O7: =VLOOKUP(L7,$Q$3:$T$32,4,FALSE) -> 0 | P7: 26 | Q7: =RANK(U7,$U$3:$U$32) -> 5 | R7: =IF('Liste Joueurs'!A6="","",'Liste Joueurs'!A6) -> Eric E | S7: =SUMIF(B:B,R7,I:I) -> 0 | T7: =SUMIF(B:B,R7,J:J) -> 0 | U7: =S7*100000+T7+P7/10000 -> 0.0026
B8: Cédric C | C8: 11 | D8: 11 | E8: 11 | I8: =IF(COUNTA(C7:G7)=0,0,IF((COUNTIF(C7,"<"&C8)+COUNTIF(D7,"<"&D8)+COUNTIF(E7,"<"&E8)+COUNTIF(F7,"<"&F8)+COUNTIF(G7,"<"&G8))=3,3,1)) -> 3 | J8: =SUM(C8:G8)-SUM(C7:G7) -> 6 | L8: 6 | M8: =VLOOKUP(L8,$Q$3:$T$32,2,FALSE) -> Frédéric F | N8: =VLOOKUP(L8,$Q$3:$T$32,3,FALSE) -> 0 | O8: =VLOOKUP(L8,$Q$3:$T$32,4,FALSE) -> 0 | P8: 25 | Q8: =RANK(U8,$U$3:$U$32) -> 6 | R8: =IF('Liste Joueurs'!A7="","",'Liste Joueurs'!A7) -> Frédéric F | S8: =SUMIF(B:B,R8,I:I) -> 0 | T8: =SUMIF(B:B,R8,J:J) -> 0 | U8: =S8*100000+T8+P8/10000 -> 0.0025
L9: 7 | M9: =VLOOKUP(L9,$Q$3:$T$32,2,FALSE) -> Gérard G | N9: =VLOOKUP(L9,$Q$3:$T$32,3,FALSE) -> 0 | O9: =VLOOKUP(L9,$Q$3:$T$32,4,FALSE) -> 0 | P9: 24 | Q9: =RANK(U9,$U$3:$U$32) -> 7 | R9: =IF('Liste Joueurs'!A8="","",'Liste Joueurs'!A8) -> Gérard G | S9: =SUMIF(B:B,R9,I:I) -> 0 | T9: =SUMIF(B:B,R9,J:J) -> 0 | U9: =S9*100000+T9+P9/10000 -> 0.0024
B10: Joueurs | C10: Set 1 | D10: Set 2 | E10: Set 3 | F10: Set 4 | G10: Set 5 | I10: Points | J10: Diff. | L10: 8 | M10: =VLOOKUP(L10,$Q$3:$T$32,2,FALSE) -> Hugo H | N10: =VLOOKUP(L10,$Q$3:$T$32,3,FALSE) -> 0 | O10: =VLOOKUP(L10,$Q$3:$T$32,4,FALSE) -> 0 | P10: 23 | Q10: =RANK(U10,$U$3:$U$32) -> 8 | R10: =IF('Liste Joueurs'!A9="","",'Liste Joueurs'!A9) -> Hugo H | S10: =SUMIF(B:B,R10,I:I) -> 0 | T10: =SUMIF(B:B,R10,J:J) -> 0 | U10: =S10*100000+T10+P10/10000 -> 0.0023
A11: Rencontre n°3 | B11: Bertrand B | I11: =IF(COUNTA(C11:G11)=0,0,IF((COUNTIF(C11,">"&C12)+COUNTIF(D11,">"&D12)+COUNTIF(E11,">"&E12)+COUNTIF(F11,">"&F12)+COUNTIF(G11,">"&G12))=3,3,1)) -> 0 | J11: =SUM(C11:G11)-SUM(C12:G12) -> 0 | L11: 9 | M11: =VLOOKUP(L11,$Q$3:$T$32,2,FALSE) -> Isidore I | N11: =VLOOKUP(L11,$Q$3:$T$32,3,FALSE) -> 0 | O11: =VLOOKUP(L11,$Q$3:$T$32,4,FALSE) -> 0 | P11: 22 | Q11: =RANK(U11,$U$3:$U$32) -> 9 | R11: =IF('Liste Joueurs'!A10="","",'Liste Joueurs'!A10) -> Isidore I | S11: =SUMIF(B:B,R11,I:I) -> 0 | T11: =SUMIF(B:B,R11,J:J) -> 0 | U11: =S11*100000+T11+P11/10000 -> 0.0022
B12: Cédric C | I12: =IF(COUNTA(C11:G11)=0,0,IF((COUNTIF(C11,"<"&C12)+COUNTIF(D11,"<"&D12)+COUNTIF(E11,"<"&E12)+COUNTIF(F11,"<"&F12)+COUNTIF(G11,"<"&G12))=3,3,1)) -> 0 | J12: =SUM(C12:G12)-SUM(C11:G11) -> 0 | L12: 10 | M12: =VLOOKUP(L12,$Q$3:$T$32,2,FALSE) -> Jacques J | N12: =VLOOKUP(L12,$Q$3:$T$32,3,FALSE) -> 0 | O12: =VLOOKUP(L12,$Q$3:$T$32,4,FALSE) -> 0 | P12: 21 | Q12: =RANK(U12,$U$3:$U$32) -> 10 | R12: =IF('Liste Joueurs'!A11="","",'Liste Joueurs'!A11) -> Jacques J | S12: =SUMIF(B:B,R12,I:I) -> 0 | T12: =SUMIF(B:B,R12,J:J) -> 0 | U12: =S12*100000+T12+P12/10000 -> 0.0021
L13: 11 | M13: =VLOOKUP(L13,$Q$3:$T$32,2,FALSE) -> Kévin K | N13: =VLOOKUP(L13,$Q$3:$T$32,3,FALSE) -> 0 | O13: =VLOOKUP(L13,$Q$3:$T$32,4,FALSE) -> 0 | P13: 20 | Q13: =RANK(U13,$U$3:$U$32) -> 11 | R13: =IF('Liste Joueurs'!A12="","",'Liste Joueurs'!A12) -> Kévin K | S13: =SUMIF(B:B,R13,I:I) -> 0 | T13: =SUMIF(B:B,R13,J:J) -> 0 | U13: =S13*100000+T13+P13/10000 -> 0.002
B14: Joueurs | C14: Set 1 | D14: Set 2 | E14: Set 3 | F14: Set 4 | G14: Set 5 | I14: Points | J14: Diff. | L14: 12 | M14: =VLOOKUP(L14,$Q$3:$T$32,2,FALSE) -> Laurent L | N14: =VLOOKUP(L14,$Q$3:$T$32,3,FALSE) -> 0 | O14: =VLOOKUP(L14,$Q$3:$T$32,4,FALSE) -> 0 | P14: 19 | Q14: =RANK(U14,$U$3:$U$32) -> 12 | R14: =IF('Liste Joueurs'!A13="","",'Liste Joueurs'!A13) -> Laurent L | S14: =SUMIF(B:B,R14,I:I) -> 0 | T14: =SUMIF(B:B,R14,J:J) -> 0 | U14: =S14*100000+T14+P14/10000 -> 0.0019
A15: Rencontre n°4 | B15: Cédric C | I15: =IF(COUNTA(C15:G15)=0,0,IF((COUNTIF(C15,">"&C16)+COUNTIF(D15,">"&D16)+COUNTIF(E15,">"&E16)+COUNTIF(F15,">"&F16)+COUNTIF(G15,">"&G16))=3,3,1)) -> 0 | J15: =SUM(C15:G15)-SUM(C16:G16) -> 0 | L15: 13 | M15: =VLOOKUP(L15,$Q$3:$T$32,2,FALSE) -> Marc M | N15: =VLOOKUP(L15,$Q$3:$T$32,3,FALSE) -> 0 | O15: =VLOOKUP(L15,$Q$3:$T$32,4,FALSE) -> 0 | P15: 18 | Q15: =RANK(U15,$U$3:$U$32) -> 13 | R15: =IF('Liste Joueurs'!A14="","",'Liste Joueurs'!A14) -> Marc M | S15: =SUMIF(B:B,R15,I:I) -> 0 | T15: =SUMIF(B:B,R15,J:J) -> 0 | U15: =S15*100000+T15+P15/10000 -> 0.0018
B16: Damien D | I16: =IF(COUNTA(C15:G15)=0,0,IF((COUNTIF(C15,"<"&C16)+COUNTIF(D15,"<"&D16)+COUNTIF(E15,"<"&E16)+COUNTIF(F15,"<"&F16)+COUNTIF(G15,"<"&G16))=3,3,1)) -> 0 | J16: =SUM(C16:G16)-SUM(C15:G15) -> 0 | L16: 14 | M16: =VLOOKUP(L16,$Q$3:$T$32,2,FALSE) -> Noé N | N16: =VLOOKUP(L16,$Q$3:$T$32,3,FALSE) -> 0 | O16: =VLOOKUP(L16,$Q$3:$T$32,4,FALSE) -> 0 | P16: 17 | Q16: =RANK(U16,$U$3:$U$32) -> 14 | R16: =IF('Liste Joueurs'!A15="","",'Liste Joueurs'!A15) -> Noé N | S16: =SUMIF(B:B,R16,I:I) -> 0 | T16: =SUMIF(B:B,R16,J:J) -> 0 | U16: =S16*100000+T16+P16/10000 -> 0.0017
L17: 15 | M17: =VLOOKUP(L17,$Q$3:$T$32,2,FALSE) -> Olivier O | N17: =VLOOKUP(L17,$Q$3:$T$32,3,FALSE) -> 0 | O17: =VLOOKUP(L17,$Q$3:$T$32,4,FALSE) -> 0 | P17: 16 | Q17: =RANK(U17,$U$3:$U$32) -> 15 | R17: =IF('Liste Joueurs'!A16="","",'Liste Joueurs'!A16) -> Olivier O | S17: =SUMIF(B:B,R17,I:I) -> 0 | T17: =SUMIF(B:B,R17,J:J) -> 0 | U17: =S17*100000+T17+P17/10000 -> 0.0016
B18: Joueurs | C18: Set 1 | D18: Set 2 | E18: Set 3 | F18: Set 4 | G18: Set 5 | I18: Points | J18: Diff. | L18: 16 | M18: =VLOOKUP(L18,$Q$3:$T$32,2,FALSE) -> Patrick P | N18: =VLOOKUP(L18,$Q$3:$T$32,3,FALSE) -> 0 | O18: =VLOOKUP(L18,$Q$3:$T$32,4,FALSE) -> 0 | P18: 15 | Q18: =RANK(U18,$U$3:$U$32) -> 16 | R18: =IF('Liste Joueurs'!A17="","",'Liste Joueurs'!A17) -> Patrick P | S18: =SUMIF(B:B,R18,I:I) -> 0 | T18: =SUMIF(B:B,R18,J:J) -> 0 | U18: =S18*100000+T18+P18/10000 -> 0.0015
A19: Rencontre n°5 | B19: Damien D | I19: =IF(COUNTA(C19:G19)=0,0,IF((COUNTIF(C19,">"&C20)+COUNTIF(D19,">"&D20)+COUNTIF(E19,">"&E20)+COUNTIF(F19,">"&F20)+COUNTIF(G19,">"&G20))=3,3,1)) -> 0 | J19: =SUM(C19:G19)-SUM(C20:G20) -> 0 | L19: 17 | M19: =VLOOKUP(L19,$Q$3:$T$32,2,FALSE) -> Quentin Q | N19: =VLOOKUP(L19,$Q$3:$T$32,3,FALSE) -> 0 | O19: =VLOOKUP(L19,$Q$3:$T$32,4,FALSE) -> 0 | P19: 14 | Q19: =RANK(U19,$U$3:$U$32) -> 17 | R19: =IF('Liste Joueurs'!A18="","",'Liste Joueurs'!A18) -> Quentin Q | S19: =SUMIF(B:B,R19,I:I) -> 0 | T19: =SUMIF(B:B,R19,J:J) -> 0 | U19: =S19*100000+T19+P19/10000 -> 0.0014
B20: Bertrand B | I20: =IF(COUNTA(C19:G19)=0,0,IF((COUNTIF(C19,"<"&C20)+COUNTIF(D19,"<"&D20)+COUNTIF(E19,"<"&E20)+COUNTIF(F19,"<"&F20)+COUNTIF(G19,"<"&G20))=3,3,1)) -> 0 | J20: =SUM(C20:G20)-SUM(C19:G19) -> 0 | L20: 18 | M20: =VLOOKUP(L20,$Q$3:$T$32,2,FALSE) -> René R | N20: =VLOOKUP(L20,$Q$3:$T$32,3,FALSE) -> 0 | O20: =VLOOKUP(L20,$Q$3:$T$32,4,FALSE) -> 0 | P20: 13 | Q20: =RANK(U20,$U$3:$U$32) -> 18 | R20: =IF('Liste Joueurs'!A19="","",'Liste Joueurs'!A19) -> René R | S20: =SUMIF(B:B,R20,I:I) -> 0 | T20: =SUMIF(B:B,R20,J:J) -> 0 | U20: =S20*100000+T20+P20/10000 -> 0.0013
L21: 19 | M21: =VLOOKUP(L21,$Q$3:$T$32,2,FALSE) -> Sylvain S | N21: =VLOOKUP(L21,$Q$3:$T$32,3,FALSE) -> 0 | O21: =VLOOKUP(L21,$Q$3:$T$32,4,FALSE) -> 0 | P21: 12 | Q21: =RANK(U21,$U$3:$U$32) -> 19 | R21: =IF('Liste Joueurs'!A20="","",'Liste Joueurs'!A20) -> Sylvain S | S21: =SUMIF(B:B,R21,I:I) -> 0 | T21: =SUMIF(B:B,R21,J:J) -> 0 | U21: =S21*100000+T21+P21/10000 -> 0.0012
B22: Joueurs | C22: Set 1 | D22: Set 2 | E22: Set 3 | F22: Set 4 | G22: Set 5 | I22: Points | J22: Diff. | L22: 20 | M22: =VLOOKUP(L22,$Q$3:$T$32,2,FALSE) -> Thomas T | N22: =VLOOKUP(L22,$Q$3:$T$32,3,FALSE) -> 0 | O22: =VLOOKUP(L22,$Q$3:$T$32,4,FALSE) -> 0 | P22: 11 | Q22: =RANK(U22,$U$3:$U$32) -> 20 | R22: =IF('Liste Joueurs'!A21="","",'Liste Joueurs'!A21) -> Thomas T | S22: =SUMIF(B:B,R22,I:I) -> 0 | T22: =SUMIF(B:B,R22,J:J) -> 0 | U22: =S22*100000+T22+P22/10000 -> 0.0011
A23: Rencontre n°6 | I23: =IF(COUNTA(C23:G23)=0,0,IF((COUNTIF(C23,">"&C24)+COUNTIF(D23,">"&D24)+COUNTIF(E23,">"&E24)+COUNTIF(F23,">"&F24)+COUNTIF(G23,">"&G24))=3,3,1)) -> 0 | J23: =SUM(C23:G23)-SUM(C24:G24) -> 0 | L23: 21 | M23: =VLOOKUP(L23,$Q$3:$T$32,2,FALSE) -> Ulysse U | N23: =VLOOKUP(L23,$Q$3:$T$32,3,FALSE) -> 0 | O23: =VLOOKUP(L23,$Q$3:$T$32,4,FALSE) -> 0 | P23: 10 | Q23: =RANK(U23,$U$3:$U$32) -> 21 | R23: =IF('Liste Joueurs'!A22="","",'Liste Joueurs'!A22) -> Ulysse U | S23: =SUMIF(B:B,R23,I:I) -> 0 | T23: =SUMIF(B:B,R23,J:J) -> 0 | U23: =S23*100000+T23+P23/10000 -> 0.001
I24: =IF(COUNTA(C23:G23)=0,0,IF((COUNTIF(C23,"<"&C24)+COUNTIF(D23,"<"&D24)+COUNTIF(E23,"<"&E24)+COUNTIF(F23,"<"&F24)+COUNTIF(G23,"<"&G24))=3,3,1)) -> 0 | J24: =SUM(C24:G24)-SUM(C23:G23) -> 0 | L24: 22 | M24: =VLOOKUP(L24,$Q$3:$T$32,2,FALSE) -> Vincent V | N24: =VLOOKUP(L24,$Q$3:$T$32,3,FALSE) -> 0 | O24: =VLOOKUP(L24,$Q$3:$T$32,4,FALSE) -> 0 | P24: 9 | Q24: =RANK(U24,$U$3:$U$32) -> 22 | R24: =IF('Liste Joueurs'!A23="","",'Liste Joueurs'!A23) -> Vincent V | S24: =SUMIF(B:B,R24,I:I) -> 0 | T24: =SUMIF(B:B,R24,J:J) -> 0 | U24: =S24*100000+T24+P24/10000 -> 0.0009
L25: 23 | M25: =VLOOKUP(L25,$Q$3:$T$32,2,FALSE) -> Wilfried W | N25: =VLOOKUP(L25,$Q$3:$T$32,3,FALSE) -> 0 | O25: =VLOOKUP(L25,$Q$3:$T$32,4,FALSE) -> 0 | P25: 8 | Q25: =RANK(U25,$U$3:$U$32) -> 23 | R25: =IF('Liste Joueurs'!A24="","",'Liste Joueurs'!A24) -> Wilfried W | S25: =SUMIF(B:B,R25,I:I) -> 0 | T25: =SUMIF(B:B,R25,J:J) -> 0 | U25: =S25*100000+T25+P25/10000 -> 0.0008
B26: Joueurs | C26: Set 1 | D26: Set 2 | E26: Set 3 | F26: Set 4 | G26: Set 5 | I26: Points | J26: Diff. | L26: 24 | M26: =VLOOKUP(L26,$Q$3:$T$32,2,FALSE) -> Xavier X | N26: =VLOOKUP(L26,$Q$3:$T$32,3,FALSE) -> 0 | O26: =VLOOKUP(L26,$Q$3:$T$32,4,FALSE) -> 0 | P26: 7 | Q26: =RANK(U26,$U$3:$U$32) -> 24 | R26: =IF('Liste Joueurs'!A25="","",'Liste Joueurs'!A25) -> Xavier X | S26: =SUMIF(B:B,R26,I:I) -> 0 | T26: =SUMIF(B:B,R26,J:J) -> 0 | U26: =S26*100000+T26+P26/10000 -> 0.0007
A27: Rencontre n°7 | I27: =IF(COUNTA(C27:G27)=0,0,IF((COUNTIF(C27,">"&C28)+COUNTIF(D27,">"&D28)+COUNTIF(E27,">"&E28)+COUNTIF(F27,">"&F28)+COUNTIF(G27,">"&G28))=3,3,1)) -> 0 | J27: =SUM(C27:G27)-SUM(C28:G28) -> 0 | L27: 25 | M27: =VLOOKUP(L27,$Q$3:$T$32,2,FALSE) -> Yoann Y | N27: =VLOOKUP(L27,$Q$3:$T$32,3,FALSE) -> 0 | O27: =VLOOKUP(L27,$Q$3:$T$32,4,FALSE) -> 0 | P27: 6 | Q27: =RANK(U27,$U$3:$U$32) -> 25 | R27: =IF('Liste Joueurs'!A26="","",'Liste Joueurs'!A26) -> Yoann Y | S27: =SUMIF(B:B,R27,I:I) -> 0 | T27: =SUMIF(B:B,R27,J:J) -> 0 | U27: =S27*100000+T27+P27/10000 -> 0.0006
I28: =IF(COUNTA(C27:G27)=0,0,IF((COUNTIF(C27,"<"&C28)+COUNTIF(D27,"<"&D28)+COUNTIF(E27,"<"&E28)+COUNTIF(F27,"<"&F28)+COUNTIF(G27,"<"&G28))=3,3,1)) -> 0 | J28: =SUM(C28:G28)-SUM(C27:G27) -> 0 | L28: 26 | M28: =VLOOKUP(L28,$Q$3:$T$32,2,FALSE) -> Zaccharie Z | N28: =VLOOKUP(L28,$Q$3:$T$32,3,FALSE) -> 0 | O28: =VLOOKUP(L28,$Q$3:$T$32,4,FALSE) -> 0 | P28: 5 | Q28: =RANK(U28,$U$3:$U$32) -> 26 | R28: =IF('Liste Joueurs'!A27="","",'Liste Joueurs'!A27) -> Zaccharie Z | S28: =SUMIF(B:B,R28,I:I) -> 0 | T28: =SUMIF(B:B,R28,J:J) -> 0 | U28: =S28*100000+T28+P28/10000 -> 0.0005
L29: 27 | M29: =VLOOKUP(L29,$Q$3:$T$32,2,FALSE) | N29: =VLOOKUP(L29,$Q$3:$T$32,3,FALSE) -> 0 | O29: =VLOOKUP(L29,$Q$3:$T$32,4,FALSE) -> 0 | P29: 4 | Q29: =RANK(U29,$U$3:$U$32) -> 27 | R29: =IF('Liste Joueurs'!A28="","",'Liste Joueurs'!A28) | S29: =SUMIF(B:B,R29,I:I) -> 0 | T29: =SUMIF(B:B,R29,J:J) -> 0 | U29: =S29*100000+T29+P29/10000 -> 0.0004
B30: Joueurs | C30: Set 1 | D30: Set 2 | E30: Set 3 | F30: Set 4 | G30: Set 5 | I30: Points | J30: Diff. | L30: 28 | M30: =VLOOKUP(L30,$Q$3:$T$32,2,FALSE) | N30: =VLOOKUP(L30,$Q$3:$T$32,3,FALSE) -> 0 | O30: =VLOOKUP(L30,$Q$3:$T$32,4,FALSE) -> 0 | P30: 3 | Q30: =RANK(U30,$U$3:$U$32) -> 28 | R30: =IF('Liste Joueurs'!A29="","",'Liste Joueurs'!A29) | S30: =SUMIF(B:B,R30,I:I) -> 0 | T30: =SUMIF(B:B,R30,J:J) -> 0 | U30: =S30*100000+T30+P30/10000 -> 0.0003
A31: Rencontre n°8 | I31: =IF(COUNTA(C31:G31)=0,0,IF((COUNTIF(C31,">"&C32)+COUNTIF(D31,">"&D32)+COUNTIF(E31,">"&E32)+COUNTIF(F31,">"&F32)+COUNTIF(G31,">"&G32))=3,3,1)) -> 0 | J31: =SUM(C31:G31)-SUM(C32:G32) -> 0 | L31: 29 | M31: =VLOOKUP(L31,$Q$3:$T$32,2,FALSE) | N31: =VLOOKUP(L31,$Q$3:$T$32,3,FALSE) -> 0 | O31: =VLOOKUP(L31,$Q$3:$T$32,4,FALSE) -> 0 | P31: 2 | Q31: =RANK(U31,$U$3:$U$32) -> 29 | R31: =IF('Liste Joueurs'!A30="","",'Liste Joueurs'!A30) | S31: =SUMIF(B:B,R31,I:I) -> 0 | T31: =SUMIF(B:B,R31,J:J) -> 0 | U31: =S31*100000+T31+P31/10000 -> 0.0002
I32: =IF(COUNTA(C31:G31)=0,0,IF((COUNTIF(C31,"<"&C32)+COUNTIF(D31,"<"&D32)+COUNTIF(E31,"<"&E32)+COUNTIF(F31,"<"&F32)+COUNTIF(G31,"<"&G32))=3,3,1)) -> 0 | J32: =SUM(C32:G32)-SUM(C31:G31) -> 0 | L32: 30 | M32: =VLOOKUP(L32,$Q$3:$T$32,2,FALSE) | N32: =VLOOKUP(L32,$Q$3:$T$32,3,FALSE) -> 0 | O32: =VLOOKUP(L32,$Q$3:$T$32,4,FALSE) -> 0 | P32: 1 | Q32: =RANK(U32,$U$3:$U$32) -> 30 | R32: =IF('Liste Joueurs'!A31="","",'Liste Joueurs'!A31) | S32: =SUMIF(B:B,R32,I:I) -> 0 | T32: =SUMIF(B:B,R32,J:J) -> 0 | U32: =S32*100000+T32+P32/10000 -> 0.0001
B34: Joueurs | C34: Set 1 | D34: Set 2 | E34: Set 3 | F34: Set 4 | G34: Set 5 | I34: Points | J34: Diff.
A35: Rencontre n°9 | I35: =IF(COUNTA(C35:G35)=0,0,IF((COUNTIF(C35,">"&C36)+COUNTIF(D35,">"&D36)+COUNTIF(E35,">"&E36)+COUNTIF(F35,">"&F36)+COUNTIF(G35,">"&G36))=3,3,1)) -> 0 | J35: =SUM(C35:G35)-SUM(C36:G36) -> 0
I36: =IF(COUNTA(C35:G35)=0,0,IF((COUNTIF(C35,"<"&C36)+COUNTIF(D35,"<"&D36)+COUNTIF(E35,"<"&E36)+COUNTIF(F35,"<"&F36)+COUNTIF(G35,"<"&G36))=3,3,1)) -> 0 | J36: =SUM(C36:G36)-SUM(C35:G35) -> 0
B38: Joueurs | C38: Set 1 | D38: Set 2 | E38: Set 3 | F38: Set 4 | G38: Set 5 | I38: Points | J38: Diff.
A39: Rencontre n°10 | I39: =IF(COUNTA(C39:G39)=0,0,IF((COUNTIF(C39,">"&C40)+COUNTIF(D39,">"&D40)+COUNTIF(E39,">"&E40)+COUNTIF(F39,">"&F40)+COUNTIF(G39,">"&G40))=3,3,1)) -> 0 | J39: =SUM(C39:G39)-SUM(C40:G40) -> 0
I40: =IF(COUNTA(C39:G39)=0,0,IF((COUNTIF(C39,"<"&C40)+COUNTIF(D39,"<"&D40)+COUNTIF(E39,"<"&E40)+COUNTIF(F39,"<"&F40)+COUNTIF(G39,"<"&G40))=3,3,1)) -> 0 | J40: =SUM(C40:G40)-SUM(C39:G39) -> 0
B42: Joueurs | C42: Set 1 | D42: Set 2 | E42: Set 3 | F42: Set 4 | G42: Set 5 | I42: Points | J42: Diff.
A43: Rencontre n°11 | I43: =IF(COUNTA(C43:G43)=0,0,IF((COUNTIF(C43,">"&C44)+COUNTIF(D43,">"&D44)+COUNTIF(E43,">"&E44)+COUNTIF(F43,">"&F44)+COUNTIF(G43,">"&G44))=3,3,1)) -> 0 | J43: =SUM(C43:G43)-SUM(C44:G44) -> 0
I44: =IF(COUNTA(C43:G43)=0,0,IF((COUNTIF(C43,"<"&C44)+COUNTIF(D43,"<"&D44)+COUNTIF(E43,"<"&E44)+COUNTIF(F43,"<"&F44)+COUNTIF(G43,"<"&G44))=3,3,1)) -> 0 | J44: =SUM(C44:G44)-SUM(C43:G43) -> 0
B46: Joueurs | C46: Set 1 | D46: Set 2 | E46: Set 3 | F46: Set 4 | G46: Set 5 | I46: Points | J46: Diff.
A47: Rencontre n°12 | I47: =IF(COUNTA(C47:G47)=0,0,IF((COUNTIF(C47,">"&C48)+COUNTIF(D47,">"&D48)+COUNTIF(E47,">"&E48)+COUNTIF(F47,">"&F48)+COUNTIF(G47,">"&G48))=3,3,1)) -> 0 | J47: =SUM(C47:G47)-SUM(C48:G48) -> 0
I48: =IF(COUNTA(C47:G47)=0,0,IF((COUNTIF(C47,"<"&C48)+COUNTIF(D47,"<"&D48)+COUNTIF(E47,"<"&E48)+COUNTIF(F47,"<"&F48)+COUNTIF(G47,"<"&G48))=3,3,1)) -> 0 | J48: =SUM(C48:G48)-SUM(C47:G47) -> 0
B50: Joueurs | C50: Set 1 | D50: Set 2 | E50: Set 3 | F50: Set 4 | G50: Set 5 | I50: Points | J50: Diff.
A51: Rencontre n°13 | I51: =IF(COUNTA(C51:G51)=0,0,IF((COUNTIF(C51,">"&C52)+COUNTIF(D51,">"&D52)+COUNTIF(E51,">"&E52)+COUNTIF(F51,">"&F52)+COUNTIF(G51,">"&G52))=3,3,1)) -> 0 | J51: =SUM(C51:G51)-SUM(C52:G52) -> 0
I52: =IF(COUNTA(C51:G51)=0,0,IF((COUNTIF(C51,"<"&C52)+COUNTIF(D51,"<"&D52)+COUNTIF(E51,"<"&E52)+COUNTIF(F51,"<"&F52)+COUNTIF(G51,"<"&G52))=3,3,1)) -> 0 | J52: =SUM(C52:G52)-SUM(C51:G51) -> 0
B54: Joueurs | C54: Set 1 | D54: Set 2 | E54: Set 3 | F54: Set 4 | G54: Set 5 | I54: Points | J54: Diff.
A55: Rencontre n°14 | I55: =IF(COUNTA(C55:G55)=0,0,IF((COUNTIF(C55,">"&C56)+COUNTIF(D55,">"&D56)+COUNTIF(E55,">"&E56)+COUNTIF(F55,">"&F56)+COUNTIF(G55,">"&G56))=3,3,1)) -> 0 | J55: =SUM(C55:G55)-SUM(C56:G56) -> 0
I56: =IF(COUNTA(C55:G55)=0,0,IF((COUNTIF(C55,"<"&C56)+COUNTIF(D55,"<"&D56)+COUNTIF(E55,"<"&E56)+COUNTIF(F55,"<"&F56)+COUNTIF(G55,"<"&G56))=3,3,1)) -> 0 | J56: =SUM(C56:G56)-SUM(C55:G55) -> 0
B58: Joueurs | C58: Set 1 | D58: Set 2 | E58: Set 3 | F58: Set 4 | G58: Set 5 | I58: Points | J58: Diff.
A59: Rencontre n°15 | I59: =IF(COUNTA(C59:G59)=0,0,IF((COUNTIF(C59,">"&C60)+COUNTIF(D59,">"&D60)+COUNTIF(E59,">"&E60)+COUNTIF(F59,">"&F60)+COUNTIF(G59,">"&G60))=3,3,1)) -> 0 | J59: =SUM(C59:G59)-SUM(C60:G60) -> 0
I60: =IF(COUNTA(C59:G59)=0,0,IF((COUNTIF(C59,"<"&C60)+COUNTIF(D59,"<"&D60)+COUNTIF(E59,"<"&E60)+COUNTIF(F59,"<"&F60)+COUNTIF(G59,"<"&G60))=3,3,1)) -> 0 | J60: =SUM(C60:G60)-SUM(C59:G59) -> 0
B62: Joueurs | C62: Set 1 | D62: Set 2 | E62: Set 3 | F62: Set 4 | G62: Set 5 | I62: Points | J62: Diff.
A63: Rencontre n°16 | I63: =IF(COUNTA(C63:G63)=0,0,IF((COUNTIF(C63,">"&C64)+COUNTIF(D63,">"&D64)+COUNTIF(E63,">"&E64)+COUNTIF(F63,">"&F64)+COUNTIF(G63,">"&G64))=3,3,1)) -> 0 | J63: =SUM(C63:G63)-SUM(C64:G64) -> 0
I64: =IF(COUNTA(C63:G63)=0,0,IF((COUNTIF(C63,"<"&C64)+COUNTIF(D63,"<"&D64)+COUNTIF(E63,"<"&E64)+COUNTIF(F63,"<"&F64)+COUNTIF(G63,"<"&G64))=3,3,1)) -> 0 | J64: =SUM(C64:G64)-SUM(C63:G63) -> 0
B66: Joueurs | C66: Set 1 | D66: Set 2 | E66: Set 3 | F66: Set 4 | G66: Set 5 | I66: Points | J66: Diff.
A67: Rencontre n°17 | I67: =IF(COUNTA(C67:G67)=0,0,IF((COUNTIF(C67,">"&C68)+COUNTIF(D67,">"&D68)+COUNTIF(E67,">"&E68)+COUNTIF(F67,">"&F68)+COUNTIF(G67,">"&G68))=3,3,1)) -> 0 | J67: =SUM(C67:G67)-SUM(C68:G68) -> 0
I68: =IF(COUNTA(C67:G67)=0,0,IF((COUNTIF(C67,"<"&C68)+COUNTIF(D67,"<"&D68)+COUNTIF(E67,"<"&E68)+COUNTIF(F67,"<"&F68)+COUNTIF(G67,"<"&G68))=3,3,1)) -> 0 | J68: =SUM(C68:G68)-SUM(C67:G67) -> 0
B70: Joueurs | C70: Set 1 | D70: Set 2 | E70: Set 3 | F70: Set 4 | G70: Set 5 | I70: Points | J70: Diff.
A71: Rencontre n°18 | I71: =IF(COUNTA(C71:G71)=0,0,IF((COUNTIF(C71,">"&C72)+COUNTIF(D71,">"&D72)+COUNTIF(E71,">"&E72)+COUNTIF(F71,">"&F72)+COUNTIF(G71,">"&G72))=3,3,1)) -> 0 | J71: =SUM(C71:G71)-SUM(C72:G72) -> 0
I72: =IF(COUNTA(C71:G71)=0,0,IF((COUNTIF(C71,"<"&C72)+COUNTIF(D71,"<"&D72)+COUNTIF(E71,"<"&E72)+COUNTIF(F71,"<"&F72)+COUNTIF(G71,"<"&G72))=3,3,1)) -> 0 | J72: =SUM(C72:G72)-SUM(C71:G71) -> 0
B74: Joueurs | C74: Set 1 | D74: Set 2 | E74: Set 3 | F74: Set 4 | G74: Set 5 | I74: Points | J74: Diff.
A75: Rencontre n°19 | I75: =IF(COUNTA(C75:G75)=0,0,IF((COUNTIF(C75,">"&C76)+COUNTIF(D75,">"&D76)+COUNTIF(E75,">"&E76)+COUNTIF(F75,">"&F76)+COUNTIF(G75,">"&G76))=3,3,1)) -> 0 | J75: =SUM(C75:G75)-SUM(C76:G76) -> 0
I76: =IF(COUNTA(C75:G75)=0,0,IF((COUNTIF(C75,"<"&C76)+COUNTIF(D75,"<"&D76)+COUNTIF(E75,"<"&E76)+COUNTIF(F75,"<"&F76)+COUNTIF(G75,"<"&G76))=3,3,1)) -> 0 | J76: =SUM(C76:G76)-SUM(C75:G75) -> 0
B78: Joueurs | C78: Set 1 | D78: Set 2 | E78: Set 3 | F78: Set 4 | G78: Set 5 | I78: Points | J78: Diff.
A79: Rencontre n°20 | I79: =IF(COUNTA(C79:G79)=0,0,IF((COUNTIF(C79,">"&C80)+COUNTIF(D79,">"&D80)+COUNTIF(E79,">"&E80)+COUNTIF(F79,">"&F80)+COUNTIF(G79,">"&G80))=3,3,1)) -> 0 | J79: =SUM(C79:G79)-SUM(C80:G80) -> 0
I80: =IF(COUNTA(C79:G79)=0,0,IF((COUNTIF(C79,"<"&C80)+COUNTIF(D79,"<"&D80)+COUNTIF(E79,"<"&E80)+COUNTIF(F79,"<"&F80)+COUNTIF(G79,"<"&G80))=3,3,1)) -> 0 | J80: =SUM(C80:G80)-SUM(C79:G79) -> 0
B82: Joueurs | C82: Set 1 | D82: Set 2 | E82: Set 3 | F82: Set 4 | G82: Set 5 | I82: Points | J82: Diff.
A83: Rencontre n°21 | I83: =IF(COUNTA(C83:G83)=0,0,IF((COUNTIF(C83,">"&C84)+COUNTIF(D83,">"&D84)+COUNTIF(E83,">"&E84)+COUNTIF(F83,">"&F84)+COUNTIF(G83,">"&G84))=3,3,1)) -> 0 | J83: =SUM(C83:G83)-SUM(C84:G84) -> 0
I84: =IF(COUNTA(C83:G83)=0,0,IF((COUNTIF(C83,"<"&C84)+COUNTIF(D83,"<"&D84)+COUNTIF(E83,"<"&E84)+COUNTIF(F83,"<"&F84)+COUNTIF(G83,"<"&G84))=3,3,1)) -> 0 | J84: =SUM(C84:G84)-SUM(C83:G83) -> 0
B86: Joueurs | C86: Set 1 | D86: Set 2 | E86: Set 3 | F86: Set 4 | G86: Set 5 | I86: Points | J86: Diff.
A87: Rencontre n°22 | I87: =IF(COUNTA(C87:G87)=0,0,IF((COUNTIF(C87,">"&C88)+COUNTIF(D87,">"&D88)+COUNTIF(E87,">"&E88)+COUNTIF(F87,">"&F88)+COUNTIF(G87,">"&G88))=3,3,1)) -> 0 | J87: =SUM(C87:G87)-SUM(C88:G88) -> 0
I88: =IF(COUNTA(C87:G87)=0,0,IF((COUNTIF(C87,"<"&C88)+COUNTIF(D87,"<"&D88)+COUNTIF(E87,"<"&E88)+COUNTIF(F87,"<"&F88)+COUNTIF(G87,"<"&G88))=3,3,1)) -> 0 | J88: =SUM(C88:G88)-SUM(C87:G87) -> 0
B90: Joueurs | C90: Set 1 | D90: Set 2 | E90: Set 3 | F90: Set 4 | G90: Set 5 | I90: Points | J90: Diff.
A91: Rencontre n°23 | I91: =IF(COUNTA(C91:G91)=0,0,IF((COUNTIF(C91,">"&C92)+COUNTIF(D91,">"&D92)+COUNTIF(E91,">"&E92)+COUNTIF(F91,">"&F92)+COUNTIF(G91,">"&G92))=3,3,1)) -> 0 | J91: =SUM(C91:G91)-SUM(C92:G92) -> 0
I92: =IF(COUNTA(C91:G91)=0,0,IF((COUNTIF(C91,"<"&C92)+COUNTIF(D91,"<"&D92)+COUNTIF(E91,"<"&E92)+COUNTIF(F91,"<"&F92)+COUNTIF(G91,"<"&G92))=3,3,1)) -> 0 | J92: =SUM(C92:G92)-SUM(C91:G91) -> 0
B94: Joueurs | C94: Set 1 | D94: Set 2 | E94: Set 3 | F94: Set 4 | G94: Set 5 | I94: Points | J94: Diff.
A95: Rencontre n°24 | I95: =IF(COUNTA(C95:G95)=0,0,IF((COUNTIF(C95,">"&C96)+COUNTIF(D95,">"&D96)+COUNTIF(E95,">"&E96)+COUNTIF(F95,">"&F96)+COUNTIF(G95,">"&G96))=3,3,1)) -> 0 | J95: =SUM(C95:G95)-SUM(C96:G96) -> 0
I96: =IF(COUNTA(C95:G95)=0,0,IF((COUNTIF(C95,"<"&C96)+COUNTIF(D95,"<"&D96)+COUNTIF(E95,"<"&E96)+COUNTIF(F95,"<"&F96)+COUNTIF(G95,"<"&G96))=3,3,1)) -> 0 | J96: =SUM(C96:G96)-SUM(C95:G95) -> 0
B98: Joueurs | C98: Set 1 | D98: Set 2 | E98: Set 3 | F98: Set 4 | G98: Set 5 | I98: Points | J98: Diff.
A99: Rencontre n°25 | I99: =IF(COUNTA(C99:G99)=0,0,IF((COUNTIF(C99,">"&C100)+COUNTIF(D99,">"&D100)+COUNTIF(E99,">"&E100)+COUNTIF(F99,">"&F100)+COUNTIF(G99,">"&G100))=3,3,1)) -> 0 | J99: =SUM(C99:G99)-SUM(C100:G100) -> 0
I100: =IF(COUNTA(C99:G99)=0,0,IF((COUNTIF(C99,"<"&C100)+COUNTIF(D99,"<"&D100)+COUNTIF(E99,"<"&E100)+COUNTIF(F99,"<"&F100)+COUNTIF(G99,"<"&G100))=3,3,1)) -> 0 | J100: =SUM(C100:G100)-SUM(C99:G99) -> 0
B102: Joueurs | C102: Set 1 | D102: Set 2 | E102: Set 3 | F102: Set 4 | G102: Set 5 | I102: Points | J102: Diff.
A103: Rencontre n°26 | I103: =IF(COUNTA(C103:G103)=0,0,IF((COUNTIF(C103,">"&C104)+COUNTIF(D103,">"&D104)+COUNTIF(E103,">"&E104)+COUNTIF(F103,">"&F104)+COUNTIF(G103,">"&G104))=3,3,1)) -> 0 | J103: =SUM(C103:G103)-SUM(C104:G104) -> 0
I104: =IF(COUNTA(C103:G103)=0,0,IF((COUNTIF(C103,"<"&C104)+COUNTIF(D103,"<"&D104)+COUNTIF(E103,"<"&E104)+COUNTIF(F103,"<"&F104)+COUNTIF(G103,"<"&G104))=3,3,1)) -> 0 | J104: =SUM(C104:G104)-SUM(C103:G103) -> 0
B106: Joueurs | C106: Set 1 | D106: Set 2 | E106: Set 3 | F106: Set 4 | G106: Set 5 | I106: Points | J106: Diff.
A107: Rencontre n°27 | I107: =IF(COUNTA(C107:G107)=0,0,IF((COUNTIF(C107,">"&C108)+COUNTIF(D107,">"&D108)+COUNTIF(E107,">"&E108)+COUNTIF(F107,">"&F108)+COUNTIF(G107,">"&G108))=3,3,1)) -> 0 | J107: =SUM(C107:G107)-SUM(C108:G108) -> 0
I108: =IF(COUNTA(C107:G107)=0,0,IF((COUNTIF(C107,"<"&C108)+COUNTIF(D107,"<"&D108)+COUNTIF(E107,"<"&E108)+COUNTIF(F107,"<"&F108)+COUNTIF(G107,"<"&G108))=3,3,1)) -> 0 | J108: =SUM(C108:G108)-SUM(C107:G107) -> 0
B110: Joueurs | C110: Set 1 | D110: Set 2 | E110: Set 3 | F110: Set 4 | G110: Set 5 | I110: Points | J110: Diff.
A111: Rencontre n°28 | I111: =IF(COUNTA(C111:G111)=0,0,IF((COUNTIF(C111,">"&C112)+COUNTIF(D111,">"&D112)+COUNTIF(E111,">"&E112)+COUNTIF(F111,">"&F112)+COUNTIF(G111,">"&G112))=3,3,1)) -> 0 | J111: =SUM(C111:G111)-SUM(C112:G112) -> 0
I112: =IF(COUNTA(C111:G111)=0,0,IF((COUNTIF(C111,"<"&C112)+COUNTIF(D111,"<"&D112)+COUNTIF(E111,"<"&E112)+COUNTIF(F111,"<"&F112)+COUNTIF(G111,"<"&G112))=3,3,1)) -> 0 | J112: =SUM(C112:G112)-SUM(C111:G111) -> 0
B114: Joueurs | C114: Set 1 | D114: Set 2 | E114: Set 3 | F114: Set 4 | G114: Set 5 | I114: Points | J114: Diff.
A115: Rencontre n°29 | I115: =IF(COUNTA(C115:G115)=0,0,IF((COUNTIF(C115,">"&C116)+COUNTIF(D115,">"&D116)+COUNTIF(E115,">"&E116)+COUNTIF(F115,">"&F116)+COUNTIF(G115,">"&G116))=3,3,1)) -> 0 | J115: =SUM(C115:G115)-SUM(C116:G116) -> 0
I116: =IF(COUNTA(C115:G115)=0,0,IF((COUNTIF(C115,"<"&C116)+COUNTIF(D115,"<"&D116)+COUNTIF(E115,"<"&E116)+COUNTIF(F115,"<"&F116)+COUNTIF(G115,"<"&G116))=3,3,1)) -> 0 | J116: =SUM(C116:G116)-SUM(C115:G115) -> 0
B118: Joueurs | C118: Set 1 | D118: Set 2 | E118: Set 3 | F118: Set 4 | G118: Set 5 | I118: Points | J118: Diff.
A119: Rencontre n°30 | I119: =IF(COUNTA(C119:G119)=0,0,IF((COUNTIF(C119,">"&C120)+COUNTIF(D119,">"&D120)+COUNTIF(E119,">"&E120)+COUNTIF(F119,">"&F120)+COUNTIF(G119,">"&G120))=3,3,1)) -> 0 | J119: =SUM(C119:G119)-SUM(C120:G120) -> 0
I120: =IF(COUNTA(C119:G119)=0,0,IF((COUNTIF(C119,"<"&C120)+COUNTIF(D119,"<"&D120)+COUNTIF(E119,"<"&E120)+COUNTIF(F119,"<"&F120)+COUNTIF(G119,"<"&G120))=3,3,1)) -> 0 | J120: =SUM(C120:G120)-SUM(C119:G119) -> 0
B122: Joueurs | C122: Set 1 | D122: Set 2 | E122: Set 3 | F122: Set 4 | G122: Set 5 | I122: Points | J122: Diff.
A123: Rencontre n°31 | I123: =IF(COUNTA(C123:G123)=0,0,IF((COUNTIF(C123,">"&C124)+COUNTIF(D123,">"&D124)+COUNTIF(E123,">"&E124)+COUNTIF(F123,">"&F124)+COUNTIF(G123,">"&G124))=3,3,1)) -> 0 | J123: =SUM(C123:G123)-SUM(C124:G124) -> 0
...

Sheet Tournois
A1: Liste des joueurs Présents | B1: Class. Saison | C1: N° Tête de série | E1: Composition - POULE 1 | M1: Classement - POULE 1 | P1: Composition - POULE 2 | X1: Classement - POULE 2 | AA1: Composition - POULE 3 | AI1: Classement - POULE 3 | AL1: Composition - POULE 4 | AT1: Classement - POULE 4
A2: Alphonse A | B2: =MATCH(A2,'Rencontres Saison Régulière'!M$3:M$32,0) -> 4 | C2: =RANK(B2,B$2:B$17,1) -> 3 | E2: N° TDS | F2: Joueur | G2: Points | H2: Diff. | I2: Score | J2: Rang | M2: Rang | N2: Joueur | P2: N° TDS | Q2: Joueur | R2: Points | S2: Diff. | T2: Score | U2: Rang | X2: Rang | Y2: Joueur | AA2: N° TDS | AB2: Joueur | AC2: Points | AD2: Diff. | AE2: Score | AF2: Rang | AI2: Rang | AJ2: Joueur | AL2: N° TDS | AM2: Joueur | AN2: Points | AO2: Diff. | AP2: Score | AQ2: Rang | AT2: Rang | AU2: Joueur
A3: Zaccharie Z | B3: =MATCH(A3,'Rencontres Saison Régulière'!M$3:M$32,0) -> 26 | C3: =RANK(B3,B$2:B$17,1) -> 16 | E3: 1 | F3: =INDEX($A$1:$C$17,MATCH(E3,$C$1:$C$17,0),1) -> Cédric C | G3: =SUMIF(F$9:F$31,F3,M$9:M$31) -> 9 | H3: =SUMIF(F$9:F$31,F3,N$9:N$31) -> 58 | I3: =G3*100000+H3+(30-E3)/10000 -> 900058 | J3: =RANK(I3,I$3:I$6,0) -> 1 | M3: 1 | N3: =INDEX(F$3:F$6,MATCH(M3,J$3:J$6,0)) -> Cédric C | P3: 2 | Q3: =INDEX($A$1:$C$17,MATCH(P3,$C$1:$C$17,0),1) -> Damien D | R3: =SUMIF(Q$9:Q$31,Q3,X$9:X$31) -> 9 | S3: =SUMIF(Q$9:Q$31,Q3,Y$9:Y$31) -> 58 | T3: =R3*100000+S3+(30-P3)/10000 -> 900058 | U3: =RANK(T3,T$3:T$6,0) -> 1 | X3: 1 | Y3: =INDEX(Q$3:Q$6,MATCH(X3,U$3:U$6,0)) -> Damien D | AA3: 3 | AB3: =INDEX($A$1:$C$17,MATCH(AA3,$C$1:$C$17,0),1) -> Alphonse A | AC3: =SUMIF(AB$9:AB$31,AB3,AI$9:AI$31) -> 9 | AD3: =SUMIF(AB$9:AB$31,AB3,AJ$9:AJ$31) -> 58 | AE3: =AC3*100000+AD3+(30-AA3)/10000 -> 900058 | AF3: =RANK(AE3,AE$3:AE$6,0) -> 1 | AI3: 1 | AJ3: =INDEX(AB$3:AB$6,MATCH(AI3,AF$3:AF$6,0)) -> Alphonse A | AL3: 4 | AM3: =INDEX($A$1:$C$17,MATCH(AL3,$C$1:$C$17,0),1) -> Eric E | AN3: =SUMIF(AM$9:AM$31,AM3,AT$9:AT$31) -> 9 | AO3: =SUMIF(AM$9:AM$31,AM3,AU$9:AU$31) -> 58 | AP3: =AN3*100000+AO3+(30-AL3)/10000 -> 900058 | AQ3: =RANK(AP3,AP$3:AP$6,0) -> 1 | AT3: 1 | AU3: =INDEX(AM$3:AM$6,MATCH(AT3,AQ$3:AQ$6,0)) -> Eric E
A4: Cédric C | B4: =MATCH(A4,'Rencontres Saison Régulière'!M$3:M$32,0) -> 1 | C4: =RANK(B4,B$2:B$17,1) -> 1 | E4: 6 | F4: =INDEX($A$1:$C$17,MATCH(E4,$C$1:$C$17,0),1) -> Gérard G | G4: =SUMIF(F$9:F$31,F4,M$9:M$31) -> 5 | H4: =SUMIF(F$9:F$31,F4,N$9:N$31) -> -22 | I4: =G4*100000+H4+(30-E4)/10000 -> 499978 | J4: =RANK(I4,I$3:I$6,0) -> 3 | M4: 2 | N4: =INDEX(F$3:F$6,MATCH(M4,J$3:J$6,0)) -> Zaccharie Z | P4: 7 | Q4: =INDEX($A$1:$C$17,MATCH(P4,$C$1:$C$17,0),1) -> Hugo H | R4: =SUMIF(Q$9:Q$31,Q4,X$9:X$31) -> 5 | S4: =SUMIF(Q$9:Q$31,Q4,Y$9:Y$31) -> -22 | T4: =R4*100000+S4+(30-P4)/10000 -> 499978 | U4: =RANK(T4,T$3:T$6,0) -> 3 | X4: 2 | Y4: =INDEX(Q$3:Q$6,MATCH(X4,U$3:U$6,0)) -> Patrick P | AA4: 5 | AB4: =INDEX($A$1:$C$17,MATCH(AA4,$C$1:$C$17,0),1) -> Frédéric F | AC4: =SUMIF(AB$9:AB$31,AB4,AI$9:AI$31) -> 5 | AD4: =SUMIF(AB$9:AB$31,AB4,AJ$9:AJ$31) -> -22 | AE4: =AC4*100000+AD4+(30-AA4)/10000 -> 499978 | AF4: =RANK(AE4,AE$3:AE$6,0) -> 3 | AI4: 2 | AJ4: =INDEX(AB$3:AB$6,MATCH(AI4,AF$3:AF$6,0)) -> Olivier O | AL4: 8 | AM4: =INDEX($A$1:$C$17,MATCH(AL4,$C$1:$C$17,0),1) -> Isidore I | AN4: =SUMIF(AM$9:AM$31,AM4,AT$9:AT$31) -> 5 | AO4: =SUMIF(AM$9:AM$31,AM4,AU$9:AU$31) -> -22 | AP4: =AN4*100000+AO4+(30-AL4)/10000 -> 499978 | AQ4: =RANK(AP4,AP$3:AP$6,0) -> 3 | AT4: 2 | AU4: =INDEX(AM$3:AM$6,MATCH(AT4,AQ$3:AQ$6,0)) -> Wilfried W
A5: Damien D | B5: =MATCH(A5,'Rencontres Saison Régulière'!M$3:M$32,0) -> 3 | C5: =RANK(B5,B$2:B$17,1) -> 2 | E5: 11 | F5: =INDEX($A$1:$C$17,MATCH(E5,$C$1:$C$17,0),1) -> Marc M | G5: =SUMIF(F$9:F$31,F5,M$9:M$31) -> 5 | H5: =SUMIF(F$9:F$31,F5,N$9:N$31) -> -44 | I5: =G5*100000+H5+(30-E5)/10000 -> 499956 | J5: =RANK(I5,I$3:I$6,0) -> 4 | M5: 3 | N5: =INDEX(F$3:F$6,MATCH(M5,J$3:J$6,0)) -> Gérard G | P5: 10 | Q5: =INDEX($A$1:$C$17,MATCH(P5,$C$1:$C$17,0),1) -> Kévin K | R5: =SUMIF(Q$9:Q$31,Q5,X$9:X$31) -> 5 | S5: =SUMIF(Q$9:Q$31,Q5,Y$9:Y$31) -> -44 | T5: =R5*100000+S5+(30-P5)/10000 -> 499956 | U5: =RANK(T5,T$3:T$6,0) -> 4 | X5: 3 | Y5: =INDEX(Q$3:Q$6,MATCH(X5,U$3:U$6,0)) -> Hugo H | AA5: 12 | AB5: =INDEX($A$1:$C$17,MATCH(AA5,$C$1:$C$17,0),1) -> Noé N | AC5: =SUMIF(AB$9:AB$31,AB5,AI$9:AI$31) -> 5 | AD5: =SUMIF(AB$9:AB$31,AB5,AJ$9:AJ$31) -> -44 | AE5: =AC5*100000+AD5+(30-AA5)/10000 -> 499956 | AF5: =RANK(AE5,AE$3:AE$6,0) -> 4 | AI5: 3 | AJ5: =INDEX(AB$3:AB$6,MATCH(AI5,AF$3:AF$6,0)) -> Frédéric F | AL5: 9 | AM5: =INDEX($A$1:$C$17,MATCH(AL5,$C$1:$C$17,0),1) -> Jacques J | AN5: =SUMIF(AM$9:AM$31,AM5,AT$9:AT$31) -> 5 | AO5: =SUMIF(AM$9:AM$31,AM5,AU$9:AU$31) -> -44 | AP5: =AN5*100000+AO5+(30-AL5)/10000 -> 499956 | AQ5: =RANK(AP5,AP$3:AP$6,0) -> 4 | AT5: 3 | AU5: =INDEX(AM$3:AM$6,MATCH(AT5,AQ$3:AQ$6,0)) -> Isidore I
A6: Eric E | B6: =MATCH(A6,'Rencontres Saison Régulière'!M$3:M$32,0) -> 5 | C6: =RANK(B6,B$2:B$17,1) -> 4 | E6: 16 | F6: =INDEX($A$1:$C$17,MATCH(E6,$C$1:$C$17,0),1) -> Zaccharie Z | G6: =SUMIF(F$9:F$31,F6,M$9:M$31) -> 5 | H6: =SUMIF(F$9:F$31,F6,N$9:N$31) -> 8 | I6: =G6*100000+H6+(30-E6)/10000 -> 500008 | J6: =RANK(I6,I$3:I$6,0) -> 2 | M6: 4 | N6: =INDEX(F$3:F$6,MATCH(M6,J$3:J$6,0)) -> Marc M | P6: 14 | Q6: =INDEX($A$1:$C$17,MATCH(P6,$C$1:$C$17,0),1) -> Patrick P | R6: =SUMIF(Q$9:Q$31,Q6,X$9:X$31) -> 5 | S6: =SUMIF(Q$9:Q$31,Q6,Y$9:Y$31) -> 8 | T6: =R6*100000+S6+(30-P6)/10000 -> 500008 | U6: =RANK(T6,T$3:T$6,0) -> 2 | X6: 4 | Y6: =INDEX(Q$3:Q$6,MATCH(X6,U$3:U$6,0)) -> Kévin K | AA6: 13 | AB6: =INDEX($A$1:$C$17,MATCH(AA6,$C$1:$C$17,0),1) -> Olivier O | AC6: =SUMIF(AB$9:AB$31,AB6,AI$9:AI$31) -> 5 | AD6: =SUMIF(AB$9:AB$31,AB6,AJ$9:AJ$31) -> 8 | AE6: =AC6*100000+AD6+(30-AA6)/10000 -> 500008 | AF6: =RANK(AE6,AE$3:AE$6,0) -> 2 | AI6: 4 | AJ6: =INDEX(AB$3:AB$6,MATCH(AI6,AF$3:AF$6,0)) -> Noé N | AL6: 15 | AM6: =INDEX($A$1:$C$17,MATCH(AL6,$C$1:$C$17,0),1) -> Wilfried W | AN6: =SUMIF(AM$9:AM$31,AM6,AT$9:AT$31) -> 5 | AO6: =SUMIF(AM$9:AM$31,AM6,AU$9:AU$31) -> 8 | AP6: =AN6*100000+AO6+(30-AL6)/10000 -> 500008 | AQ6: =RANK(AP6,AP$3:AP$6,0) -> 2 | AT6: 4 | AU6: =INDEX(AM$3:AM$6,MATCH(AT6,AQ$3:AQ$6,0)) -> Jacques J
A7: Frédéric F | B7: =MATCH(A7,'Rencontres Saison Régulière'!M$3:M$32,0) -> 6 | C7: =RANK(B7,B$2:B$17,1) -> 5
A8: Gérard G | B8: =MATCH(A8,'Rencontres Saison Régulière'!M$3:M$32,0) -> 7 | C8: =RANK(B8,B$2:B$17,1) -> 6
A9: Hugo H | B9: =MATCH(A9,'Rencontres Saison Régulière'!M$3:M$32,0) -> 8 | C9: =RANK(B9,B$2:B$17,1) -> 7 | E9: POULE 1 | F9: Joueurs | G9: Set 1 | H9: Set 2 | I9: Set 3 | J9: Set 4 | K9: Set 5 | M9: Points | N9: Diff. | P9: POULE 2 | Q9: Joueurs | R9: Set 1 | S9: Set 2 | T9: Set 3 | U9: Set 4 | V9: Set 5 | X9: Points | Y9: Diff. | AA9: POULE 3 | AB9: Joueurs | AC9: Set 1 | AD9: Set 2 | AE9: Set 3 | AF9: Set 4 | AG9: Set 5 | AI9: Points | AJ9: Diff. | AL9: POULE 4 | AM9: Joueurs | AN9: Set 1 | AO9: Set 2 | AP9: Set 3 | AQ9: Set 4 | AR9: Set 5 | AT9: Points | AU9: Diff.
A10: Isidore I | B10: =MATCH(A10,'Rencontres Saison Régulière'!M$3:M$32,0) -> 9 | C10: =RANK(B10,B$2:B$17,1) -> 8 | E10: Rencontre n°1 | F10: =F3 -> Cédric C | G10: 11 | H10: 11 | I10: 11 | M10: =IF(COUNTA(G10:K10)=0,0,IF((COUNTIF(G10,">"&G11)+COUNTIF(H10,">"&H11)+COUNTIF(I10,">"&I11)+COUNTIF(J10,">"&J11)+COUNTIF(K10,">"&K11))=3,3,1)) -> 3 | N10: =SUM(G10:K10)-SUM(G11:K11) -> 26 | P10: Rencontre n°1 | Q10: =Q3 -> Damien D | R10: 11 | S10: 11 | T10: 11 | X10: =IF(COUNTA(R10:V10)=0,0,IF((COUNTIF(R10,">"&R11)+COUNTIF(S10,">"&S11)+COUNTIF(T10,">"&T11)+COUNTIF(U10,">"&U11)+COUNTIF(V10,">"&V11))=3,3,1)) -> 3 | Y10: =SUM(R10:V10)-SUM(R11:V11) -> 26 | AA10: Rencontre n°1 | AB10: =AB3 -> Alphonse A | AC10: 11 | AD10: 11 | AE10: 11 | AI10: =IF(COUNTA(AC10:AG10)=0,0,IF((COUNTIF(AC10,">"&AC11)+COUNTIF(AD10,">"&AD11)+COUNTIF(AE10,">"&AE11)+COUNTIF(AF10,">"&AF11)+COUNTIF(AG10,">"&AG11))=3,3,1)) -> 3 | AJ10: =SUM(AC10:AG10)-SUM(AC11:AG11) -> 26 | AL10: Rencontre n°1 | AM10: =AM3 -> Eric E | AN10: 11 | AO10: 11 | AP10: 11 | AT10: =IF(COUNTA(AN10:AR10)=0,0,IF((COUNTIF(AN10,">"&AN11)+COUNTIF(AO10,">"&AO11)+COUNTIF(AP10,">"&AP11)+COUNTIF(AQ10,">"&AQ11)+COUNTIF(AR10,">"&AR11))=3,3,1)) -> 3 | AU10: =SUM(AN10:AR10)-SUM(AN11:AR11) -> 26
A11: Jacques J | B11: =MATCH(A11,'Rencontres Saison Régulière'!M$3:M$32,0) -> 10 | C11: =RANK(B11,B$2:B$17,1) -> 9 | F11: =F4 -> Gérard G | G11: 2 | H11: 3 | I11: 2 | M11: =IF(COUNTA(G10:K10)=0,0,IF((COUNTIF(G10,"<"&G11)+COUNTIF(H10,"<"&H11)+COUNTIF(I10,"<"&I11)+COUNTIF(J10,"<"&J11)+COUNTIF(K10,"<"&K11))=3,3,1)) -> 1 | N11: =SUM(G11:K11)-SUM(G10:K10) -> -26 | Q11: =Q4 -> Hugo H | R11: 2 | S11: 3 | T11: 2 | X11: =IF(COUNTA(R10:V10)=0,0,IF((COUNTIF(R10,"<"&R11)+COUNTIF(S10,"<"&S11)+COUNTIF(T10,"<"&T11)+COUNTIF(U10,"<"&U11)+COUNTIF(V10,"<"&V11))=3,3,1)) -> 1 | Y11: =SUM(R11:V11)-SUM(R10:V10) -> -26 | AB11: =AB4 -> Frédéric F | AC11: 2 | AD11: 3 | AE11: 2 | AI11: =IF(COUNTA(AC10:AG10)=0,0,IF((COUNTIF(AC10,"<"&AC11)+COUNTIF(AD10,"<"&AD11)+COUNTIF(AE10,"<"&AE11)+COUNTIF(AF10,"<"&AF11)+COUNTIF(AG10,"<"&AG11))=3,3,1)) -> 1 | AJ11: =SUM(AC11:AG11)-SUM(AC10:AG10) -> -26 | AM11: =AM4 -> Isidore I | AN11: 2 | AO11: 3 | AP11: 2 | AT11: =IF(COUNTA(AN10:AR10)=0,0,IF((COUNTIF(AN10,"<"&AN11)+COUNTIF(AO10,"<"&AO11)+COUNTIF(AP10,"<"&AP11)+COUNTIF(AQ10,"<"&AQ11)+COUNTIF(AR10,"<"&AR11))=3,3,1)) -> 1 | AU11: =SUM(AN11:AR11)-SUM(AN10:AR10) -> -26
A12: Kévin K | B12: =MATCH(A12,'Rencontres Saison Régulière'!M$3:M$32,0) -> 11 | C12: =RANK(B12,B$2:B$17,1) -> 10
A13: Patrick P | B13: =MATCH(A13,'Rencontres Saison Régulière'!M$3:M$32,0) -> 16 | C13: =RANK(B13,B$2:B$17,1) -> 14 | E13: POULE 1 | F13: Joueurs | G13: Set 1 | H13: Set 2 | I13: Set 3 | J13: Set 4 | K13: Set 5 | M13: Points | N13: Diff. | P13: POULE 2 | Q13: Joueurs | R13: Set 1 | S13: Set 2 | T13: Set 3 | U13: Set 4 | V13: Set 5 | X13: Points | Y13: Diff. | AA13: POULE 3 | AB13: Joueurs | AC13: Set 1 | AD13: Set 2 | AE13: Set 3 | AF13: Set 4 | AG13: Set 5 | AI13: Points | AJ13: Diff. | AL13: POULE 4 | AM13: Joueurs | AN13: Set 1 | AO13: Set 2 | AP13: Set 3 | AQ13: Set 4 | AR13: Set 5 | AT13: Points | AU13: Diff.
A14: Marc M | B14: =MATCH(A14,'Rencontres Saison Régulière'!M$3:M$32,0) -> 13 | C14: =RANK(B14,B$2:B$17,1) -> 11 | E14: Rencontre n°2 | F14: =F5 -> Marc M | G14: 2 | H14: 11 | I14: 11 | J14: 8 | K14: 13 | M14: =IF(COUNTA(G14:K14)=0,0,IF((COUNTIF(G14,">"&G15)+COUNTIF(H14,">"&H15)+COUNTIF(I14,">"&I15)+COUNTIF(J14,">"&J15)+COUNTIF(K14,">"&K15))=3,3,1)) -> 3 | N14: =SUM(G14:K14)-SUM(G15:K15) -> 3 | P14: Rencontre n°2 | Q14: =Q5 -> Kévin K | R14: 2 | S14: 11 | T14: 11 | U14: 8 | V14: 13 | X14: =IF(COUNTA(R14:V14)=0,0,IF((COUNTIF(R14,">"&R15)+COUNTIF(S14,">"&S15)+COUNTIF(T14,">"&T15)+COUNTIF(U14,">"&U15)+COUNTIF(V14,">"&V15))=3,3,1)) -> 3 | Y14: =SUM(R14:V14)-SUM(R15:V15) -> 3 | AA14: Rencontre n°2 | AB14: =AB5 -> Noé N | AC14: 2 | AD14: 11 | AE14: 11 | AF14: 8 | AG14: 13 | AI14: =IF(COUNTA(AC14:AG14)=0,0,IF((COUNTIF(AC14,">"&AC15)+COUNTIF(AD14,">"&AD15)+COUNTIF(AE14,">"&AE15)+COUNTIF(AF14,">"&AF15)+COUNTIF(AG14,">"&AG15))=3,3,1)) -> 3 | AJ14: =SUM(AC14:AG14)-SUM(AC15:AG15) -> 3 | AL14: Rencontre n°2 | AM14: =AM5 -> Jacques J | AN14: 2 | AO14: 11 | AP14: 11 | AQ14: 8 | AR14: 13 | AT14: =IF(COUNTA(AN14:AR14)=0,0,IF((COUNTIF(AN14,">"&AN15)+COUNTIF(AO14,">"&AO15)+COUNTIF(AP14,">"&AP15)+COUNTIF(AQ14,">"&AQ15)+COUNTIF(AR14,">"&AR15))=3,3,1)) -> 3 | AU14: =SUM(AN14:AR14)-SUM(AN15:AR15) -> 3
A15: Noé N | B15: =MATCH(A15,'Rencontres Saison Régulière'!M$3:M$32,0) -> 14 | C15: =RANK(B15,B$2:B$17,1) -> 12 | F15: =F6 -> Zaccharie Z | G15: 11 | H15: 3 | I15: 6 | J15: 11 | K15: 11 | M15: =IF(COUNTA(G14:K14)=0,0,IF((COUNTIF(G14,"<"&G15)+COUNTIF(H14,"<"&H15)+COUNTIF(I14,"<"&I15)+COUNTIF(J14,"<"&J15)+COUNTIF(K14,"<"&K15))=3,3,1)) -> 1 | N15: =SUM(G15:K15)-SUM(G14:K14) -> -3 | Q15: =Q6 -> Patrick P | R15: 11 | S15: 3 | T15: 6 | U15: 11 | V15: 11 | X15: =IF(COUNTA(R14:V14)=0,0,IF((COUNTIF(R14,"<"&R15)+COUNTIF(S14,"<"&S15)+COUNTIF(T14,"<"&T15)+COUNTIF(U14,"<"&U15)+COUNTIF(V14,"<"&V15))=3,3,1)) -> 1 | Y15: =SUM(R15:V15)-SUM(R14:V14) -> -3 | AB15: =AB6 -> Olivier O | AC15: 11 | AD15: 3 | AE15: 6 | AF15: 11 | AG15: 11 | AI15: =IF(COUNTA(AC14:AG14)=0,0,IF((COUNTIF(AC14,"<"&AC15)+COUNTIF(AD14,"<"&AD15)+COUNTIF(AE14,"<"&AE15)+COUNTIF(AF14,"<"&AF15)+COUNTIF(AG14,"<"&AG15))=3,3,1)) -> 1 | AJ15: =SUM(AC15:AG15)-SUM(AC14:AG14) -> -3 | AM15: =AM6 -> Wilfried W | AN15: 11 | AO15: 3 | AP15: 6 | AQ15: 11 | AR15: 11 | AT15: =IF(COUNTA(AN14:AR14)=0,0,IF((COUNTIF(AN14,"<"&AN15)+COUNTIF(AO14,"<"&AO15)+COUNTIF(AP14,"<"&AP15)+COUNTIF(AQ14,"<"&AQ15)+COUNTIF(AR14,"<"&AR15))=3,3,1)) -> 1 | AU15: =SUM(AN15:AR15)-SUM(AN14:AR14) -> -3
A16: Olivier O | B16: =MATCH(A16,'Rencontres Saison Régulière'!M$3:M$32,0) -> 15 | C16: =RANK(B16,B$2:B$17,1) -> 13
A17: Wilfried W | B17: =MATCH(A17,'Rencontres Saison Régulière'!M$3:M$32,0) -> 23 | C17: =RANK(B17,B$2:B$17,1) -> 15 | E17: POULE 1 | F17: Joueurs | G17: Set 1 | H17: Set 2 | I17: Set 3 | J17: Set 4 | K17: Set 5 | M17: Points | N17: Diff. | P17: POULE 2 | Q17: Joueurs | R17: Set 1 | S17: Set 2 | T17: Set 3 | U17: Set 4 | V17: Set 5 | X17: Points | Y17: Diff. | AA17: POULE 3 | AB17: Joueurs | AC17: Set 1 | AD17: Set 2 | AE17: Set 3 | AF17: Set 4 | AG17: Set 5 | AI17: Points | AJ17: Diff. | AL17: POULE 4 | AM17: Joueurs | AN17: Set 1 | AO17: Set 2 | AP17: Set 3 | AQ17: Set 4 | AR17: Set 5 | AT17: Points | AU17: Diff.
E18: Rencontre n°3 | F18: =F3 -> Cédric C | G18: 11 | H18: 11 | I18: 11 | M18: =IF(COUNTA(G18:K18)=0,0,IF((COUNTIF(G18,">"&G19)+COUNTIF(H18,">"&H19)+COUNTIF(I18,">"&I19)+COUNTIF(J18,">"&J19)+COUNTIF(K18,">"&K19))=3,3,1)) -> 3 | N18: =SUM(G18:K18)-SUM(G19:K19) -> 26 | P18: Rencontre n°3 | Q18: =Q3 -> Damien D | R18: 11 | S18: 11 | T18: 11 | X18: =IF(COUNTA(R18:V18)=0,0,IF((COUNTIF(R18,">"&R19)+COUNTIF(S18,">"&S19)+COUNTIF(T18,">"&T19)+COUNTIF(U18,">"&U19)+COUNTIF(V18,">"&V19))=3,3,1)) -> 3 | Y18: =SUM(R18:V18)-SUM(R19:V19) -> 26 | AA18: Rencontre n°3 | AB18: =AB3 -> Alphonse A | AC18: 11 | AD18: 11 | AE18: 11 | AI18: =IF(COUNTA(AC18:AG18)=0,0,IF((COUNTIF(AC18,">"&AC19)+COUNTIF(AD18,">"&AD19)+COUNTIF(AE18,">"&AE19)+COUNTIF(AF18,">"&AF19)+COUNTIF(AG18,">"&AG19))=3,3,1)) -> 3 | AJ18: =SUM(AC18:AG18)-SUM(AC19:AG19) -> 26 | AL18: Rencontre n°3 | AM18: =AM3 -> Eric E | AN18: 11 | AO18: 11 | AP18: 11 | AT18: =IF(COUNTA(AN18:AR18)=0,0,IF((COUNTIF(AN18,">"&AN19)+COUNTIF(AO18,">"&AO19)+COUNTIF(AP18,">"&AP19)+COUNTIF(AQ18,">"&AQ19)+COUNTIF(AR18,">"&AR19))=3,3,1)) -> 3 | AU18: =SUM(AN18:AR18)-SUM(AN19:AR19) -> 26
F19: =F5 -> Marc M | G19: 2 | H19: 3 | I19: 2 | M19: =IF(COUNTA(G18:K18)=0,0,IF((COUNTIF(G18,"<"&G19)+COUNTIF(H18,"<"&H19)+COUNTIF(I18,"<"&I19)+COUNTIF(J18,"<"&J19)+COUNTIF(K18,"<"&K19))=3,3,1)) -> 1 | N19: =SUM(G19:K19)-SUM(G18:K18) -> -26 | Q19: =Q5 -> Kévin K | R19: 2 | S19: 3 | T19: 2 | X19: =IF(COUNTA(R18:V18)=0,0,IF((COUNTIF(R18,"<"&R19)+COUNTIF(S18,"<"&S19)+COUNTIF(T18,"<"&T19)+COUNTIF(U18,"<"&U19)+COUNTIF(V18,"<"&V19))=3,3,1)) -> 1 | Y19: =SUM(R19:V19)-SUM(R18:V18) -> -26 | AB19: =AB5 -> Noé N | AC19: 2 | AD19: 3 | AE19: 2 | AI19: =IF(COUNTA(AC18:AG18)=0,0,IF((COUNTIF(AC18,"<"&AC19)+COUNTIF(AD18,"<"&AD19)+COUNTIF(AE18,"<"&AE19)+COUNTIF(AF18,"<"&AF19)+COUNTIF(AG18,"<"&AG19))=3,3,1)) -> 1 | AJ19: =SUM(AC19:AG19)-SUM(AC18:AG18) -> -26 | AM19: =AM5 -> Jacques J | AN19: 2 | AO19: 3 | AP19: 2 | AT19: =IF(COUNTA(AN18:AR18)=0,0,IF((COUNTIF(AN18,"<"&AN19)+COUNTIF(AO18,"<"&AO19)+COUNTIF(AP18,"<"&AP19)+COUNTIF(AQ18,"<"&AQ19)+COUNTIF(AR18,"<"&AR19))=3,3,1)) -> 1 | AU19: =SUM(AN19:AR19)-SUM(AN18:AR18) -> -26
E21: POULE 1 | F21: Joueurs | G21: Set 1 | H21: Set 2 | I21: Set 3 | J21: Set 4 | K21: Set 5 | M21: Points | N21: Diff. | P21: POULE 2 | Q21: Joueurs | R21: Set 1 | S21: Set 2 | T21: Set 3 | U21: Set 4 | V21: Set 5 | X21: Points | Y21: Diff. | AA21: POULE 3 | AB21: Joueurs | AC21: Set 1 | AD21: Set 2 | AE21: Set 3 | AF21: Set 4 | AG21: Set 5 | AI21: Points | AJ21: Diff. | AL21: POULE 4 | AM21: Joueurs | AN21: Set 1 | AO21: Set 2 | AP21: Set 3 | AQ21: Set 4 | AR21: Set 5 | AT21: Points | AU21: Diff.
E22: Rencontre n°4 | F22: =F4 -> Gérard G | G22: 8 | H22: 3 | I22: 5 | M22: =IF(COUNTA(G22:K22)=0,0,IF((COUNTIF(G22,">"&G23)+COUNTIF(H22,">"&H23)+COUNTIF(I22,">"&I23)+COUNTIF(J22,">"&J23)+COUNTIF(K22,">"&K23))=3,3,1)) -> 1 | N22: =SUM(G22:K22)-SUM(G23:K23) -> -17 | P22: Rencontre n°4 | Q22: =Q4 -> Hugo H | R22: 8 | S22: 3 | T22: 5 | X22: =IF(COUNTA(R22:V22)=0,0,IF((COUNTIF(R22,">"&R23)+COUNTIF(S22,">"&S23)+COUNTIF(T22,">"&T23)+COUNTIF(U22,">"&U23)+COUNTIF(V22,">"&V23))=3,3,1)) -> 1 | Y22: =SUM(R22:V22)-SUM(R23:V23) -> -17 | AA22: Rencontre n°4 | AB22: =AB4 -> Frédéric F | AC22: 8 | AD22: 3 | AE22: 5 | AI22: =IF(COUNTA(AC22:AG22)=0,0,IF((COUNTIF(AC22,">"&AC23)+COUNTIF(AD22,">"&AD23)+COUNTIF(AE22,">"&AE23)+COUNTIF(AF22,">"&AF23)+COUNTIF(AG22,">"&AG23))=3,3,1)) -> 1 | AJ22: =SUM(AC22:AG22)-SUM(AC23:AG23) -> -17 | AL22: Rencontre n°4 | AM22: =AM4 -> Isidore I | AN22: 8 | AO22: 3 | AP22: 5 | AT22: =IF(COUNTA(AN22:AR22)=0,0,IF((COUNTIF(AN22,">"&AN23)+COUNTIF(AO22,">"&AO23)+COUNTIF(AP22,">"&AP23)+COUNTIF(AQ22,">"&AQ23)+COUNTIF(AR22,">"&AR23))=3,3,1)) -> 1 | AU22: =SUM(AN22:AR22)-SUM(AN23:AR23) -> -17
F23: =F6 -> Zaccharie Z | G23: 11 | H23: 11 | I23: 11 | M23: =IF(COUNTA(G22:K22)=0,0,IF((COUNTIF(G22,"<"&G23)+COUNTIF(H22,"<"&H23)+COUNTIF(I22,"<"&I23)+COUNTIF(J22,"<"&J23)+COUNTIF(K22,"<"&K23))=3,3,1)) -> 3 | N23: =SUM(G23:K23)-SUM(G22:K22) -> 17 | Q23: =Q6 -> Patrick P | R23: 11 | S23: 11 | T23: 11 | X23: =IF(COUNTA(R22:V22)=0,0,IF((COUNTIF(R22,"<"&R23)+COUNTIF(S22,"<"&S23)+COUNTIF(T22,"<"&T23)+COUNTIF(U22,"<"&U23)+COUNTIF(V22,"<"&V23))=3,3,1)) -> 3 | Y23: =SUM(R23:V23)-SUM(R22:V22) -> 17 | AB23: =AB6 -> Olivier O | AC23: 11 | AD23: 11 | AE23: 11 | AI23: =IF(COUNTA(AC22:AG22)=0,0,IF((COUNTIF(AC22,"<"&AC23)+COUNTIF(AD22,"<"&AD23)+COUNTIF(AE22,"<"&AE23)+COUNTIF(AF22,"<"&AF23)+COUNTIF(AG22,"<"&AG23))=3,3,1)) -> 3 | AJ23: =SUM(AC23:AG23)-SUM(AC22:AG22) -> 17 | AM23: =AM6 -> Wilfried W | AN23: 11 | AO23: 11 | AP23: 11 | AT23: =IF(COUNTA(AN22:AR22)=0,0,IF((COUNTIF(AN22,"<"&AN23)+COUNTIF(AO22,"<"&AO23)+COUNTIF(AP22,"<"&AP23)+COUNTIF(AQ22,"<"&AQ23)+COUNTIF(AR22,"<"&AR23))=3,3,1)) -> 3 | AU23: =SUM(AN23:AR23)-SUM(AN22:AR22) -> 17
E25: POULE 1 | F25: Joueurs | G25: Set 1 | H25: Set 2 | I25: Set 3 | J25: Set 4 | K25: Set 5 | M25: Points | N25: Diff. | P25: POULE 2 | Q25: Joueurs | R25: Set 1 | S25: Set 2 | T25: Set 3 | U25: Set 4 | V25: Set 5 | X25: Points | Y25: Diff. | AA25: POULE 3 | AB25: Joueurs | AC25: Set 1 | AD25: Set 2 | AE25: Set 3 | AF25: Set 4 | AG25: Set 5 | AI25: Points | AJ25: Diff. | AL25: POULE 4 | AM25: Joueurs | AN25: Set 1 | AO25: Set 2 | AP25: Set 3 | AQ25: Set 4 | AR25: Set 5 | AT25: Points | AU25: Diff.
E26: Rencontre n°5 | F26: =F3 -> Cédric C | G26: 11 | H26: 11 | I26: 11 | M26: =IF(COUNTA(G26:K26)=0,0,IF((COUNTIF(G26,">"&G27)+COUNTIF(H26,">"&H27)+COUNTIF(I26,">"&I27)+COUNTIF(J26,">"&J27)+COUNTIF(K26,">"&K27))=3,3,1)) -> 3 | N26: =SUM(G26:K26)-SUM(G27:K27) -> 6 | P26: Rencontre n°5 | Q26: =Q3 -> Damien D | R26: 11 | S26: 11 | T26: 11 | X26: =IF(COUNTA(R26:V26)=0,0,IF((COUNTIF(R26,">"&R27)+COUNTIF(S26,">"&S27)+COUNTIF(T26,">"&T27)+COUNTIF(U26,">"&U27)+COUNTIF(V26,">"&V27))=3,3,1)) -> 3 | Y26: =SUM(R26:V26)-SUM(R27:V27) -> 6 | AA26: Rencontre n°5 | AB26: =AB3 -> Alphonse A | AC26: 11 | AD26: 11 | AE26: 11 | AI26: =IF(COUNTA(AC26:AG26)=0,0,IF((COUNTIF(AC26,">"&AC27)+COUNTIF(AD26,">"&AD27)+COUNTIF(AE26,">"&AE27)+COUNTIF(AF26,">"&AF27)+COUNTIF(AG26,">"&AG27))=3,3,1)) -> 3 | AJ26: =SUM(AC26:AG26)-SUM(AC27:AG27) -> 6 | AL26: Rencontre n°5 | AM26: =AM3 -> Eric E | AN26: 11 | AO26: 11 | AP26: 11 | AT26: =IF(COUNTA(AN26:AR26)=0,0,IF((COUNTIF(AN26,">"&AN27)+COUNTIF(AO26,">"&AO27)+COUNTIF(AP26,">"&AP27)+COUNTIF(AQ26,">"&AQ27)+COUNTIF(AR26,">"&AR27))=3,3,1)) -> 3 | AU26: =SUM(AN26:AR26)-SUM(AN27:AR27) -> 6
F27: =F6 -> Zaccharie Z | G27: 9 | H27: 9 | I27: 9 | M27: =IF(COUNTA(G26:K26)=0,0,IF((COUNTIF(G26,"<"&G27)+COUNTIF(H26,"<"&H27)+COUNTIF(I26,"<"&I27)+COUNTIF(J26,"<"&J27)+COUNTIF(K26,"<"&K27))=3,3,1)) -> 1 | N27: =SUM(G27:K27)-SUM(G26:K26) -> -6 | Q27: =Q6 -> Patrick P | R27: 9 | S27: 9 | T27: 9 | X27: =IF(COUNTA(R26:V26)=0,0,IF((COUNTIF(R26,"<"&R27)+COUNTIF(S26,"<"&S27)+COUNTIF(T26,"<"&T27)+COUNTIF(U26,"<"&U27)+COUNTIF(V26,"<"&V27))=3,3,1)) -> 1 | Y27: =SUM(R27:V27)-SUM(R26:V26) -> -6 | AB27: =AB6 -> Olivier O | AC27: 9 | AD27: 9 | AE27: 9 | AI27: =IF(COUNTA(AC26:AG26)=0,0,IF((COUNTIF(AC26,"<"&AC27)+COUNTIF(AD26,"<"&AD27)+COUNTIF(AE26,"<"&AE27)+COUNTIF(AF26,"<"&AF27)+COUNTIF(AG26,"<"&AG27))=3,3,1)) -> 1 | AJ27: =SUM(AC27:AG27)-SUM(AC26:AG26) -> -6 | AM27: =AM6 -> Wilfried W | AN27: 9 | AO27: 9 | AP27: 9 | AT27: =IF(COUNTA(AN26:AR26)=0,0,IF((COUNTIF(AN26,"<"&AN27)+COUNTIF(AO26,"<"&AO27)+COUNTIF(AP26,"<"&AP27)+COUNTIF(AQ26,"<"&AQ27)+COUNTIF(AR26,"<"&AR27))=3,3,1)) -> 1 | AU27: =SUM(AN27:AR27)-SUM(AN26:AR26) -> -6
E29: POULE 1 | F29: Joueurs | G29: Set 1 | H29: Set 2 | I29: Set 3 | J29: Set 4 | K29: Set 5 | M29: Points | N29: Diff. | P29: POULE 2 | Q29: Joueurs | R29: Set 1 | S29: Set 2 | T29: Set 3 | U29: Set 4 | V29: Set 5 | X29: Points | Y29: Diff. | AA29: POULE 3 | AB29: Joueurs | AC29: Set 1 | AD29: Set 2 | AE29: Set 3 | AF29: Set 4 | AG29: Set 5 | AI29: Points | AJ29: Diff. | AL29: POULE 4 | AM29: Joueurs | AN29: Set 1 | AO29: Set 2 | AP29: Set 3 | AQ29: Set 4 | AR29: Set 5 | AT29: Points | AU29: Diff.
E30: Rencontre n°6 | F30: =F4 -> Gérard G | G30: 11 | H30: 11 | I30: 11 | M30: =IF(COUNTA(G30:K30)=0,0,IF((COUNTIF(G30,">"&G31)+COUNTIF(H30,">"&H31)+COUNTIF(I30,">"&I31)+COUNTIF(J30,">"&J31)+COUNTIF(K30,">"&K31))=3,3,1)) -> 3 | N30: =SUM(G30:K30)-SUM(G31:K31) -> 21 | P30: Rencontre n°6 | Q30: =Q4 -> Hugo H | R30: 11 | S30: 11 | T30: 11 | X30: =IF(COUNTA(R30:V30)=0,0,IF((COUNTIF(R30,">"&R31)+COUNTIF(S30,">"&S31)+COUNTIF(T30,">"&T31)+COUNTIF(U30,">"&U31)+COUNTIF(V30,">"&V31))=3,3,1)) -> 3 | Y30: =SUM(R30:V30)-SUM(R31:V31) -> 21 | AA30: Rencontre n°6 | AB30: =AB4 -> Frédéric F | AC30: 11 | AD30: 11 | AE30: 11 | AI30: =IF(COUNTA(AC30:AG30)=0,0,IF((COUNTIF(AC30,">"&AC31)+COUNTIF(AD30,">"&AD31)+COUNTIF(AE30,">"&AE31)+COUNTIF(AF30,">"&AF31)+COUNTIF(AG30,">"&AG31))=3,3,1)) -> 3 | AJ30: =SUM(AC30:AG30)-SUM(AC31:AG31) -> 21 | AL30: Rencontre n°6 | AM30: =AM4 -> Isidore I | AN30: 11 | AO30: 11 | AP30: 11 | AT30: =IF(COUNTA(AN30:AR30)=0,0,IF((COUNTIF(AN30,">"&AN31)+COUNTIF(AO30,">"&AO31)+COUNTIF(AP30,">"&AP31)+COUNTIF(AQ30,">"&AQ31)+COUNTIF(AR30,">"&AR31))=3,3,1)) -> 3 | AU30: =SUM(AN30:AR30)-SUM(AN31:AR31) -> 21
F31: =F5 -> Marc M | G31: 6 | H31: 4 | I31: 2 | M31: =IF(COUNTA(G30:K30)=0,0,IF((COUNTIF(G30,"<"&G31)+COUNTIF(H30,"<"&H31)+COUNTIF(I30,"<"&I31)+COUNTIF(J30,"<"&J31)+COUNTIF(K30,"<"&K31))=3,3,1)) -> 1 | N31: =SUM(G31:K31)-SUM(G30:K30) -> -21 | Q31: =Q5 -> Kévin K | R31: 6 | S31: 4 | T31: 2 | X31: =IF(COUNTA(R30:V30)=0,0,IF((COUNTIF(R30,"<"&R31)+COUNTIF(S30,"<"&S31)+COUNTIF(T30,"<"&T31)+COUNTIF(U30,"<"&U31)+COUNTIF(V30,"<"&V31))=3,3,1)) -> 1 | Y31: =SUM(R31:V31)-SUM(R30:V30) -> -21 | AB31: =AB5 -> Noé N | AC31: 6 | AD31: 4 | AE31: 2 | AI31: =IF(COUNTA(AC30:AG30)=0,0,IF((COUNTIF(AC30,"<"&AC31)+COUNTIF(AD30,"<"&AD31)+COUNTIF(AE30,"<"&AE31)+COUNTIF(AF30,"<"&AF31)+COUNTIF(AG30,"<"&AG31))=3,3,1)) -> 1 | AJ31: =SUM(AC31:AG31)-SUM(AC30:AG30) -> -21 | AM31: =AM5 -> Jacques J | AN31: 6 | AO31: 4 | AP31: 2 | AT31: =IF(COUNTA(AN30:AR30)=0,0,IF((COUNTIF(AN30,"<"&AN31)+COUNTIF(AO30,"<"&AO31)+COUNTIF(AP30,"<"&AP31)+COUNTIF(AQ30,"<"&AQ31)+COUNTIF(AR30,"<"&AR31))=3,3,1)) -> 1 | AU31: =SUM(AN31:AR31)-SUM(AN30:AR30) -> -21
E35: 1/4 FINALE | F35: Joueurs | G35: Set 1 | H35: Set 2 | I35: Set 3 | J35: Set 4 | K35: Set 5 | M35: Vainqueur | N35: Diff. | P35: 1/4 FINALE | Q35: Joueurs | R35: Set 1 | S35: Set 2 | T35: Set 3 | U35: Set 4 | V35: Set 5 | X35: Vainqueur | Y35: Diff. | AA35: 1/4 FINALE | AB35: Joueurs | AC35: Set 1 | AD35: Set 2 | AE35: Set 3 | AF35: Set 4 | AG35: Set 5 | AI35: Vainqueur | AJ35: Diff. | AL35: 1/4 FINALE | AM35: Joueurs | AN35: Set 1 | AO35: Set 2 | AP35: Set 3 | AQ35: Set 4 | AR35: Set 5 | AT35: Vainqueur | AU35: Diff.
E36: Rencontre n°1 | F36: =F3 -> Cédric C | M36: =IF(COUNTA(G36:K36)=0,0,IF((COUNTIF(G36,">"&G37)+COUNTIF(H36,">"&H37)+COUNTIF(I36,">"&I37)+COUNTIF(J36,">"&J37)+COUNTIF(K36,">"&K37))=3,"Victoire","Défaite")) -> 0 | N36: =SUM(G36:K36)-SUM(G37:K37) -> 0 | P36: Rencontre n°1 | Q36: =Q3 -> Damien D | X36: =IF(COUNTA(R36:V36)=0,0,IF((COUNTIF(R36,">"&R37)+COUNTIF(S36,">"&S37)+COUNTIF(T36,">"&T37)+COUNTIF(U36,">"&U37)+COUNTIF(V36,">"&V37))=3,"Victoire","Défaite")) -> 0 | Y36: =SUM(R36:V36)-SUM(R37:V37) -> 0 | AA36: Rencontre n°1 | AB36: =AB3 -> Alphonse A | AI36: =IF(COUNTA(AC36:AG36)=0,0,IF((COUNTIF(AC36,">"&AC37)+COUNTIF(AD36,">"&AD37)+COUNTIF(AE36,">"&AE37)+COUNTIF(AF36,">"&AF37)+COUNTIF(AG36,">"&AG37))=3,"Victoire","Défaite")) -> 0 | AJ36: =SUM(AC36:AG36)-SUM(AC37:AG37) -> 0 | AL36: Rencontre n°1 | AM36: =AM3 -> Eric E | AT36: =IF(COUNTA(AN36:AR36)=0,0,IF((COUNTIF(AN36,">"&AN37)+COUNTIF(AO36,">"&AO37)+COUNTIF(AP36,">"&AP37)+COUNTIF(AQ36,">"&AQ37)+COUNTIF(AR36,">"&AR37))=3,"Victoire","Défaite")) -> 0 | AU36: =SUM(AN36:AR36)-SUM(AN37:AR37) -> 0
F37: =Q4 -> Hugo H | M37: =IF(COUNTA(G36:K36)=0,0,IF((COUNTIF(G36,"<"&G37)+COUNTIF(H36,"<"&H37)+COUNTIF(I36,"<"&I37)+COUNTIF(J36,"<"&J37)+COUNTIF(K36,"<"&K37))=3,"Victoire","Défaite")) -> 0 | N37: =SUM(G37:K37)-SUM(G36:K36) -> 0 | Q37: =F4 -> Gérard G | X37: =IF(COUNTA(R36:V36)=0,0,IF((COUNTIF(R36,"<"&R37)+COUNTIF(S36,"<"&S37)+COUNTIF(T36,"<"&T37)+COUNTIF(U36,"<"&U37)+COUNTIF(V36,"<"&V37))=3,"Victoire","Défaite")) -> 0 | Y37: =SUM(R37:V37)-SUM(R36:V36) -> 0 | AB37: =AM4 -> Isidore I | AI37: =IF(COUNTA(AC36:AG36)=0,0,IF((COUNTIF(AC36,"<"&AC37)+COUNTIF(AD36,"<"&AD37)+COUNTIF(AE36,"<"&AE37)+COUNTIF(AF36,"<"&AF37)+COUNTIF(AG36,"<"&AG37))=3,"Victoire","Défaite")) -> 0 | AJ37: =SUM(AC37:AG37)-SUM(AC36:AG36) -> 0 | AM37: =AB4 -> Frédéric F | AT37: =IF(COUNTA(AN36:AR36)=0,0,IF((COUNTIF(AN36,"<"&AN37)+COUNTIF(AO36,"<"&AO37)+COUNTIF(AP36,"<"&AP37)+COUNTIF(AQ36,"<"&AQ37)+COUNTIF(AR36,"<"&AR37))=3,"Victoire","Défaite")) -> 0 | AU37: =SUM(AN37:AR37)-SUM(AN36:AR36) -> 0
E41: 1/2 FINALE | F41: Joueurs | G41: Set 1 | H41: Set 2 | I41: Set 3 | J41: Set 4 | K41: Set 5 | M41: Vainqueur | N41: Diff. | P41: 1/2 FINALE | Q41: Joueurs | R41: Set 1 | S41: Set 2 | T41: Set 3 | U41: Set 4 | V41: Set 5 | X41: Vainqueur | Y41: Diff.
E42: Rencontre n°1 | F42: =INDEX(F36:F37,MATCH("Victoire",M36:M37,0)) -> #N/A | M42: =IF(COUNTA(G42:K42)=0,0,IF((COUNTIF(G42,">"&G43)+COUNTIF(H42,">"&H43)+COUNTIF(I42,">"&I43)+COUNTIF(J42,">"&J43)+COUNTIF(K42,">"&K43))=3,"Victoire","Défaite")) -> 0 | N42: =SUM(G42:K42)-SUM(G43:K43) -> 0 | P42: Rencontre n°1 | Q42: =INDEX(Q36:Q37,MATCH("Victoire",X36:X37,0)) -> #N/A | X42: =IF(COUNTA(R42:V42)=0,0,IF((COUNTIF(R42,">"&R43)+COUNTIF(S42,">"&S43)+COUNTIF(T42,">"&T43)+COUNTIF(U42,">"&U43)+COUNTIF(V42,">"&V43))=3,"Victoire","Défaite")) -> 0 | Y42: =SUM(R42:V42)-SUM(R43:V43) -> 0
F43: =INDEX(AB36:AB37,MATCH("Victoire",AI36:AI37,0)) -> #N/A | M43: =IF(COUNTA(G42:K42)=0,0,IF((COUNTIF(G42,"<"&G43)+COUNTIF(H42,"<"&H43)+COUNTIF(I42,"<"&I43)+COUNTIF(J42,"<"&J43)+COUNTIF(K42,"<"&K43))=3,"Victoire","Défaite")) -> 0 | N43: =SUM(G43:K43)-SUM(G42:K42) -> 0 | Q43: =INDEX(AM36:AM37,MATCH("Victoire",AT36:AT37,0)) -> #N/A | X43: =IF(COUNTA(R42:V42)=0,0,IF((COUNTIF(R42,"<"&R43)+COUNTIF(S42,"<"&S43)+COUNTIF(T42,"<"&T43)+COUNTIF(U42,"<"&U43)+COUNTIF(V42,"<"&V43))=3,"Victoire","Défaite")) -> 0 | Y43: =SUM(R43:V43)-SUM(R42:V42) -> 0
E47: FINALE | F47: Joueurs | G47: Set 1 | H47: Set 2 | I47: Set 3 | J47: Set 4 | K47: Set 5 | M47: Vainqueur | N47: Diff.
E48: Rencontre n°1 | F48: =INDEX(F42:F43,MATCH("Victoire",M42:M43,0)) -> #N/A | M48: =IF(COUNTA(G48:K48)=0,0,IF((COUNTIF(G48,">"&G49)+COUNTIF(H48,">"&H49)+COUNTIF(I48,">"&I49)+COUNTIF(J48,">"&J49)+COUNTIF(K48,">"&K49))=3,"Victoire","Défaite")) -> 0 | N48: =SUM(G48:K48)-SUM(G49:K49) -> 0
F49: =INDEX(Q42:Q43,MATCH("Victoire",X42:X43,0)) -> #N/A | M49: =IF(COUNTA(G48:K48)=0,0,IF((COUNTIF(G48,"<"&G49)+COUNTIF(H48,"<"&H49)+COUNTIF(I48,"<"&I49)+COUNTIF(J48,"<"&J49)+COUNTIF(K48,"<"&K49))=3,"Victoire","Défaite")) -> 0 | N49: =SUM(G49:K49)-SUM(G48:K48) -> 0
