Workbook

Sheet Data base
A1: Scope | B1: Activity | C1: Complexity | D1: estimated workload | E1: contract expiry date
A2: Surface treatment | B2: Contract creation / amendment | C2: Medium | D2: =VLOOKUP('Data base'!B2&"_"&'Data base'!C2,Input!C:D,2,FALSE) -> 50 | E2: In draft
A3: Surface treatment | B3: Contract creation / amendment | C3: Medium | D3: =VLOOKUP('Data base'!B3&"_"&'Data base'!C3,Input!C:D,2,FALSE) -> 50 | E3: In draft
A4: Surface treatment | B4: CSG | C4: Standard | D4: =VLOOKUP('Data base'!B4&"_"&'Data base'!C4,Input!C:D,2,FALSE) -> #N/A
A5: Surface treatment | B5: Contract management | C5: Medium | D5: =VLOOKUP('Data base'!B5&"_"&'Data base'!C5,Input!C:D,2,FALSE) -> 16 | E5: 45473
A6: Surface treatment | B6: Contract management | C6: Medium | D6: =VLOOKUP('Data base'!B6&"_"&'Data base'!C6,Input!C:D,2,FALSE) -> 16 | E6: 45473
A7: Distribution | B7: CSG | C7: Low | D7: =VLOOKUP('Data base'!B7&"_"&'Data base'!C7,Input!C:D,2,FALSE) -> #N/A
A8: Distribution | B8: Contract management | C8: Medium | D8: =VLOOKUP('Data base'!B8&"_"&'Data base'!C8,Input!C:D,2,FALSE) -> 16 | E8: 43465
A9: Distribution | B9: Contract management | C9: Low | D9: =VLOOKUP('Data base'!B9&"_"&'Data base'!C9,Input!C:D,2,FALSE) -> #N/A | E9: 43646
A10: Distribution | B10: Contract management | C10: High | D10: =VLOOKUP('Data base'!B10&"_"&'Data base'!C10,Input!C:D,2,FALSE) -> 32 | E10: 43830
A11: Distribution | B11: Contract management | C11: Medium | D11: =VLOOKUP('Data base'!B11&"_"&'Data base'!C11,Input!C:D,2,FALSE) -> 16 | E11: 43830
A12: Distribution | B12: Contract management | C12: Low | D12: =VLOOKUP('Data base'!B12&"_"&'Data base'!C12,Input!C:D,2,FALSE) -> #N/A | E12: 43830
A13: Distribution | B13: Contract management | C13: Medium | D13: =VLOOKUP('Data base'!B13&"_"&'Data base'!C13,Input!C:D,2,FALSE) -> 16 | E13: 43100
A14: Distribution | B14: Contract management | C14: Medium | D14: =VLOOKUP('Data base'!B14&"_"&'Data base'!C14,Input!C:D,2,FALSE) -> 16 | E14: 46022
A15: Structural Paint | B15: Contract management | C15: Medium | D15: =VLOOKUP('Data base'!B15&"_"&'Data base'!C15,Input!C:D,2,FALSE) -> 16 | E15: 44561
A16: Structural Paint | B16: Contract management | C16: Medium | D16: =VLOOKUP('Data base'!B16&"_"&'Data base'!C16,Input!C:D,2,FALSE) -> 16 | E16: 43830
A17: Structural Paint | B17: Contract management | C17: Medium | D17: =VLOOKUP('Data base'!B17&"_"&'Data base'!C17,Input!C:D,2,FALSE) -> 16 | E17: 43830
A18: Structural Paint | B18: Contract management | C18: Medium | D18: =VLOOKUP('Data base'!B18&"_"&'Data base'!C18,Input!C:D,2,FALSE) -> 16 | E18: 45657
A19: Structural Paint | B19: Key Project | C19: High | D19: =VLOOKUP('Data base'!B19&"_"&'Data base'!C19,Input!C:D,2,FALSE) -> 96
A20: Structural Paint | B20: CFT | C20: High | D20: =VLOOKUP('Data base'!B20&"_"&'Data base'!C20,Input!C:D,2,FALSE) -> 500
A21: Distribution | B21: CFT | C21: High | D21: =VLOOKUP('Data base'!B21&"_"&'Data base'!C21,Input!C:D,2,FALSE) -> 500
A22: Distribution | B22: CFT | C22: Medium | D22: =VLOOKUP('Data base'!B22&"_"&'Data base'!C22,Input!C:D,2,FALSE) -> 300
A23: Distribution | B23: CFT | C23: Low | D23: =VLOOKUP('Data base'!B23&"_"&'Data base'!C23,Input!C:D,2,FALSE) -> #N/A
A24: Distribution | B24: Key Project | C24: Medium | D24: =VLOOKUP('Data base'!B24&"_"&'Data base'!C24,Input!C:D,2,FALSE) -> 48
A25: Structural Paint | B25: Contract creation / amendment | C25: Low | D25: =VLOOKUP('Data base'!B25&"_"&'Data base'!C25,Input!C:D,2,FALSE) -> #N/A
A26: Sealants | B26: Contract management | C26: High | D26: =VLOOKUP('Data base'!B26&"_"&'Data base'!C26,Input!C:D,2,FALSE) -> 32 | E26: 44231
A27: Sealants | B27: Contract management | C27: High | D27: =VLOOKUP('Data base'!B27&"_"&'Data base'!C27,Input!C:D,2,FALSE) -> 32 | E27: 43830
A28: Sealants | B28: Contract management | C28: Medium | D28: =VLOOKUP('Data base'!B28&"_"&'Data base'!C28,Input!C:D,2,FALSE) -> 16 | E28: 44196
A29: Sealants | B29: CFT | C29: High | D29: =VLOOKUP('Data base'!B29&"_"&'Data base'!C29,Input!C:D,2,FALSE) -> 500
A30: Sealants | B30: CSG | C30: Standard | D30: =VLOOKUP('Data base'!B30&"_"&'Data base'!C30,Input!C:D,2,FALSE) -> #N/A
A31: Structural Paint | B31: CSG | C31: Standard | D31: =VLOOKUP('Data base'!B31&"_"&'Data base'!C31,Input!C:D,2,FALSE) -> #N/A
A32: Distribution | B32: CFT | C32: Low | D32: =VLOOKUP('Data base'!B32&"_"&'Data base'!C32,Input!C:D,2,FALSE) -> #N/A
A33: Team lead protective solutions | B33: Team Lead | C33: Standard | D33: =VLOOKUP('Data base'!B33&"_"&'Data base'!C33,Input!C:D,2,FALSE) -> 48
B34: SA/A350 derisking | C34: Low | D34: =VLOOKUP('Data base'!B34&"_"&'Data base'!C34,Input!C:D,2,FALSE) -> #N/A
A35: Outsourcing of NT Surface Treatment activities | B35: CFT | C35: Low | D35: =VLOOKUP('Data base'!B35&"_"&'Data base'!C35,Input!C:D,2,FALSE) -> #N/A
A36: Structural Paint | B36: CFT | C36: Low | D36: =VLOOKUP('Data base'!B36&"_"&'Data base'!C36,Input!C:D,2,FALSE) -> #N/A
A37: Structural Paint | B37: Contract creation / amendment | C37: Medium | D37: =VLOOKUP('Data base'!B37&"_"&'Data base'!C37,Input!C:D,2,FALSE) -> 50
A38: Distribution | B38: Contract creation / amendment | C38: Medium | D38: =VLOOKUP('Data base'!B38&"_"&'Data base'!C38,Input!C:D,2,FALSE) -> 50
A39: Distribution | B39: Contract creation / amendment | C39: Medium | D39: =VLOOKUP('Data base'!B39&"_"&'Data base'!C39,Input!C:D,2,FALSE) -> 50
A40: Distribution | B40: Contract creation / amendment | C40: Medium | D40: =VLOOKUP('Data base'!B40&"_"&'Data base'!C40,Input!C:D,2,FALSE) -> 50
...

Sheet Input
A1: Activity | B1: Complexity | C1: A_B | D1: Effort
A2: Contract creation / amendment | B2: Low | C2: =A2&"_"&B2 -> Contract creation / amendment_Low | D2: 30
A3: Contract creation / amendment | B3: Medium | C3: =A3&"_"&B3 -> Contract creation / amendment_Medium | D3: 50
A4: Contract creation / amendment | B4: High | C4: =A4&"_"&B4 -> Contract creation / amendment_High | D4: 60
A5: Contract management | B5: Low | C5: =A5&"_"&B5 -> Contract management_Low | D5: =1*8 -> 8
A6: Contract management | B6: Medium | C6: =A6&"_"&B6 -> Contract management_Medium | D6: 16
A7: Contract management | B7: High | C7: =A7&"_"&B7 -> Contract management_High | D7: 32
A8: CSG + Strategy | B8: Standard | C8: =A8&"_"&B8 -> CSG + Strategy_Standard | D8: =12*8 -> 96
A9: Key Project | B9: Low | C9: =A9&"_"&B9 -> Key Project_Low | D9: 12
A10: Key Project | B10: Medium | C10: =A10&"_"&B10 -> Key Project_Medium | D10: =12*2*2 -> 48
A11: Key Project | B11: High | C11: =A11&"_"&B11 -> Key Project_High | D11: =12*4*2 -> 96
A12: CFT | B12: Low | C12: =A12&"_"&B12 -> CFT_Low | D12: 150
A13: CFT | B13: Medium | C13: =A13&"_"&B13 -> CFT_Medium | D13: 300
A14: CFT | B14: High | C14: =A14&"_"&B14 -> CFT_High | D14: 500
A15: Team Lead | B15: Standard | C15: =A15&"_"&B15 -> Team Lead_Standard | D15: =6*4*1+6*4*1 -> 48
A16: SA/A350 Derisking | B16: Low | C16: =A16&"_"&B16 -> SA/A350 Derisking_Low | D16: =12*4 -> 48
A17: SA/A350 Derisking | B17: Medium | C17: =A17&"_"&B17 -> SA/A350 Derisking_Medium | D17: =12*4*2 -> 96
A18: SA/A350 Derisking | B18: High | C18: =A18&"_"&B18 -> SA/A350 Derisking_High | D18: N/A
A19: Qualification | B19: Low | C19: =A19&"_"&B19 -> Qualification_Low | D19: =12 -> 12
A20: Qualification | B20: Medium | C20: =A20&"_"&B20 -> Qualification_Medium | D20: =12*2 -> 24
A21: Qualification | B21: High | C21: =A21&"_"&B21 -> Qualification_High | D21: N/A
A22: SFM / SMM | B22: Low | C22: =A22&"_"&B22 -> SFM / SMM_Low | D22: 16
A23: SFM / SMM | B23: Medium | C23: =A23&"_"&B23 -> SFM / SMM_Medium | D23: 30
A24: SFM / SMM | B24: High | C24: =A24&"_"&B24 -> SFM / SMM_High | D24: 50
