Workbook
Name Transics: Tableau2[]

Sheet FACTURE
K1: Formules : NE PAS TOUCHER
A2: Fournisseurs | B2: Type | C2: DATE | D2: HEURE | E2: LIEU | F2: KMS | G2: IMMAT | H2: VOLUME | I2: PAYS | J2: Conducteur | K2: ARRONDI | L2: OK/NOK | M2: FLEET OU SKY ?
A3: AS24 | B3: Gazole | C3: 42404 | D3: 1646 | E3: NARBONNE | F3: 799550 | G3: 407CGQ31 | H3: 776.04 | I3: FRA | K3: =ROUND(Tableau1[[#This Row],[VOLUME]],0) -> 776 | L3: =IF(SUMPRODUCT((G3='SAISIE SUR TRANSICS'!G$3:G$1381)*(C3='SAISIE SUR TRANSICS'!C$3:C$1381)*(K3='SAISIE SUR TRANSICS'!L$3:L$1381)),"OK","NOK") -> OK
A4: AS24 | B4: Gazole | C4: 42411 | D4: 1658 | E4: TOULOUSE OUEST | F4: 995877 | G4: 545BTJ31 | H4: 450 | I4: FRA | K4: =ROUND(Tableau1[[#This Row],[VOLUME]],0) -> 450 | L4: =IF(SUMPRODUCT((G4='SAISIE SUR TRANSICS'!G$3:G$1381)*(C4='SAISIE SUR TRANSICS'!C$3:C$1381)*(K4='SAISIE SUR TRANSICS'!L$3:L$1381)),"OK","NOK") -> OK
A5: AS24 | B5: Gazole | C5: 42405 | D5: 1159 | E5: CLERMONT FERRAND | F5: 219912 | G5: AP517JF | H5: 47.55 | I5: FRA | K5: =ROUND(Tableau1[[#This Row],[VOLUME]],0) -> 48 | L5: =IF(SUMPRODUCT((G5='SAISIE SUR TRANSICS'!G$3:G$1381)*(C5='SAISIE SUR TRANSICS'!C$3:C$1381)*(K5='SAISIE SUR TRANSICS'!L$3:L$1381)),"OK","NOK") -> NOK
A6: AS24 | B6: Gazole | C6: 42411 | D6: 2129 | E6: CLERMONT FERRAND | F6: 220330 | G6: AP517JF | H6: 47.7 | I6: FRA | K6: =ROUND(Tableau1[[#This Row],[VOLUME]],0) -> 48 | L6: =IF(SUMPRODUCT((G6='SAISIE SUR TRANSICS'!G$3:G$1381)*(C6='SAISIE SUR TRANSICS'!C$3:C$1381)*(K6='SAISIE SUR TRANSICS'!L$3:L$1381)),"OK","NOK") -> NOK
A7: AS24 | B7: Gazole | C7: 42418 | D7: 2124 | E7: CLERMONT FERRAND | F7: 220899 | G7: AP517JF | H7: 54.24 | I7: FRA | K7: =ROUND(Tableau1[[#This Row],[VOLUME]],0) -> 54 | L7: =IF(SUMPRODUCT((G7='SAISIE SUR TRANSICS'!G$3:G$1381)*(C7='SAISIE SUR TRANSICS'!C$3:C$1381)*(K7='SAISIE SUR TRANSICS'!L$3:L$1381)),"OK","NOK") -> NOK
A8: AS24 | B8: Gazole | C8: 42427 | D8: 0218 | E8: CLERMONT FERRAND | F8: 221706 | G8: AP517JF | H8: 50.27 | I8: FRA | K8: =ROUND(Tableau1[[#This Row],[VOLUME]],0) -> 50 | L8: =IF(SUMPRODUCT((G8='SAISIE SUR TRANSICS'!G$3:G$1381)*(C8='SAISIE SUR TRANSICS'!C$3:C$1381)*(K8='SAISIE SUR TRANSICS'!L$3:L$1381)),"OK","NOK") -> NOK
A9: AS24 | B9: Gazole | C9: 42415 | D9: 0655 | E9: TOULOUSE MIN | F9: 226092 | G9: AP849JF | H9: 43.86 | I9: FRA | K9: =ROUND(Tableau1[[#This Row],[VOLUME]],0) -> 44 | L9: =IF(SUMPRODUCT((G9='SAISIE SUR TRANSICS'!G$3:G$1381)*(C9='SAISIE SUR TRANSICS'!C$3:C$1381)*(K9='SAISIE SUR TRANSICS'!L$3:L$1381)),"OK","NOK") -> NOK
A10: AS24 | B10: Gazole | C10: 42403 | D10: 1355 | E10: SEVREY | F10: 214525 | G10: AP882JE | H10: 34 | I10: FRA | K10: =ROUND(Tableau1[[#This Row],[VOLUME]],0) -> 34 | L10: =IF(SUMPRODUCT((G10='SAISIE SUR TRANSICS'!G$3:G$1381)*(C10='SAISIE SUR TRANSICS'!C$3:C$1381)*(K10='SAISIE SUR TRANSICS'!L$3:L$1381)),"OK","NOK") -> NOK
A11: AS24 | B11: Gazole | C11: 42408 | D11: 1630 | E11: CHALON/SAONE | F11: 214742 | G11: AP882JE | H11: 11.72 | I11: FRA | K11: =ROUND(Tableau1[[#This Row],[VOLUME]],0) -> 12 | L11: =IF(SUMPRODUCT((G11='SAISIE SUR TRANSICS'!G$3:G$1381)*(C11='SAISIE SUR TRANSICS'!C$3:C$1381)*(K11='SAISIE SUR TRANSICS'!L$3:L$1381)),"OK","NOK") -> NOK
A12: AS24 | B12: Gazole | C12: 42414 | D12: 1052 | E12: NARBONNE | F12: 215426 | G12: AP882JE | H12: 15 | I12: FRA | K12: =ROUND(Tableau1[[#This Row],[VOLUME]],0) -> 15 | L12: =IF(SUMPRODUCT((G12='SAISIE SUR TRANSICS'!G$3:G$1381)*(C12='SAISIE SUR TRANSICS'!C$3:C$1381)*(K12='SAISIE SUR TRANSICS'!L$3:L$1381)),"OK","NOK") -> NOK
A13: AS24 | B13: Gazole | C13: 42401 | D13: 1810 | E13: NARBONNE | F13: 852461 | G13: AS417NR | H13: 273.52 | I13: FRA | K13: =ROUND(Tableau1[[#This Row],[VOLUME]],0) -> 274 | L13: =IF(SUMPRODUCT((G13='SAISIE SUR TRANSICS'!G$3:G$1381)*(C13='SAISIE SUR TRANSICS'!C$3:C$1381)*(K13='SAISIE SUR TRANSICS'!L$3:L$1381)),"OK","NOK") -> OK
A14: AS24 | B14: Gazole | C14: 42402 | D14: 0344 | E14: AIRE DE VILLABE | F14: 853208 | G14: AS417NR | H14: 240 | I14: FRA | K14: =ROUND(Tableau1[[#This Row],[VOLUME]],0) -> 240 | L14: =IF(SUMPRODUCT((G14='SAISIE SUR TRANSICS'!G$3:G$1381)*(C14='SAISIE SUR TRANSICS'!C$3:C$1381)*(K14='SAISIE SUR TRANSICS'!L$3:L$1381)),"OK","NOK") -> OK
... A29: AS24 | B29: Gazole | C29: 42422 | D29: 1805 | E29: NARBONNE | F29: 865939 | G29: AS417NR | H29: 300 | I29: FRA | K29: =ROUND(Tableau1[[#This Row],[VOLUME]],0) -> 300 | L29: =IF(SUMPRODUCT((G29='SAISIE SUR TRANSICS'!G$3:G$1381)*(C29='SAISIE SUR TRANSICS'!C$3:C$1381)*(K29='SAISIE SUR TRANSICS'!L$3:L$1381)),"OK","NOK") -> OK
O503: 0.079722222 | P503: FRA - Rue Francis Perrin (242-) - 45770 - Saran//Saran | Q503: 281754 | R503: DH-171-VN | S503: 379 | T503: PATAT Damien | U503: Oui

Sheet SAISIE SUR TRANSICS
M1: Formule
A2: Fournisseur | B2: Produit | C2: Date et he | D2: ure de début | E2: Lieu | F2: Kms | G2: Véhicule | H2: Quantité (l) | I2: Conducteur | J2: Complet | K2: SKY?FLEET | L2: ARRONDI | M2: Facture ?
A3: JIMENEZ FVA | B3: GO | C3: 42401 | D3: 0.74929398 | E3: JIMENEZ FVA | F3: 963175 | G3: 402BZD31 | H3: 351.7 | I3: RIEDINGER Romain | J3: Oui | K3: FLEET | L3: =ROUND(Tableau2[[#This Row],[Quantité (l)]],0) -> 352 | M3: =IF(SUMPRODUCT((G3=FACTURE!G$3:G$2447)*(C3=FACTURE!C$3:C$2447)*(L3=FACTURE!K$3:K$2447)),"OK","NOK") -> NOK
A4: JIMENEZ FVA | B4: GO | C4: 42408 | D4: 0.74604167 | E4: JIMENEZ FVA | F4: 964324 | G4: 402BZD31 | H4: 370.9 | I4: RIEDINGER Romain | J4: Oui | K4: FLEET | L4: =ROUND(Tableau2[[#This Row],[Quantité (l)]],0) -> 371 | M4: =IF(SUMPRODUCT((G4=FACTURE!G$3:G$2447)*(C4=FACTURE!C$3:C$2447)*(L4=FACTURE!K$3:K$2447)),"OK","NOK") -> NOK
A5: JIMENEZ FVA | B5: GO | C5: 42415 | D5: 0.74795139 | E5: JIMENEZ FVA | F5: 965527 | G5: 402BZD31 | H5: 386.1 | I5: RIEDINGER Romain | J5: Oui | K5: FLEET | L5: =ROUND(Tableau2[[#This Row],[Quantité (l)]],0) -> 386 | M5: =IF(SUMPRODUCT((G5=FACTURE!G$3:G$2447)*(C5=FACTURE!C$3:C$2447)*(L5=FACTURE!K$3:K$2447)),"OK","NOK") -> NOK
A6: JIMENEZ FVA | B6: GO | C6: 42422 | D6: 0.75719907 | E6: JIMENEZ FVA | F6: 966702 | G6: 402BZD31 | H6: 385.7 | I6: RIEDINGER Romain | J6: Oui | K6: FLEET | L6: =ROUND(Tableau2[[#This Row],[Quantité (l)]],0) -> 386 | M6: =IF(SUMPRODUCT((G6=FACTURE!G$3:G$2447)*(C6=FACTURE!C$3:C$2447)*(L6=FACTURE!K$3:K$2447)),"OK","NOK") -> NOK
A7: JIMENEZ FVA | B7: GO | C7: 42429 | D7: 0.75072917 | E7: JIMENEZ FVA | F7: 967858 | G7: 402BZD31 | H7: 368.4 | I7: RIEDINGER Romain | J7: Oui | K7: FLEET | L7: =ROUND(Tableau2[[#This Row],[Quantité (l)]],0) -> 368 | M7: =IF(SUMPRODUCT((G7=FACTURE!G$3:G$2447)*(C7=FACTURE!C$3:C$2447)*(L7=FACTURE!K$3:K$2447)),"OK","NOK") -> NOK
A8: AS24 FR | B8: GO | C8: 42402 | D8: 0.47274306 | E8: Tournefeuille | F8: 1002141 | G8: 404BZD31 | H8: 372.9 | I8: MARINI Yann | J8: Oui | K8: FLEET | L8: =ROUND(Tableau2[[#This Row],[Quantité (l)]],0) -> 373 | M8: =IF(SUMPRODUCT((G8=FACTURE!G$3:G$2447)*(C8=FACTURE!C$3:C$2447)*(L8=FACTURE!K$3:K$2447)),"OK","NOK") -> NOK
A9: JIMENEZ FVA | B9: GO | C9: 42426 | D9: 0.75539352 | E9: JIMENEZ FVA | F9: 1003329 | G9: 404BZD31 | H9: 460 | I9: RAIGNEAU Patrick | J9: Oui | K9: FLEET | L9: =ROUND(Tableau2[[#This Row],[Quantité (l)]],0) -> 460 | M9: =IF(SUMPRODUCT((G9=FACTURE!G$3:G$2447)*(C9=FACTURE!C$3:C$2447)*(L9=FACTURE!K$3:K$2447)),"OK","NOK") -> NOK
A10: AS24 FR | B10: GO | C10: 42404 | D10: 0.70015046 | E10: AS 24 NARBONNE | F10: 799550 | G10: 407CGQ31 | H10: 776 | I10: CONTROLE Nelsine | J10: Oui | K10: FLEET | L10: =ROUND(Tableau2[[#This Row],[Quantité (l)]],0) -> 776 | M10: =IF(SUMPRODUCT((G10=FACTURE!G$3:G$2447)*(C10=FACTURE!C$3:C$2447)*(L10=FACTURE!K$3:K$2447)),"OK","NOK") -> OK
A11: JIMENEZ FVA | B11: GO | C11: 42417 | D11: 0.72894676 | E11: JIMENEZ FVA | F11: 801569 | G11: 407CGQ31 | H11: 695 | I11: CONTROLE Nelsine | J11: Oui | K11: FLEET | L11: =ROUND(Tableau2[[#This Row],[Quantité (l)]],0) -> 695 | M11: =IF(SUMPRODUCT((G11=FACTURE!G$3:G$2447)*(C11=FACTURE!C$3:C$2447)*(L11=FACTURE!K$3:K$2447)),"OK","NOK") -> NOK
A12: AS24 FR | B12: GO | C12: 42411 | D12: 0.69980324 | E12: AS 24 TOULOUSE OUEST | F12: 995878 | G12: 545BTJ31 | H12: 450 | I12: MAYER Edwin | J12: Oui | K12: FLEET | L12: =ROUND(Tableau2[[#This Row],[Quantité (l)]],0) -> 450 | M12: =IF(SUMPRODUCT((G12=FACTURE!G$3:G$2447)*(C12=FACTURE!C$3:C$2447)*(L12=FACTURE!K$3:K$2447)),"OK","NOK") -> OK
A13: AS24 FR | B13: GO | C13: 42401 | D13: 0.75420139 | E13: AS 24 NARBONNE | F13: 852461 | G13: AS417NR | H13: 273.5 | I13: ROLY Sébastien | J13: Oui | K13: FLEET | L13: =ROUND(Tableau2[[#This Row],[Quantité (l)]],0) -> 274 | M13: =IF(SUMPRODUCT((G13=FACTURE!G$3:G$2447)*(C13=FACTURE!C$3:C$2447)*(L13=FACTURE!K$3:K$2447)),"OK","NOK") -> OK
A14: AS24 FR | B14: GO | C14: 42402 | D14: 0.15077546 | E14: Villabé | F14: 853208 | G14: AS417NR | H14: 240 | I14: JANUARIO VINAGRE Helder | J14: Oui | K14: FLEET | L14: =ROUND(Tableau2[[#This Row],[Quantité (l)]],0) -> 240 | M14: =IF(SUMPRODUCT((G14=FACTURE!G$3:G$2447)*(C14=FACTURE!C$3:C$2447)*(L14=FACTURE!K$3:K$2447)),"OK","NOK") -> OK
... A30: AS24 FR | B30: GO | C30: 42422 | D30: 0.74952546 | E30: AS 24 NARBONNE | F30: 865939 | G30: AS417NR | H30: 300 | I30: FEUILLATRE Didier | J30: Oui | K30: FLEET | L30: =ROUND(Tableau2[[#This Row],[Quantité (l)]],0) -> 300 | M30: =IF(SUMPRODUCT((G30=FACTURE!G$3:G$2447)*(C30=FACTURE!C$3:C$2447)*(L30=FACTURE!K$3:K$2447)),"OK","NOK") -> OK
