Workbook

Sheet Sheet1
J2: Diagnostic : | L2: Traitement proposé | M2: Option de traitement
J4: 18
J5: 17
J6: 16 | K6: Carie grosse
J7: 15 | K7: Carie petite
J8: 14 | K8: Carie grosse
J9: 13 | K9: Composite ancien
J10: 12 | K10: Couronne usagé
J11: 11
J13: 21
J14: 22
J15: 23
J16: 24
J17: 25
J18: 26
J19: 27
J20: 28
J22: 38
J23: 37
J24: 36
J25: 35
J26: 34 | K26: Lipoe
J27: 33
J28: 32
J29: 31
J31: 41
J32: 42
J33: 43
J34: 44
J35: 45
J36: 46
J37: 47
J38: 48

Sheet Sheet2
A1: Diagnostic :
A2: Carie petite | B2: Carie grosse | C2: Composite ancien | D2: Pulpithe | E2: Lipoe | F2: Couronne usagé | G2: Absente | H2: Récessiojn gingivale
A4: Traitement :
A5: Composite | B5: Onlay | C5: Onlay | D5: Extraction | E5: Retraitement endodontique | F5: couronne | G5: implant | H5: régénération gingivale
B6: Couronne sur dent vivante | C6: couronne sur dent vivante | D6: Dévitalisation | E6: dévitalisation | F6: extraction
C7: dévitalisation | E7: extraction
A10: Option traitement : | F10: Couronne | G10: implant
F11: Inlay core | G11: greffe de sinus
G12: greffe d'os
G13: greffe de gencive
A16: Phrase associée
A17: Absente | B17: est absente
A18: Implant | B18: Doit être remplacée par une racine artificielle (implant)
A19: Greffe d'os | B19: avec régénération de l'os résorbé (apposition osseuse)
A20: Carie petite | B20: est atteiente d'une carie de faible volume
A21: Carie grosse | B21: est atteinte d'une carie de volume important
A22: Composite ancien | B22: comporte une vieille restauration en résine
A23: Pulpithe | B23: est atteinte jusqu'au nerf
A24: Couronne usagée | B24: comporte une couronne usagée

Sheet Sheet3
A3: La dent | B3: =Sheet1!J4 -> 18
A4: La dent | B4: =Sheet1!J5 -> 17
A5: La dent | B5: =Sheet1!J6 -> 16 | C5: =IF(Sheet1!K6=Sheet2!A17,Sheet2!B17) -> FALSE
A6: La dent | B6: =Sheet1!J7 -> 15 | C6: =IF(Sheet1!K7=Sheet2!A17:A19,Sheet2!B17:B19) -> #VALUE!
A7: La dent | B7: =Sheet1!J8 -> 14 | C7: =IF(Sheet1!K8=Sheet2!A18:A20,Sheet2!B18:B20) -> #VALUE!
A8: La dent | B8: =Sheet1!J9 -> 13 | C8: =IF(Sheet1!K9=Sheet2!A19:A21,Sheet2!B19:B21) -> #VALUE!
A9: La dent | B9: =Sheet1!J10 -> 12 | C9: =IF(Sheet1!K10=Sheet2!A20:A22,Sheet2!B20:B22) -> #VALUE!
A10: La dent | B10: =Sheet1!J11 -> 11 | C10: =IF(Sheet1!K11=Sheet2!A21:A23,Sheet2!B21:B23) -> #VALUE!
A12: La dent | B12: =Sheet1!J13 -> 21
A13: La dent | B13: =Sheet1!J14 -> 22
A14: La dent | B14: =Sheet1!J15 -> 23
A15: La dent | B15: =Sheet1!J16 -> 24
A16: La dent | B16: =Sheet1!J17 -> 25
A17: La dent | B17: =Sheet1!J18 -> 26
A18: La dent | B18: =Sheet1!J19 -> 27
A19: La dent | B19: =Sheet1!J20 -> 28
A21: La dent | B21: =Sheet1!J22 -> 38
A22: La dent | B22: =Sheet1!J23 -> 37
A23: La dent | B23: =Sheet1!J24 -> 36
A24: La dent | B24: =Sheet1!J25 -> 35
... A37: La dent | B37: =Sheet1!J38 -> 48
