Workbook

Sheet CAISSE
A1: N° COMMANDE | B1: CODE | C1: PRODUIT | D1: PA | E1: QTE | F1: TYPE | G1: PV TTC | H1: PV | O1: PAIEMENT | P1: REMISE | Q1: MONTANT Remisé | R1: MONTANT Total | W1: NB ESP | X1: NBR CB | Y1: NBR TR | Z1: NBR VIR | AD1: DATE DU JOUR | AE1: 42080
A2: 10000 | B2: BL0001 | C2: =+VLOOKUP(B2,TABLE!A$1:Q$65536,3,FALSE) -> L'ESPRIT DE BESSEUIL | D2: =VLOOKUP(B2,TABLE!$A$1:$IV$65536,9) -> 5.5 | E2: 1 | F2: BOUTEILLE | G2: =+H2 -> 11 | H2: =SUM(I2:N2) -> 11 | I2: =IF(F2="BOUTEILLE",VLOOKUP(B2,TABLE!$A$1:$IV$65536,12)) -> 11 | J2: =IF(F2="COFFRET",VLOOKUP(B2,TABLE!$A$1:$IV$65536,13)) -> FALSE | K2: =IF(F2="VERRE",VLOOKUP(B2,TABLE!$A$1:$IV$65536,14)) -> FALSE | L2: =IF(F2="DEGUST",0) -> FALSE | M2: =IF(F2="CASSE",0) -> FALSE | N2: =IF(F2="OFFERT",0) -> FALSE | O2: ESP | Q2: =IF(P2="",G2,G2-(G2*P2)) -> 11 | R2: =IF(Q2>0,Q2*E2,G2*E2) -> 11 | U2: =R2 -> 11 | V2: =+IF(O2="CB","CARTE BANCAIRE",IF(O2="ESP","ESPECES",IF(O2="TR","TICKET RESTO",IF(O2="VIR","VIREMENT")))) -> ESPECES | W2: =IF(V2="ESPECES",1,0) -> 1 | X2: =IF(V2="CARTE BANCAIRE",1,0) -> 0 | Y2: =IF(V2="TICKET RESTO",1,0) -> 0 | Z2: =IF(V2="VIREMENT",1,0) -> 0
A3: 10000 | B3: BL0002 | C3: =+VLOOKUP(B3,TABLE!A$1:Q$65536,3,FALSE) -> La cuvée 123 | D3: =VLOOKUP(B3,TABLE!$A$1:$IV$65536,9) -> 5.5 | E3: 6 | F3: VERRE | G3: =+H3 -> 5 | H3: =SUM(I3:N3) -> 5 | I3: =IF(F3="BOUTEILLE",VLOOKUP(B3,TABLE!$A$1:$IV$65536,12)) -> FALSE | J3: =IF(F3="COFFRET",VLOOKUP(B3,TABLE!$A$1:$IV$65536,13)) -> FALSE | K3: =IF(F3="VERRE",VLOOKUP(B3,TABLE!$A$1:$IV$65536,14)) -> 5 | L3: =IF(F3="DEGUST",0) -> FALSE | M3: =IF(F3="CASSE",0) -> FALSE | N3: =IF(F3="OFFERT",0) -> FALSE | O3: ESP | P3: 0.05 | Q3: =IF(P3="",G3,G3-(G3*P3)) -> 4.75 | R3: =IF(Q3>0,Q3*E3,G3*E3) -> 28.5 | U3: =R3 -> 28.5 | V3: =+IF(O3="CB","CARTE BANCAIRE",IF(O3="ESP","ESPECES",IF(O3="TR","TICKET RESTO",IF(O3="VIR","VIREMENT")))) -> ESPECES | W3: =IF(V3="ESPECES",1,0) -> 1 | X3: =IF(V3="CARTE BANCAIRE",1,0) -> 0 | Y3: =IF(V3="TICKET RESTO",1,0) -> 0 | Z3: =IF(V3="VIREMENT",1,0) -> 0
A4: 10001 | B4: RG0001 | C4: =+VLOOKUP(B4,TABLE!A$1:Q$65536,3,FALSE) -> La cuvée www | D4: =VLOOKUP(B4,TABLE!$A$1:$IV$65536,9) -> 5 | E4: 1 | F4: BOUTEILLE | G4: =+H4 -> 10 | H4: =SUM(I4:N4) -> 10 | I4: =IF(F4="BOUTEILLE",VLOOKUP(B4,TABLE!$A$1:$IV$65536,12)) -> 10 | J4: =IF(F4="COFFRET",VLOOKUP(B4,TABLE!$A$1:$IV$65536,13)) -> FALSE | K4: =IF(F4="VERRE",VLOOKUP(B4,TABLE!$A$1:$IV$65536,14)) -> FALSE | L4: =IF(F4="DEGUST",0) -> FALSE | M4: =IF(F4="CASSE",0) -> FALSE | N4: =IF(F4="OFFERT",0) -> FALSE | O4: ESP | Q4: =IF(P4="",G4,G4-(G4*P4)) -> 10 | R4: =IF(Q4>0,Q4*E4,G4*E4) -> 10 | U4: =R4 -> 10 | V4: =+IF(O4="CB","CARTE BANCAIRE",IF(O4="ESP","ESPECES",IF(O4="TR","TICKET RESTO",IF(O4="VIR","VIREMENT")))) -> ESPECES | W4: =IF(V4="ESPECES",1,0) -> 1 | X4: =IF(V4="CARTE BANCAIRE",1,0) -> 0 | Y4: =IF(V4="TICKET RESTO",1,0) -> 0 | Z4: =IF(V4="VIREMENT",1,0) -> 0
A5: 10002 | B5: BL0003 | C5: =+VLOOKUP(B5,TABLE!A$1:Q$65536,3,FALSE) -> La cuvée bbb | D5: =VLOOKUP(B5,TABLE!$A$1:$IV$65536,9) -> 5.5 | E5: 3 | F5: VERRE | G5: =+H5 -> 5 | H5: =SUM(I5:N5) -> 5 | I5: =IF(F5="BOUTEILLE",VLOOKUP(B5,TABLE!$A$1:$IV$65536,12)) -> FALSE | J5: =IF(F5="COFFRET",VLOOKUP(B5,TABLE!$A$1:$IV$65536,13)) -> FALSE | K5: =IF(F5="VERRE",VLOOKUP(B5,TABLE!$A$1:$IV$65536,14)) -> 5 | L5: =IF(F5="DEGUST",0) -> FALSE | M5: =IF(F5="CASSE",0) -> FALSE | N5: =IF(F5="OFFERT",0) -> FALSE | O5: ESP | Q5: =IF(P5="",G5,G5-(G5*P5)) -> 5 | R5: =IF(Q5>0,Q5*E5,G5*E5) -> 15 | U5: =R5 -> 15 | V5: =+IF(O5="CB","CARTE BANCAIRE",IF(O5="ESP","ESPECES",IF(O5="TR","TICKET RESTO",IF(O5="VIR","VIREMENT")))) -> ESPECES | W5: =IF(V5="ESPECES",1,0) -> 1 | X5: =IF(V5="CARTE BANCAIRE",1,0) -> 0 | Y5: =IF(V5="TICKET RESTO",1,0) -> 0 | Z5: =IF(V5="VIREMENT",1,0) -> 0
A6: 10003 | B6: BL0001 | C6: =+VLOOKUP(B6,TABLE!A$1:Q$65536,3,FALSE) -> L'ESPRIT DE BESSEUIL | D6: =VLOOKUP(B6,TABLE!$A$1:$IV$65536,9) -> 5.5 | E6: 3 | F6: BOUTEILLE | G6: =+H6 -> 11 | H6: =SUM(I6:N6) -> 11 | I6: =IF(F6="BOUTEILLE",VLOOKUP(B6,TABLE!$A$1:$IV$65536,12)) -> 11 | J6: =IF(F6="COFFRET",VLOOKUP(B6,TABLE!$A$1:$IV$65536,13)) -> FALSE | K6: =IF(F6="VERRE",VLOOKUP(B6,TABLE!$A$1:$IV$65536,14)) -> FALSE | L6: =IF(F6="DEGUST",0) -> FALSE | M6: =IF(F6="CASSE",0) -> FALSE | N6: =IF(F6="OFFERT",0) -> FALSE | O6: CB | P6: 0.05 | Q6: =IF(P6="",G6,G6-(G6*P6)) -> 10.45 | R6: =IF(Q6>0,Q6*E6,G6*E6) -> 31.35 | U6: =R6 -> 31.35 | V6: =+IF(O6="CB","CARTE BANCAIRE",IF(O6="ESP","ESPECES",IF(O6="TR","TICKET RESTO",IF(O6="VIR","VIREMENT")))) -> CARTE BANCAIRE | W6: =IF(V6="ESPECES",1,0) -> 0 | X6: =IF(V6="CARTE BANCAIRE",1,0) -> 1 | Y6: =IF(V6="TICKET RESTO",1,0) -> 0 | Z6: =IF(V6="VIREMENT",1,0) -> 0
A7: 10004 | B7: BL0001 | C7: =+VLOOKUP(B7,TABLE!A$1:Q$65536,3,FALSE) -> L'ESPRIT DE BESSEUIL | D7: =VLOOKUP(B7,TABLE!$A$1:$IV$65536,9) -> 5.5 | E7: 2 | F7: BOUTEILLE | G7: =+H7 -> 11 | H7: =SUM(I7:N7) -> 11 | I7: =IF(F7="BOUTEILLE",VLOOKUP(B7,TABLE!$A$1:$IV$65536,12)) -> 11 | J7: =IF(F7="COFFRET",VLOOKUP(B7,TABLE!$A$1:$IV$65536,13)) -> FALSE | K7: =IF(F7="VERRE",VLOOKUP(B7,TABLE!$A$1:$IV$65536,14)) -> FALSE | L7: =IF(F7="DEGUST",0) -> FALSE | M7: =IF(F7="CASSE",0) -> FALSE | N7: =IF(F7="OFFERT",0) -> FALSE | O7: CB | Q7: =IF(P7="",G7,G7-(G7*P7)) -> 11 | R7: =IF(Q7>0,Q7*E7,G7*E7) -> 22 | U7: =R7 -> 22 | V7: =+IF(O7="CB","CARTE BANCAIRE",IF(O7="ESP","ESPECES",IF(O7="TR","TICKET RESTO",IF(O7="VIR","VIREMENT")))) -> CARTE BANCAIRE | W7: =IF(V7="ESPECES",1,0) -> 0 | X7: =IF(V7="CARTE BANCAIRE",1,0) -> 1 | Y7: =IF(V7="TICKET RESTO",1,0) -> 0 | Z7: =IF(V7="VIREMENT",1,0) -> 0
A8: 10005 | B8: BL0003 | C8: =+VLOOKUP(B8,TABLE!A$1:Q$65536,3,FALSE) -> La cuvée bbb | D8: =VLOOKUP(B8,TABLE!$A$1:$IV$65536,9) -> 5.5 | E8: 2 | F8: VERRE | G8: =+H8 -> 5 | H8: =SUM(I8:N8) -> 5 | I8: =IF(F8="BOUTEILLE",VLOOKUP(B8,TABLE!$A$1:$IV$65536,12)) -> FALSE | J8: =IF(F8="COFFRET",VLOOKUP(B8,TABLE!$A$1:$IV$65536,13)) -> FALSE | K8: =IF(F8="VERRE",VLOOKUP(B8,TABLE!$A$1:$IV$65536,14)) -> 5 | L8: =IF(F8="DEGUST",0) -> FALSE | M8: =IF(F8="CASSE",0) -> FALSE | N8: =IF(F8="OFFERT",0) -> FALSE | O8: CB | Q8: =IF(P8="",G8,G8-(G8*P8)) -> 5 | R8: =IF(Q8>0,Q8*E8,G8*E8) -> 10 | U8: =R8 -> 10 | V8: =+IF(O8="CB","CARTE BANCAIRE",IF(O8="ESP","ESPECES",IF(O8="TR","TICKET RESTO",IF(O8="VIR","VIREMENT")))) -> CARTE BANCAIRE | W8: =IF(V8="ESPECES",1,0) -> 0 | X8: =IF(V8="CARTE BANCAIRE",1,0) -> 1 | Y8: =IF(V8="TICKET RESTO",1,0) -> 0 | Z8: =IF(V8="VIREMENT",1,0) -> 0
A9: 10005 | B9: RG0002 | C9: =+VLOOKUP(B9,TABLE!A$1:Q$65536,3,FALSE) -> La cuvée yyy | D9: =VLOOKUP(B9,TABLE!$A$1:$IV$65536,9) -> 8.9 | E9: 1 | F9: BOUTEILLE | G9: =+H9 -> 17.8 | H9: =SUM(I9:N9) -> 17.8 | I9: =IF(F9="BOUTEILLE",VLOOKUP(B9,TABLE!$A$1:$IV$65536,12)) -> 17.8 | J9: =IF(F9="COFFRET",VLOOKUP(B9,TABLE!$A$1:$IV$65536,13)) -> FALSE | K9: =IF(F9="VERRE",VLOOKUP(B9,TABLE!$A$1:$IV$65536,14)) -> FALSE | L9: =IF(F9="DEGUST",0) -> FALSE | M9: =IF(F9="CASSE",0) -> FALSE | N9: =IF(F9="OFFERT",0) -> FALSE | O9: CB | Q9: =IF(P9="",G9,G9-(G9*P9)) -> 17.8 | R9: =IF(Q9>0,Q9*E9,G9*E9) -> 17.8 | U9: =R9 -> 17.8 | V9: =+IF(O9="CB","CARTE BANCAIRE",IF(O9="ESP","ESPECES",IF(O9="TR","TICKET RESTO",IF(O9="VIR","VIREMENT")))) -> CARTE BANCAIRE | W9: =IF(V9="ESPECES",1,0) -> 0 | X9: =IF(V9="CARTE BANCAIRE",1,0) -> 1 | Y9: =IF(V9="TICKET RESTO",1,0) -> 0 | Z9: =IF(V9="VIREMENT",1,0) -> 0
A10: 10006 | B10: RS0007 | C10: =+VLOOKUP(B10,TABLE!A$1:Q$65536,3,FALSE) -> La cuvée rrr | D10: =VLOOKUP(B10,TABLE!$A$1:$IV$65536,9) -> 12 | E10: 1 | F10: BOUTEILLE | G10: =+H10 -> 24 | H10: =SUM(I10:N10) -> 24 | I10: =IF(F10="BOUTEILLE",VLOOKUP(B10,TABLE!$A$1:$IV$65536,12)) -> 24 | J10: =IF(F10="COFFRET",VLOOKUP(B10,TABLE!$A$1:$IV$65536,13)) -> FALSE | K10: =IF(F10="VERRE",VLOOKUP(B10,TABLE!$A$1:$IV$65536,14)) -> FALSE | L10: =IF(F10="DEGUST",0) -> FALSE | M10: =IF(F10="CASSE",0) -> FALSE | N10: =IF(F10="OFFERT",0) -> FALSE | O10: TR | Q10: =IF(P10="",G10,G10-(G10*P10)) -> 24 | R10: =IF(Q10>0,Q10*E10,G10*E10) -> 24 | U10: =R10 -> 24 | V10: =+IF(O10="CB","CARTE BANCAIRE",IF(O10="ESP","ESPECES",IF(O10="TR","TICKET RESTO",IF(O10="VIR","VIREMENT")))) -> TICKET RESTO | W10: =IF(V10="ESPECES",1,0) -> 0 | X10: =IF(V10="CARTE BANCAIRE",1,0) -> 0 | Y10: =IF(V10="TICKET RESTO",1,0) -> 1 | Z10: =IF(V10="VIREMENT",1,0) -> 0
A11: 10007 | B11: RG0011 | C11: =+VLOOKUP(B11,TABLE!A$1:Q$65536,3,FALSE) -> La Prestigieuse | D11: =VLOOKUP(B11,TABLE!$A$1:$IV$65536,9) -> 8.5 | E11: 1 | F11: BOUTEILLE | G11: =+H11 -> 17 | H11: =SUM(I11:N11) -> 17 | I11: =IF(F11="BOUTEILLE",VLOOKUP(B11,TABLE!$A$1:$IV$65536,12)) -> 17 | J11: =IF(F11="COFFRET",VLOOKUP(B11,TABLE!$A$1:$IV$65536,13)) -> FALSE | K11: =IF(F11="VERRE",VLOOKUP(B11,TABLE!$A$1:$IV$65536,14)) -> FALSE | L11: =IF(F11="DEGUST",0) -> FALSE | M11: =IF(F11="CASSE",0) -> FALSE | N11: =IF(F11="OFFERT",0) -> FALSE | O11: TR | Q11: =IF(P11="",G11,G11-(G11*P11)) -> 17 | R11: =IF(Q11>0,Q11*E11,G11*E11) -> 17 | U11: =R11 -> 17 | V11: =+IF(O11="CB","CARTE BANCAIRE",IF(O11="ESP","ESPECES",IF(O11="TR","TICKET RESTO",IF(O11="VIR","VIREMENT")))) -> TICKET RESTO | W11: =IF(V11="ESPECES",1,0) -> 0 | X11: =IF(V11="CARTE BANCAIRE",1,0) -> 0 | Y11: =IF(V11="TICKET RESTO",1,0) -> 1 | Z11: =IF(V11="VIREMENT",1,0) -> 0
A12: 10008 | B12: RG0005 | C12: =+VLOOKUP(B12,TABLE!A$1:Q$65536,3,FALSE) -> La cuvée def | D12: =VLOOKUP(B12,TABLE!$A$1:$IV$65536,9) -> 3.35 | E12: 6 | F12: BOUTEILLE | G12: =+H12 -> 6.7 | H12: =SUM(I12:N12) -> 6.7 | I12: =IF(F12="BOUTEILLE",VLOOKUP(B12,TABLE!$A$1:$IV$65536,12)) -> 6.7 | J12: =IF(F12="COFFRET",VLOOKUP(B12,TABLE!$A$1:$IV$65536,13)) -> FALSE | K12: =IF(F12="VERRE",VLOOKUP(B12,TABLE!$A$1:$IV$65536,14)) -> FALSE | L12: =IF(F12="DEGUST",0) -> FALSE | M12: =IF(F12="CASSE",0) -> FALSE | N12: =IF(F12="OFFERT",0) -> FALSE | O12: VIR | P12: 0.05 | Q12: =IF(P12="",G12,G12-(G12*P12)) -> 6.365 | R12: =IF(Q12>0,Q12*E12,G12*E12) -> 38.19 | U12: =R12 -> 38.19 | V12: =+IF(O12="CB","CARTE BANCAIRE",IF(O12="ESP","ESPECES",IF(O12="TR","TICKET RESTO",IF(O12="VIR","VIREMENT")))) -> VIREMENT | W12: =IF(V12="ESPECES",1,0) -> 0 | X12: =IF(V12="CARTE BANCAIRE",1,0) -> 0 | Y12: =IF(V12="TICKET RESTO",1,0) -> 0 | Z12: =IF(V12="VIREMENT",1,0) -> 1
A13: 10009 | B13: BL0011 | C13: =+VLOOKUP(B13,TABLE!A$1:Q$65536,3,FALSE) -> La cuvée du Chat | D13: =VLOOKUP(B13,TABLE!$A$1:$IV$65536,9) -> 3.35 | E13: 1 | F13: BOUTEILLE | G13: =+H13 -> 6.7 | H13: =SUM(I13:N13) -> 6.7 | I13: =IF(F13="BOUTEILLE",VLOOKUP(B13,TABLE!$A$1:$IV$65536,12)) -> 6.7 | J13: =IF(F13="COFFRET",VLOOKUP(B13,TABLE!$A$1:$IV$65536,13)) -> FALSE | K13: =IF(F13="VERRE",VLOOKUP(B13,TABLE!$A$1:$IV$65536,14)) -> FALSE | L13: =IF(F13="DEGUST",0) -> FALSE | M13: =IF(F13="CASSE",0) -> FALSE | N13: =IF(F13="OFFERT",0) -> FALSE | O13: TR | Q13: =IF(P13="",G13,G13-(G13*P13)) -> 6.7 | R13: =IF(Q13>0,Q13*E13,G13*E13) -> 6.7 | U13: =R13 -> 6.7 | V13: =+IF(O13="CB","CARTE BANCAIRE",IF(O13="ESP","ESPECES",IF(O13="TR","TICKET RESTO",IF(O13="VIR","VIREMENT")))) -> TICKET RESTO | W13: =IF(V13="ESPECES",1,0) -> 0 | X13: =IF(V13="CARTE BANCAIRE",1,0) -> 0 | Y13: =IF(V13="TICKET RESTO",1,0) -> 1 | Z13: =IF(V13="VIREMENT",1,0) -> 0
A14: 10010 | B14: RS0008 | C14: =+VLOOKUP(B14,TABLE!A$1:Q$65536,3,FALSE) -> La cuvée sss | D14: =VLOOKUP(B14,TABLE!$A$1:$IV$65536,9) -> 5.5 | E14: 2 | F14: BOUTEILLE | G14: =+H14 -> 11 | H14: =SUM(I14:N14) -> 11 | I14: =IF(F14="BOUTEILLE",VLOOKUP(B14,TABLE!$A$1:$IV$65536,12)) -> 11 | J14: =IF(F14="COFFRET",VLOOKUP(B14,TABLE!$A$1:$IV$65536,13)) -> FALSE | K14: =IF(F14="VERRE",VLOOKUP(B14,TABLE!$A$1:$IV$65536,14)) -> FALSE | L14: =IF(F14="DEGUST",0) -> FALSE | M14: =IF(F14="CASSE",0) -> FALSE | N14: =IF(F14="OFFERT",0) -> FALSE | O14: ESP | P14: 0.05 | Q14: =IF(P14="",G14,G14-(G14*P14)) -> 10.45 | R14: =IF(Q14>0,Q14*E14,G14*E14) -> 20.9 | U14: =R14 -> 20.9 | V14: =+IF(O14="CB","CARTE BANCAIRE",IF(O14="ESP","ESPECES",IF(O14="TR","TICKET RESTO",IF(O14="VIR","VIREMENT")))) -> ESPECES | W14: =IF(V14="ESPECES",1,0) -> 1 | X14: =IF(V14="CARTE BANCAIRE",1,0) -> 0 | Y14: =IF(V14="TICKET RESTO",1,0) -> 0 | Z14: =IF(V14="VIREMENT",1,0) -> 0
A15: 10010 | B15: RS0005 | C15: =+VLOOKUP(B15,TABLE!A$1:Q$65536,3,FALSE) -> La cuvée qqq | D15: =VLOOKUP(B15,TABLE!$A$1:$IV$65536,9) -> 4.35 | E15: 4 | F15: BOUTEILLE | G15: =+H15 -> 8.7 | H15: =SUM(I15:N15) -> 8.7 | I15: =IF(F15="BOUTEILLE",VLOOKUP(B15,TABLE!$A$1:$IV$65536,12)) -> 8.7 | J15: =IF(F15="COFFRET",VLOOKUP(B15,TABLE!$A$1:$IV$65536,13)) -> FALSE | K15: =IF(F15="VERRE",VLOOKUP(B15,TABLE!$A$1:$IV$65536,14)) -> FALSE | L15: =IF(F15="DEGUST",0) -> FALSE | M15: =IF(F15="CASSE",0) -> FALSE | N15: =IF(F15="OFFERT",0) -> FALSE | O15: ESP | Q15: =IF(P15="",G15,G15-(G15*P15)) -> 8.7 | R15: =IF(Q15>0,Q15*E15,G15*E15) -> 34.8 | U15: =R15 -> 34.8 | V15: =+IF(O15="CB","CARTE BANCAIRE",IF(O15="ESP","ESPECES",IF(O15="TR","TICKET RESTO",IF(O15="VIR","VIREMENT")))) -> ESPECES | W15: =IF(V15="ESPECES",1,0) -> 1 | X15: =IF(V15="CARTE BANCAIRE",1,0) -> 0 | Y15: =IF(V15="TICKET RESTO",1,0) -> 0 | Z15: =IF(V15="VIREMENT",1,0) -> 0
A16: 10010 | B16: RS0002 | C16: =+VLOOKUP(B16,TABLE!A$1:Q$65536,3,FALSE) -> La cuvée nnn | D16: =VLOOKUP(B16,TABLE!$A$1:$IV$65536,9) -> 6.25 | E16: 1 | F16: VERRE | G16: =+H16 -> 5 | H16: =SUM(I16:N16) -> 5 | I16: =IF(F16="BOUTEILLE",VLOOKUP(B16,TABLE!$A$1:$IV$65536,12)) -> FALSE | J16: =IF(F16="COFFRET",VLOOKUP(B16,TABLE!$A$1:$IV$65536,13)) -> FALSE | K16: =IF(F16="VERRE",VLOOKUP(B16,TABLE!$A$1:$IV$65536,14)) -> 5 | L16: =IF(F16="DEGUST",0) -> FALSE | M16: =IF(F16="CASSE",0) -> FALSE | N16: =IF(F16="OFFERT",0) -> FALSE | O16: ESP | Q16: =IF(P16="",G16,G16-(G16*P16)) -> 5 | R16: =IF(Q16>0,Q16*E16,G16*E16) -> 5 | U16: =R16 -> 5 | V16: =+IF(O16="CB","CARTE BANCAIRE",IF(O16="ESP","ESPECES",IF(O16="TR","TICKET RESTO",IF(O16="VIR","VIREMENT")))) -> ESPECES | W16: =IF(V16="ESPECES",1,0) -> 1 | X16: =IF(V16="CARTE BANCAIRE",1,0) -> 0 | Y16: =IF(V16="TICKET RESTO",1,0) -> 0 | Z16: =IF(V16="VIREMENT",1,0) -> 0
A17: 10010 | B17: RS0002 | C17: =+VLOOKUP(B17,TABLE!A$1:Q$65536,3,FALSE) -> La cuvée nnn | D17: =VLOOKUP(B17,TABLE!$A$1:$IV$65536,9) -> 6.25 | E17: 2 | F17: VERRE | G17: =+H17 -> 5 | H17: =SUM(I17:N17) -> 5 | I17: =IF(F17="BOUTEILLE",VLOOKUP(B17,TABLE!$A$1:$IV$65536,12)) -> FALSE | J17: =IF(F17="COFFRET",VLOOKUP(B17,TABLE!$A$1:$IV$65536,13)) -> FALSE | K17: =IF(F17="VERRE",VLOOKUP(B17,TABLE!$A$1:$IV$65536,14)) -> 5 | L17: =IF(F17="DEGUST",0) -> FALSE | M17: =IF(F17="CASSE",0) -> FALSE | N17: =IF(F17="OFFERT",0) -> FALSE | O17: ESP | Q17: =IF(P17="",G17,G17-(G17*P17)) -> 5 | R17: =IF(Q17>0,Q17*E17,G17*E17) -> 10 | U17: =R17 -> 10 | V17: =+IF(O17="CB","CARTE BANCAIRE",IF(O17="ESP","ESPECES",IF(O17="TR","TICKET RESTO",IF(O17="VIR","VIREMENT")))) -> ESPECES | W17: =IF(V17="ESPECES",1,0) -> 1 | X17: =IF(V17="CARTE BANCAIRE",1,0) -> 0 | Y17: =IF(V17="TICKET RESTO",1,0) -> 0 | Z17: =IF(V17="VIREMENT",1,0) -> 0
A18: 10010 | B18: RS0002 | C18: =+VLOOKUP(B18,TABLE!A$1:Q$65536,3,FALSE) -> La cuvée nnn | D18: =VLOOKUP(B18,TABLE!$A$1:$IV$65536,9) -> 6.25 | E18: 3 | F18: VERRE | G18: =+H18 -> 5 | H18: =SUM(I18:N18) -> 5 | I18: =IF(F18="BOUTEILLE",VLOOKUP(B18,TABLE!$A$1:$IV$65536,12)) -> FALSE | J18: =IF(F18="COFFRET",VLOOKUP(B18,TABLE!$A$1:$IV$65536,13)) -> FALSE | K18: =IF(F18="VERRE",VLOOKUP(B18,TABLE!$A$1:$IV$65536,14)) -> 5 | L18: =IF(F18="DEGUST",0) -> FALSE | M18: =IF(F18="CASSE",0) -> FALSE | N18: =IF(F18="OFFERT",0) -> FALSE | O18: ESP | Q18: =IF(P18="",G18,G18-(G18*P18)) -> 5 | R18: =IF(Q18>0,Q18*E18,G18*E18) -> 15 | U18: =R18 -> 15 | V18: =+IF(O18="CB","CARTE BANCAIRE",IF(O18="ESP","ESPECES",IF(O18="TR","TICKET RESTO",IF(O18="VIR","VIREMENT")))) -> ESPECES | W18: =IF(V18="ESPECES",1,0) -> 1 | X18: =IF(V18="CARTE BANCAIRE",1,0) -> 0 | Y18: =IF(V18="TICKET RESTO",1,0) -> 0 | Z18: =IF(V18="VIREMENT",1,0) -> 0
A19: 10010 | B19: RS0002 | C19: =+VLOOKUP(B19,TABLE!A$1:Q$65536,3,FALSE) -> La cuvée nnn | D19: =VLOOKUP(B19,TABLE!$A$1:$IV$65536,9) -> 6.25 | E19: 4 | F19: VERRE | G19: =+H19 -> 5 | H19: =SUM(I19:N19) -> 5 | I19: =IF(F19="BOUTEILLE",VLOOKUP(B19,TABLE!$A$1:$IV$65536,12)) -> FALSE | J19: =IF(F19="COFFRET",VLOOKUP(B19,TABLE!$A$1:$IV$65536,13)) -> FALSE | K19: =IF(F19="VERRE",VLOOKUP(B19,TABLE!$A$1:$IV$65536,14)) -> 5 | L19: =IF(F19="DEGUST",0) -> FALSE | M19: =IF(F19="CASSE",0) -> FALSE | N19: =IF(F19="OFFERT",0) -> FALSE | O19: ESP | Q19: =IF(P19="",G19,G19-(G19*P19)) -> 5 | R19: =IF(Q19>0,Q19*E19,G19*E19) -> 20 | U19: =R19 -> 20 | V19: =+IF(O19="CB","CARTE BANCAIRE",IF(O19="ESP","ESPECES",IF(O19="TR","TICKET RESTO",IF(O19="VIR","VIREMENT")))) -> ESPECES | W19: =IF(V19="ESPECES",1,0) -> 1 | X19: =IF(V19="CARTE BANCAIRE",1,0) -> 0 | Y19: =IF(V19="TICKET RESTO",1,0) -> 0 | Z19: =IF(V19="VIREMENT",1,0) -> 0
A20: 10010 | B20: RS0002 | C20: =+VLOOKUP(B20,TABLE!A$1:Q$65536,3,FALSE) -> La cuvée nnn | D20: =VLOOKUP(B20,TABLE!$A$1:$IV$65536,9) -> 6.25 | E20: 5 | F20: VERRE | G20: =+H20 -> 5 | H20: =SUM(I20:N20) -> 5 | I20: =IF(F20="BOUTEILLE",VLOOKUP(B20,TABLE!$A$1:$IV$65536,12)) -> FALSE | J20: =IF(F20="COFFRET",VLOOKUP(B20,TABLE!$A$1:$IV$65536,13)) -> FALSE | K20: =IF(F20="VERRE",VLOOKUP(B20,TABLE!$A$1:$IV$65536,14)) -> 5 | L20: =IF(F20="DEGUST",0) -> FALSE | M20: =IF(F20="CASSE",0) -> FALSE | N20: =IF(F20="OFFERT",0) -> FALSE | O20: ESP | Q20: =IF(P20="",G20,G20-(G20*P20)) -> 5 | R20: =IF(Q20>0,Q20*E20,G20*E20) -> 25 | U20: =R20 -> 25 | V20: =+IF(O20="CB","CARTE BANCAIRE",IF(O20="ESP","ESPECES",IF(O20="TR","TICKET RESTO",IF(O20="VIR","VIREMENT")))) -> ESPECES | W20: =IF(V20="ESPECES",1,0) -> 1 | X20: =IF(V20="CARTE BANCAIRE",1,0) -> 0 | Y20: =IF(V20="TICKET RESTO",1,0) -> 0 | Z20: =IF(V20="VIREMENT",1,0) -> 0
C21: =+VLOOKUP(B21,TABLE!A$1:Q$65536,3,FALSE) -> 0 | D21: =VLOOKUP(B21,TABLE!$A$1:$IV$65536,9) -> 0 | G21: =+H21 -> 0 | H21: =SUM(I21:N21) -> 0 | I21: =IF(F21="BOUTEILLE",VLOOKUP(B21,TABLE!$A$1:$IV$65536,12)) -> FALSE | J21: =IF(F21="COFFRET",VLOOKUP(B21,TABLE!$A$1:$IV$65536,13)) -> FALSE | K21: =IF(F21="VERRE",VLOOKUP(B21,TABLE!$A$1:$IV$65536,14)) -> FALSE | L21: =IF(F21="DEGUST",0) -> FALSE | M21: =IF(F21="CASSE",0) -> FALSE | N21: =IF(F21="OFFERT",0) -> FALSE | Q21: =IF(P21="",G21,G21-(G21*P21)) -> 0 | R21: =IF(Q21>0,Q21*E21,G21*E21) -> 0 | U21: =R21 -> 0 | V21: =+IF(O21="CB","CARTE BANCAIRE",IF(O21="ESP","ESPECES",IF(O21="TR","TICKET RESTO",IF(O21="VIR","VIREMENT")))) -> FALSE | W21: =IF(V21="ESPECES",1,0) -> 0 | X21: =IF(V21="CARTE BANCAIRE",1,0) -> 0 | Y21: =IF(V21="TICKET RESTO",1,0) -> 0 | Z21: =IF(V21="VIREMENT",1,0) -> 0
C22: =+VLOOKUP(B22,TABLE!A$1:Q$65536,3,FALSE) -> 0 | D22: =VLOOKUP(B22,TABLE!$A$1:$IV$65536,9) -> 0 | G22: =+H22 -> 0 | H22: =SUM(I22:N22) -> 0 | I22: =IF(F22="BOUTEILLE",VLOOKUP(B22,TABLE!$A$1:$IV$65536,12)) -> FALSE | J22: =IF(F22="COFFRET",VLOOKUP(B22,TABLE!$A$1:$IV$65536,13)) -> FALSE | K22: =IF(F22="VERRE",VLOOKUP(B22,TABLE!$A$1:$IV$65536,14)) -> FALSE | L22: =IF(F22="DEGUST",0) -> FALSE | M22: =IF(F22="CASSE",0) -> FALSE | N22: =IF(F22="OFFERT",0) -> FALSE | Q22: =IF(P22="",G22,G22-(G22*P22)) -> 0 | R22: =IF(Q22>0,Q22*E22,G22*E22) -> 0 | U22: =R22 -> 0 | V22: =+IF(O22="CB","CARTE BANCAIRE",IF(O22="ESP","ESPECES",IF(O22="TR","TICKET RESTO",IF(O22="VIR","VIREMENT")))) -> FALSE | W22: =IF(V22="ESPECES",1,0) -> 0 | X22: =IF(V22="CARTE BANCAIRE",1,0) -> 0 | Y22: =IF(V22="TICKET RESTO",1,0) -> 0 | Z22: =IF(V22="VIREMENT",1,0) -> 0
C23: =+VLOOKUP(B23,TABLE!A$1:Q$65536,3,FALSE) -> 0 | D23: =VLOOKUP(B23,TABLE!$A$1:$IV$65536,9) -> 0 | G23: =+H23 -> 0 | H23: =SUM(I23:N23) -> 0 | I23: =IF(F23="BOUTEILLE",VLOOKUP(B23,TABLE!$A$1:$IV$65536,12)) -> FALSE | J23: =IF(F23="COFFRET",VLOOKUP(B23,TABLE!$A$1:$IV$65536,13)) -> FALSE | K23: =IF(F23="VERRE",VLOOKUP(B23,TABLE!$A$1:$IV$65536,14)) -> FALSE | L23: =IF(F23="DEGUST",0) -> FALSE | M23: =IF(F23="CASSE",0) -> FALSE | N23: =IF(F23="OFFERT",0) -> FALSE | Q23: =IF(P23="",G23,G23-(G23*P23)) -> 0 | R23: =IF(Q23>0,Q23*E23,G23*E23) -> 0 | U23: =R23 -> 0 | V23: =+IF(O23="CB","CARTE BANCAIRE",IF(O23="ESP","ESPECES",IF(O23="TR","TICKET RESTO",IF(O23="VIR","VIREMENT")))) -> FALSE | W23: =IF(V23="ESPECES",1,0) -> 0 | X23: =IF(V23="CARTE BANCAIRE",1,0) -> 0 | Y23: =IF(V23="TICKET RESTO",1,0) -> 0 | Z23: =IF(V23="VIREMENT",1,0) -> 0
C24: =+VLOOKUP(B24,TABLE!A$1:Q$65536,3,FALSE) -> 0 | D24: =VLOOKUP(B24,TABLE!$A$1:$IV$65536,9) -> 0 | G24: =+H24 -> 0 | H24: =SUM(I24:N24) -> 0 | I24: =IF(F24="BOUTEILLE",VLOOKUP(B24,TABLE!$A$1:$IV$65536,12)) -> FALSE | J24: =IF(F24="COFFRET",VLOOKUP(B24,TABLE!$A$1:$IV$65536,13)) -> FALSE | K24: =IF(F24="VERRE",VLOOKUP(B24,TABLE!$A$1:$IV$65536,14)) -> FALSE | L24: =IF(F24="DEGUST",0) -> FALSE | M24: =IF(F24="CASSE",0) -> FALSE | N24: =IF(F24="OFFERT",0) -> FALSE | Q24: =IF(P24="",G24,G24-(G24*P24)) -> 0 | R24: =IF(Q24>0,Q24*E24,G24*E24) -> 0 | U24: =R24 -> 0 | V24: =+IF(O24="CB","CARTE BANCAIRE",IF(O24="ESP","ESPECES",IF(O24="TR","TICKET RESTO",IF(O24="VIR","VIREMENT")))) -> FALSE | W24: =IF(V24="ESPECES",1,0) -> 0 | X24: =IF(V24="CARTE BANCAIRE",1,0) -> 0 | Y24: =IF(V24="TICKET RESTO",1,0) -> 0 | Z24: =IF(V24="VIREMENT",1,0) -> 0
C25: =+VLOOKUP(B25,TABLE!A$1:Q$65536,3,FALSE) -> 0 | D25: =VLOOKUP(B25,TABLE!$A$1:$IV$65536,9) -> 0 | G25: =+H25 -> 0 | H25: =SUM(I25:N25) -> 0 | I25: =IF(F25="BOUTEILLE",VLOOKUP(B25,TABLE!$A$1:$IV$65536,12)) -> FALSE | J25: =IF(F25="COFFRET",VLOOKUP(B25,TABLE!$A$1:$IV$65536,13)) -> FALSE | K25: =IF(F25="VERRE",VLOOKUP(B25,TABLE!$A$1:$IV$65536,14)) -> FALSE | L25: =IF(F25="DEGUST",0) -> FALSE | M25: =IF(F25="CASSE",0) -> FALSE | N25: =IF(F25="OFFERT",0) -> FALSE | Q25: =IF(P25="",G25,G25-(G25*P25)) -> 0 | R25: =IF(Q25>0,Q25*E25,G25*E25) -> 0 | U25: =R25 -> 0 | V25: =+IF(O25="CB","CARTE BANCAIRE",IF(O25="ESP","ESPECES",IF(O25="TR","TICKET RESTO",IF(O25="VIR","VIREMENT")))) -> FALSE | W25: =IF(V25="ESPECES",1,0) -> 0 | X25: =IF(V25="CARTE BANCAIRE",1,0) -> 0 | Y25: =IF(V25="TICKET RESTO",1,0) -> 0 | Z25: =IF(V25="VIREMENT",1,0) -> 0
C26: =+VLOOKUP(B26,TABLE!A$1:Q$65536,3,FALSE) -> 0 | D26: =VLOOKUP(B26,TABLE!$A$1:$IV$65536,9) -> 0 | G26: =+H26 -> 0 | H26: =SUM(I26:N26) -> 0 | I26: =IF(F26="BOUTEILLE",VLOOKUP(B26,TABLE!$A$1:$IV$65536,12)) -> FALSE | J26: =IF(F26="COFFRET",VLOOKUP(B26,TABLE!$A$1:$IV$65536,13)) -> FALSE | K26: =IF(F26="VERRE",VLOOKUP(B26,TABLE!$A$1:$IV$65536,14)) -> FALSE | L26: =IF(F26="DEGUST",0) -> FALSE | M26: =IF(F26="CASSE",0) -> FALSE | N26: =IF(F26="OFFERT",0) -> FALSE | Q26: =IF(P26="",G26,G26-(G26*P26)) -> 0 | R26: =IF(Q26>0,Q26*E26,G26*E26) -> 0 | U26: =R26 -> 0 | V26: =+IF(O26="CB","CARTE BANCAIRE",IF(O26="ESP","ESPECES",IF(O26="TR","TICKET RESTO",IF(O26="VIR","VIREMENT")))) -> FALSE | W26: =IF(V26="ESPECES",1,0) -> 0 | X26: =IF(V26="CARTE BANCAIRE",1,0) -> 0 | Y26: =IF(V26="TICKET RESTO",1,0) -> 0 | Z26: =IF(V26="VIREMENT",1,0) -> 0
C27: =+VLOOKUP(B27,TABLE!A$1:Q$65536,3,FALSE) -> 0 | D27: =VLOOKUP(B27,TABLE!$A$1:$IV$65536,9) -> 0 | G27: =+H27 -> 0 | H27: =SUM(I27:N27) -> 0 | I27: =IF(F27="BOUTEILLE",VLOOKUP(B27,TABLE!$A$1:$IV$65536,12)) -> FALSE | J27: =IF(F27="COFFRET",VLOOKUP(B27,TABLE!$A$1:$IV$65536,13)) -> FALSE | K27: =IF(F27="VERRE",VLOOKUP(B27,TABLE!$A$1:$IV$65536,14)) -> FALSE | L27: =IF(F27="DEGUST",0) -> FALSE | M27: =IF(F27="CASSE",0) -> FALSE | N27: =IF(F27="OFFERT",0) -> FALSE | Q27: =IF(P27="",G27,G27-(G27*P27)) -> 0 | R27: =IF(Q27>0,Q27*E27,G27*E27) -> 0 | U27: =R27 -> 0 | V27: =+IF(O27="CB","CARTE BANCAIRE",IF(O27="ESP","ESPECES",IF(O27="TR","TICKET RESTO",IF(O27="VIR","VIREMENT")))) -> FALSE | W27: =IF(V27="ESPECES",1,0) -> 0 | X27: =IF(V27="CARTE BANCAIRE",1,0) -> 0 | Y27: =IF(V27="TICKET RESTO",1,0) -> 0 | Z27: =IF(V27="VIREMENT",1,0) -> 0
C28: =+VLOOKUP(B28,TABLE!A$1:Q$65536,3,FALSE) -> 0 | D28: =VLOOKUP(B28,TABLE!$A$1:$IV$65536,9) -> 0 | G28: =+H28 -> 0 | H28: =SUM(I28:N28) -> 0 | I28: =IF(F28="BOUTEILLE",VLOOKUP(B28,TABLE!$A$1:$IV$65536,12)) -> FALSE | J28: =IF(F28="COFFRET",VLOOKUP(B28,TABLE!$A$1:$IV$65536,13)) -> FALSE | K28: =IF(F28="VERRE",VLOOKUP(B28,TABLE!$A$1:$IV$65536,14)) -> FALSE | L28: =IF(F28="DEGUST",0) -> FALSE | M28: =IF(F28="CASSE",0) -> FALSE | N28: =IF(F28="OFFERT",0) -> FALSE | Q28: =IF(P28="",G28,G28-(G28*P28)) -> 0 | R28: =IF(Q28>0,Q28*E28,G28*E28) -> 0 | U28: =R28 -> 0 | V28: =+IF(O28="CB","CARTE BANCAIRE",IF(O28="ESP","ESPECES",IF(O28="TR","TICKET RESTO",IF(O28="VIR","VIREMENT")))) -> FALSE | W28: =IF(V28="ESPECES",1,0) -> 0 | X28: =IF(V28="CARTE BANCAIRE",1,0) -> 0 | Y28: =IF(V28="TICKET RESTO",1,0) -> 0 | Z28: =IF(V28="VIREMENT",1,0) -> 0
C29: =+VLOOKUP(B29,TABLE!A$1:Q$65536,3,FALSE) -> 0 | D29: =VLOOKUP(B29,TABLE!$A$1:$IV$65536,9) -> 0 | G29: =+H29 -> 0 | H29: =SUM(I29:N29) -> 0 | I29: =IF(F29="BOUTEILLE",VLOOKUP(B29,TABLE!$A$1:$IV$65536,12)) -> FALSE | J29: =IF(F29="COFFRET",VLOOKUP(B29,TABLE!$A$1:$IV$65536,13)) -> FALSE | K29: =IF(F29="VERRE",VLOOKUP(B29,TABLE!$A$1:$IV$65536,14)) -> FALSE | L29: =IF(F29="DEGUST",0) -> FALSE | M29: =IF(F29="CASSE",0) -> FALSE | N29: =IF(F29="OFFERT",0) -> FALSE | Q29: =IF(P29="",G29,G29-(G29*P29)) -> 0 | R29: =IF(Q29>0,Q29*E29,G29*E29) -> 0 | U29: =R29 -> 0 | V29: =+IF(O29="CB","CARTE BANCAIRE",IF(O29="ESP","ESPECES",IF(O29="TR","TICKET RESTO",IF(O29="VIR","VIREMENT")))) -> FALSE | W29: =IF(V29="ESPECES",1,0) -> 0 | X29: =IF(V29="CARTE BANCAIRE",1,0) -> 0 | Y29: =IF(V29="TICKET RESTO",1,0) -> 0 | Z29: =IF(V29="VIREMENT",1,0) -> 0
C30: =+VLOOKUP(B30,TABLE!A$1:Q$65536,3,FALSE) -> 0 | D30: =VLOOKUP(B30,TABLE!$A$1:$IV$65536,9) -> 0 | G30: =+H30 -> 0 | H30: =SUM(I30:N30) -> 0 | I30: =IF(F30="BOUTEILLE",VLOOKUP(B30,TABLE!$A$1:$IV$65536,12)) -> FALSE | J30: =IF(F30="COFFRET",VLOOKUP(B30,TABLE!$A$1:$IV$65536,13)) -> FALSE | K30: =IF(F30="VERRE",VLOOKUP(B30,TABLE!$A$1:$IV$65536,14)) -> FALSE | L30: =IF(F30="DEGUST",0) -> FALSE | M30: =IF(F30="CASSE",0) -> FALSE | N30: =IF(F30="OFFERT",0) -> FALSE | Q30: =IF(P30="",G30,G30-(G30*P30)) -> 0 | R30: =IF(Q30>0,Q30*E30,G30*E30) -> 0
C31: =+VLOOKUP(B31,TABLE!A$1:Q$65536,3,FALSE) -> 0 | D31: =VLOOKUP(B31,TABLE!$A$1:$IV$65536,9) -> 0 | G31: =+H31 -> 0 | H31: =SUM(I31:N31) -> 0 | I31: =IF(F31="BOUTEILLE",VLOOKUP(B31,TABLE!$A$1:$IV$65536,12)) -> FALSE | J31: =IF(F31="COFFRET",VLOOKUP(B31,TABLE!$A$1:$IV$65536,13)) -> FALSE | K31: =IF(F31="VERRE",VLOOKUP(B31,TABLE!$A$1:$IV$65536,14)) -> FALSE | L31: =IF(F31="DEGUST",0) -> FALSE | M31: =IF(F31="CASSE",0) -> FALSE | N31: =IF(F31="OFFERT",0) -> FALSE | Q31: =IF(P31="",G31,G31-(G31*P31)) -> 0 | R31: =IF(Q31>0,Q31*E31,G31*E31) -> 0
C32: =+VLOOKUP(B32,TABLE!A$1:Q$65536,3,FALSE) -> 0 | D32: =VLOOKUP(B32,TABLE!$A$1:$IV$65536,9) -> 0 | G32: =+H32 -> 0 | H32: =SUM(I32:N32) -> 0 | I32: =IF(F32="BOUTEILLE",VLOOKUP(B32,TABLE!$A$1:$IV$65536,12)) -> FALSE | J32: =IF(F32="COFFRET",VLOOKUP(B32,TABLE!$A$1:$IV$65536,13)) -> FALSE | K32: =IF(F32="VERRE",VLOOKUP(B32,TABLE!$A$1:$IV$65536,14)) -> FALSE | L32: =IF(F32="DEGUST",0) -> FALSE | M32: =IF(F32="CASSE",0) -> FALSE | N32: =IF(F32="OFFERT",0) -> FALSE | Q32: =IF(P32="",G32,G32-(G32*P32)) -> 0 | R32: =IF(Q32>0,Q32*E32,G32*E32) -> 0
C33: =+VLOOKUP(B33,TABLE!A$1:Q$65536,3,FALSE) -> 0 | D33: =VLOOKUP(B33,TABLE!$A$1:$IV$65536,9) -> 0 | G33: =+H33 -> 0 | H33: =SUM(I33:N33) -> 0 | I33: =IF(F33="BOUTEILLE",VLOOKUP(B33,TABLE!$A$1:$IV$65536,12)) -> FALSE | J33: =IF(F33="COFFRET",VLOOKUP(B33,TABLE!$A$1:$IV$65536,13)) -> FALSE | K33: =IF(F33="VERRE",VLOOKUP(B33,TABLE!$A$1:$IV$65536,14)) -> FALSE | L33: =IF(F33="DEGUST",0) -> FALSE | M33: =IF(F33="CASSE",0) -> FALSE | N33: =IF(F33="OFFERT",0) -> FALSE | Q33: =IF(P33="",G33,G33-(G33*P33)) -> 0 | R33: =IF(Q33>0,Q33*E33,G33*E33) -> 0
C34: =+VLOOKUP(B34,TABLE!A$1:Q$65536,3,FALSE) -> 0 | D34: =VLOOKUP(B34,TABLE!$A$1:$IV$65536,9) -> 0 | G34: =+H34 -> 0 | H34: =SUM(I34:N34) -> 0 | I34: =IF(F34="BOUTEILLE",VLOOKUP(B34,TABLE!$A$1:$IV$65536,12)) -> FALSE | J34: =IF(F34="COFFRET",VLOOKUP(B34,TABLE!$A$1:$IV$65536,13)) -> FALSE | K34: =IF(F34="VERRE",VLOOKUP(B34,TABLE!$A$1:$IV$65536,14)) -> FALSE | L34: =IF(F34="DEGUST",0) -> FALSE | M34: =IF(F34="CASSE",0) -> FALSE | N34: =IF(F34="OFFERT",0) -> FALSE | Q34: =IF(P34="",G34,G34-(G34*P34)) -> 0 | R34: =IF(Q34>0,Q34*E34,G34*E34) -> 0
C35: =+VLOOKUP(B35,TABLE!A$1:Q$65536,3,FALSE) -> 0 | D35: =VLOOKUP(B35,TABLE!$A$1:$IV$65536,9) -> 0 | G35: =+H35 -> 0 | H35: =SUM(I35:N35) -> 0 | I35: =IF(F35="BOUTEILLE",VLOOKUP(B35,TABLE!$A$1:$IV$65536,12)) -> FALSE | J35: =IF(F35="COFFRET",VLOOKUP(B35,TABLE!$A$1:$IV$65536,13)) -> FALSE | K35: =IF(F35="VERRE",VLOOKUP(B35,TABLE!$A$1:$IV$65536,14)) -> FALSE | L35: =IF(F35="DEGUST",0) -> FALSE | M35: =IF(F35="CASSE",0) -> FALSE | N35: =IF(F35="OFFERT",0) -> FALSE | Q35: =IF(P35="",G35,G35-(G35*P35)) -> 0 | R35: =IF(Q35>0,Q35*E35,G35*E35) -> 0
C36: =+VLOOKUP(B36,TABLE!A$1:Q$65536,3,FALSE) -> 0 | D36: =VLOOKUP(B36,TABLE!$A$1:$IV$65536,9) -> 0 | G36: =+H36 -> 0 | H36: =SUM(I36:N36) -> 0 | I36: =IF(F36="BOUTEILLE",VLOOKUP(B36,TABLE!$A$1:$IV$65536,12)) -> FALSE | J36: =IF(F36="COFFRET",VLOOKUP(B36,TABLE!$A$1:$IV$65536,13)) -> FALSE | K36: =IF(F36="VERRE",VLOOKUP(B36,TABLE!$A$1:$IV$65536,14)) -> FALSE | L36: =IF(F36="DEGUST",0) -> FALSE | M36: =IF(F36="CASSE",0) -> FALSE | N36: =IF(F36="OFFERT",0) -> FALSE | Q36: =IF(P36="",G36,G36-(G36*P36)) -> 0 | R36: =IF(Q36>0,Q36*E36,G36*E36) -> 0
C37: =+VLOOKUP(B37,TABLE!A$1:Q$65536,3,FALSE) -> 0 | D37: =VLOOKUP(B37,TABLE!$A$1:$IV$65536,9) -> 0 | G37: =+H37 -> 0 | H37: =SUM(I37:N37) -> 0 | I37: =IF(F37="BOUTEILLE",VLOOKUP(B37,TABLE!$A$1:$IV$65536,12)) -> FALSE | J37: =IF(F37="COFFRET",VLOOKUP(B37,TABLE!$A$1:$IV$65536,13)) -> FALSE | K37: =IF(F37="VERRE",VLOOKUP(B37,TABLE!$A$1:$IV$65536,14)) -> FALSE | L37: =IF(F37="DEGUST",0) -> FALSE | M37: =IF(F37="CASSE",0) -> FALSE | N37: =IF(F37="OFFERT",0) -> FALSE | Q37: =IF(P37="",G37,G37-(G37*P37)) -> 0 | R37: =IF(Q37>0,Q37*E37,G37*E37) -> 0
C38: =+VLOOKUP(B38,TABLE!A$1:Q$65536,3,FALSE) -> 0 | D38: =VLOOKUP(B38,TABLE!$A$1:$IV$65536,9) -> 0 | G38: =+H38 -> 0 | H38: =SUM(I38:N38) -> 0 | I38: =IF(F38="BOUTEILLE",VLOOKUP(B38,TABLE!$A$1:$IV$65536,12)) -> FALSE | J38: =IF(F38="COFFRET",VLOOKUP(B38,TABLE!$A$1:$IV$65536,13)) -> FALSE | K38: =IF(F38="VERRE",VLOOKUP(B38,TABLE!$A$1:$IV$65536,14)) -> FALSE | L38: =IF(F38="DEGUST",0) -> FALSE | M38: =IF(F38="CASSE",0) -> FALSE | N38: =IF(F38="OFFERT",0) -> FALSE | Q38: =IF(P38="",G38,G38-(G38*P38)) -> 0 | R38: =IF(Q38>0,Q38*E38,G38*E38) -> 0
C39: =+VLOOKUP(B39,TABLE!A$1:Q$65536,3,FALSE) -> 0 | D39: =VLOOKUP(B39,TABLE!$A$1:$IV$65536,9) -> 0 | G39: =+H39 -> 0 | H39: =SUM(I39:N39) -> 0 | I39: =IF(F39="BOUTEILLE",VLOOKUP(B39,TABLE!$A$1:$IV$65536,12)) -> FALSE | J39: =IF(F39="COFFRET",VLOOKUP(B39,TABLE!$A$1:$IV$65536,13)) -> FALSE | K39: =IF(F39="VERRE",VLOOKUP(B39,TABLE!$A$1:$IV$65536,14)) -> FALSE | L39: =IF(F39="DEGUST",0) -> FALSE | M39: =IF(F39="CASSE",0) -> FALSE | N39: =IF(F39="OFFERT",0) -> FALSE | Q39: =IF(P39="",G39,G39-(G39*P39)) -> 0 | R39: =IF(Q39>0,Q39*E39,G39*E39) -> 0
C40: =+VLOOKUP(B40,TABLE!A$1:Q$65536,3,FALSE) -> 0 | D40: =VLOOKUP(B40,TABLE!$A$1:$IV$65536,9) -> 0 | G40: =+H40 -> 0 | H40: =SUM(I40:N40) -> 0 | I40: =IF(F40="BOUTEILLE",VLOOKUP(B40,TABLE!$A$1:$IV$65536,12)) -> FALSE | J40: =IF(F40="COFFRET",VLOOKUP(B40,TABLE!$A$1:$IV$65536,13)) -> FALSE | K40: =IF(F40="VERRE",VLOOKUP(B40,TABLE!$A$1:$IV$65536,14)) -> FALSE | L40: =IF(F40="DEGUST",0) -> FALSE | M40: =IF(F40="CASSE",0) -> FALSE | N40: =IF(F40="OFFERT",0) -> FALSE | Q40: =IF(P40="",G40,G40-(G40*P40)) -> 0 | R40: =IF(Q40>0,Q40*E40,G40*E40) -> 0
...

Sheet JOURNAL DE CAISSE
A1: DATE | B1: =CAISSE!AE1 -> 42080 | D1: JOURNAL DE CAISSE
A9: ESPECES | C9: CB | E9: TICKET RESTO | G9: VIREMENNT | M9: ESPECES
A10: NBR | B10: MT | C10: NBR | D10: MT | E10: NBR | F10: MT | G10: NBR | H10: MT | M10: CARTE BANCAIRE
A11: =+SUM(CAISSE!W:W) -> 11 | B11: =SUMIF(CAISSE!V:V,$M$9,CAISSE!U:U) -> 195.2 | C11: =SUM(CAISSE!X:X) -> 4 | D11: =SUMIF(CAISSE!V:V,$M$10,CAISSE!U:U) -> 81.15 | E11: =SUM(CAISSE!Y:Y) -> 3 | F11: =SUMIF(CAISSE!V:V,$M$11,CAISSE!U:U) -> 47.7 | G11: =+SUM(CAISSE!Z:Z) -> 1 | H11: =SUMIF(CAISSE!V:V,$M$12,CAISSE!U:U) -> 38.19 | M11: TICKET RESTO
M12: VIREMENT
C14: TOTAL JOUR | D14: =+SUM(B11+D11+F11+H11) -> 362.24

Sheet JOURNAL DE CAISSE CUMUL
A1: JOURNAL DE CAISSE CUMUL
B3: ESP | D3: CB | F3: TICKET REST. | H3: VIREMENNT | J3: TOTAL
B4: NBR | C4: MT | D4: NBR | E4: MT | F4: NBR | G4: MT | H4: NBR | I4: MT | J4: MOIS
A5: 42079 | B5: =IF(A5='JOURNAL DE CAISSE'!$B$1,'JOURNAL DE CAISSE'!$A$11,"") | C5: =IF(A5='JOURNAL DE CAISSE'!$B$1,'JOURNAL DE CAISSE'!$B$11,"") | D5: =IF(A5='JOURNAL DE CAISSE'!$B$1,'JOURNAL DE CAISSE'!$C$11,"") | E5: =IF(A5='JOURNAL DE CAISSE'!$B$1,'JOURNAL DE CAISSE'!$D$11,"") | F5: =IF(A5='JOURNAL DE CAISSE'!$B$1,'JOURNAL DE CAISSE'!$E$11,"") | G5: =IF(A5='JOURNAL DE CAISSE'!$B$1,'JOURNAL DE CAISSE'!$F$11,"") | H5: =IF(A5='JOURNAL DE CAISSE'!$B$1,'JOURNAL DE CAISSE'!$G$11,"") | I5: =IF(A5='JOURNAL DE CAISSE'!$B$1,'JOURNAL DE CAISSE'!$H$11,"")
A6: 42080 | B6: =IF(A6='JOURNAL DE CAISSE'!$B$1,'JOURNAL DE CAISSE'!$A$11,"") -> 11 | C6: =IF(A6='JOURNAL DE CAISSE'!$B$1,'JOURNAL DE CAISSE'!$B$11,"") -> 195.2 | D6: =IF(A6='JOURNAL DE CAISSE'!$B$1,'JOURNAL DE CAISSE'!$C$11,"") -> 4 | E6: =IF(A6='JOURNAL DE CAISSE'!$B$1,'JOURNAL DE CAISSE'!$D$11,"") -> 81.15 | F6: =IF(A6='JOURNAL DE CAISSE'!$B$1,'JOURNAL DE CAISSE'!$E$11,"") -> 3 | G6: =IF(A6='JOURNAL DE CAISSE'!$B$1,'JOURNAL DE CAISSE'!$F$11,"") -> 47.7 | H6: =IF(A6='JOURNAL DE CAISSE'!$B$1,'JOURNAL DE CAISSE'!$G$11,"") -> 1 | I6: =IF(A6='JOURNAL DE CAISSE'!$B$1,'JOURNAL DE CAISSE'!$H$11,"") -> 38.19
A7: 42081 | B7: =IF(A7='JOURNAL DE CAISSE'!$B$1,'JOURNAL DE CAISSE'!$A$11,"") | C7: =IF(A7='JOURNAL DE CAISSE'!$B$1,'JOURNAL DE CAISSE'!$B$11,"") | D7: =IF(A7='JOURNAL DE CAISSE'!$B$1,'JOURNAL DE CAISSE'!$C$11,"") | E7: =IF(A7='JOURNAL DE CAISSE'!$B$1,'JOURNAL DE CAISSE'!$D$11,"") | F7: =IF(A7='JOURNAL DE CAISSE'!$B$1,'JOURNAL DE CAISSE'!$E$11,"") | G7: =IF(A7='JOURNAL DE CAISSE'!$B$1,'JOURNAL DE CAISSE'!$F$11,"") | H7: =IF(A7='JOURNAL DE CAISSE'!$B$1,'JOURNAL DE CAISSE'!$G$11,"") | I7: =IF(A7='JOURNAL DE CAISSE'!$B$1,'JOURNAL DE CAISSE'!$H$11,"")
A8: 42082 | B8: =IF(A8='JOURNAL DE CAISSE'!$B$1,'JOURNAL DE CAISSE'!$A$11,"") | C8: =IF(A8='JOURNAL DE CAISSE'!$B$1,'JOURNAL DE CAISSE'!$B$11,"") | D8: =IF(A8='JOURNAL DE CAISSE'!$B$1,'JOURNAL DE CAISSE'!$C$11,"") | E8: =IF(A8='JOURNAL DE CAISSE'!$B$1,'JOURNAL DE CAISSE'!$D$11,"") | F8: =IF(A8='JOURNAL DE CAISSE'!$B$1,'JOURNAL DE CAISSE'!$E$11,"") | G8: =IF(A8='JOURNAL DE CAISSE'!$B$1,'JOURNAL DE CAISSE'!$F$11,"") | H8: =IF(A8='JOURNAL DE CAISSE'!$B$1,'JOURNAL DE CAISSE'!$G$11,"") | I8: =IF(A8='JOURNAL DE CAISSE'!$B$1,'JOURNAL DE CAISSE'!$H$11,"")
A9: 42083 | B9: =IF(A9='JOURNAL DE CAISSE'!$B$1,'JOURNAL DE CAISSE'!$A$11,"") | C9: =IF(A9='JOURNAL DE CAISSE'!$B$1,'JOURNAL DE CAISSE'!$B$11,"") | D9: =IF(A9='JOURNAL DE CAISSE'!$B$1,'JOURNAL DE CAISSE'!$C$11,"") | E9: =IF(A9='JOURNAL DE CAISSE'!$B$1,'JOURNAL DE CAISSE'!$D$11,"") | F9: =IF(A9='JOURNAL DE CAISSE'!$B$1,'JOURNAL DE CAISSE'!$E$11,"") | G9: =IF(A9='JOURNAL DE CAISSE'!$B$1,'JOURNAL DE CAISSE'!$F$11,"") | H9: =IF(A9='JOURNAL DE CAISSE'!$B$1,'JOURNAL DE CAISSE'!$G$11,"") | I9: =IF(A9='JOURNAL DE CAISSE'!$B$1,'JOURNAL DE CAISSE'!$H$11,"")
A10: 42084 | B10: =IF(A10='JOURNAL DE CAISSE'!$B$1,'JOURNAL DE CAISSE'!$A$11,"") | C10: =IF(A10='JOURNAL DE CAISSE'!$B$1,'JOURNAL DE CAISSE'!$B$11,"") | D10: =IF(A10='JOURNAL DE CAISSE'!$B$1,'JOURNAL DE CAISSE'!$C$11,"") | E10: =IF(A10='JOURNAL DE CAISSE'!$B$1,'JOURNAL DE CAISSE'!$D$11,"") | F10: =IF(A10='JOURNAL DE CAISSE'!$B$1,'JOURNAL DE CAISSE'!$E$11,"") | G10: =IF(A10='JOURNAL DE CAISSE'!$B$1,'JOURNAL DE CAISSE'!$F$11,"") | H10: =IF(A10='JOURNAL DE CAISSE'!$B$1,'JOURNAL DE CAISSE'!$G$11,"") | I10: =IF(A10='JOURNAL DE CAISSE'!$B$1,'JOURNAL DE CAISSE'!$H$11,"")
A11: 42085 | B11: =IF(A11='JOURNAL DE CAISSE'!$B$1,'JOURNAL DE CAISSE'!$A$11,"") | C11: =IF(A11='JOURNAL DE CAISSE'!$B$1,'JOURNAL DE CAISSE'!$B$11,"") | D11: =IF(A11='JOURNAL DE CAISSE'!$B$1,'JOURNAL DE CAISSE'!$C$11,"") | E11: =IF(A11='JOURNAL DE CAISSE'!$B$1,'JOURNAL DE CAISSE'!$D$11,"") | F11: =IF(A11='JOURNAL DE CAISSE'!$B$1,'JOURNAL DE CAISSE'!$E$11,"") | G11: =IF(A11='JOURNAL DE CAISSE'!$B$1,'JOURNAL DE CAISSE'!$F$11,"") | H11: =IF(A11='JOURNAL DE CAISSE'!$B$1,'JOURNAL DE CAISSE'!$G$11,"") | I11: =IF(A11='JOURNAL DE CAISSE'!$B$1,'JOURNAL DE CAISSE'!$H$11,"")
A12: 42086 | B12: =IF(A12='JOURNAL DE CAISSE'!$B$1,'JOURNAL DE CAISSE'!$A$11,"") | C12: =IF(A12='JOURNAL DE CAISSE'!$B$1,'JOURNAL DE CAISSE'!$B$11,"") | D12: =IF(A12='JOURNAL DE CAISSE'!$B$1,'JOURNAL DE CAISSE'!$C$11,"") | E12: =IF(A12='JOURNAL DE CAISSE'!$B$1,'JOURNAL DE CAISSE'!$D$11,"") | F12: =IF(A12='JOURNAL DE CAISSE'!$B$1,'JOURNAL DE CAISSE'!$E$11,"") | G12: =IF(A12='JOURNAL DE CAISSE'!$B$1,'JOURNAL DE CAISSE'!$F$11,"") | H12: =IF(A12='JOURNAL DE CAISSE'!$B$1,'JOURNAL DE CAISSE'!$G$11,"") | I12: =IF(A12='JOURNAL DE CAISSE'!$B$1,'JOURNAL DE CAISSE'!$H$11,"")
A13: 42087 | B13: =IF(A13='JOURNAL DE CAISSE'!$B$1,'JOURNAL DE CAISSE'!$A$11,"") | C13: =IF(A13='JOURNAL DE CAISSE'!$B$1,'JOURNAL DE CAISSE'!$B$11,"") | D13: =IF(A13='JOURNAL DE CAISSE'!$B$1,'JOURNAL DE CAISSE'!$C$11,"") | E13: =IF(A13='JOURNAL DE CAISSE'!$B$1,'JOURNAL DE CAISSE'!$D$11,"") | F13: =IF(A13='JOURNAL DE CAISSE'!$B$1,'JOURNAL DE CAISSE'!$E$11,"") | G13: =IF(A13='JOURNAL DE CAISSE'!$B$1,'JOURNAL DE CAISSE'!$F$11,"") | H13: =IF(A13='JOURNAL DE CAISSE'!$B$1,'JOURNAL DE CAISSE'!$G$11,"") | I13: =IF(A13='JOURNAL DE CAISSE'!$B$1,'JOURNAL DE CAISSE'!$H$11,"")
A14: 42088 | B14: =IF(A14='JOURNAL DE CAISSE'!$B$1,'JOURNAL DE CAISSE'!$A$11,"") | C14: =IF(A14='JOURNAL DE CAISSE'!$B$1,'JOURNAL DE CAISSE'!$B$11,"") | D14: =IF(A14='JOURNAL DE CAISSE'!$B$1,'JOURNAL DE CAISSE'!$C$11,"") | E14: =IF(A14='JOURNAL DE CAISSE'!$B$1,'JOURNAL DE CAISSE'!$D$11,"") | F14: =IF(A14='JOURNAL DE CAISSE'!$B$1,'JOURNAL DE CAISSE'!$E$11,"") | G14: =IF(A14='JOURNAL DE CAISSE'!$B$1,'JOURNAL DE CAISSE'!$F$11,"") | H14: =IF(A14='JOURNAL DE CAISSE'!$B$1,'JOURNAL DE CAISSE'!$G$11,"") | I14: =IF(A14='JOURNAL DE CAISSE'!$B$1,'JOURNAL DE CAISSE'!$H$11,"")
A15: 42089 | B15: =IF(A15='JOURNAL DE CAISSE'!$B$1,'JOURNAL DE CAISSE'!$A$11,"") | C15: =IF(A15='JOURNAL DE CAISSE'!$B$1,'JOURNAL DE CAISSE'!$B$11,"") | D15: =IF(A15='JOURNAL DE CAISSE'!$B$1,'JOURNAL DE CAISSE'!$C$11,"") | E15: =IF(A15='JOURNAL DE CAISSE'!$B$1,'JOURNAL DE CAISSE'!$D$11,"") | F15: =IF(A15='JOURNAL DE CAISSE'!$B$1,'JOURNAL DE CAISSE'!$E$11,"") | G15: =IF(A15='JOURNAL DE CAISSE'!$B$1,'JOURNAL DE CAISSE'!$F$11,"") | H15: =IF(A15='JOURNAL DE CAISSE'!$B$1,'JOURNAL DE CAISSE'!$G$11,"") | I15: =IF(A15='JOURNAL DE CAISSE'!$B$1,'JOURNAL DE CAISSE'!$H$11,"")
A16: 42090 | B16: =IF(A16='JOURNAL DE CAISSE'!$B$1,'JOURNAL DE CAISSE'!$A$11,"") | C16: =IF(A16='JOURNAL DE CAISSE'!$B$1,'JOURNAL DE CAISSE'!$B$11,"") | D16: =IF(A16='JOURNAL DE CAISSE'!$B$1,'JOURNAL DE CAISSE'!$C$11,"") | E16: =IF(A16='JOURNAL DE CAISSE'!$B$1,'JOURNAL DE CAISSE'!$D$11,"") | F16: =IF(A16='JOURNAL DE CAISSE'!$B$1,'JOURNAL DE CAISSE'!$E$11,"") | G16: =IF(A16='JOURNAL DE CAISSE'!$B$1,'JOURNAL DE CAISSE'!$F$11,"") | H16: =IF(A16='JOURNAL DE CAISSE'!$B$1,'JOURNAL DE CAISSE'!$G$11,"") | I16: =IF(A16='JOURNAL DE CAISSE'!$B$1,'JOURNAL DE CAISSE'!$H$11,"")
... A20: 42094 | B20: =IF(A20='JOURNAL DE CAISSE'!$B$1,'JOURNAL DE CAISSE'!$A$11,"") | C20: =IF(A20='JOURNAL DE CAISSE'!$B$1,'JOURNAL DE CAISSE'!$B$11,"") | D20: =IF(A20='JOURNAL DE CAISSE'!$B$1,'JOURNAL DE CAISSE'!$C$11,"") | E20: =IF(A20='JOURNAL DE CAISSE'!$B$1,'JOURNAL DE CAISSE'!$D$11,"") | F20: =IF(A20='JOURNAL DE CAISSE'!$B$1,'JOURNAL DE CAISSE'!$E$11,"") | G20: =IF(A20='JOURNAL DE CAISSE'!$B$1,'JOURNAL DE CAISSE'!$F$11,"") | H20: =IF(A20='JOURNAL DE CAISSE'!$B$1,'JOURNAL DE CAISSE'!$G$11,"") | I20: =IF(A20='JOURNAL DE CAISSE'!$B$1,'JOURNAL DE CAISSE'!$H$11,"")
A21: TOTAL MOIS | B21: =SUM(B5:B20) -> 11 | C21: =SUM(C5:C20) -> 195.2 | D21: =SUM(D5:D20) -> 4 | E21: =SUM(E5:E20) -> 81.15 | F21: =SUM(F5:F20) -> 3 | G21: =SUM(G5:G20) -> 47.7 | H21: =SUM(H5:H20) -> 1 | I21: =SUM(I5:I20) -> 38.19 | J21: =SUM(C21+E21+G21+I21) -> 362.24
A22: 42095 | B22: =IF(A22='JOURNAL DE CAISSE'!$B$1,'JOURNAL DE CAISSE'!$A$11,"") | C22: =IF(A22='JOURNAL DE CAISSE'!$B$1,'JOURNAL DE CAISSE'!$B$11,"") | D22: =IF(A22='JOURNAL DE CAISSE'!$B$1,'JOURNAL DE CAISSE'!$C$11,"") | E22: =IF(A22='JOURNAL DE CAISSE'!$B$1,'JOURNAL DE CAISSE'!$D$11,"") | F22: =IF(A22='JOURNAL DE CAISSE'!$B$1,'JOURNAL DE CAISSE'!$E$11,"") | G22: =IF(A22='JOURNAL DE CAISSE'!$B$1,'JOURNAL DE CAISSE'!$F$11,"") | H22: =IF(A22='JOURNAL DE CAISSE'!$B$1,'JOURNAL DE CAISSE'!$G$11,"") | I22: =IF(A22='JOURNAL DE CAISSE'!$B$1,'JOURNAL DE CAISSE'!$H$11,"")
A23: 42096 | B23: =IF(A23='JOURNAL DE CAISSE'!$B$1,'JOURNAL DE CAISSE'!$A$11,"") | C23: =IF(A23='JOURNAL DE CAISSE'!$B$1,'JOURNAL DE CAISSE'!$B$11,"") | D23: =IF(A23='JOURNAL DE CAISSE'!$B$1,'JOURNAL DE CAISSE'!$C$11,"") | E23: =IF(A23='JOURNAL DE CAISSE'!$B$1,'JOURNAL DE CAISSE'!$D$11,"") | F23: =IF(A23='JOURNAL DE CAISSE'!$B$1,'JOURNAL DE CAISSE'!$E$11,"") | G23: =IF(A23='JOURNAL DE CAISSE'!$B$1,'JOURNAL DE CAISSE'!$F$11,"") | H23: =IF(A23='JOURNAL DE CAISSE'!$B$1,'JOURNAL DE CAISSE'!$G$11,"") | I23: =IF(A23='JOURNAL DE CAISSE'!$B$1,'JOURNAL DE CAISSE'!$H$11,"")
A24: 42097 | B24: =IF(A24='JOURNAL DE CAISSE'!$B$1,'JOURNAL DE CAISSE'!$A$11,"") | C24: =IF(A24='JOURNAL DE CAISSE'!$B$1,'JOURNAL DE CAISSE'!$B$11,"") | D24: =IF(A24='JOURNAL DE CAISSE'!$B$1,'JOURNAL DE CAISSE'!$C$11,"") | E24: =IF(A24='JOURNAL DE CAISSE'!$B$1,'JOURNAL DE CAISSE'!$D$11,"") | F24: =IF(A24='JOURNAL DE CAISSE'!$B$1,'JOURNAL DE CAISSE'!$E$11,"") | G24: =IF(A24='JOURNAL DE CAISSE'!$B$1,'JOURNAL DE CAISSE'!$F$11,"") | H24: =IF(A24='JOURNAL DE CAISSE'!$B$1,'JOURNAL DE CAISSE'!$G$11,"") | I24: =IF(A24='JOURNAL DE CAISSE'!$B$1,'JOURNAL DE CAISSE'!$H$11,"")
A25: 42098 | B25: =IF(A25='JOURNAL DE CAISSE'!$B$1,'JOURNAL DE CAISSE'!$A$11,"") | C25: =IF(A25='JOURNAL DE CAISSE'!$B$1,'JOURNAL DE CAISSE'!$B$11,"") | D25: =IF(A25='JOURNAL DE CAISSE'!$B$1,'JOURNAL DE CAISSE'!$C$11,"") | E25: =IF(A25='JOURNAL DE CAISSE'!$B$1,'JOURNAL DE CAISSE'!$D$11,"") | F25: =IF(A25='JOURNAL DE CAISSE'!$B$1,'JOURNAL DE CAISSE'!$E$11,"") | G25: =IF(A25='JOURNAL DE CAISSE'!$B$1,'JOURNAL DE CAISSE'!$F$11,"") | H25: =IF(A25='JOURNAL DE CAISSE'!$B$1,'JOURNAL DE CAISSE'!$G$11,"") | I25: =IF(A25='JOURNAL DE CAISSE'!$B$1,'JOURNAL DE CAISSE'!$H$11,"")
A26: 42099 | B26: =IF(A26='JOURNAL DE CAISSE'!$B$1,'JOURNAL DE CAISSE'!$A$11,"") | C26: =IF(A26='JOURNAL DE CAISSE'!$B$1,'JOURNAL DE CAISSE'!$B$11,"") | D26: =IF(A26='JOURNAL DE CAISSE'!$B$1,'JOURNAL DE CAISSE'!$C$11,"") | E26: =IF(A26='JOURNAL DE CAISSE'!$B$1,'JOURNAL DE CAISSE'!$D$11,"") | F26: =IF(A26='JOURNAL DE CAISSE'!$B$1,'JOURNAL DE CAISSE'!$E$11,"") | G26: =IF(A26='JOURNAL DE CAISSE'!$B$1,'JOURNAL DE CAISSE'!$F$11,"") | H26: =IF(A26='JOURNAL DE CAISSE'!$B$1,'JOURNAL DE CAISSE'!$G$11,"") | I26: =IF(A26='JOURNAL DE CAISSE'!$B$1,'JOURNAL DE CAISSE'!$H$11,"")
A27: 42100 | B27: =IF(A27='JOURNAL DE CAISSE'!$B$1,'JOURNAL DE CAISSE'!$A$11,"") | C27: =IF(A27='JOURNAL DE CAISSE'!$B$1,'JOURNAL DE CAISSE'!$B$11,"") | D27: =IF(A27='JOURNAL DE CAISSE'!$B$1,'JOURNAL DE CAISSE'!$C$11,"") | E27: =IF(A27='JOURNAL DE CAISSE'!$B$1,'JOURNAL DE CAISSE'!$D$11,"") | F27: =IF(A27='JOURNAL DE CAISSE'!$B$1,'JOURNAL DE CAISSE'!$E$11,"") | G27: =IF(A27='JOURNAL DE CAISSE'!$B$1,'JOURNAL DE CAISSE'!$F$11,"") | H27: =IF(A27='JOURNAL DE CAISSE'!$B$1,'JOURNAL DE CAISSE'!$G$11,"") | I27: =IF(A27='JOURNAL DE CAISSE'!$B$1,'JOURNAL DE CAISSE'!$H$11,"")
A28: 42101 | B28: =IF(A28='JOURNAL DE CAISSE'!$B$1,'JOURNAL DE CAISSE'!$A$11,"") | C28: =IF(A28='JOURNAL DE CAISSE'!$B$1,'JOURNAL DE CAISSE'!$B$11,"") | D28: =IF(A28='JOURNAL DE CAISSE'!$B$1,'JOURNAL DE CAISSE'!$C$11,"") | E28: =IF(A28='JOURNAL DE CAISSE'!$B$1,'JOURNAL DE CAISSE'!$D$11,"") | F28: =IF(A28='JOURNAL DE CAISSE'!$B$1,'JOURNAL DE CAISSE'!$E$11,"") | G28: =IF(A28='JOURNAL DE CAISSE'!$B$1,'JOURNAL DE CAISSE'!$F$11,"") | H28: =IF(A28='JOURNAL DE CAISSE'!$B$1,'JOURNAL DE CAISSE'!$G$11,"") | I28: =IF(A28='JOURNAL DE CAISSE'!$B$1,'JOURNAL DE CAISSE'!$H$11,"")
A29: 42102 | B29: =IF(A29='JOURNAL DE CAISSE'!$B$1,'JOURNAL DE CAISSE'!$A$11,"") | C29: =IF(A29='JOURNAL DE CAISSE'!$B$1,'JOURNAL DE CAISSE'!$B$11,"") | D29: =IF(A29='JOURNAL DE CAISSE'!$B$1,'JOURNAL DE CAISSE'!$C$11,"") | E29: =IF(A29='JOURNAL DE CAISSE'!$B$1,'JOURNAL DE CAISSE'!$D$11,"") | F29: =IF(A29='JOURNAL DE CAISSE'!$B$1,'JOURNAL DE CAISSE'!$E$11,"") | G29: =IF(A29='JOURNAL DE CAISSE'!$B$1,'JOURNAL DE CAISSE'!$F$11,"") | H29: =IF(A29='JOURNAL DE CAISSE'!$B$1,'JOURNAL DE CAISSE'!$G$11,"") | I29: =IF(A29='JOURNAL DE CAISSE'!$B$1,'JOURNAL DE CAISSE'!$H$11,"")
A30: 42103 | B30: =IF(A30='JOURNAL DE CAISSE'!$B$1,'JOURNAL DE CAISSE'!$A$11,"") | C30: =IF(A30='JOURNAL DE CAISSE'!$B$1,'JOURNAL DE CAISSE'!$B$11,"") | D30: =IF(A30='JOURNAL DE CAISSE'!$B$1,'JOURNAL DE CAISSE'!$C$11,"") | E30: =IF(A30='JOURNAL DE CAISSE'!$B$1,'JOURNAL DE CAISSE'!$D$11,"") | F30: =IF(A30='JOURNAL DE CAISSE'!$B$1,'JOURNAL DE CAISSE'!$E$11,"") | G30: =IF(A30='JOURNAL DE CAISSE'!$B$1,'JOURNAL DE CAISSE'!$F$11,"") | H30: =IF(A30='JOURNAL DE CAISSE'!$B$1,'JOURNAL DE CAISSE'!$G$11,"") | I30: =IF(A30='JOURNAL DE CAISSE'!$B$1,'JOURNAL DE CAISSE'!$H$11,"")
A31: 42104 | B31: =IF(A31='JOURNAL DE CAISSE'!$B$1,'JOURNAL DE CAISSE'!$A$11,"") | C31: =IF(A31='JOURNAL DE CAISSE'!$B$1,'JOURNAL DE CAISSE'!$B$11,"") | D31: =IF(A31='JOURNAL DE CAISSE'!$B$1,'JOURNAL DE CAISSE'!$C$11,"") | E31: =IF(A31='JOURNAL DE CAISSE'!$B$1,'JOURNAL DE CAISSE'!$D$11,"") | F31: =IF(A31='JOURNAL DE CAISSE'!$B$1,'JOURNAL DE CAISSE'!$E$11,"") | G31: =IF(A31='JOURNAL DE CAISSE'!$B$1,'JOURNAL DE CAISSE'!$F$11,"") | H31: =IF(A31='JOURNAL DE CAISSE'!$B$1,'JOURNAL DE CAISSE'!$G$11,"") | I31: =IF(A31='JOURNAL DE CAISSE'!$B$1,'JOURNAL DE CAISSE'!$H$11,"")
A32: 42105 | B32: =IF(A32='JOURNAL DE CAISSE'!$B$1,'JOURNAL DE CAISSE'!$A$11,"") | C32: =IF(A32='JOURNAL DE CAISSE'!$B$1,'JOURNAL DE CAISSE'!$B$11,"") | D32: =IF(A32='JOURNAL DE CAISSE'!$B$1,'JOURNAL DE CAISSE'!$C$11,"") | E32: =IF(A32='JOURNAL DE CAISSE'!$B$1,'JOURNAL DE CAISSE'!$D$11,"") | F32: =IF(A32='JOURNAL DE CAISSE'!$B$1,'JOURNAL DE CAISSE'!$E$11,"") | G32: =IF(A32='JOURNAL DE CAISSE'!$B$1,'JOURNAL DE CAISSE'!$F$11,"") | H32: =IF(A32='JOURNAL DE CAISSE'!$B$1,'JOURNAL DE CAISSE'!$G$11,"") | I32: =IF(A32='JOURNAL DE CAISSE'!$B$1,'JOURNAL DE CAISSE'!$H$11,"")
A33: 42106 | B33: =IF(A33='JOURNAL DE CAISSE'!$B$1,'JOURNAL DE CAISSE'!$A$11,"") | C33: =IF(A33='JOURNAL DE CAISSE'!$B$1,'JOURNAL DE CAISSE'!$B$11,"") | D33: =IF(A33='JOURNAL DE CAISSE'!$B$1,'JOURNAL DE CAISSE'!$C$11,"") | E33: =IF(A33='JOURNAL DE CAISSE'!$B$1,'JOURNAL DE CAISSE'!$D$11,"") | F33: =IF(A33='JOURNAL DE CAISSE'!$B$1,'JOURNAL DE CAISSE'!$E$11,"") | G33: =IF(A33='JOURNAL DE CAISSE'!$B$1,'JOURNAL DE CAISSE'!$F$11,"") | H33: =IF(A33='JOURNAL DE CAISSE'!$B$1,'JOURNAL DE CAISSE'!$G$11,"") | I33: =IF(A33='JOURNAL DE CAISSE'!$B$1,'JOURNAL DE CAISSE'!$H$11,"")
... A51: 42124 | B51: =IF(A51='JOURNAL DE CAISSE'!$B$1,'JOURNAL DE CAISSE'!$A$11,"") | C51: =IF(A51='JOURNAL DE CAISSE'!$B$1,'JOURNAL DE CAISSE'!$B$11,"") | D51: =IF(A51='JOURNAL DE CAISSE'!$B$1,'JOURNAL DE CAISSE'!$C$11,"") | E51: =IF(A51='JOURNAL DE CAISSE'!$B$1,'JOURNAL DE CAISSE'!$D$11,"") | F51: =IF(A51='JOURNAL DE CAISSE'!$B$1,'JOURNAL DE CAISSE'!$E$11,"") | G51: =IF(A51='JOURNAL DE CAISSE'!$B$1,'JOURNAL DE CAISSE'!$F$11,"") | H51: =IF(A51='JOURNAL DE CAISSE'!$B$1,'JOURNAL DE CAISSE'!$G$11,"") | I51: =IF(A51='JOURNAL DE CAISSE'!$B$1,'JOURNAL DE CAISSE'!$H$11,"")
A52: TOTAL MOIS | B52: =SUM(B36:B51) -> 0 | C52: =SUM(C36:C51) -> 0 | D52: =SUM(D36:D51) -> 0 | E52: =SUM(E36:E51) -> 0 | F52: =SUM(F36:F51) -> 0 | G52: =SUM(G36:G51) -> 0 | H52: =SUM(H36:H51) -> 0 | I52: =SUM(I36:I51) -> 0 | J52: =SUM(C52+E52+G52+I52) -> 0
A53: 42125 | B53: =IF(A53='JOURNAL DE CAISSE'!$B$1,'JOURNAL DE CAISSE'!$A$11,"") | C53: =IF(A53='JOURNAL DE CAISSE'!$B$1,'JOURNAL DE CAISSE'!$B$11,"") | D53: =IF(A53='JOURNAL DE CAISSE'!$B$1,'JOURNAL DE CAISSE'!$C$11,"") | E53: =IF(A53='JOURNAL DE CAISSE'!$B$1,'JOURNAL DE CAISSE'!$D$11,"") | F53: =IF(A53='JOURNAL DE CAISSE'!$B$1,'JOURNAL DE CAISSE'!$E$11,"") | G53: =IF(A53='JOURNAL DE CAISSE'!$B$1,'JOURNAL DE CAISSE'!$F$11,"") | H53: =IF(A53='JOURNAL DE CAISSE'!$B$1,'JOURNAL DE CAISSE'!$G$11,"") | I53: =IF(A53='JOURNAL DE CAISSE'!$B$1,'JOURNAL DE CAISSE'!$H$11,"")
A54: 42126 | B54: =IF(A54='JOURNAL DE CAISSE'!$B$1,'JOURNAL DE CAISSE'!$A$11,"") | C54: =IF(A54='JOURNAL DE CAISSE'!$B$1,'JOURNAL DE CAISSE'!$B$11,"") | D54: =IF(A54='JOURNAL DE CAISSE'!$B$1,'JOURNAL DE CAISSE'!$C$11,"") | E54: =IF(A54='JOURNAL DE CAISSE'!$B$1,'JOURNAL DE CAISSE'!$D$11,"") | F54: =IF(A54='JOURNAL DE CAISSE'!$B$1,'JOURNAL DE CAISSE'!$E$11,"") | G54: =IF(A54='JOURNAL DE CAISSE'!$B$1,'JOURNAL DE CAISSE'!$F$11,"") | H54: =IF(A54='JOURNAL DE CAISSE'!$B$1,'JOURNAL DE CAISSE'!$G$11,"") | I54: =IF(A54='JOURNAL DE CAISSE'!$B$1,'JOURNAL DE CAISSE'!$H$11,"")
A55: 42127 | B55: =IF(A55='JOURNAL DE CAISSE'!$B$1,'JOURNAL DE CAISSE'!$A$11,"") | C55: =IF(A55='JOURNAL DE CAISSE'!$B$1,'JOURNAL DE CAISSE'!$B$11,"") | D55: =IF(A55='JOURNAL DE CAISSE'!$B$1,'JOURNAL DE CAISSE'!$C$11,"") | E55: =IF(A55='JOURNAL DE CAISSE'!$B$1,'JOURNAL DE CAISSE'!$D$11,"") | F55: =IF(A55='JOURNAL DE CAISSE'!$B$1,'JOURNAL DE CAISSE'!$E$11,"") | G55: =IF(A55='JOURNAL DE CAISSE'!$B$1,'JOURNAL DE CAISSE'!$F$11,"") | H55: =IF(A55='JOURNAL DE CAISSE'!$B$1,'JOURNAL DE CAISSE'!$G$11,"") | I55: =IF(A55='JOURNAL DE CAISSE'!$B$1,'JOURNAL DE CAISSE'!$H$11,"")
A56: 42128 | B56: =IF(A56='JOURNAL DE CAISSE'!$B$1,'JOURNAL DE CAISSE'!$A$11,"") | C56: =IF(A56='JOURNAL DE CAISSE'!$B$1,'JOURNAL DE CAISSE'!$B$11,"") | D56: =IF(A56='JOURNAL DE CAISSE'!$B$1,'JOURNAL DE CAISSE'!$C$11,"") | E56: =IF(A56='JOURNAL DE CAISSE'!$B$1,'JOURNAL DE CAISSE'!$D$11,"") | F56: =IF(A56='JOURNAL DE CAISSE'!$B$1,'JOURNAL DE CAISSE'!$E$11,"") | G56: =IF(A56='JOURNAL DE CAISSE'!$B$1,'JOURNAL DE CAISSE'!$F$11,"") | H56: =IF(A56='JOURNAL DE CAISSE'!$B$1,'JOURNAL DE CAISSE'!$G$11,"") | I56: =IF(A56='JOURNAL DE CAISSE'!$B$1,'JOURNAL DE CAISSE'!$H$11,"")
A57: 42129 | B57: =IF(A57='JOURNAL DE CAISSE'!$B$1,'JOURNAL DE CAISSE'!$A$11,"") | C57: =IF(A57='JOURNAL DE CAISSE'!$B$1,'JOURNAL DE CAISSE'!$B$11,"") | D57: =IF(A57='JOURNAL DE CAISSE'!$B$1,'JOURNAL DE CAISSE'!$C$11,"") | E57: =IF(A57='JOURNAL DE CAISSE'!$B$1,'JOURNAL DE CAISSE'!$D$11,"") | F57: =IF(A57='JOURNAL DE CAISSE'!$B$1,'JOURNAL DE CAISSE'!$E$11,"") | G57: =IF(A57='JOURNAL DE CAISSE'!$B$1,'JOURNAL DE CAISSE'!$F$11,"") | H57: =IF(A57='JOURNAL DE CAISSE'!$B$1,'JOURNAL DE CAISSE'!$G$11,"") | I57: =IF(A57='JOURNAL DE CAISSE'!$B$1,'JOURNAL DE CAISSE'!$H$11,"")
A58: 42130 | B58: =IF(A58='JOURNAL DE CAISSE'!$B$1,'JOURNAL DE CAISSE'!$A$11,"") | C58: =IF(A58='JOURNAL DE CAISSE'!$B$1,'JOURNAL DE CAISSE'!$B$11,"") | D58: =IF(A58='JOURNAL DE CAISSE'!$B$1,'JOURNAL DE CAISSE'!$C$11,"") | E58: =IF(A58='JOURNAL DE CAISSE'!$B$1,'JOURNAL DE CAISSE'!$D$11,"") | F58: =IF(A58='JOURNAL DE CAISSE'!$B$1,'JOURNAL DE CAISSE'!$E$11,"") | G58: =IF(A58='JOURNAL DE CAISSE'!$B$1,'JOURNAL DE CAISSE'!$F$11,"") | H58: =IF(A58='JOURNAL DE CAISSE'!$B$1,'JOURNAL DE CAISSE'!$G$11,"") | I58: =IF(A58='JOURNAL DE CAISSE'!$B$1,'JOURNAL DE CAISSE'!$H$11,"")
A59: 42131 | B59: =IF(A59='JOURNAL DE CAISSE'!$B$1,'JOURNAL DE CAISSE'!$A$11,"") | C59: =IF(A59='JOURNAL DE CAISSE'!$B$1,'JOURNAL DE CAISSE'!$B$11,"") | D59: =IF(A59='JOURNAL DE CAISSE'!$B$1,'JOURNAL DE CAISSE'!$C$11,"") | E59: =IF(A59='JOURNAL DE CAISSE'!$B$1,'JOURNAL DE CAISSE'!$D$11,"") | F59: =IF(A59='JOURNAL DE CAISSE'!$B$1,'JOURNAL DE CAISSE'!$E$11,"") | G59: =IF(A59='JOURNAL DE CAISSE'!$B$1,'JOURNAL DE CAISSE'!$F$11,"") | H59: =IF(A59='JOURNAL DE CAISSE'!$B$1,'JOURNAL DE CAISSE'!$G$11,"") | I59: =IF(A59='JOURNAL DE CAISSE'!$B$1,'JOURNAL DE CAISSE'!$H$11,"")
A60: 42132 | B60: =IF(A60='JOURNAL DE CAISSE'!$B$1,'JOURNAL DE CAISSE'!$A$11,"") | C60: =IF(A60='JOURNAL DE CAISSE'!$B$1,'JOURNAL DE CAISSE'!$B$11,"") | D60: =IF(A60='JOURNAL DE CAISSE'!$B$1,'JOURNAL DE CAISSE'!$C$11,"") | E60: =IF(A60='JOURNAL DE CAISSE'!$B$1,'JOURNAL DE CAISSE'!$D$11,"") | F60: =IF(A60='JOURNAL DE CAISSE'!$B$1,'JOURNAL DE CAISSE'!$E$11,"") | G60: =IF(A60='JOURNAL DE CAISSE'!$B$1,'JOURNAL DE CAISSE'!$F$11,"") | H60: =IF(A60='JOURNAL DE CAISSE'!$B$1,'JOURNAL DE CAISSE'!$G$11,"") | I60: =IF(A60='JOURNAL DE CAISSE'!$B$1,'JOURNAL DE CAISSE'!$H$11,"")
A61: 42133 | B61: =IF(A61='JOURNAL DE CAISSE'!$B$1,'JOURNAL DE CAISSE'!$A$11,"") | C61: =IF(A61='JOURNAL DE CAISSE'!$B$1,'JOURNAL DE CAISSE'!$B$11,"") | D61: =IF(A61='JOURNAL DE CAISSE'!$B$1,'JOURNAL DE CAISSE'!$C$11,"") | E61: =IF(A61='JOURNAL DE CAISSE'!$B$1,'JOURNAL DE CAISSE'!$D$11,"") | F61: =IF(A61='JOURNAL DE CAISSE'!$B$1,'JOURNAL DE CAISSE'!$E$11,"") | G61: =IF(A61='JOURNAL DE CAISSE'!$B$1,'JOURNAL DE CAISSE'!$F$11,"") | H61: =IF(A61='JOURNAL DE CAISSE'!$B$1,'JOURNAL DE CAISSE'!$G$11,"") | I61: =IF(A61='JOURNAL DE CAISSE'!$B$1,'JOURNAL DE CAISSE'!$H$11,"")
...

Sheet TABLE
A1: CODE | C1: NOM | D1: DOMAINE | E1: MILLESIME | F1: COULEUR | G1: CONTENANCE | H1: QTE DISPO | I1: PA HT | J1: MT TVA | K1: PA TTC | L1: PV TTC BOUTEILLE | M1: PV TTC DANS UN COFFRET | N1: PV TTC VERRE | O1: VALEUR DEGUST | P1: VALEUR CASSE | Q1: VALEUR OFFERT | S1: TVA
A2: =+STOCK!A3 -> BL0001 | B2: =LEFT(A2,2) -> BL | C2: =+STOCK!C3 -> L'ESPRIT DE BESSEUIL | D2: =+STOCK!D3 -> CHÂTEAU DE BESSEUIL | E2: =+STOCK!E3 -> 2010 | F2: =+STOCK!F3 -> BLANC | G2: =+STOCK!G3 -> 75ML | H2: =+STOCK!V3-STOCK!AI3 -> 24 | I2: =STOCK!H3 -> 5.5 | J2: =+K2-I2 -> 0.275 | K2: =IF(STOCK!I3=5.5%,STOCK!H3*1.05,IF(STOCK!I3=10%,STOCK!H3*1.1,IF(STOCK!I3=20%,STOCK!H3*1.2))) -> 5.775 | L2: =+I2*2 -> 11 | M2: =((L2*3)/1.1)/3 -> 10 | N2: 5 | O2: =+STOCK!H3 -> 5.5 | P2: =+STOCK!H3 -> 5.5 | Q2: =+STOCK!H3 -> 5.5 | S2: 5.5 | T2: 1.05
A3: =+STOCK!A4 -> BL0011 | B3: =LEFT(A3,2) -> BL | C3: =+STOCK!C4 -> La cuvée du Chat | D3: =+STOCK!D4 -> Domaine XXX | E3: =+STOCK!E4 -> 2013 | F3: =+STOCK!F4 -> BLANC | G3: =+STOCK!G4 -> 75ml | H3: =+STOCK!V4-STOCK!AI4 -> 6 | I3: =STOCK!H4 -> 4 | J3: =+K3-STOCK!H4 -> 0.2 | K3: =IF(STOCK!I4=5.5%,STOCK!H4*1.05,IF(STOCK!I4=10%,STOCK!H4*1.1,IF(STOCK!I4=20%,STOCK!H4*1.2))) -> 4.2 | L3: =+I3*2 -> 8 | M3: =((L3*3)/1.1)/3 -> 7.2727273 | N3: 5 | O3: =+STOCK!H4 -> 4 | P3: =+STOCK!H4 -> 4 | Q3: =+STOCK!H4 -> 4 | S3: 10 | T3: 1.1
A4: =+STOCK!A5 -> BL0012 | B4: =LEFT(A4,2) -> BL | C4: =+STOCK!C5 -> Le moine chauve | D4: =+STOCK!D5 -> Dommaine de l'Abbaye | E4: =+STOCK!E5 -> 2008 | F4: =+STOCK!F5 -> BLANC | G4: =+STOCK!G5 -> 75ml | H4: =+STOCK!V5-STOCK!AI5 -> 6 | I4: =STOCK!H5 -> 5 | J4: =+K4-STOCK!H5 -> 0.25 | K4: =IF(STOCK!I5=5.5%,STOCK!H5*1.05,IF(STOCK!I5=10%,STOCK!H5*1.1,IF(STOCK!I5=20%,STOCK!H5*1.2))) -> 5.25 | L4: =+I4*2 -> 10 | M4: =((L4*3)/1.1)/3 -> 9.0909091 | N4: 6 | O4: =+STOCK!H5 -> 5 | P4: =+STOCK!H5 -> 5 | Q4: =+STOCK!H5 -> 5 | S4: 20 | T4: 1.2
A5: =+STOCK!A6 -> BL0002 | B5: =LEFT(A5,2) -> BL | C5: =+STOCK!C6 -> La cuvée 123 | D5: =+STOCK!D6 -> Château Barbanau | E5: =+STOCK!E6 -> 2010 | F5: =+STOCK!F6 -> BLANC | G5: =+STOCK!G6 -> 75ML | H5: =+STOCK!V6-STOCK!AI6 -> 12 | I5: =STOCK!H6 -> 3.75 | J5: =+K5-STOCK!H6 -> 0.1875 | K5: =IF(STOCK!I6=5.5%,STOCK!H6*1.05,IF(STOCK!I6=10%,STOCK!H6*1.1,IF(STOCK!I6=20%,STOCK!H6*1.2))) -> 3.9375 | L5: =+I5*2 -> 7.5 | M5: =((L5*3)/1.1)/3 -> 6.8181818 | N5: 6 | O5: =+STOCK!H6 -> 3.75 | P5: =+STOCK!H6 -> 3.75 | Q5: =+STOCK!H6 -> 3.75
A6: =+STOCK!A7 -> BL0003 | B6: =LEFT(A6,2) -> BL | C6: =+STOCK!C7 -> La cuvée bbb | D6: =+STOCK!D7 -> Château Barbeyrolles | E6: =+STOCK!E7 -> 2009 | F6: =+STOCK!F7 -> BLANC | G6: =+STOCK!G7 -> 75ML | H6: =+STOCK!V7-STOCK!AI7 -> 12 | I6: =STOCK!H7 -> 3.5 | J6: =+K6-STOCK!H7 -> 0.175 | K6: =IF(STOCK!I7=5.5%,STOCK!H7*1.05,IF(STOCK!I7=10%,STOCK!H7*1.1,IF(STOCK!I7=20%,STOCK!H7*1.2))) -> 3.675 | L6: =+I6*2 -> 7 | M6: =((L6*3)/1.1)/3 -> 6.3636364 | N6: 6 | O6: =+STOCK!H7 -> 3.5 | P6: =+STOCK!H7 -> 3.5 | Q6: =+STOCK!H7 -> 3.5
A7: =+STOCK!A8 -> BL0004 | B7: =LEFT(A7,2) -> BL | C7: =+STOCK!C8 -> La cuvée ddd | D7: =+STOCK!D8 -> Château Carpe Diem | E7: =+STOCK!E8 -> 2009 | F7: =+STOCK!F8 -> BLANC | G7: =+STOCK!G8 -> 75ML | H7: =+STOCK!V8-STOCK!AI8 -> 12 | I7: =STOCK!H8 -> 5 | J7: =+K7-STOCK!H8 -> 0.25 | K7: =IF(STOCK!I8=5.5%,STOCK!H8*1.05,IF(STOCK!I8=10%,STOCK!H8*1.1,IF(STOCK!I8=20%,STOCK!H8*1.2))) -> 5.25 | L7: =+I7*2 -> 10 | M7: =((L7*3)/1.1)/3 -> 9.0909091 | N7: 5 | O7: =+STOCK!H8 -> 5 | P7: =+STOCK!H8 -> 5 | Q7: =+STOCK!H8 -> 5
A8: =+STOCK!A9 -> BL0005 | B8: =LEFT(A8,2) -> BL | C8: =+STOCK!C9 -> La cuvée eee | D8: =+STOCK!D9 -> Château Commanderie de Peyrassol | E8: =+STOCK!E9 -> 2009 | F8: =+STOCK!F9 -> BLANC | G8: =+STOCK!G9 -> 75ML | H8: =+STOCK!V9-STOCK!AI9 -> 12 | I8: =STOCK!H9 -> 5 | J8: =+K8-STOCK!H9 -> 0.25 | K8: =IF(STOCK!I9=5.5%,STOCK!H9*1.05,IF(STOCK!I9=10%,STOCK!H9*1.1,IF(STOCK!I9=20%,STOCK!H9*1.2))) -> 5.25 | L8: =+I8*2 -> 10 | M8: =((L8*3)/1.1)/3 -> 9.0909091 | N8: 5 | O8: =+STOCK!H9 -> 5 | P8: =+STOCK!H9 -> 5 | Q8: =+STOCK!H9 -> 5
A9: =+STOCK!A10 -> BL0006 | B9: =LEFT(A9,2) -> BL | C9: =+STOCK!C10 -> La cuvée fff | D9: =+STOCK!D10 -> Château Coussin | E9: =+STOCK!E10 -> 2013 | F9: =+STOCK!F10 -> BLANC | G9: =+STOCK!G10 -> 75ML | H9: =+STOCK!V10-STOCK!AI10 -> 12 | I9: =STOCK!H10 -> 5 | J9: =+K9-STOCK!H10 -> 0.25 | K9: =IF(STOCK!I10=5.5%,STOCK!H10*1.05,IF(STOCK!I10=10%,STOCK!H10*1.1,IF(STOCK!I10=20%,STOCK!H10*1.2))) -> 5.25 | L9: =+I9*2 -> 10 | M9: =((L9*3)/1.1)/3 -> 9.0909091 | N9: 5 | O9: =+STOCK!H10 -> 5 | P9: =+STOCK!H10 -> 5 | Q9: =+STOCK!H10 -> 5
A10: =+STOCK!A11 -> BL0007 | B10: =LEFT(A10,2) -> BL | C10: =+STOCK!C11 -> La cuvée ggg | D10: =+STOCK!D11 -> Château d'Esclans | E10: =+STOCK!E11 -> 2013 | F10: =+STOCK!F11 -> BLANC | G10: =+STOCK!G11 -> 75ML | H10: =+STOCK!V11-STOCK!AI11 -> 12 | I10: =STOCK!H11 -> 8.9 | J10: =+K10-STOCK!H11 -> 0.445 | K10: =IF(STOCK!I11=5.5%,STOCK!H11*1.05,IF(STOCK!I11=10%,STOCK!H11*1.1,IF(STOCK!I11=20%,STOCK!H11*1.2))) -> 9.345 | L10: =+I10*2 -> 17.8 | M10: =((L10*3)/1.1)/3 -> 16.181818 | N10: 6 | O10: =+STOCK!H11 -> 8.9 | P10: =+STOCK!H11 -> 8.9 | Q10: =+STOCK!H11 -> 8.9
A11: =+STOCK!A12 -> BL0008 | B11: =LEFT(A11,2) -> BL | C11: =+STOCK!C12 -> La cuvée hhh | D11: =+STOCK!D12 -> Château de la Jeannette | E11: =+STOCK!E12 -> 2013 | F11: =+STOCK!F12 -> BLANC | G11: =+STOCK!G12 -> 75ML | H11: =+STOCK!V12-STOCK!AI12 -> 12 | I11: =STOCK!H12 -> 7.5 | J11: =+K11-STOCK!H12 -> 0.375 | K11: =IF(STOCK!I12=5.5%,STOCK!H12*1.05,IF(STOCK!I12=10%,STOCK!H12*1.1,IF(STOCK!I12=20%,STOCK!H12*1.2))) -> 7.875 | L11: =+I11*2 -> 15 | M11: =((L11*3)/1.1)/3 -> 13.636364 | N11: 5 | O11: =+STOCK!H12 -> 7.5 | P11: =+STOCK!H12 -> 7.5 | Q11: =+STOCK!H12 -> 7.5
A12: =+STOCK!A13 -> BL0009 | B12: =LEFT(A12,2) -> BL | C12: =+STOCK!C13 -> La cuvée iii | D12: =+STOCK!D13 -> Château de Roquefort | E12: =+STOCK!E13 -> 2009 | F12: =+STOCK!F13 -> BLANC | G12: =+STOCK!G13 -> 75ML | H12: =+STOCK!V13-STOCK!AI13 -> 6 | I12: =STOCK!H13 -> 3.75 | J12: =+K12-STOCK!H13 -> 0.1875 | K12: =IF(STOCK!I13=5.5%,STOCK!H13*1.05,IF(STOCK!I13=10%,STOCK!H13*1.1,IF(STOCK!I13=20%,STOCK!H13*1.2))) -> 3.9375 | L12: =+I12*2 -> 7.5 | M12: =((L12*3)/1.1)/3 -> 6.8181818 | N12: 6 | O12: =+STOCK!H13 -> 3.75 | P12: =+STOCK!H13 -> 3.75 | Q12: =+STOCK!H13 -> 3.75
A13: =+STOCK!A14 -> BL0010 | B13: =LEFT(A13,2) -> BL | C13: =+STOCK!C14 -> La cuvée jjj | D13: =+STOCK!D14 -> Château de Selle | E13: =+STOCK!E14 -> 2010 | F13: =+STOCK!F14 -> BLANC | G13: =+STOCK!G14 -> 75ML | H13: =+STOCK!V14-STOCK!AI14 -> 12 | I13: =STOCK!H14 -> 3.35 | J13: =+K13-STOCK!H14 -> 0.1675 | K13: =IF(STOCK!I14=5.5%,STOCK!H14*1.05,IF(STOCK!I14=10%,STOCK!H14*1.1,IF(STOCK!I14=20%,STOCK!H14*1.2))) -> 3.5175 | L13: =+I13*2 -> 6.7 | M13: =((L13*3)/1.1)/3 -> 6.0909091 | N13: 6 | O13: =+STOCK!H14 -> 3.35 | P13: =+STOCK!H14 -> 3.35 | Q13: =+STOCK!H14 -> 3.35
A14: =+STOCK!A15 -> RG0001 | B14: =LEFT(A14,2) -> RG | C14: =+STOCK!C15 -> La cuvée www | D14: =+STOCK!D15 -> Château Miraval | E14: =+STOCK!E15 -> 2013 | F14: =+STOCK!F15 -> ROUGE | G14: =+STOCK!G15 -> 75ML | H14: =+STOCK!V15-STOCK!AI15 -> 24 | I14: =STOCK!H15 -> 5 | J14: =+K14-STOCK!H15 -> 0.25 | K14: =IF(STOCK!I15=5.5%,STOCK!H15*1.05,IF(STOCK!I15=10%,STOCK!H15*1.1,IF(STOCK!I15=20%,STOCK!H15*1.2))) -> 5.25 | L14: =+I14*2 -> 10 | M14: =((L14*3)/1.1)/3 -> 9.0909091 | N14: 6 | O14: =+STOCK!H15 -> 5 | P14: =+STOCK!H15 -> 5 | Q14: =+STOCK!H15 -> 5
