Workbook

Sheet CAISSE
A1: N° COMMANDE | B1: CODE | C1: PRODUIT | D1: PA | E1: QTE | F1: TYPE | G1: PV TTC | H1: PV | O1: PAIEMENT | P1: REMISE | Q1: MONTANT Remisé | R1: MONTANT Total | W1: NB ESP | X1: NBR CB | Y1: NBR TR | Z1: NBR VIR | AD1: DATE DU JOUR | AE1: 42080
A2: 10000 | B2: BL0001 | C2: =+VLOOKUP(B2,TABLE!A$1:Q$65536,3,FALSE) -> L'ESPRIT DE BESSEUIL | D2: =VLOOKUP(B2,TABLE!$A$1:$IV$65536,9) -> 5.5 | E2: 1 | F2: BOUTEILLE | G2: =+H2 -> 11 | H2: =SUM(I2:N2) -> 11 | I2: =IF(F2="BOUTEILLE",VLOOKUP(B2,TABLE!$A$1:$IV$65536,12)) -> 11 | J2: =IF(F2="COFFRET",VLOOKUP(B2,TABLE!$A$1:$IV$65536,13)) -> FALSE | K2: =IF(F2="VERRE",VLOOKUP(B2,TABLE!$A$1:$IV$65536,14)) -> FALSE | L2: =IF(F2="DEGUST",0) -> FALSE | M2: =IF(F2="CASSE",0) -> FALSE | N2: =IF(F2="OFFERT",0) -> FALSE | O2: ESP | Q2: =IF(P2="",G2,G2-(G2*P2)) -> 11 | R2: =IF(Q2>0,Q2*E2,G2*E2) -> 11 | U2: =R2 -> 11 | V2: =+IF(O2="CB","CARTE BANCAIRE",IF(O2="ESP","ESPECES",IF(O2="TR","TICKET RESTO",IF(O2="VIR","VIREMENT")))) -> ESPECES | W2: =IF(V2="ESPECES",1,0) -> 1 | X2: =IF(V2="CARTE BANCAIRE",1,0) -> 0 | Y2: =IF(V2="TICKET RESTO",1,0) -> 0 | Z2: =IF(V2="VIREMENT",1,0) -> 0
A3: 10000 | B3: BL0002 | C3: =+VLOOKUP(B3,TABLE!A$1:Q$65536,3,FALSE) -> La cuvée 123 | D3: =VLOOKUP(B3,TABLE!$A$1:$IV$65536,9) -> 5.5 | E3: 6 | F3: VERRE | G3: =+H3 -> 5 | H3: =SUM(I3:N3) -> 5 | I3: =IF(F3="BOUTEILLE",VLOOKUP(B3,TABLE!$A$1:$IV$65536,12)) -> FALSE | J3: =IF(F3="COFFRET",VLOOKUP(B3,TABLE!$A$1:$IV$65536,13)) -> FALSE | K3: =IF(F3="VERRE",VLOOKUP(B3,TABLE!$A$1:$IV$65536,14)) -> 5 | L3: =IF(F3="DEGUST",0) -> FALSE | M3: =IF(F3="CASSE",0) -> FALSE | N3: =IF(F3="OFFERT",0) -> FALSE | O3: ESP | P3: 0.05 | Q3: =IF(P3="",G3,G3-(G3*P3)) -> 4.75 | R3: =IF(Q3>0,Q3*E3,G3*E3) -> 28.5 | U3: =R3 -> 28.5 | V3: =+IF(O3="CB","CARTE BANCAIRE",IF(O3="ESP","ESPECES",IF(O3="TR","TICKET RESTO",IF(O3="VIR","VIREMENT")))) -> ESPECES | W3: =IF(V3="ESPECES",1,0) -> 1 | X3: =IF(V3="CARTE BANCAIRE",1,0) -> 0 | Y3: =IF(V3="TICKET RESTO",1,0) -> 0 | Z3: =IF(V3="VIREMENT",1,0) -> 0
A4: 10001 | B4: RG0001 | C4: =+VLOOKUP(B4,TABLE!A$1:Q$65536,3,FALSE) -> La cuvée www | D4: =VLOOKUP(B4,TABLE!$A$1:$IV$65536,9) -> 5 | E4: 1 | F4: BOUTEILLE | G4: =+H4 -> 10 | H4: =SUM(I4:N4) -> 10 | I4: =IF(F4="BOUTEILLE",VLOOKUP(B4,TABLE!$A$1:$IV$65536,12)) -> 10 | J4: =IF(F4="COFFRET",VLOOKUP(B4,TABLE!$A$1:$IV$65536,13)) -> FALSE | K4: =IF(F4="VERRE",VLOOKUP(B4,TABLE!$A$1:$IV$65536,14)) -> FALSE | L4: =IF(F4="DEGUST",0) -> FALSE | M4: =IF(F4="CASSE",0) -> FALSE | N4: =IF(F4="OFFERT",0) -> FALSE | O4: ESP | Q4: =IF(P4="",G4,G4-(G4*P4)) -> 10 | R4: =IF(Q4>0,Q4*E4,G4*E4) -> 10 | U4: =R4 -> 10 | V4: =+IF(O4="CB","CARTE BANCAIRE",IF(O4="ESP","ESPECES",IF(O4="TR","TICKET RESTO",IF(O4="VIR","VIREMENT")))) -> ESPECES | W4: =IF(V4="ESPECES",1,0) -> 1 | X4: =IF(V4="CARTE BANCAIRE",1,0) -> 0 | Y4: =IF(V4="TICKET RESTO",1,0) -> 0 | Z4: =IF(V4="VIREMENT",1,0) -> 0
A5: 10002 | B5: BL0003 | C5: =+VLOOKUP(B5,TABLE!A$1:Q$65536,3,FALSE) -> La cuvée bbb | D5: =VLOOKUP(B5,TABLE!$A$1:$IV$65536,9) -> 5.5 | E5: 3 | F5: VERRE | G5: =+H5 -> 5 | H5: =SUM(I5:N5) -> 5 | I5: =IF(F5="BOUTEILLE",VLOOKUP(B5,TABLE!$A$1:$IV$65536,12)) -> FALSE | J5: =IF(F5="COFFRET",VLOOKUP(B5,TABLE!$A$1:$IV$65536,13)) -> FALSE | K5: =IF(F5="VERRE",VLOOKUP(B5,TABLE!$A$1:$IV$65536,14)) -> 5 | L5: =IF(F5="DEGUST",0) -> FALSE | M5: =IF(F5="CASSE",0) -> FALSE | N5: =IF(F5="OFFERT",0) -> FALSE | O5: ESP | Q5: =IF(P5="",G5,G5-(G5*P5)) -> 5 | R5: =IF(Q5>0,Q5*E5,G5*E5) -> 15 | U5: =R5 -> 15 | V5: =+IF(O5="CB","CARTE BANCAIRE",IF(O5="ESP","ESPECES",IF(O5="TR","TICKET RESTO",IF(O5="VIR","VIREMENT")))) -> ESPECES | W5: =IF(V5="ESPECES",1,0) -> 1 | X5: =IF(V5="CARTE BANCAIRE",1,0) -> 0 | Y5: =IF(V5="TICKET RESTO",1,0) -> 0 | Z5: =IF(V5="VIREMENT",1,0) -> 0
A6: 10003 | B6: BL0001 | C6: =+VLOOKUP(B6,TABLE!A$1:Q$65536,3,FALSE) -> L'ESPRIT DE BESSEUIL | D6: =VLOOKUP(B6,TABLE!$A$1:$IV$65536,9) -> 5.5 | E6: 3 | F6: BOUTEILLE | G6: =+H6 -> 11 | H6: =SUM(I6:N6) -> 11 | I6: =IF(F6="BOUTEILLE",VLOOKUP(B6,TABLE!$A$1:$IV$65536,12)) -> 11 | J6: =IF(F6="COFFRET",VLOOKUP(B6,TABLE!$A$1:$IV$65536,13)) -> FALSE | K6: =IF(F6="VERRE",VLOOKUP(B6,TABLE!$A$1:$IV$65536,14)) -> FALSE | L6: =IF(F6="DEGUST",0) -> FALSE | M6: =IF(F6="CASSE",0) -> FALSE | N6: =IF(F6="OFFERT",0) -> FALSE | O6: CB | P6: 0.05 | Q6: =IF(P6="",G6,G6-(G6*P6)) -> 10.45 | R6: =IF(Q6>0,Q6*E6,G6*E6) -> 31.35 | U6: =R6 -> 31.35 | V6: =+IF(O6="CB","CARTE BANCAIRE",IF(O6="ESP","ESPECES",IF(O6="TR","TICKET RESTO",IF(O6="VIR","VIREMENT")))) -> CARTE BANCAIRE | W6: =IF(V6="ESPECES",1,0) -> 0 | X6: =IF(V6="CARTE BANCAIRE",1,0) -> 1 | Y6: =IF(V6="TICKET RESTO",1,0) -> 0 | Z6: =IF(V6="VIREMENT",1,0) -> 0
A7: 10004 | B7: BL0001 | C7: =+VLOOKUP(B7,TABLE!A$1:Q$65536,3,FALSE) -> L'ESPRIT DE BESSEUIL | D7: =VLOOKUP(B7,TABLE!$A$1:$IV$65536,9) -> 5.5 | E7: 2 | F7: BOUTEILLE | G7: =+H7 -> 11 | H7: =SUM(I7:N7) -> 11 | I7: =IF(F7="BOUTEILLE",VLOOKUP(B7,TABLE!$A$1:$IV$65536,12)) -> 11 | J7: =IF(F7="COFFRET",VLOOKUP(B7,TABLE!$A$1:$IV$65536,13)) -> FALSE | K7: =IF(F7="VERRE",VLOOKUP(B7,TABLE!$A$1:$IV$65536,14)) -> FALSE | L7: =IF(F7="DEGUST",0) -> FALSE | M7: =IF(F7="CASSE",0) -> FALSE | N7: =IF(F7="OFFERT",0) -> FALSE | O7: CB | Q7: =IF(P7="",G7,G7-(G7*P7)) -> 11 | R7: =IF(Q7>0,Q7*E7,G7*E7) -> 22 | U7: =R7 -> 22 | V7: =+IF(O7="CB","CARTE BANCAIRE",IF(O7="ESP","ESPECES",IF(O7="TR","TICKET RESTO",IF(O7="VIR","VIREMENT")))) -> CARTE BANCAIRE | W7: =IF(V7="ESPECES",1,0) -> 0 | X7: =IF(V7="CARTE BANCAIRE",1,0) -> 1 | Y7: =IF(V7="TICKET RESTO",1,0) -> 0 | Z7: =IF(V7="VIREMENT",1,0) -> 0
A8: 10005 | B8: BL0003 | C8: =+VLOOKUP(B8,TABLE!A$1:Q$65536,3,FALSE) -> La cuvée bbb | D8: =VLOOKUP(B8,TABLE!$A$1:$IV$65536,9) -> 5.5 | E8: 2 | F8: VERRE | G8: =+H8 -> 5 | H8: =SUM(I8:N8) -> 5 | I8: =IF(F8="BOUTEILLE",VLOOKUP(B8,TABLE!$A$1:$IV$65536,12)) -> FALSE | J8: =IF(F8="COFFRET",VLOOKUP(B8,TABLE!$A$1:$IV$65536,13)) -> FALSE | K8: =IF(F8="VERRE",VLOOKUP(B8,TABLE!$A$1:$IV$65536,14)) -> 5 | L8: =IF(F8="DEGUST",0) -> FALSE | M8: =IF(F8="CASSE",0) -> FALSE | N8: =IF(F8="OFFERT",0) -> FALSE | O8: CB | Q8: =IF(P8="",G8,G8-(G8*P8)) -> 5 | R8: =IF(Q8>0,Q8*E8,G8*E8) -> 10 | U8: =R8 -> 10 | V8: =+IF(O8="CB","CARTE BANCAIRE",IF(O8="ESP","ESPECES",IF(O8="TR","TICKET RESTO",IF(O8="VIR","VIREMENT")))) -> CARTE BANCAIRE | W8: =IF(V8="ESPECES",1,0) -> 0 | X8: =IF(V8="CARTE BANCAIRE",1,0) -> 1 | Y8: =IF(V8="TICKET RESTO",1,0) -> 0 | Z8: =IF(V8="VIREMENT",1,0) -> 0
A9: 10005 | B9: RG0002 | C9: =+VLOOKUP(B9,TABLE!A$1:Q$65536,3,FALSE) -> La cuvée yyy | D9: =VLOOKUP(B9,TABLE!$A$1:$IV$65536,9) -> 8.9 | E9: 1 | F9: BOUTEILLE | G9: =+H9 -> 17.8 | H9: =SUM(I9:N9) -> 17.8 | I9: =IF(F9="BOUTEILLE",VLOOKUP(B9,TABLE!$A$1:$IV$65536,12)) -> 17.8 | J9: =IF(F9="COFFRET",VLOOKUP(B9,TABLE!$A$1:$IV$65536,13)) -> FALSE | K9: =IF(F9="VERRE",VLOOKUP(B9,TABLE!$A$1:$IV$65536,14)) -> FALSE | L9: =IF(F9="DEGUST",0) -> FALSE | M9: =IF(F9="CASSE",0) -> FALSE | N9: =IF(F9="OFFERT",0) -> FALSE | O9: CB | Q9: =IF(P9="",G9,G9-(G9*P9)) -> 17.8 | R9: =IF(Q9>0,Q9*E9,G9*E9) -> 17.8 | U9: =R9 -> 17.8 | V9: =+IF(O9="CB","CARTE BANCAIRE",IF(O9="ESP","ESPECES",IF(O9="TR","TICKET RESTO",IF(O9="VIR","VIREMENT")))) -> CARTE BANCAIRE | W9: =IF(V9="ESPECES",1,0) -> 0 | X9: =IF(V9="CARTE BANCAIRE",1,0) -> 1 | Y9: =IF(V9="TICKET RESTO",1,0) -> 0 | Z9: =IF(V9="VIREMENT",1,0) -> 0
A10: 10006 | B10: RS0007 | C10: =+VLOOKUP(B10,TABLE!A$1:Q$65536,3,FALSE) -> La cuvée rrr | D10: =VLOOKUP(B10,TABLE!$A$1:$IV$65536,9) -> 12 | E10: 1 | F10: BOUTEILLE | G10: =+H10 -> 24 | H10: =SUM(I10:N10) -> 24 | I10: =IF(F10="BOUTEILLE",VLOOKUP(B10,TABLE!$A$1:$IV$65536,12)) -> 24 | J10: =IF(F10="COFFRET",VLOOKUP(B10,TABLE!$A$1:$IV$65536,13)) -> FALSE | K10: =IF(F10="VERRE",VLOOKUP(B10,TABLE!$A$1:$IV$65536,14)) -> FALSE | L10: =IF(F10="DEGUST",0) -> FALSE | M10: =IF(F10="CASSE",0) -> FALSE | N10: =IF(F10="OFFERT",0) -> FALSE | O10: TR | Q10: =IF(P10="",G10,G10-(G10*P10)) -> 24 | R10: =IF(Q10>0,Q10*E10,G10*E10) -> 24 | U10: =R10 -> 24 | V10: =+IF(O10="CB","CARTE BANCAIRE",IF(O10="ESP","ESPECES",IF(O10="TR","TICKET RESTO",IF(O10="VIR","VIREMENT")))) -> TICKET RESTO | W10: =IF(V10="ESPECES",1,0) -> 0 | X10: =IF(V10="CARTE BANCAIRE",1,0) -> 0 | Y10: =IF(V10="TICKET RESTO",1,0) -> 1 | Z10: =IF(V10="VIREMENT",1,0) -> 0
A11: 10007 | B11: RG0011 | C11: =+VLOOKUP(B11,TABLE!A$1:Q$65536,3,FALSE) -> La Prestigieuse | D11: =VLOOKUP(B11,TABLE!$A$1:$IV$65536,9) -> 8.5 | E11: 1 | F11: BOUTEILLE | G11: =+H11 -> 17 | H11: =SUM(I11:N11) -> 17 | I11: =IF(F11="BOUTEILLE",VLOOKUP(B11,TABLE!$A$1:$IV$65536,12)) -> 17 | J11: =IF(F11="COFFRET",VLOOKUP(B11,TABLE!$A$1:$IV$65536,13)) -> FALSE | K11: =IF(F11="VERRE",VLOOKUP(B11,TABLE!$A$1:$IV$65536,14)) -> FALSE | L11: =IF(F11="DEGUST",0) -> FALSE | M11: =IF(F11="CASSE",0) -> FALSE | N11: =IF(F11="OFFERT",0) -> FALSE | O11: TR | Q11: =IF(P11="",G11,G11-(G11*P11)) -> 17 | R11: =IF(Q11>0,Q11*E11,G11*E11) -> 17 | U11: =R11 -> 17 | V11: =+IF(O11="CB","CARTE BANCAIRE",IF(O11="ESP","ESPECES",IF(O11="TR","TICKET RESTO",IF(O11="VIR","VIREMENT")))) -> TICKET RESTO | W11: =IF(V11="ESPECES",1,0) -> 0 | X11: =IF(V11="CARTE BANCAIRE",1,0) -> 0 | Y11: =IF(V11="TICKET RESTO",1,0) -> 1 | Z11: =IF(V11="VIREMENT",1,0) -> 0
A12: 10008 | B12: RG0005 | C12: =+VLOOKUP(B12,TABLE!A$1:Q$65536,3,FALSE) -> La cuvée def | D12: =VLOOKUP(B12,TABLE!$A$1:$IV$65536,9) -> 3.35 | E12: 6 | F12: BOUTEILLE | G12: =+H12 -> 6.7 | H12: =SUM(I12:N12) -> 6.7 | I12: =IF(F12="BOUTEILLE",VLOOKUP(B12,TABLE!$A$1:$IV$65536,12)) -> 6.7 | J12: =IF(F12="COFFRET",VLOOKUP(B12,TABLE!$A$1:$IV$65536,13)) -> FALSE | K12: =IF(F12="VERRE",VLOOKUP(B12,TABLE!$A$1:$IV$65536,14)) -> FALSE | L12: =IF(F12="DEGUST",0) -> FALSE | M12: =IF(F12="CASSE",0) -> FALSE | N12: =IF(F12="OFFERT",0) -> FALSE | O12: VIR | P12: 0.05 | Q12: =IF(P12="",G12,G12-(G12*P12)) -> 6.365 | R12: =IF(Q12>0,Q12*E12,G12*E12) -> 38.19 | U12: =R12 -> 38.19 | V12: =+IF(O12="CB","CARTE BANCAIRE",IF(O12="ESP","ESPECES",IF(O12="TR","TICKET RESTO",IF(O12="VIR","VIREMENT")))) -> VIREMENT | W12: =IF(V12="ESPECES",1,0) -> 0 | X12: =IF(V12="CARTE BANCAIRE",1,0) -> 0 | Y12: =IF(V12="TICKET RESTO",1,0) -> 0 | Z12: =IF(V12="VIREMENT",1,0) -> 1
A13: 10009 | B13: BL0011 | C13: =+VLOOKUP(B13,TABLE!A$1:Q$65536,3,FALSE) -> La cuvée du Chat | D13: =VLOOKUP(B13,TABLE!$A$1:$IV$65536,9) -> 3.35 | E13: 1 | F13: BOUTEILLE | G13: =+H13 -> 6.7 | H13: =SUM(I13:N13) -> 6.7 | I13: =IF(F13="BOUTEILLE",VLOOKUP(B13,TABLE!$A$1:$IV$65536,12)) -> 6.7 | J13: =IF(F13="COFFRET",VLOOKUP(B13,TABLE!$A$1:$IV$65536,13)) -> FALSE | K13: =IF(F13="VERRE",VLOOKUP(B13,TABLE!$A$1:$IV$65536,14)) -> FALSE | L13: =IF(F13="DEGUST",0) -> FALSE | M13: =IF(F13="CASSE",0) -> FALSE | N13: =IF(F13="OFFERT",0) -> FALSE | O13: TR | Q13: =IF(P13="",G13,G13-(G13*P13)) -> 6.7 | R13: =IF(Q13>0,Q13*E13,G13*E13) -> 6.7 | U13: =R13 -> 6.7 | V13: =+IF(O13="CB","CARTE BANCAIRE",IF(O13="ESP","ESPECES",IF(O13="TR","TICKET RESTO",IF(O13="VIR","VIREMENT")))) -> TICKET RESTO | W13: =IF(V13="ESPECES",1,0) -> 0 | X13: =IF(V13="CARTE BANCAIRE",1,0) -> 0 | Y13: =IF(V13="TICKET RESTO",1,0) -> 1 | Z13: =IF(V13="VIREMENT",1,0) -> 0
A14: 10010 | B14: RS0008 | C14: =+VLOOKUP(B14,TABLE!A$1:Q$65536,3,FALSE) -> La cuvée sss | D14: =VLOOKUP(B14,TABLE!$A$1:$IV$65536,9) -> 5.5 | E14: 2 | F14: BOUTEILLE | G14: =+H14 -> 11 | H14: =SUM(I14:N14) -> 11 | I14: =IF(F14="BOUTEILLE",VLOOKUP(B14,TABLE!$A$1:$IV$65536,12)) -> 11 | J14: =IF(F14="COFFRET",VLOOKUP(B14,TABLE!$A$1:$IV$65536,13)) -> FALSE | K14: =IF(F14="VERRE",VLOOKUP(B14,TABLE!$A$1:$IV$65536,14)) -> FALSE | L14: =IF(F14="DEGUST",0) -> FALSE | M14: =IF(F14="CASSE",0) -> FALSE | N14: =IF(F14="OFFERT",0) -> FALSE | O14: ESP | P14: 0.05 | Q14: =IF(P14="",G14,G14-(G14*P14)) -> 10.45 | R14: =IF(Q14>0,Q14*E14,G14*E14) -> 20.9 | U14: =R14 -> 20.9 | V14: =+IF(O14="CB","CARTE BANCAIRE",IF(O14="ESP","ESPECES",IF(O14="TR","TICKET RESTO",IF(O14="VIR","VIREMENT")))) -> ESPECES | W14: =IF(V14="ESPECES",1,0) -> 1 | X14: =IF(V14="CARTE BANCAIRE",1,0) -> 0 | Y14: =IF(V14="TICKET RESTO",1,0) -> 0 | Z14: =IF(V14="VIREMENT",1,0) -> 0
A15: 10010 | B15: RS0005 | C15: =+VLOOKUP(B15,TABLE!A$1:Q$65536,3,FALSE) -> La cuvée qqq | D15: =VLOOKUP(B15,TABLE!$A$1:$IV$65536,9) -> 4.35 | E15: 4 | F15: BOUTEILLE | G15: =+H15 -> 8.7 | H15: =SUM(I15:N15) -> 8.7 | I15: =IF(F15="BOUTEILLE",VLOOKUP(B15,TABLE!$A$1:$IV$65536,12)) -> 8.7 | J15: =IF(F15="COFFRET",VLOOKUP(B15,TABLE!$A$1:$IV$65536,13)) -> FALSE | K15: =IF(F15="VERRE",VLOOKUP(B15,TABLE!$A$1:$IV$65536,14)) -> FALSE | L15: =IF(F15="DEGUST",0) -> FALSE | M15: =IF(F15="CASSE",0) -> FALSE | N15: =IF(F15="OFFERT",0) -> FALSE | O15: ESP | Q15: =IF(P15="",G15,G15-(G15*P15)) -> 8.7 | R15: =IF(Q15>0,Q15*E15,G15*E15) -> 34.8 | U15: =R15 -> 34.8 | V15: =+IF(O15="CB","CARTE BANCAIRE",IF(O15="ESP","ESPECES",IF(O15="TR","TICKET RESTO",IF(O15="VIR","VIREMENT")))) -> ESPECES | W15: =IF(V15="ESPECES",1,0) -> 1 | X15: =IF(V15="CARTE BANCAIRE",1,0) -> 0 | Y15: =IF(V15="TICKET RESTO",1,0) -> 0 | Z15: =IF(V15="VIREMENT",1,0) -> 0
A16: 10010 | B16: RS0002 | C16: =+VLOOKUP(B16,TABLE!A$1:Q$65536,3,FALSE) -> La cuvée nnn | D16: =VLOOKUP(B16,TABLE!$A$1:$IV$65536,9) -> 6.25 | E16: 1 | F16: VERRE | G16: =+H16 -> 5 | H16: =SUM(I16:N16) -> 5 | I16: =IF(F16="BOUTEILLE",VLOOKUP(B16,TABLE!$A$1:$IV$65536,12)) -> FALSE | J16: =IF(F16="COFFRET",VLOOKUP(B16,TABLE!$A$1:$IV$65536,13)) -> FALSE | K16: =IF(F16="VERRE",VLOOKUP(B16,TABLE!$A$1:$IV$65536,14)) -> 5 | L16: =IF(F16="DEGUST",0) -> FALSE | M16: =IF(F16="CASSE",0) -> FALSE | N16: =IF(F16="OFFERT",0) -> FALSE | O16: ESP | Q16: =IF(P16="",G16,G16-(G16*P16)) -> 5 | R16: =IF(Q16>0,Q16*E16,G16*E16) -> 5 | U16: =R16 -> 5 | V16: =+IF(O16="CB","CARTE BANCAIRE",IF(O16="ESP","ESPECES",IF(O16="TR","TICKET RESTO",IF(O16="VIR","VIREMENT")))) -> ESPECES | W16: =IF(V16="ESPECES",1,0) -> 1 | X16: =IF(V16="CARTE BANCAIRE",1,0) -> 0 | Y16: =IF(V16="TICKET RESTO",1,0) -> 0 | Z16: =IF(V16="VIREMENT",1,0) -> 0
A17: 10010 | B17: RS0002 | C17: =+VLOOKUP(B17,TABLE!A$1:Q$65536,3,FALSE) -> La cuvée nnn | D17: =VLOOKUP(B17,TABLE!$A$1:$IV$65536,9) -> 6.25 | E17: 2 | F17: VERRE | G17: =+H17 -> 5 | H17: =SUM(I17:N17) -> 5 | I17: =IF(F17="BOUTEILLE",VLOOKUP(B17,TABLE!$A$1:$IV$65536,12)) -> FALSE | J17: =IF(F17="COFFRET",VLOOKUP(B17,TABLE!$A$1:$IV$65536,13)) -> FALSE | K17: =IF(F17="VERRE",VLOOKUP(B17,TABLE!$A$1:$IV$65536,14)) -> 5 | L17: =IF(F17="DEGUST",0) -> FALSE | M17: =IF(F17="CASSE",0) -> FALSE | N17: =IF(F17="OFFERT",0) -> FALSE | O17: ESP | Q17: =IF(P17="",G17,G17-(G17*P17)) -> 5 | R17: =IF(Q17>0,Q17*E17,G17*E17) -> 10 | U17: =R17 -> 10 | V17: =+IF(O17="CB","CARTE BANCAIRE",IF(O17="ESP","ESPECES",IF(O17="TR","TICKET RESTO",IF(O17="VIR","VIREMENT")))) -> ESPECES | W17: =IF(V17="ESPECES",1,0) -> 1 | X17: =IF(V17="CARTE BANCAIRE",1,0) -> 0 | Y17: =IF(V17="TICKET RESTO",1,0) -> 0 | Z17: =IF(V17="VIREMENT",1,0) -> 0
A18: 10010 | B18: RS0002 | C18: =+VLOOKUP(B18,TABLE!A$1:Q$65536,3,FALSE) -> La cuvée nnn | D18: =VLOOKUP(B18,TABLE!$A$1:$IV$65536,9) -> 6.25 | E18: 3 | F18: VERRE | G18: =+H18 -> 5 | H18: =SUM(I18:N18) -> 5 | I18: =IF(F18="BOUTEILLE",VLOOKUP(B18,TABLE!$A$1:$IV$65536,12)) -> FALSE | J18: =IF(F18="COFFRET",VLOOKUP(B18,TABLE!$A$1:$IV$65536,13)) -> FALSE | K18: =IF(F18="VERRE",VLOOKUP(B18,TABLE!$A$1:$IV$65536,14)) -> 5 | L18: =IF(F18="DEGUST",0) -> FALSE | M18: =IF(F18="CASSE",0) -> FALSE | N18: =IF(F18="OFFERT",0) -> FALSE | O18: ESP | Q18: =IF(P18="",G18,G18-(G18*P18)) -> 5 | R18: =IF(Q18>0,Q18*E18,G18*E18) -> 15 | U18: =R18 -> 15 | V18: =+IF(O18="CB","CARTE BANCAIRE",IF(O18="ESP","ESPECES",IF(O18="TR","TICKET RESTO",IF(O18="VIR","VIREMENT")))) -> ESPECES | W18: =IF(V18="ESPECES",1,0) -> 1 | X18: =IF(V18="CARTE BANCAIRE",1,0) -> 0 | Y18: =IF(V18="TICKET RESTO",1,0) -> 0 | Z18: =IF(V18="VIREMENT",1,0) -> 0
A19: 10010 | B19: RS0002 | C19: =+VLOOKUP(B19,TABLE!A$1:Q$65536,3,FALSE) -> La cuvée nnn | D19: =VLOOKUP(B19,TABLE!$A$1:$IV$65536,9) -> 6.25 | E19: 4 | F19: VERRE | G19: =+H19 -> 5 | H19: =SUM(I19:N19) -> 5 | I19: =IF(F19="BOUTEILLE",VLOOKUP(B19,TABLE!$A$1:$IV$65536,12)) -> FALSE | J19: =IF(F19="COFFRET",VLOOKUP(B19,TABLE!$A$1:$IV$65536,13)) -> FALSE | K19: =IF(F19="VERRE",VLOOKUP(B19,TABLE!$A$1:$IV$65536,14)) -> 5 | L19: =IF(F19="DEGUST",0) -> FALSE | M19: =IF(F19="CASSE",0) -> FALSE | N19: =IF(F19="OFFERT",0) -> FALSE | O19: ESP | Q19: =IF(P19="",G19,G19-(G19*P19)) -> 5 | R19: =IF(Q19>0,Q19*E19,G19*E19) -> 20 | U19: =R19 -> 20 | V19: =+IF(O19="CB","CARTE BANCAIRE",IF(O19="ESP","ESPECES",IF(O19="TR","TICKET RESTO",IF(O19="VIR","VIREMENT")))) -> ESPECES | W19: =IF(V19="ESPECES",1,0) -> 1 | X19: =IF(V19="CARTE BANCAIRE",1,0) -> 0 | Y19: =IF(V19="TICKET RESTO",1,0) -> 0 | Z19: =IF(V19="VIREMENT",1,0) -> 0
A20: 10010 | B20: RS0002 | C20: =+VLOOKUP(B20,TABLE!A$1:Q$65536,3,FALSE) -> La cuvée nnn | D20: =VLOOKUP(B20,TABLE!$A$1:$IV$65536,9) -> 6.25 | E20: 5 | F20: VERRE | G20: =+H20 -> 5 | H20: =SUM(I20:N20) -> 5 | I20: =IF(F20="BOUTEILLE",VLOOKUP(B20,TABLE!$A$1:$IV$65536,12)) -> FALSE | J20: =IF(F20="COFFRET",VLOOKUP(B20,TABLE!$A$1:$IV$65536,13)) -> FALSE | K20: =IF(F20="VERRE",VLOOKUP(B20,TABLE!$A$1:$IV$65536,14)) -> 5 | L20: =IF(F20="DEGUST",0) -> FALSE | M20: =IF(F20="CASSE",0) -> FALSE | N20: =IF(F20="OFFERT",0) -> FALSE | O20: ESP | Q20: =IF(P20="",G20,G20-(G20*P20)) -> 5 | R20: =IF(Q20>0,Q20*E20,G20*E20) -> 25 | U20: =R20 -> 25 | V20: =+IF(O20="CB","CARTE BANCAIRE",IF(O20="ESP","ESPECES",IF(O20="TR","TICKET RESTO",IF(O20="VIR","VIREMENT")))) -> ESPECES | W20: =IF(V20="ESPECES",1,0) -> 1 | X20: =IF(V20="CARTE BANCAIRE",1,0) -> 0 | Y20: =IF(V20="TICKET RESTO",1,0) -> 0 | Z20: =IF(V20="VIREMENT",1,0) -> 0
C21: =+VLOOKUP(B21,TABLE!A$1:Q$65536,3,FALSE) -> 0 | D21: =VLOOKUP(B21,TABLE!$A$1:$IV$65536,9) -> 0 | G21: =+H21 -> 0 | H21: =SUM(I21:N21) -> 0 | I21: =IF(F21="BOUTEILLE",VLOOKUP(B21,TABLE!$A$1:$IV$65536,12)) -> FALSE | J21: =IF(F21="COFFRET",VLOOKUP(B21,TABLE!$A$1:$IV$65536,13)) -> FALSE | K21: =IF(F21="VERRE",VLOOKUP(B21,TABLE!$A$1:$IV$65536,14)) -> FALSE | L21: =IF(F21="DEGUST",0) -> FALSE | M21: =IF(F21="CASSE",0) -> FALSE | N21: =IF(F21="OFFERT",0) -> FALSE | Q21: =IF(P21="",G21,G21-(G21*P21)) -> 0 | R21: =IF(Q21>0,Q21*E21,G21*E21) -> 0 | U21: =R21 -> 0 | V21: =+IF(O21="CB","CARTE BANCAIRE",IF(O21="ESP","ESPECES",IF(O21="TR","TICKET RESTO",IF(O21="VIR","VIREMENT")))) -> FALSE | W21: =IF(V21="ESPECES",1,0) -> 0 | X21: =IF(V21="CARTE BANCAIRE",1,0) -> 0 | Y21: =IF(V21="TICKET RESTO",1,0) -> 0 | Z21: =IF(V21="VIREMENT",1,0) -> 0
C22: =+VLOOKUP(B22,TABLE!A$1:Q$65536,3,FALSE) -> 0 | D22: =VLOOKUP(B22,TABLE!$A$1:$IV$65536,9) -> 0 | G22: =+H22 -> 0 | H22: =SUM(I22:N22) -> 0 | I22: =IF(F22="BOUTEILLE",VLOOKUP(B22,TABLE!$A$1:$IV$65536,12)) -> FALSE | J22: =IF(F22="COFFRET",VLOOKUP(B22,TABLE!$A$1:$IV$65536,13)) -> FALSE | K22: =IF(F22="VERRE",VLOOKUP(B22,TABLE!$A$1:$IV$65536,14)) -> FALSE | L22: =IF(F22="DEGUST",0) -> FALSE | M22: =IF(F22="CASSE",0) -> FALSE | N22: =IF(F22="OFFERT",0) -> FALSE | Q22: =IF(P22="",G22,G22-(G22*P22)) -> 0 | R22: =IF(Q22>0,Q22*E22,G22*E22) -> 0 | U22: =R22 -> 0 | V22: =+IF(O22="CB","CARTE BANCAIRE",IF(O22="ESP","ESPECES",IF(O22="TR","TICKET RESTO",IF(O22="VIR","VIREMENT")))) -> FALSE | W22: =IF(V22="ESPECES",1,0) -> 0 | X22: =IF(V22="CARTE BANCAIRE",1,0) -> 0 | Y22: =IF(V22="TICKET RESTO",1,0) -> 0 | Z22: =IF(V22="VIREMENT",1,0) -> 0
C23: =+VLOOKUP(B23,TABLE!A$1:Q$65536,3,FALSE) -> 0 | D23: =VLOOKUP(B23,TABLE!$A$1:$IV$65536,9) -> 0 | G23: =+H23 -> 0 | H23: =SUM(I23:N23) -> 0 | I23: =IF(F23="BOUTEILLE",VLOOKUP(B23,TABLE!$A$1:$IV$65536,12)) -> FALSE | J23: =IF(F23="COFFRET",VLOOKUP(B23,TABLE!$A$1:$IV$65536,13)) -> FALSE | K23: =IF(F23="VERRE",VLOOKUP(B23,TABLE!$A$1:$IV$65536,14)) -> FALSE | L23: =IF(F23="DEGUST",0) -> FALSE | M23: =IF(F23="CASSE",0) -> FALSE | N23: =IF(F23="OFFERT",0) -> FALSE | Q23: =IF(P23="",G23,G23-(G23*P23)) -> 0 | R23: =IF(Q23>0,Q23*E23,G23*E23) -> 0 | U23: =R23 -> 0 | V23: =+IF(O23="CB","CARTE BANCAIRE",IF(O23="ESP","ESPECES",IF(O23="TR","TICKET RESTO",IF(O23="VIR","VIREMENT")))) -> FALSE | W23: =IF(V23="ESPECES",1,0) -> 0 | X23: =IF(V23="CARTE BANCAIRE",1,0) -> 0 | Y23: =IF(V23="TICKET RESTO",1,0) -> 0 | Z23: =IF(V23="VIREMENT",1,0) -> 0
C24: =+VLOOKUP(B24,TABLE!A$1:Q$65536,3,FALSE) -> 0 | D24: =VLOOKUP(B24,TABLE!$A$1:$IV$65536,9) -> 0 | G24: =+H24 -> 0 | H24: =SUM(I24:N24) -> 0 | I24: =IF(F24="BOUTEILLE",VLOOKUP(B24,TABLE!$A$1:$IV$65536,12)) -> FALSE | J24: =IF(F24="COFFRET",VLOOKUP(B24,TABLE!$A$1:$IV$65536,13)) -> FALSE | K24: =IF(F24="VERRE",VLOOKUP(B24,TABLE!$A$1:$IV$65536,14)) -> FALSE | L24: =IF(F24="DEGUST",0) -> FALSE | M24: =IF(F24="CASSE",0) -> FALSE | N24: =IF(F24="OFFERT",0) -> FALSE | Q24: =IF(P24="",G24,G24-(G24*P24)) -> 0 | R24: =IF(Q24>0,Q24*E24,G24*E24) -> 0 | U24: =R24 -> 0 | V24: =+IF(O24="CB","CARTE BANCAIRE",IF(O24="ESP","ESPECES",IF(O24="TR","TICKET RESTO",IF(O24="VIR","VIREMENT")))) -> FALSE | W24: =IF(V24="ESPECES",1,0) -> 0 | X24: =IF(V24="CARTE BANCAIRE",1,0) -> 0 | Y24: =IF(V24="TICKET RESTO",1,0) -> 0 | Z24: =IF(V24="VIREMENT",1,0) -> 0
C25: =+VLOOKUP(B25,TABLE!A$1:Q$65536,3,FALSE) -> 0 | D25: =VLOOKUP(B25,TABLE!$A$1:$IV$65536,9) -> 0 | G25: =+H25 -> 0 | H25: =SUM(I25:N25) -> 0 | I25: =IF(F25="BOUTEILLE",VLOOKUP(B25,TABLE!$A$1:$IV$65536,12)) -> FALSE | J25: =IF(F25="COFFRET",VLOOKUP(B25,TABLE!$A$1:$IV$65536,13)) -> FALSE | K25: =IF(F25="VERRE",VLOOKUP(B25,TABLE!$A$1:$IV$65536,14)) -> FALSE | L25: =IF(F25="DEGUST",0) -> FALSE | M25: =IF(F25="CASSE",0) -> FALSE | N25: =IF(F25="OFFERT",0) -> FALSE | Q25: =IF(P25="",G25,G25-(G25*P25)) -> 0 | R25: =IF(Q25>0,Q25*E25,G25*E25) -> 0 | U25: =R25 -> 0 | V25: =+IF(O25="CB","CARTE BANCAIRE",IF(O25="ESP","ESPECES",IF(O25="TR","TICKET RESTO",IF(O25="VIR","VIREMENT")))) -> FALSE | W25: =IF(V25="ESPECES",1,0) -> 0 | X25: =IF(V25="CARTE BANCAIRE",1,0) -> 0 | Y25: =IF(V25="TICKET RESTO",1,0) -> 0 | Z25: =IF(V25="VIREMENT",1,0) -> 0
C26: =+VLOOKUP(B26,TABLE!A$1:Q$65536,3,FALSE) -> 0 | D26: =VLOOKUP(B26,TABLE!$A$1:$IV$65536,9) -> 0 | G26: =+H26 -> 0 | H26: =SUM(I26:N26) -> 0 | I26: =IF(F26="BOUTEILLE",VLOOKUP(B26,TABLE!$A$1:$IV$65536,12)) -> FALSE | J26: =IF(F26="COFFRET",VLOOKUP(B26,TABLE!$A$1:$IV$65536,13)) -> FALSE | K26: =IF(F26="VERRE",VLOOKUP(B26,TABLE!$A$1:$IV$65536,14)) -> FALSE | L26: =IF(F26="DEGUST",0) -> FALSE | M26: =IF(F26="CASSE",0) -> FALSE | N26: =IF(F26="OFFERT",0) -> FALSE | Q26: =IF(P26="",G26,G26-(G26*P26)) -> 0 | R26: =IF(Q26>0,Q26*E26,G26*E26) -> 0 | U26: =R26 -> 0 | V26: =+IF(O26="CB","CARTE BANCAIRE",IF(O26="ESP","ESPECES",IF(O26="TR","TICKET RESTO",IF(O26="VIR","VIREMENT")))) -> FALSE | W26: =IF(V26="ESPECES",1,0) -> 0 | X26: =IF(V26="CARTE BANCAIRE",1,0) -> 0 | Y26: =IF(V26="TICKET RESTO",1,0) -> 0 | Z26: =IF(V26="VIREMENT",1,0) -> 0
C27: =+VLOOKUP(B27,TABLE!A$1:Q$65536,3,FALSE) -> 0 | D27: =VLOOKUP(B27,TABLE!$A$1:$IV$65536,9) -> 0 | G27: =+H27 -> 0 | H27: =SUM(I27:N27) -> 0 | I27: =IF(F27="BOUTEILLE",VLOOKUP(B27,TABLE!$A$1:$IV$65536,12)) -> FALSE | J27: =IF(F27="COFFRET",VLOOKUP(B27,TABLE!$A$1:$IV$65536,13)) -> FALSE | K27: =IF(F27="VERRE",VLOOKUP(B27,TABLE!$A$1:$IV$65536,14)) -> FALSE | L27: =IF(F27="DEGUST",0) -> FALSE | M27: =IF(F27="CASSE",0) -> FALSE | N27: =IF(F27="OFFERT",0) -> FALSE | Q27: =IF(P27="",G27,G27-(G27*P27)) -> 0 | R27: =IF(Q27>0,Q27*E27,G27*E27) -> 0 | U27: =R27 -> 0 | V27: =+IF(O27="CB","CARTE BANCAIRE",IF(O27="ESP","ESPECES",IF(O27="TR","TICKET RESTO",IF(O27="VIR","VIREMENT")))) -> FALSE | W27: =IF(V27="ESPECES",1,0) -> 0 | X27: =IF(V27="CARTE BANCAIRE",1,0) -> 0 | Y27: =IF(V27="TICKET RESTO",1,0) -> 0 | Z27: =IF(V27="VIREMENT",1,0) -> 0
C28: =+VLOOKUP(B28,TABLE!A$1:Q$65536,3,FALSE) -> 0 | D28: =VLOOKUP(B28,TABLE!$A$1:$IV$65536,9) -> 0 | G28: =+H28 -> 0 | H28: =SUM(I28:N28) -> 0 | I28: =IF(F28="BOUTEILLE",VLOOKUP(B28,TABLE!$A$1:$IV$65536,12)) -> FALSE | J28: =IF(F28="COFFRET",VLOOKUP(B28,TABLE!$A$1:$IV$65536,13)) -> FALSE | K28: =IF(F28="VERRE",VLOOKUP(B28,TABLE!$A$1:$IV$65536,14)) -> FALSE | L28: =IF(F28="DEGUST",0) -> FALSE | M28: =IF(F28="CASSE",0) -> FALSE | N28: =IF(F28="OFFERT",0) -> FALSE | Q28: =IF(P28="",G28,G28-(G28*P28)) -> 0 | R28: =IF(Q28>0,Q28*E28,G28*E28) -> 0 | U28: =R28 -> 0 | V28: =+IF(O28="CB","CARTE BANCAIRE",IF(O28="ESP","ESPECES",IF(O28="TR","TICKET RESTO",IF(O28="VIR","VIREMENT")))) -> FALSE | W28: =IF(V28="ESPECES",1,0) -> 0 | X28: =IF(V28="CARTE BANCAIRE",1,0) -> 0 | Y28: =IF(V28="TICKET RESTO",1,0) -> 0 | Z28: =IF(V28="VIREMENT",1,0) -> 0
C29: =+VLOOKUP(B29,TABLE!A$1:Q$65536,3,FALSE) -> 0 | D29: =VLOOKUP(B29,TABLE!$A$1:$IV$65536,9) -> 0 | G29: =+H29 -> 0 | H29: =SUM(I29:N29) -> 0 | I29: =IF(F29="BOUTEILLE",VLOOKUP(B29,TABLE!$A$1:$IV$65536,12)) -> FALSE | J29: =IF(F29="COFFRET",VLOOKUP(B29,TABLE!$A$1:$IV$65536,13)) -> FALSE | K29: =IF(F29="VERRE",VLOOKUP(B29,TABLE!$A$1:$IV$65536,14)) -> FALSE | L29: =IF(F29="DEGUST",0) -> FALSE | M29: =IF(F29="CASSE",0) -> FALSE | N29: =IF(F29="OFFERT",0) -> FALSE | Q29: =IF(P29="",G29,G29-(G29*P29)) -> 0 | R29: =IF(Q29>0,Q29*E29,G29*E29) -> 0 | U29: =R29 -> 0 | V29: =+IF(O29="CB","CARTE BANCAIRE",IF(O29="ESP","ESPECES",IF(O29="TR","TICKET RESTO",IF(O29="VIR","VIREMENT")))) -> FALSE | W29: =IF(V29="ESPECES",1,0) -> 0 | X29: =IF(V29="CARTE BANCAIRE",1,0) -> 0 | Y29: =IF(V29="TICKET RESTO",1,0) -> 0 | Z29: =IF(V29="VIREMENT",1,0) -> 0
C30: =+VLOOKUP(B30,TABLE!A$1:Q$65536,3,FALSE) -> 0 | D30: =VLOOKUP(B30,TABLE!$A$1:$IV$65536,9) -> 0 | G30: =+H30 -> 0 | H30: =SUM(I30:N30) -> 0 | I30: =IF(F30="BOUTEILLE",VLOOKUP(B30,TABLE!$A$1:$IV$65536,12)) -> FALSE | J30: =IF(F30="COFFRET",VLOOKUP(B30,TABLE!$A$1:$IV$65536,13)) -> FALSE | K30: =IF(F30="VERRE",VLOOKUP(B30,TABLE!$A$1:$IV$65536,14)) -> FALSE | L30: =IF(F30="DEGUST",0) -> FALSE | M30: =IF(F30="CASSE",0) -> FALSE | N30: =IF(F30="OFFERT",0) -> FALSE | Q30: =IF(P30="",G30,G30-(G30*P30)) -> 0 | R30: =IF(Q30>0,Q30*E30,G30*E30) -> 0
C31: =+VLOOKUP(B31,TABLE!A$1:Q$65536,3,FALSE) -> 0 | D31: =VLOOKUP(B31,TABLE!$A$1:$IV$65536,9) -> 0 | G31: =+H31 -> 0 | H31: =SUM(I31:N31) -> 0 | I31: =IF(F31="BOUTEILLE",VLOOKUP(B31,TABLE!$A$1:$IV$65536,12)) -> FALSE | J31: =IF(F31="COFFRET",VLOOKUP(B31,TABLE!$A$1:$IV$65536,13)) -> FALSE | K31: =IF(F31="VERRE",VLOOKUP(B31,TABLE!$A$1:$IV$65536,14)) -> FALSE | L31: =IF(F31="DEGUST",0) -> FALSE | M31: =IF(F31="CASSE",0) -> FALSE | N31: =IF(F31="OFFERT",0) -> FALSE | Q31: =IF(P31="",G31,G31-(G31*P31)) -> 0 | R31: =IF(Q31>0,Q31*E31,G31*E31) -> 0
C32: =+VLOOKUP(B32,TABLE!A$1:Q$65536,3,FALSE) -> 0 | D32: =VLOOKUP(B32,TABLE!$A$1:$IV$65536,9) -> 0 | G32: =+H32 -> 0 | H32: =SUM(I32:N32) -> 0 | I32: =IF(F32="BOUTEILLE",VLOOKUP(B32,TABLE!$A$1:$IV$65536,12)) -> FALSE | J32: =IF(F32="COFFRET",VLOOKUP(B32,TABLE!$A$1:$IV$65536,13)) -> FALSE | K32: =IF(F32="VERRE",VLOOKUP(B32,TABLE!$A$1:$IV$65536,14)) -> FALSE | L32: =IF(F32="DEGUST",0) -> FALSE | M32: =IF(F32="CASSE",0) -> FALSE | N32: =IF(F32="OFFERT",0) -> FALSE | Q32: =IF(P32="",G32,G32-(G32*P32)) -> 0 | R32: =IF(Q32>0,Q32*E32,G32*E32) -> 0
C33: =+VLOOKUP(B33,TABLE!A$1:Q$65536,3,FALSE) -> 0 | D33: =VLOOKUP(B33,TABLE!$A$1:$IV$65536,9) -> 0 | G33: =+H33 -> 0 | H33: =SUM(I33:N33) -> 0 | I33: =IF(F33="BOUTEILLE",VLOOKUP(B33,TABLE!$A$1:$IV$65536,12)) -> FALSE | J33: =IF(F33="COFFRET",VLOOKUP(B33,TABLE!$A$1:$IV$65536,13)) -> FALSE | K33: =IF(F33="VERRE",VLOOKUP(B33,TABLE!$A$1:$IV$65536,14)) -> FALSE | L33: =IF(F33="DEGUST",0) -> FALSE | M33: =IF(F33="CASSE",0) -> FALSE | N33: =IF(F33="OFFERT",0) -> FALSE | Q33: =IF(P33="",G33,G33-(G33*P33)) -> 0 | R33: =IF(Q33>0,Q33*E33,G33*E33) -> 0
C34: =+VLOOKUP(B34,TABLE!A$1:Q$65536,3,FALSE) -> 0 | D34: =VLOOKUP(B34,TABLE!$A$1:$IV$65536,9) -> 0 | G34: =+H34 -> 0 | H34: =SUM(I34:N34) -> 0 | I34: =IF(F34="BOUTEILLE",VLOOKUP(B34,TABLE!$A$1:$IV$65536,12)) -> FALSE | J34: =IF(F34="COFFRET",VLOOKUP(B34,TABLE!$A$1:$IV$65536,13)) -> FALSE | K34: =IF(F34="VERRE",VLOOKUP(B34,TABLE!$A$1:$IV$65536,14)) -> FALSE | L34: =IF(F34="DEGUST",0) -> FALSE | M34: =IF(F34="CASSE",0) -> FALSE | N34: =IF(F34="OFFERT",0) -> FALSE | Q34: =IF(P34="",G34,G34-(G34*P34)) -> 0 | R34: =IF(Q34>0,Q34*E34,G34*E34) -> 0
C35: =+VLOOKUP(B35,TABLE!A$1:Q$65536,3,FALSE) -> 0 | D35: =VLOOKUP(B35,TABLE!$A$1:$IV$65536,9) -> 0 | G35: =+H35 -> 0 | H35: =SUM(I35:N35) -> 0 | I35: =IF(F35="BOUTEILLE",VLOOKUP(B35,TABLE!$A$1:$IV$65536,12)) -> FALSE | J35: =IF(F35="COFFRET",VLOOKUP(B35,TABLE!$A$1:$IV$65536,13)) -> FALSE | K35: =IF(F35="VERRE",VLOOKUP(B35,TABLE!$A$1:$IV$65536,14)) -> FALSE | L35: =IF(F35="DEGUST",0) -> FALSE | M35: =IF(F35="CASSE",0) -> FALSE | N35: =IF(F35="OFFERT",0) -> FALSE | Q35: =IF(P35="",G35,G35-(G35*P35)) -> 0 | R35: =IF(Q35>0,Q35*E35,G35*E35) -> 0
C36: =+VLOOKUP(B36,TABLE!A$1:Q$65536,3,FALSE) -> 0 | D36: =VLOOKUP(B36,TABLE!$A$1:$IV$65536,9) -> 0 | G36: =+H36 -> 0 | H36: =SUM(I36:N36) -> 0 | I36: =IF(F36="BOUTEILLE",VLOOKUP(B36,TABLE!$A$1:$IV$65536,12)) -> FALSE | J36: =IF(F36="COFFRET",VLOOKUP(B36,TABLE!$A$1:$IV$65536,13)) -> FALSE | K36: =IF(F36="VERRE",VLOOKUP(B36,TABLE!$A$1:$IV$65536,14)) -> FALSE | L36: =IF(F36="DEGUST",0) -> FALSE | M36: =IF(F36="CASSE",0) -> FALSE | N36: =IF(F36="OFFERT",0) -> FALSE | Q36: =IF(P36="",G36,G36-(G36*P36)) -> 0 | R36: =IF(Q36>0,Q36*E36,G36*E36) -> 0
C37: =+VLOOKUP(B37,TABLE!A$1:Q$65536,3,FALSE) -> 0 | D37: =VLOOKUP(B37,TABLE!$A$1:$IV$65536,9) -> 0 | G37: =+H37 -> 0 | H37: =SUM(I37:N37) -> 0 | I37: =IF(F37="BOUTEILLE",VLOOKUP(B37,TABLE!$A$1:$IV$65536,12)) -> FALSE | J37: =IF(F37="COFFRET",VLOOKUP(B37,TABLE!$A$1:$IV$65536,13)) -> FALSE | K37: =IF(F37="VERRE",VLOOKUP(B37,TABLE!$A$1:$IV$65536,14)) -> FALSE | L37: =IF(F37="DEGUST",0) -> FALSE | M37: =IF(F37="CASSE",0) -> FALSE | N37: =IF(F37="OFFERT",0) -> FALSE | Q37: =IF(P37="",G37,G37-(G37*P37)) -> 0 | R37: =IF(Q37>0,Q37*E37,G37*E37) -> 0
C38: =+VLOOKUP(B38,TABLE!A$1:Q$65536,3,FALSE) -> 0 | D38: =VLOOKUP(B38,TABLE!$A$1:$IV$65536,9) -> 0 | G38: =+H38 -> 0 | H38: =SUM(I38:N38) -> 0 | I38: =IF(F38="BOUTEILLE",VLOOKUP(B38,TABLE!$A$1:$IV$65536,12)) -> FALSE | J38: =IF(F38="COFFRET",VLOOKUP(B38,TABLE!$A$1:$IV$65536,13)) -> FALSE | K38: =IF(F38="VERRE",VLOOKUP(B38,TABLE!$A$1:$IV$65536,14)) -> FALSE | L38: =IF(F38="DEGUST",0) -> FALSE | M38: =IF(F38="CASSE",0) -> FALSE | N38: =IF(F38="OFFERT",0) -> FALSE | Q38: =IF(P38="",G38,G38-(G38*P38)) -> 0 | R38: =IF(Q38>0,Q38*E38,G38*E38) -> 0
C39: =+VLOOKUP(B39,TABLE!A$1:Q$65536,3,FALSE) -> 0 | D39: =VLOOKUP(B39,TABLE!$A$1:$IV$65536,9) -> 0 | G39: =+H39 -> 0 | H39: =SUM(I39:N39) -> 0 | I39: =IF(F39="BOUTEILLE",VLOOKUP(B39,TABLE!$A$1:$IV$65536,12)) -> FALSE | J39: =IF(F39="COFFRET",VLOOKUP(B39,TABLE!$A$1:$IV$65536,13)) -> FALSE | K39: =IF(F39="VERRE",VLOOKUP(B39,TABLE!$A$1:$IV$65536,14)) -> FALSE | L39: =IF(F39="DEGUST",0) -> FALSE | M39: =IF(F39="CASSE",0) -> FALSE | N39: =IF(F39="OFFERT",0) -> FALSE | Q39: =IF(P39="",G39,G39-(G39*P39)) -> 0 | R39: =IF(Q39>0,Q39*E39,G39*E39) -> 0
C40: =+VLOOKUP(B40,TABLE!A$1:Q$65536,3,FALSE) -> 0 | D40: =VLOOKUP(B40,TABLE!$A$1:$IV$65536,9) -> 0 | G40: =+H40 -> 0 | H40: =SUM(I40:N40) -> 0 | I40: =IF(F40="BOUTEILLE",VLOOKUP(B40,TABLE!$A$1:$IV$65536,12)) -> FALSE | J40: =IF(F40="COFFRET",VLOOKUP(B40,TABLE!$A$1:$IV$65536,13)) -> FALSE | K40: =IF(F40="VERRE",VLOOKUP(B40,TABLE!$A$1:$IV$65536,14)) -> FALSE | L40: =IF(F40="DEGUST",0) -> FALSE | M40: =IF(F40="CASSE",0) -> FALSE | N40: =IF(F40="OFFERT",0) -> FALSE | Q40: =IF(P40="",G40,G40-(G40*P40)) -> 0 | R40: =IF(Q40>0,Q40*E40,G40*E40) -> 0
C41: =+VLOOKUP(B41,TABLE!A$1:Q$65536,3,FALSE) -> 0 | D41: =VLOOKUP(B41,TABLE!$A$1:$IV$65536,9) -> 0 | G41: =+H41 -> 0 | H41: =SUM(I41:N41) -> 0 | I41: =IF(F41="BOUTEILLE",VLOOKUP(B41,TABLE!$A$1:$IV$65536,12)) -> FALSE | J41: =IF(F41="COFFRET",VLOOKUP(B41,TABLE!$A$1:$IV$65536,13)) -> FALSE | K41: =IF(F41="VERRE",VLOOKUP(B41,TABLE!$A$1:$IV$65536,14)) -> FALSE | L41: =IF(F41="DEGUST",0) -> FALSE | M41: =IF(F41="CASSE",0) -> FALSE | N41: =IF(F41="OFFERT",0) -> FALSE | Q41: =IF(P41="",G41,G41-(G41*P41)) -> 0 | R41: =IF(Q41>0,Q41*E41,G41*E41) -> 0
... C223: =+VLOOKUP(B223,TABLE!A$1:Q$65536,3,FALSE) -> 0 | D223: =VLOOKUP(B223,TABLE!$A$1:$IV$65536,9) -> 0 | G223: =+H223 -> 0 | H223: =SUM(I223:N223) -> 0 | I223: =IF(F223="BOUTEILLE",VLOOKUP(B223,TABLE!$A$1:$IV$65536,12)) -> FALSE | J223: =IF(F223="COFFRET",VLOOKUP(B223,TABLE!$A$1:$IV$65536,13)) -> FALSE | K223: =IF(F223="VERRE",VLOOKUP(B223,TABLE!$A$1:$IV$65536,14)) -> FALSE | L223: =IF(F223="DEGUST",0) -> FALSE | M223: =IF(F223="CASSE",0) -> FALSE | N223: =IF(F223="OFFERT",0) -> FALSE | Q223: =IF(P223="",G223,G223-(G223*P223)) -> 0 | R223: =IF(Q223>0,Q223*E223,G223*E223) -> 0

Sheet JOURNAL DE CAISSE
A1: DATE | B1: =CAISSE!AE1 -> 42080 | D1: JOURNAL DE CAISSE
A9: ESPECES | C9: CB | E9: TICKET RESTO | G9: VIREMENNT | M9: ESPECES
A10: NBR | B10: MT | C10: NBR | D10: MT | E10: NBR | F10: MT | G10: NBR | H10: MT | M10: CARTE BANCAIRE
A11: =+SUM(CAISSE!W:W) -> 11 | B11: =SUMIF(CAISSE!V:V,$M$9,CAISSE!U:U) -> 195.2 | C11: =SUM(CAISSE!X:X) -> 4 | D11: =SUMIF(CAISSE!V:V,$M$10,CAISSE!U:U) -> 81.15 | E11: =SUM(CAISSE!Y:Y) -> 3 | F11: =SUMIF(CAISSE!V:V,$M$11,CAISSE!U:U) -> 47.7 | G11: =+SUM(CAISSE!Z:Z) -> 1 | H11: =SUMIF(CAISSE!V:V,$M$12,CAISSE!U:U) -> 38.19 | M11: TICKET RESTO
M12: VIREMENT
C14: TOTAL JOUR | D14: =+SUM(B11+D11+F11+H11) -> 362.24

Sheet JOURNAL DE CAISSE CUMUL
A1: JOURNAL DE CAISSE CUMUL
B3: ESP | D3: CB | F3: TICKET REST. | H3: VIREMENNT | J3: TOTAL
B4: NBR | C4: MT | D4: NBR | E4: MT | F4: NBR | G4: MT | H4: NBR | I4: MT | J4: MOIS
A5: 42079 | B5: =IF(A5='JOURNAL DE CAISSE'!$B$1,'JOURNAL DE CAISSE'!$A$11,"") | C5: =IF(A5='JOURNAL DE CAISSE'!$B$1,'JOURNAL DE CAISSE'!$B$11,"") | D5: =IF(A5='JOURNAL DE CAISSE'!$B$1,'JOURNAL DE CAISSE'!$C$11,"") | E5: =IF(A5='JOURNAL DE CAISSE'!$B$1,'JOURNAL DE CAISSE'!$D$11,"") | F5: =IF(A5='JOURNAL DE CAISSE'!$B$1,'JOURNAL DE CAISSE'!$E$11,"") | G5: =IF(A5='JOURNAL DE CAISSE'!$B$1,'JOURNAL DE CAISSE'!$F$11,"") | H5: =IF(A5='JOURNAL DE CAISSE'!$B$1,'JOURNAL DE CAISSE'!$G$11,"") | I5: =IF(A5='JOURNAL DE CAISSE'!$B$1,'JOURNAL DE CAISSE'!$H$11,"")
A6: 42080 | B6: =IF(A6='JOURNAL DE CAISSE'!$B$1,'JOURNAL DE CAISSE'!$A$11,"") -> 11 | C6: =IF(A6='JOURNAL DE CAISSE'!$B$1,'JOURNAL DE CAISSE'!$B$11,"") -> 195.2 | D6: =IF(A6='JOURNAL DE CAISSE'!$B$1,'JOURNAL DE CAISSE'!$C$11,"") -> 4 | E6: =IF(A6='JOURNAL DE CAISSE'!$B$1,'JOURNAL DE CAISSE'!$D$11,"") -> 81.15 | F6: =IF(A6='JOURNAL DE CAISSE'!$B$1,'JOURNAL DE CAISSE'!$E$11,"") -> 3 | G6: =IF(A6='JOURNAL DE CAISSE'!$B$1,'JOURNAL DE CAISSE'!$F$11,"") -> 47.7 | H6: =IF(A6='JOURNAL DE CAISSE'!$B$1,'JOURNAL DE CAISSE'!$G$11,"") -> 1 | I6: =IF(A6='JOURNAL DE CAISSE'!$B$1,'JOURNAL DE CAISSE'!$H$11,"") -> 38.19
A7: 42081 | B7: =IF(A7='JOURNAL DE CAISSE'!$B$1,'JOURNAL DE CAISSE'!$A$11,"") | C7: =IF(A7='JOURNAL DE CAISSE'!$B$1,'JOURNAL DE CAISSE'!$B$11,"") | D7: =IF(A7='JOURNAL DE CAISSE'!$B$1,'JOURNAL DE CAISSE'!$C$11,"") | E7: =IF(A7='JOURNAL DE CAISSE'!$B$1,'JOURNAL DE CAISSE'!$D$11,"") | F7: =IF(A7='JOURNAL DE CAISSE'!$B$1,'JOURNAL DE CAISSE'!$E$11,"") | G7: =IF(A7='JOURNAL DE CAISSE'!$B$1,'JOURNAL DE CAISSE'!$F$11,"") | H7: =IF(A7='JOURNAL DE CAISSE'!$B$1,'JOURNAL DE CAISSE'!$G$11,"") | I7: =IF(A7='JOURNAL DE CAISSE'!$B$1,'JOURNAL DE CAISSE'!$H$11,"")
A8: 42082 | B8: =IF(A8='JOURNAL DE CAISSE'!$B$1,'JOURNAL DE CAISSE'!$A$11,"") | C8: =IF(A8='JOURNAL DE CAISSE'!$B$1,'JOURNAL DE CAISSE'!$B$11,"") | D8: =IF(A8='JOURNAL DE CAISSE'!$B$1,'JOURNAL DE CAISSE'!$C$11,"") | E8: =IF(A8='JOURNAL DE CAISSE'!$B$1,'JOURNAL DE CAISSE'!$D$11,"") | F8: =IF(A8='JOURNAL DE CAISSE'!$B$1,'JOURNAL DE CAISSE'!$E$11,"") | G8: =IF(A8='JOURNAL DE CAISSE'!$B$1,'JOURNAL DE CAISSE'!$F$11,"") | H8: =IF(A8='JOURNAL DE CAISSE'!$B$1,'JOURNAL DE CAISSE'!$G$11,"") | I8: =IF(A8='JOURNAL DE CAISSE'!$B$1,'JOURNAL DE CAISSE'!$H$11,"")
A9: 42083 | B9: =IF(A9='JOURNAL DE CAISSE'!$B$1,'JOURNAL DE CAISSE'!$A$11,"") | C9: =IF(A9='JOURNAL DE CAISSE'!$B$1,'JOURNAL DE CAISSE'!$B$11,"") | D9: =IF(A9='JOURNAL DE CAISSE'!$B$1,'JOURNAL DE CAISSE'!$C$11,"") | E9: =IF(A9='JOURNAL DE CAISSE'!$B$1,'JOURNAL DE CAISSE'!$D$11,"") | F9: =IF(A9='JOURNAL DE CAISSE'!$B$1,'JOURNAL DE CAISSE'!$E$11,"") | G9: =IF(A9='JOURNAL DE CAISSE'!$B$1,'JOURNAL DE CAISSE'!$F$11,"") | H9: =IF(A9='JOURNAL DE CAISSE'!$B$1,'JOURNAL DE CAISSE'!$G$11,"") | I9: =IF(A9='JOURNAL DE CAISSE'!$B$1,'JOURNAL DE CAISSE'!$H$11,"")
A10: 42084 | B10: =IF(A10='JOURNAL DE CAISSE'!$B$1,'JOURNAL DE CAISSE'!$A$11,"") | C10: =IF(A10='JOURNAL DE CAISSE'!$B$1,'JOURNAL DE CAISSE'!$B$11,"") | D10: =IF(A10='JOURNAL DE CAISSE'!$B$1,'JOURNAL DE CAISSE'!$C$11,"") | E10: =IF(A10='JOURNAL DE CAISSE'!$B$1,'JOURNAL DE CAISSE'!$D$11,"") | F10: =IF(A10='JOURNAL DE CAISSE'!$B$1,'JOURNAL DE CAISSE'!$E$11,"") | G10: =IF(A10='JOURNAL DE CAISSE'!$B$1,'JOURNAL DE CAISSE'!$F$11,"") | H10: =IF(A10='JOURNAL DE CAISSE'!$B$1,'JOURNAL DE CAISSE'!$G$11,"") | I10: =IF(A10='JOURNAL DE CAISSE'!$B$1,'JOURNAL DE CAISSE'!$H$11,"")
A11: 42085 | B11: =IF(A11='JOURNAL DE CAISSE'!$B$1,'JOURNAL DE CAISSE'!$A$11,"") | C11: =IF(A11='JOURNAL DE CAISSE'!$B$1,'JOURNAL DE CAISSE'!$B$11,"") | D11: =IF(A11='JOURNAL DE CAISSE'!$B$1,'JOURNAL DE CAISSE'!$C$11,"") | E11: =IF(A11='JOURNAL DE CAISSE'!$B$1,'JOURNAL DE CAISSE'!$D$11,"") | F11: =IF(A11='JOURNAL DE CAISSE'!$B$1,'JOURNAL DE CAISSE'!$E$11,"") | G11: =IF(A11='JOURNAL DE CAISSE'!$B$1,'JOURNAL DE CAISSE'!$F$11,"") | H11: =IF(A11='JOURNAL DE CAISSE'!$B$1,'JOURNAL DE CAISSE'!$G$11,"") | I11: =IF(A11='JOURNAL DE CAISSE'!$B$1,'JOURNAL DE CAISSE'!$H$11,"")
A12: 42086 | B12: =IF(A12='JOURNAL DE CAISSE'!$B$1,'JOURNAL DE CAISSE'!$A$11,"") | C12: =IF(A12='JOURNAL DE CAISSE'!$B$1,'JOURNAL DE CAISSE'!$B$11,"") | D12: =IF(A12='JOURNAL DE CAISSE'!$B$1,'JOURNAL DE CAISSE'!$C$11,"") | E12: =IF(A12='JOURNAL DE CAISSE'!$B$1,'JOURNAL DE CAISSE'!$D$11,"") | F12: =IF(A12='JOURNAL DE CAISSE'!$B$1,'JOURNAL DE CAISSE'!$E$11,"") | G12: =IF(A12='JOURNAL DE CAISSE'!$B$1,'JOURNAL DE CAISSE'!$F$11,"") | H12: =IF(A12='JOURNAL DE CAISSE'!$B$1,'JOURNAL DE CAISSE'!$G$11,"") | I12: =IF(A12='JOURNAL DE CAISSE'!$B$1,'JOURNAL DE CAISSE'!$H$11,"")
A13: 42087 | B13: =IF(A13='JOURNAL DE CAISSE'!$B$1,'JOURNAL DE CAISSE'!$A$11,"") | C13: =IF(A13='JOURNAL DE CAISSE'!$B$1,'JOURNAL DE CAISSE'!$B$11,"") | D13: =IF(A13='JOURNAL DE CAISSE'!$B$1,'JOURNAL DE CAISSE'!$C$11,"") | E13: =IF(A13='JOURNAL DE CAISSE'!$B$1,'JOURNAL DE CAISSE'!$D$11,"") | F13: =IF(A13='JOURNAL DE CAISSE'!$B$1,'JOURNAL DE CAISSE'!$E$11,"") | G13: =IF(A13='JOURNAL DE CAISSE'!$B$1,'JOURNAL DE CAISSE'!$F$11,"") | H13: =IF(A13='JOURNAL DE CAISSE'!$B$1,'JOURNAL DE CAISSE'!$G$11,"") | I13: =IF(A13='JOURNAL DE CAISSE'!$B$1,'JOURNAL DE CAISSE'!$H$11,"")
A14: 42088 | B14: =IF(A14='JOURNAL DE CAISSE'!$B$1,'JOURNAL DE CAISSE'!$A$11,"") | C14: =IF(A14='JOURNAL DE CAISSE'!$B$1,'JOURNAL DE CAISSE'!$B$11,"") | D14: =IF(A14='JOURNAL DE CAISSE'!$B$1,'JOURNAL DE CAISSE'!$C$11,"") | E14: =IF(A14='JOURNAL DE CAISSE'!$B$1,'JOURNAL DE CAISSE'!$D$11,"") | F14: =IF(A14='JOURNAL DE CAISSE'!$B$1,'JOURNAL DE CAISSE'!$E$11,"") | G14: =IF(A14='JOURNAL DE CAISSE'!$B$1,'JOURNAL DE CAISSE'!$F$11,"") | H14: =IF(A14='JOURNAL DE CAISSE'!$B$1,'JOURNAL DE CAISSE'!$G$11,"") | I14: =IF(A14='JOURNAL DE CAISSE'!$B$1,'JOURNAL DE CAISSE'!$H$11,"")
A15: 42089 | B15: =IF(A15='JOURNAL DE CAISSE'!$B$1,'JOURNAL DE CAISSE'!$A$11,"") | C15: =IF(A15='JOURNAL DE CAISSE'!$B$1,'JOURNAL DE CAISSE'!$B$11,"") | D15: =IF(A15='JOURNAL DE CAISSE'!$B$1,'JOURNAL DE CAISSE'!$C$11,"") | E15: =IF(A15='JOURNAL DE CAISSE'!$B$1,'JOURNAL DE CAISSE'!$D$11,"") | F15: =IF(A15='JOURNAL DE CAISSE'!$B$1,'JOURNAL DE CAISSE'!$E$11,"") | G15: =IF(A15='JOURNAL DE CAISSE'!$B$1,'JOURNAL DE CAISSE'!$F$11,"") | H15: =IF(A15='JOURNAL DE CAISSE'!$B$1,'JOURNAL DE CAISSE'!$G$11,"") | I15: =IF(A15='JOURNAL DE CAISSE'!$B$1,'JOURNAL DE CAISSE'!$H$11,"")
A16: 42090 | B16: =IF(A16='JOURNAL DE CAISSE'!$B$1,'JOURNAL DE CAISSE'!$A$11,"") | C16: =IF(A16='JOURNAL DE CAISSE'!$B$1,'JOURNAL DE CAISSE'!$B$11,"") | D16: =IF(A16='JOURNAL DE CAISSE'!$B$1,'JOURNAL DE CAISSE'!$C$11,"") | E16: =IF(A16='JOURNAL DE CAISSE'!$B$1,'JOURNAL DE CAISSE'!$D$11,"") | F16: =IF(A16='JOURNAL DE CAISSE'!$B$1,'JOURNAL DE CAISSE'!$E$11,"") | G16: =IF(A16='JOURNAL DE CAISSE'!$B$1,'JOURNAL DE CAISSE'!$F$11,"") | H16: =IF(A16='JOURNAL DE CAISSE'!$B$1,'JOURNAL DE CAISSE'!$G$11,"") | I16: =IF(A16='JOURNAL DE CAISSE'!$B$1,'JOURNAL DE CAISSE'!$H$11,"")
... A20: 42094 | B20: =IF(A20='JOURNAL DE CAISSE'!$B$1,'JOURNAL DE CAISSE'!$A$11,"") | C20: =IF(A20='JOURNAL DE CAISSE'!$B$1,'JOURNAL DE CAISSE'!$B$11,"") | D20: =IF(A20='JOURNAL DE CAISSE'!$B$1,'JOURNAL DE CAISSE'!$C$11,"") | E20: =IF(A20='JOURNAL DE CAISSE'!$B$1,'JOURNAL DE CAISSE'!$D$11,"") | F20: =IF(A20='JOURNAL DE CAISSE'!$B$1,'JOURNAL DE CAISSE'!$E$11,"") | G20: =IF(A20='JOURNAL DE CAISSE'!$B$1,'JOURNAL DE CAISSE'!$F$11,"") | H20: =IF(A20='JOURNAL DE CAISSE'!$B$1,'JOURNAL DE CAISSE'!$G$11,"") | I20: =IF(A20='JOURNAL DE CAISSE'!$B$1,'JOURNAL DE CAISSE'!$H$11,"")
A21: TOTAL MOIS | B21: =SUM(B5:B20) -> 11 | C21: =SUM(C5:C20) -> 195.2 | D21: =SUM(D5:D20) -> 4 | E21: =SUM(E5:E20) -> 81.15 | F21: =SUM(F5:F20) -> 3 | G21: =SUM(G5:G20) -> 47.7 | H21: =SUM(H5:H20) -> 1 | I21: =SUM(I5:I20) -> 38.19 | J21: =SUM(C21+E21+G21+I21) -> 362.24
A22: 42095 | B22: =IF(A22='JOURNAL DE CAISSE'!$B$1,'JOURNAL DE CAISSE'!$A$11,"") | C22: =IF(A22='JOURNAL DE CAISSE'!$B$1,'JOURNAL DE CAISSE'!$B$11,"") | D22: =IF(A22='JOURNAL DE CAISSE'!$B$1,'JOURNAL DE CAISSE'!$C$11,"") | E22: =IF(A22='JOURNAL DE CAISSE'!$B$1,'JOURNAL DE CAISSE'!$D$11,"") | F22: =IF(A22='JOURNAL DE CAISSE'!$B$1,'JOURNAL DE CAISSE'!$E$11,"") | G22: =IF(A22='JOURNAL DE CAISSE'!$B$1,'JOURNAL DE CAISSE'!$F$11,"") | H22: =IF(A22='JOURNAL DE CAISSE'!$B$1,'JOURNAL DE CAISSE'!$G$11,"") | I22: =IF(A22='JOURNAL DE CAISSE'!$B$1,'JOURNAL DE CAISSE'!$H$11,"")
A23: 42096 | B23: =IF(A23='JOURNAL DE CAISSE'!$B$1,'JOURNAL DE CAISSE'!$A$11,"") | C23: =IF(A23='JOURNAL DE CAISSE'!$B$1,'JOURNAL DE CAISSE'!$B$11,"") | D23: =IF(A23='JOURNAL DE CAISSE'!$B$1,'JOURNAL DE CAISSE'!$C$11,"") | E23: =IF(A23='JOURNAL DE CAISSE'!$B$1,'JOURNAL DE CAISSE'!$D$11,"") | F23: =IF(A23='JOURNAL DE CAISSE'!$B$1,'JOURNAL DE CAISSE'!$E$11,"") | G23: =IF(A23='JOURNAL DE CAISSE'!$B$1,'JOURNAL DE CAISSE'!$F$11,"") | H23: =IF(A23='JOURNAL DE CAISSE'!$B$1,'JOURNAL DE CAISSE'!$G$11,"") | I23: =IF(A23='JOURNAL DE CAISSE'!$B$1,'JOURNAL DE CAISSE'!$H$11,"")
A24: 42097 | B24: =IF(A24='JOURNAL DE CAISSE'!$B$1,'JOURNAL DE CAISSE'!$A$11,"") | C24: =IF(A24='JOURNAL DE CAISSE'!$B$1,'JOURNAL DE CAISSE'!$B$11,"") | D24: =IF(A24='JOURNAL DE CAISSE'!$B$1,'JOURNAL DE CAISSE'!$C$11,"") | E24: =IF(A24='JOURNAL DE CAISSE'!$B$1,'JOURNAL DE CAISSE'!$D$11,"") | F24: =IF(A24='JOURNAL DE CAISSE'!$B$1,'JOURNAL DE CAISSE'!$E$11,"") | G24: =IF(A24='JOURNAL DE CAISSE'!$B$1,'JOURNAL DE CAISSE'!$F$11,"") | H24: =IF(A24='JOURNAL DE CAISSE'!$B$1,'JOURNAL DE CAISSE'!$G$11,"") | I24: =IF(A24='JOURNAL DE CAISSE'!$B$1,'JOURNAL DE CAISSE'!$H$11,"")
A25: 42098 | B25: =IF(A25='JOURNAL DE CAISSE'!$B$1,'JOURNAL DE CAISSE'!$A$11,"") | C25: =IF(A25='JOURNAL DE CAISSE'!$B$1,'JOURNAL DE CAISSE'!$B$11,"") | D25: =IF(A25='JOURNAL DE CAISSE'!$B$1,'JOURNAL DE CAISSE'!$C$11,"") | E25: =IF(A25='JOURNAL DE CAISSE'!$B$1,'JOURNAL DE CAISSE'!$D$11,"") | F25: =IF(A25='JOURNAL DE CAISSE'!$B$1,'JOURNAL DE CAISSE'!$E$11,"") | G25: =IF(A25='JOURNAL DE CAISSE'!$B$1,'JOURNAL DE CAISSE'!$F$11,"") | H25: =IF(A25='JOURNAL DE CAISSE'!$B$1,'JOURNAL DE CAISSE'!$G$11,"") | I25: =IF(A25='JOURNAL DE CAISSE'!$B$1,'JOURNAL DE CAISSE'!$H$11,"")
A26: 42099 | B26: =IF(A26='JOURNAL DE CAISSE'!$B$1,'JOURNAL DE CAISSE'!$A$11,"") | C26: =IF(A26='JOURNAL DE CAISSE'!$B$1,'JOURNAL DE CAISSE'!$B$11,"") | D26: =IF(A26='JOURNAL DE CAISSE'!$B$1,'JOURNAL DE CAISSE'!$C$11,"") | E26: =IF(A26='JOURNAL DE CAISSE'!$B$1,'JOURNAL DE CAISSE'!$D$11,"") | F26: =IF(A26='JOURNAL DE CAISSE'!$B$1,'JOURNAL DE CAISSE'!$E$11,"") | G26: =IF(A26='JOURNAL DE CAISSE'!$B$1,'JOURNAL DE CAISSE'!$F$11,"") | H26: =IF(A26='JOURNAL DE CAISSE'!$B$1,'JOURNAL DE CAISSE'!$G$11,"") | I26: =IF(A26='JOURNAL DE CAISSE'!$B$1,'JOURNAL DE CAISSE'!$H$11,"")
A27: 42100 | B27: =IF(A27='JOURNAL DE CAISSE'!$B$1,'JOURNAL DE CAISSE'!$A$11,"") | C27: =IF(A27='JOURNAL DE CAISSE'!$B$1,'JOURNAL DE CAISSE'!$B$11,"") | D27: =IF(A27='JOURNAL DE CAISSE'!$B$1,'JOURNAL DE CAISSE'!$C$11,"") | E27: =IF(A27='JOURNAL DE CAISSE'!$B$1,'JOURNAL DE CAISSE'!$D$11,"") | F27: =IF(A27='JOURNAL DE CAISSE'!$B$1,'JOURNAL DE CAISSE'!$E$11,"") | G27: =IF(A27='JOURNAL DE CAISSE'!$B$1,'JOURNAL DE CAISSE'!$F$11,"") | H27: =IF(A27='JOURNAL DE CAISSE'!$B$1,'JOURNAL DE CAISSE'!$G$11,"") | I27: =IF(A27='JOURNAL DE CAISSE'!$B$1,'JOURNAL DE CAISSE'!$H$11,"")
A28: 42101 | B28: =IF(A28='JOURNAL DE CAISSE'!$B$1,'JOURNAL DE CAISSE'!$A$11,"") | C28: =IF(A28='JOURNAL DE CAISSE'!$B$1,'JOURNAL DE CAISSE'!$B$11,"") | D28: =IF(A28='JOURNAL DE CAISSE'!$B$1,'JOURNAL DE CAISSE'!$C$11,"") | E28: =IF(A28='JOURNAL DE CAISSE'!$B$1,'JOURNAL DE CAISSE'!$D$11,"") | F28: =IF(A28='JOURNAL DE CAISSE'!$B$1,'JOURNAL DE CAISSE'!$E$11,"") | G28: =IF(A28='JOURNAL DE CAISSE'!$B$1,'JOURNAL DE CAISSE'!$F$11,"") | H28: =IF(A28='JOURNAL DE CAISSE'!$B$1,'JOURNAL DE CAISSE'!$G$11,"") | I28: =IF(A28='JOURNAL DE CAISSE'!$B$1,'JOURNAL DE CAISSE'!$H$11,"")
A29: 42102 | B29: =IF(A29='JOURNAL DE CAISSE'!$B$1,'JOURNAL DE CAISSE'!$A$11,"") | C29: =IF(A29='JOURNAL DE CAISSE'!$B$1,'JOURNAL DE CAISSE'!$B$11,"") | D29: =IF(A29='JOURNAL DE CAISSE'!$B$1,'JOURNAL DE CAISSE'!$C$11,"") | E29: =IF(A29='JOURNAL DE CAISSE'!$B$1,'JOURNAL DE CAISSE'!$D$11,"") | F29: =IF(A29='JOURNAL DE CAISSE'!$B$1,'JOURNAL DE CAISSE'!$E$11,"") | G29: =IF(A29='JOURNAL DE CAISSE'!$B$1,'JOURNAL DE CAISSE'!$F$11,"") | H29: =IF(A29='JOURNAL DE CAISSE'!$B$1,'JOURNAL DE CAISSE'!$G$11,"") | I29: =IF(A29='JOURNAL DE CAISSE'!$B$1,'JOURNAL DE CAISSE'!$H$11,"")
A30: 42103 | B30: =IF(A30='JOURNAL DE CAISSE'!$B$1,'JOURNAL DE CAISSE'!$A$11,"") | C30: =IF(A30='JOURNAL DE CAISSE'!$B$1,'JOURNAL DE CAISSE'!$B$11,"") | D30: =IF(A30='JOURNAL DE CAISSE'!$B$1,'JOURNAL DE CAISSE'!$C$11,"") | E30: =IF(A30='JOURNAL DE CAISSE'!$B$1,'JOURNAL DE CAISSE'!$D$11,"") | F30: =IF(A30='JOURNAL DE CAISSE'!$B$1,'JOURNAL DE CAISSE'!$E$11,"") | G30: =IF(A30='JOURNAL DE CAISSE'!$B$1,'JOURNAL DE CAISSE'!$F$11,"") | H30: =IF(A30='JOURNAL DE CAISSE'!$B$1,'JOURNAL DE CAISSE'!$G$11,"") | I30: =IF(A30='JOURNAL DE CAISSE'!$B$1,'JOURNAL DE CAISSE'!$H$11,"")
A31: 42104 | B31: =IF(A31='JOURNAL DE CAISSE'!$B$1,'JOURNAL DE CAISSE'!$A$11,"") | C31: =IF(A31='JOURNAL DE CAISSE'!$B$1,'JOURNAL DE CAISSE'!$B$11,"") | D31: =IF(A31='JOURNAL DE CAISSE'!$B$1,'JOURNAL DE CAISSE'!$C$11,"") | E31: =IF(A31='JOURNAL DE CAISSE'!$B$1,'JOURNAL DE CAISSE'!$D$11,"") | F31: =IF(A31='JOURNAL DE CAISSE'!$B$1,'JOURNAL DE CAISSE'!$E$11,"") | G31: =IF(A31='JOURNAL DE CAISSE'!$B$1,'JOURNAL DE CAISSE'!$F$11,"") | H31: =IF(A31='JOURNAL DE CAISSE'!$B$1,'JOURNAL DE CAISSE'!$G$11,"") | I31: =IF(A31='JOURNAL DE CAISSE'!$B$1,'JOURNAL DE CAISSE'!$H$11,"")
A32: 42105 | B32: =IF(A32='JOURNAL DE CAISSE'!$B$1,'JOURNAL DE CAISSE'!$A$11,"") | C32: =IF(A32='JOURNAL DE CAISSE'!$B$1,'JOURNAL DE CAISSE'!$B$11,"") | D32: =IF(A32='JOURNAL DE CAISSE'!$B$1,'JOURNAL DE CAISSE'!$C$11,"") | E32: =IF(A32='JOURNAL DE CAISSE'!$B$1,'JOURNAL DE CAISSE'!$D$11,"") | F32: =IF(A32='JOURNAL DE CAISSE'!$B$1,'JOURNAL DE CAISSE'!$E$11,"") | G32: =IF(A32='JOURNAL DE CAISSE'!$B$1,'JOURNAL DE CAISSE'!$F$11,"") | H32: =IF(A32='JOURNAL DE CAISSE'!$B$1,'JOURNAL DE CAISSE'!$G$11,"") | I32: =IF(A32='JOURNAL DE CAISSE'!$B$1,'JOURNAL DE CAISSE'!$H$11,"")
A33: 42106 | B33: =IF(A33='JOURNAL DE CAISSE'!$B$1,'JOURNAL DE CAISSE'!$A$11,"") | C33: =IF(A33='JOURNAL DE CAISSE'!$B$1,'JOURNAL DE CAISSE'!$B$11,"") | D33: =IF(A33='JOURNAL DE CAISSE'!$B$1,'JOURNAL DE CAISSE'!$C$11,"") | E33: =IF(A33='JOURNAL DE CAISSE'!$B$1,'JOURNAL DE CAISSE'!$D$11,"") | F33: =IF(A33='JOURNAL DE CAISSE'!$B$1,'JOURNAL DE CAISSE'!$E$11,"") | G33: =IF(A33='JOURNAL DE CAISSE'!$B$1,'JOURNAL DE CAISSE'!$F$11,"") | H33: =IF(A33='JOURNAL DE CAISSE'!$B$1,'JOURNAL DE CAISSE'!$G$11,"") | I33: =IF(A33='JOURNAL DE CAISSE'!$B$1,'JOURNAL DE CAISSE'!$H$11,"")
... A51: 42124 | B51: =IF(A51='JOURNAL DE CAISSE'!$B$1,'JOURNAL DE CAISSE'!$A$11,"") | C51: =IF(A51='JOURNAL DE CAISSE'!$B$1,'JOURNAL DE CAISSE'!$B$11,"") | D51: =IF(A51='JOURNAL DE CAISSE'!$B$1,'JOURNAL DE CAISSE'!$C$11,"") | E51: =IF(A51='JOURNAL DE CAISSE'!$B$1,'JOURNAL DE CAISSE'!$D$11,"") | F51: =IF(A51='JOURNAL DE CAISSE'!$B$1,'JOURNAL DE CAISSE'!$E$11,"") | G51: =IF(A51='JOURNAL DE CAISSE'!$B$1,'JOURNAL DE CAISSE'!$F$11,"") | H51: =IF(A51='JOURNAL DE CAISSE'!$B$1,'JOURNAL DE CAISSE'!$G$11,"") | I51: =IF(A51='JOURNAL DE CAISSE'!$B$1,'JOURNAL DE CAISSE'!$H$11,"")
A52: TOTAL MOIS | B52: =SUM(B36:B51) -> 0 | C52: =SUM(C36:C51) -> 0 | D52: =SUM(D36:D51) -> 0 | E52: =SUM(E36:E51) -> 0 | F52: =SUM(F36:F51) -> 0 | G52: =SUM(G36:G51) -> 0 | H52: =SUM(H36:H51) -> 0 | I52: =SUM(I36:I51) -> 0 | J52: =SUM(C52+E52+G52+I52) -> 0
A53: 42125 | B53: =IF(A53='JOURNAL DE CAISSE'!$B$1,'JOURNAL DE CAISSE'!$A$11,"") | C53: =IF(A53='JOURNAL DE CAISSE'!$B$1,'JOURNAL DE CAISSE'!$B$11,"") | D53: =IF(A53='JOURNAL DE CAISSE'!$B$1,'JOURNAL DE CAISSE'!$C$11,"") | E53: =IF(A53='JOURNAL DE CAISSE'!$B$1,'JOURNAL DE CAISSE'!$D$11,"") | F53: =IF(A53='JOURNAL DE CAISSE'!$B$1,'JOURNAL DE CAISSE'!$E$11,"") | G53: =IF(A53='JOURNAL DE CAISSE'!$B$1,'JOURNAL DE CAISSE'!$F$11,"") | H53: =IF(A53='JOURNAL DE CAISSE'!$B$1,'JOURNAL DE CAISSE'!$G$11,"") | I53: =IF(A53='JOURNAL DE CAISSE'!$B$1,'JOURNAL DE CAISSE'!$H$11,"")
A54: 42126 | B54: =IF(A54='JOURNAL DE CAISSE'!$B$1,'JOURNAL DE CAISSE'!$A$11,"") | C54: =IF(A54='JOURNAL DE CAISSE'!$B$1,'JOURNAL DE CAISSE'!$B$11,"") | D54: =IF(A54='JOURNAL DE CAISSE'!$B$1,'JOURNAL DE CAISSE'!$C$11,"") | E54: =IF(A54='JOURNAL DE CAISSE'!$B$1,'JOURNAL DE CAISSE'!$D$11,"") | F54: =IF(A54='JOURNAL DE CAISSE'!$B$1,'JOURNAL DE CAISSE'!$E$11,"") | G54: =IF(A54='JOURNAL DE CAISSE'!$B$1,'JOURNAL DE CAISSE'!$F$11,"") | H54: =IF(A54='JOURNAL DE CAISSE'!$B$1,'JOURNAL DE CAISSE'!$G$11,"") | I54: =IF(A54='JOURNAL DE CAISSE'!$B$1,'JOURNAL DE CAISSE'!$H$11,"")
A55: 42127 | B55: =IF(A55='JOURNAL DE CAISSE'!$B$1,'JOURNAL DE CAISSE'!$A$11,"") | C55: =IF(A55='JOURNAL DE CAISSE'!$B$1,'JOURNAL DE CAISSE'!$B$11,"") | D55: =IF(A55='JOURNAL DE CAISSE'!$B$1,'JOURNAL DE CAISSE'!$C$11,"") | E55: =IF(A55='JOURNAL DE CAISSE'!$B$1,'JOURNAL DE CAISSE'!$D$11,"") | F55: =IF(A55='JOURNAL DE CAISSE'!$B$1,'JOURNAL DE CAISSE'!$E$11,"") | G55: =IF(A55='JOURNAL DE CAISSE'!$B$1,'JOURNAL DE CAISSE'!$F$11,"") | H55: =IF(A55='JOURNAL DE CAISSE'!$B$1,'JOURNAL DE CAISSE'!$G$11,"") | I55: =IF(A55='JOURNAL DE CAISSE'!$B$1,'JOURNAL DE CAISSE'!$H$11,"")
A56: 42128 | B56: =IF(A56='JOURNAL DE CAISSE'!$B$1,'JOURNAL DE CAISSE'!$A$11,"") | C56: =IF(A56='JOURNAL DE CAISSE'!$B$1,'JOURNAL DE CAISSE'!$B$11,"") | D56: =IF(A56='JOURNAL DE CAISSE'!$B$1,'JOURNAL DE CAISSE'!$C$11,"") | E56: =IF(A56='JOURNAL DE CAISSE'!$B$1,'JOURNAL DE CAISSE'!$D$11,"") | F56: =IF(A56='JOURNAL DE CAISSE'!$B$1,'JOURNAL DE CAISSE'!$E$11,"") | G56: =IF(A56='JOURNAL DE CAISSE'!$B$1,'JOURNAL DE CAISSE'!$F$11,"") | H56: =IF(A56='JOURNAL DE CAISSE'!$B$1,'JOURNAL DE CAISSE'!$G$11,"") | I56: =IF(A56='JOURNAL DE CAISSE'!$B$1,'JOURNAL DE CAISSE'!$H$11,"")
A57: 42129 | B57: =IF(A57='JOURNAL DE CAISSE'!$B$1,'JOURNAL DE CAISSE'!$A$11,"") | C57: =IF(A57='JOURNAL DE CAISSE'!$B$1,'JOURNAL DE CAISSE'!$B$11,"") | D57: =IF(A57='JOURNAL DE CAISSE'!$B$1,'JOURNAL DE CAISSE'!$C$11,"") | E57: =IF(A57='JOURNAL DE CAISSE'!$B$1,'JOURNAL DE CAISSE'!$D$11,"") | F57: =IF(A57='JOURNAL DE CAISSE'!$B$1,'JOURNAL DE CAISSE'!$E$11,"") | G57: =IF(A57='JOURNAL DE CAISSE'!$B$1,'JOURNAL DE CAISSE'!$F$11,"") | H57: =IF(A57='JOURNAL DE CAISSE'!$B$1,'JOURNAL DE CAISSE'!$G$11,"") | I57: =IF(A57='JOURNAL DE CAISSE'!$B$1,'JOURNAL DE CAISSE'!$H$11,"")
A58: 42130 | B58: =IF(A58='JOURNAL DE CAISSE'!$B$1,'JOURNAL DE CAISSE'!$A$11,"") | C58: =IF(A58='JOURNAL DE CAISSE'!$B$1,'JOURNAL DE CAISSE'!$B$11,"") | D58: =IF(A58='JOURNAL DE CAISSE'!$B$1,'JOURNAL DE CAISSE'!$C$11,"") | E58: =IF(A58='JOURNAL DE CAISSE'!$B$1,'JOURNAL DE CAISSE'!$D$11,"") | F58: =IF(A58='JOURNAL DE CAISSE'!$B$1,'JOURNAL DE CAISSE'!$E$11,"") | G58: =IF(A58='JOURNAL DE CAISSE'!$B$1,'JOURNAL DE CAISSE'!$F$11,"") | H58: =IF(A58='JOURNAL DE CAISSE'!$B$1,'JOURNAL DE CAISSE'!$G$11,"") | I58: =IF(A58='JOURNAL DE CAISSE'!$B$1,'JOURNAL DE CAISSE'!$H$11,"")
A59: 42131 | B59: =IF(A59='JOURNAL DE CAISSE'!$B$1,'JOURNAL DE CAISSE'!$A$11,"") | C59: =IF(A59='JOURNAL DE CAISSE'!$B$1,'JOURNAL DE CAISSE'!$B$11,"") | D59: =IF(A59='JOURNAL DE CAISSE'!$B$1,'JOURNAL DE CAISSE'!$C$11,"") | E59: =IF(A59='JOURNAL DE CAISSE'!$B$1,'JOURNAL DE CAISSE'!$D$11,"") | F59: =IF(A59='JOURNAL DE CAISSE'!$B$1,'JOURNAL DE CAISSE'!$E$11,"") | G59: =IF(A59='JOURNAL DE CAISSE'!$B$1,'JOURNAL DE CAISSE'!$F$11,"") | H59: =IF(A59='JOURNAL DE CAISSE'!$B$1,'JOURNAL DE CAISSE'!$G$11,"") | I59: =IF(A59='JOURNAL DE CAISSE'!$B$1,'JOURNAL DE CAISSE'!$H$11,"")
A60: 42132 | B60: =IF(A60='JOURNAL DE CAISSE'!$B$1,'JOURNAL DE CAISSE'!$A$11,"") | C60: =IF(A60='JOURNAL DE CAISSE'!$B$1,'JOURNAL DE CAISSE'!$B$11,"") | D60: =IF(A60='JOURNAL DE CAISSE'!$B$1,'JOURNAL DE CAISSE'!$C$11,"") | E60: =IF(A60='JOURNAL DE CAISSE'!$B$1,'JOURNAL DE CAISSE'!$D$11,"") | F60: =IF(A60='JOURNAL DE CAISSE'!$B$1,'JOURNAL DE CAISSE'!$E$11,"") | G60: =IF(A60='JOURNAL DE CAISSE'!$B$1,'JOURNAL DE CAISSE'!$F$11,"") | H60: =IF(A60='JOURNAL DE CAISSE'!$B$1,'JOURNAL DE CAISSE'!$G$11,"") | I60: =IF(A60='JOURNAL DE CAISSE'!$B$1,'JOURNAL DE CAISSE'!$H$11,"")
A61: 42133 | B61: =IF(A61='JOURNAL DE CAISSE'!$B$1,'JOURNAL DE CAISSE'!$A$11,"") | C61: =IF(A61='JOURNAL DE CAISSE'!$B$1,'JOURNAL DE CAISSE'!$B$11,"") | D61: =IF(A61='JOURNAL DE CAISSE'!$B$1,'JOURNAL DE CAISSE'!$C$11,"") | E61: =IF(A61='JOURNAL DE CAISSE'!$B$1,'JOURNAL DE CAISSE'!$D$11,"") | F61: =IF(A61='JOURNAL DE CAISSE'!$B$1,'JOURNAL DE CAISSE'!$E$11,"") | G61: =IF(A61='JOURNAL DE CAISSE'!$B$1,'JOURNAL DE CAISSE'!$F$11,"") | H61: =IF(A61='JOURNAL DE CAISSE'!$B$1,'JOURNAL DE CAISSE'!$G$11,"") | I61: =IF(A61='JOURNAL DE CAISSE'!$B$1,'JOURNAL DE CAISSE'!$H$11,"")
A62: 42134 | B62: =IF(A62='JOURNAL DE CAISSE'!$B$1,'JOURNAL DE CAISSE'!$A$11,"") | C62: =IF(A62='JOURNAL DE CAISSE'!$B$1,'JOURNAL DE CAISSE'!$B$11,"") | D62: =IF(A62='JOURNAL DE CAISSE'!$B$1,'JOURNAL DE CAISSE'!$C$11,"") | E62: =IF(A62='JOURNAL DE CAISSE'!$B$1,'JOURNAL DE CAISSE'!$D$11,"") | F62: =IF(A62='JOURNAL DE CAISSE'!$B$1,'JOURNAL DE CAISSE'!$E$11,"") | G62: =IF(A62='JOURNAL DE CAISSE'!$B$1,'JOURNAL DE CAISSE'!$F$11,"") | H62: =IF(A62='JOURNAL DE CAISSE'!$B$1,'JOURNAL DE CAISSE'!$G$11,"") | I62: =IF(A62='JOURNAL DE CAISSE'!$B$1,'JOURNAL DE CAISSE'!$H$11,"")
A63: 42135 | B63: =IF(A63='JOURNAL DE CAISSE'!$B$1,'JOURNAL DE CAISSE'!$A$11,"") | C63: =IF(A63='JOURNAL DE CAISSE'!$B$1,'JOURNAL DE CAISSE'!$B$11,"") | D63: =IF(A63='JOURNAL DE CAISSE'!$B$1,'JOURNAL DE CAISSE'!$C$11,"") | E63: =IF(A63='JOURNAL DE CAISSE'!$B$1,'JOURNAL DE CAISSE'!$D$11,"") | F63: =IF(A63='JOURNAL DE CAISSE'!$B$1,'JOURNAL DE CAISSE'!$E$11,"") | G63: =IF(A63='JOURNAL DE CAISSE'!$B$1,'JOURNAL DE CAISSE'!$F$11,"") | H63: =IF(A63='JOURNAL DE CAISSE'!$B$1,'JOURNAL DE CAISSE'!$G$11,"") | I63: =IF(A63='JOURNAL DE CAISSE'!$B$1,'JOURNAL DE CAISSE'!$H$11,"")
A64: 42136 | B64: =IF(A64='JOURNAL DE CAISSE'!$B$1,'JOURNAL DE CAISSE'!$A$11,"") | C64: =IF(A64='JOURNAL DE CAISSE'!$B$1,'JOURNAL DE CAISSE'!$B$11,"") | D64: =IF(A64='JOURNAL DE CAISSE'!$B$1,'JOURNAL DE CAISSE'!$C$11,"") | E64: =IF(A64='JOURNAL DE CAISSE'!$B$1,'JOURNAL DE CAISSE'!$D$11,"") | F64: =IF(A64='JOURNAL DE CAISSE'!$B$1,'JOURNAL DE CAISSE'!$E$11,"") | G64: =IF(A64='JOURNAL DE CAISSE'!$B$1,'JOURNAL DE CAISSE'!$F$11,"") | H64: =IF(A64='JOURNAL DE CAISSE'!$B$1,'JOURNAL DE CAISSE'!$G$11,"") | I64: =IF(A64='JOURNAL DE CAISSE'!$B$1,'JOURNAL DE CAISSE'!$H$11,"")
... A83: 42155 | B83: =IF(A83='JOURNAL DE CAISSE'!$B$1,'JOURNAL DE CAISSE'!$A$11,"") | C83: =IF(A83='JOURNAL DE CAISSE'!$B$1,'JOURNAL DE CAISSE'!$B$11,"") | D83: =IF(A83='JOURNAL DE CAISSE'!$B$1,'JOURNAL DE CAISSE'!$C$11,"") | E83: =IF(A83='JOURNAL DE CAISSE'!$B$1,'JOURNAL DE CAISSE'!$D$11,"") | F83: =IF(A83='JOURNAL DE CAISSE'!$B$1,'JOURNAL DE CAISSE'!$E$11,"") | G83: =IF(A83='JOURNAL DE CAISSE'!$B$1,'JOURNAL DE CAISSE'!$F$11,"") | H83: =IF(A83='JOURNAL DE CAISSE'!$B$1,'JOURNAL DE CAISSE'!$G$11,"") | I83: =IF(A83='JOURNAL DE CAISSE'!$B$1,'JOURNAL DE CAISSE'!$H$11,"")
A84: TOTAL MOIS | B84: =SUM(B68:B83) -> 0 | C84: =SUM(C68:C83) -> 0 | D84: =SUM(D68:D83) -> 0 | E84: =SUM(E68:E83) -> 0 | F84: =SUM(F68:F83) -> 0 | G84: =SUM(G68:G83) -> 0 | H84: =SUM(H68:H83) -> 0 | I84: =SUM(I68:I83) -> 0 | J84: =SUM(C84+E84+G84+I84) -> 0
A85: 42156 | B85: =IF(A85='JOURNAL DE CAISSE'!$B$1,'JOURNAL DE CAISSE'!$A$11,"") | C85: =IF(A85='JOURNAL DE CAISSE'!$B$1,'JOURNAL DE CAISSE'!$B$11,"") | D85: =IF(A85='JOURNAL DE CAISSE'!$B$1,'JOURNAL DE CAISSE'!$C$11,"") | E85: =IF(A85='JOURNAL DE CAISSE'!$B$1,'JOURNAL DE CAISSE'!$D$11,"") | F85: =IF(A85='JOURNAL DE CAISSE'!$B$1,'JOURNAL DE CAISSE'!$E$11,"") | G85: =IF(A85='JOURNAL DE CAISSE'!$B$1,'JOURNAL DE CAISSE'!$F$11,"") | H85: =IF(A85='JOURNAL DE CAISSE'!$B$1,'JOURNAL DE CAISSE'!$G$11,"") | I85: =IF(A85='JOURNAL DE CAISSE'!$B$1,'JOURNAL DE CAISSE'!$H$11,"")
A86: 42157 | B86: =IF(A86='JOURNAL DE CAISSE'!$B$1,'JOURNAL DE CAISSE'!$A$11,"") | C86: =IF(A86='JOURNAL DE CAISSE'!$B$1,'JOURNAL DE CAISSE'!$B$11,"") | D86: =IF(A86='JOURNAL DE CAISSE'!$B$1,'JOURNAL DE CAISSE'!$C$11,"") | E86: =IF(A86='JOURNAL DE CAISSE'!$B$1,'JOURNAL DE CAISSE'!$D$11,"") | F86: =IF(A86='JOURNAL DE CAISSE'!$B$1,'JOURNAL DE CAISSE'!$E$11,"") | G86: =IF(A86='JOURNAL DE CAISSE'!$B$1,'JOURNAL DE CAISSE'!$F$11,"") | H86: =IF(A86='JOURNAL DE CAISSE'!$B$1,'JOURNAL DE CAISSE'!$G$11,"") | I86: =IF(A86='JOURNAL DE CAISSE'!$B$1,'JOURNAL DE CAISSE'!$H$11,"")
A87: 42158 | B87: =IF(A87='JOURNAL DE CAISSE'!$B$1,'JOURNAL DE CAISSE'!$A$11,"") | C87: =IF(A87='JOURNAL DE CAISSE'!$B$1,'JOURNAL DE CAISSE'!$B$11,"") | D87: =IF(A87='JOURNAL DE CAISSE'!$B$1,'JOURNAL DE CAISSE'!$C$11,"") | E87: =IF(A87='JOURNAL DE CAISSE'!$B$1,'JOURNAL DE CAISSE'!$D$11,"") | F87: =IF(A87='JOURNAL DE CAISSE'!$B$1,'JOURNAL DE CAISSE'!$E$11,"") | G87: =IF(A87='JOURNAL DE CAISSE'!$B$1,'JOURNAL DE CAISSE'!$F$11,"") | H87: =IF(A87='JOURNAL DE CAISSE'!$B$1,'JOURNAL DE CAISSE'!$G$11,"") | I87: =IF(A87='JOURNAL DE CAISSE'!$B$1,'JOURNAL DE CAISSE'!$H$11,"")
A88: 42159 | B88: =IF(A88='JOURNAL DE CAISSE'!$B$1,'JOURNAL DE CAISSE'!$A$11,"") | C88: =IF(A88='JOURNAL DE CAISSE'!$B$1,'JOURNAL DE CAISSE'!$B$11,"") | D88: =IF(A88='JOURNAL DE CAISSE'!$B$1,'JOURNAL DE CAISSE'!$C$11,"") | E88: =IF(A88='JOURNAL DE CAISSE'!$B$1,'JOURNAL DE CAISSE'!$D$11,"") | F88: =IF(A88='JOURNAL DE CAISSE'!$B$1,'JOURNAL DE CAISSE'!$E$11,"") | G88: =IF(A88='JOURNAL DE CAISSE'!$B$1,'JOURNAL DE CAISSE'!$F$11,"") | H88: =IF(A88='JOURNAL DE CAISSE'!$B$1,'JOURNAL DE CAISSE'!$G$11,"") | I88: =IF(A88='JOURNAL DE CAISSE'!$B$1,'JOURNAL DE CAISSE'!$H$11,"")
A89: 42160 | B89: =IF(A89='JOURNAL DE CAISSE'!$B$1,'JOURNAL DE CAISSE'!$A$11,"") | C89: =IF(A89='JOURNAL DE CAISSE'!$B$1,'JOURNAL DE CAISSE'!$B$11,"") | D89: =IF(A89='JOURNAL DE CAISSE'!$B$1,'JOURNAL DE CAISSE'!$C$11,"") | E89: =IF(A89='JOURNAL DE CAISSE'!$B$1,'JOURNAL DE CAISSE'!$D$11,"") | F89: =IF(A89='JOURNAL DE CAISSE'!$B$1,'JOURNAL DE CAISSE'!$E$11,"") | G89: =IF(A89='JOURNAL DE CAISSE'!$B$1,'JOURNAL DE CAISSE'!$F$11,"") | H89: =IF(A89='JOURNAL DE CAISSE'!$B$1,'JOURNAL DE CAISSE'!$G$11,"") | I89: =IF(A89='JOURNAL DE CAISSE'!$B$1,'JOURNAL DE CAISSE'!$H$11,"")
A90: 42161 | B90: =IF(A90='JOURNAL DE CAISSE'!$B$1,'JOURNAL DE CAISSE'!$A$11,"") | C90: =IF(A90='JOURNAL DE CAISSE'!$B$1,'JOURNAL DE CAISSE'!$B$11,"") | D90: =IF(A90='JOURNAL DE CAISSE'!$B$1,'JOURNAL DE CAISSE'!$C$11,"") | E90: =IF(A90='JOURNAL DE CAISSE'!$B$1,'JOURNAL DE CAISSE'!$D$11,"") | F90: =IF(A90='JOURNAL DE CAISSE'!$B$1,'JOURNAL DE CAISSE'!$E$11,"") | G90: =IF(A90='JOURNAL DE CAISSE'!$B$1,'JOURNAL DE CAISSE'!$F$11,"") | H90: =IF(A90='JOURNAL DE CAISSE'!$B$1,'JOURNAL DE CAISSE'!$G$11,"") | I90: =IF(A90='JOURNAL DE CAISSE'!$B$1,'JOURNAL DE CAISSE'!$H$11,"")
A91: 42162 | B91: =IF(A91='JOURNAL DE CAISSE'!$B$1,'JOURNAL DE CAISSE'!$A$11,"") | C91: =IF(A91='JOURNAL DE CAISSE'!$B$1,'JOURNAL DE CAISSE'!$B$11,"") | D91: =IF(A91='JOURNAL DE CAISSE'!$B$1,'JOURNAL DE CAISSE'!$C$11,"") | E91: =IF(A91='JOURNAL DE CAISSE'!$B$1,'JOURNAL DE CAISSE'!$D$11,"") | F91: =IF(A91='JOURNAL DE CAISSE'!$B$1,'JOURNAL DE CAISSE'!$E$11,"") | G91: =IF(A91='JOURNAL DE CAISSE'!$B$1,'JOURNAL DE CAISSE'!$F$11,"") | H91: =IF(A91='JOURNAL DE CAISSE'!$B$1,'JOURNAL DE CAISSE'!$G$11,"") | I91: =IF(A91='JOURNAL DE CAISSE'!$B$1,'JOURNAL DE CAISSE'!$H$11,"")
A92: 42163 | B92: =IF(A92='JOURNAL DE CAISSE'!$B$1,'JOURNAL DE CAISSE'!$A$11,"") | C92: =IF(A92='JOURNAL DE CAISSE'!$B$1,'JOURNAL DE CAISSE'!$B$11,"") | D92: =IF(A92='JOURNAL DE CAISSE'!$B$1,'JOURNAL DE CAISSE'!$C$11,"") | E92: =IF(A92='JOURNAL DE CAISSE'!$B$1,'JOURNAL DE CAISSE'!$D$11,"") | F92: =IF(A92='JOURNAL DE CAISSE'!$B$1,'JOURNAL DE CAISSE'!$E$11,"") | G92: =IF(A92='JOURNAL DE CAISSE'!$B$1,'JOURNAL DE CAISSE'!$F$11,"") | H92: =IF(A92='JOURNAL DE CAISSE'!$B$1,'JOURNAL DE CAISSE'!$G$11,"") | I92: =IF(A92='JOURNAL DE CAISSE'!$B$1,'JOURNAL DE CAISSE'!$H$11,"")
A93: 42164 | B93: =IF(A93='JOURNAL DE CAISSE'!$B$1,'JOURNAL DE CAISSE'!$A$11,"") | C93: =IF(A93='JOURNAL DE CAISSE'!$B$1,'JOURNAL DE CAISSE'!$B$11,"") | D93: =IF(A93='JOURNAL DE CAISSE'!$B$1,'JOURNAL DE CAISSE'!$C$11,"") | E93: =IF(A93='JOURNAL DE CAISSE'!$B$1,'JOURNAL DE CAISSE'!$D$11,"") | F93: =IF(A93='JOURNAL DE CAISSE'!$B$1,'JOURNAL DE CAISSE'!$E$11,"") | G93: =IF(A93='JOURNAL DE CAISSE'!$B$1,'JOURNAL DE CAISSE'!$F$11,"") | H93: =IF(A93='JOURNAL DE CAISSE'!$B$1,'JOURNAL DE CAISSE'!$G$11,"") | I93: =IF(A93='JOURNAL DE CAISSE'!$B$1,'JOURNAL DE CAISSE'!$H$11,"")
A94: 42165 | B94: =IF(A94='JOURNAL DE CAISSE'!$B$1,'JOURNAL DE CAISSE'!$A$11,"") | C94: =IF(A94='JOURNAL DE CAISSE'!$B$1,'JOURNAL DE CAISSE'!$B$11,"") | D94: =IF(A94='JOURNAL DE CAISSE'!$B$1,'JOURNAL DE CAISSE'!$C$11,"") | E94: =IF(A94='JOURNAL DE CAISSE'!$B$1,'JOURNAL DE CAISSE'!$D$11,"") | F94: =IF(A94='JOURNAL DE CAISSE'!$B$1,'JOURNAL DE CAISSE'!$E$11,"") | G94: =IF(A94='JOURNAL DE CAISSE'!$B$1,'JOURNAL DE CAISSE'!$F$11,"") | H94: =IF(A94='JOURNAL DE CAISSE'!$B$1,'JOURNAL DE CAISSE'!$G$11,"") | I94: =IF(A94='JOURNAL DE CAISSE'!$B$1,'JOURNAL DE CAISSE'!$H$11,"")
A95: 42166 | B95: =IF(A95='JOURNAL DE CAISSE'!$B$1,'JOURNAL DE CAISSE'!$A$11,"") | C95: =IF(A95='JOURNAL DE CAISSE'!$B$1,'JOURNAL DE CAISSE'!$B$11,"") | D95: =IF(A95='JOURNAL DE CAISSE'!$B$1,'JOURNAL DE CAISSE'!$C$11,"") | E95: =IF(A95='JOURNAL DE CAISSE'!$B$1,'JOURNAL DE CAISSE'!$D$11,"") | F95: =IF(A95='JOURNAL DE CAISSE'!$B$1,'JOURNAL DE CAISSE'!$E$11,"") | G95: =IF(A95='JOURNAL DE CAISSE'!$B$1,'JOURNAL DE CAISSE'!$F$11,"") | H95: =IF(A95='JOURNAL DE CAISSE'!$B$1,'JOURNAL DE CAISSE'!$G$11,"") | I95: =IF(A95='JOURNAL DE CAISSE'!$B$1,'JOURNAL DE CAISSE'!$H$11,"")
A96: 42167 | B96: =IF(A96='JOURNAL DE CAISSE'!$B$1,'JOURNAL DE CAISSE'!$A$11,"") | C96: =IF(A96='JOURNAL DE CAISSE'!$B$1,'JOURNAL DE CAISSE'!$B$11,"") | D96: =IF(A96='JOURNAL DE CAISSE'!$B$1,'JOURNAL DE CAISSE'!$C$11,"") | E96: =IF(A96='JOURNAL DE CAISSE'!$B$1,'JOURNAL DE CAISSE'!$D$11,"") | F96: =IF(A96='JOURNAL DE CAISSE'!$B$1,'JOURNAL DE CAISSE'!$E$11,"") | G96: =IF(A96='JOURNAL DE CAISSE'!$B$1,'JOURNAL DE CAISSE'!$F$11,"") | H96: =IF(A96='JOURNAL DE CAISSE'!$B$1,'JOURNAL DE CAISSE'!$G$11,"") | I96: =IF(A96='JOURNAL DE CAISSE'!$B$1,'JOURNAL DE CAISSE'!$H$11,"")
... A114: 42185 | B114: =IF(A114='JOURNAL DE CAISSE'!$B$1,'JOURNAL DE CAISSE'!$A$11,"") | C114: =IF(A114='JOURNAL DE CAISSE'!$B$1,'JOURNAL DE CAISSE'!$B$11,"") | D114: =IF(A114='JOURNAL DE CAISSE'!$B$1,'JOURNAL DE CAISSE'!$C$11,"") | E114: =IF(A114='JOURNAL DE CAISSE'!$B$1,'JOURNAL DE CAISSE'!$D$11,"") | F114: =IF(A114='JOURNAL DE CAISSE'!$B$1,'JOURNAL DE CAISSE'!$E$11,"") | G114: =IF(A114='JOURNAL DE CAISSE'!$B$1,'JOURNAL DE CAISSE'!$F$11,"") | H114: =IF(A114='JOURNAL DE CAISSE'!$B$1,'JOURNAL DE CAISSE'!$G$11,"") | I114: =IF(A114='JOURNAL DE CAISSE'!$B$1,'JOURNAL DE CAISSE'!$H$11,"")
A115: TOTAL MOIS | B115: =SUM(B99:B114) -> 0 | C115: =SUM(C99:C114) -> 0 | D115: =SUM(D99:D114) -> 0 | E115: =SUM(E99:E114) -> 0 | F115: =SUM(F99:F114) -> 0 | G115: =SUM(G99:G114) -> 0 | H115: =SUM(H99:H114) -> 0 | I115: =SUM(I99:I114) -> 0 | J115: =SUM(C115+E115+G115+I115) -> 0
A116: 42186 | B116: =IF(A116='JOURNAL DE CAISSE'!$B$1,'JOURNAL DE CAISSE'!$A$11,"") | C116: =IF(A116='JOURNAL DE CAISSE'!$B$1,'JOURNAL DE CAISSE'!$B$11,"") | D116: =IF(A116='JOURNAL DE CAISSE'!$B$1,'JOURNAL DE CAISSE'!$C$11,"") | E116: =IF(A116='JOURNAL DE CAISSE'!$B$1,'JOURNAL DE CAISSE'!$D$11,"") | F116: =IF(A116='JOURNAL DE CAISSE'!$B$1,'JOURNAL DE CAISSE'!$E$11,"") | G116: =IF(A116='JOURNAL DE CAISSE'!$B$1,'JOURNAL DE CAISSE'!$F$11,"") | H116: =IF(A116='JOURNAL DE CAISSE'!$B$1,'JOURNAL DE CAISSE'!$G$11,"") | I116: =IF(A116='JOURNAL DE CAISSE'!$B$1,'JOURNAL DE CAISSE'!$H$11,"")
A117: 42187 | B117: =IF(A117='JOURNAL DE CAISSE'!$B$1,'JOURNAL DE CAISSE'!$A$11,"") | C117: =IF(A117='JOURNAL DE CAISSE'!$B$1,'JOURNAL DE CAISSE'!$B$11,"") | D117: =IF(A117='JOURNAL DE CAISSE'!$B$1,'JOURNAL DE CAISSE'!$C$11,"") | E117: =IF(A117='JOURNAL DE CAISSE'!$B$1,'JOURNAL DE CAISSE'!$D$11,"") | F117: =IF(A117='JOURNAL DE CAISSE'!$B$1,'JOURNAL DE CAISSE'!$E$11,"") | G117: =IF(A117='JOURNAL DE CAISSE'!$B$1,'JOURNAL DE CAISSE'!$F$11,"") | H117: =IF(A117='JOURNAL DE CAISSE'!$B$1,'JOURNAL DE CAISSE'!$G$11,"") | I117: =IF(A117='JOURNAL DE CAISSE'!$B$1,'JOURNAL DE CAISSE'!$H$11,"")
A118: 42188 | B118: =IF(A118='JOURNAL DE CAISSE'!$B$1,'JOURNAL DE CAISSE'!$A$11,"") | C118: =IF(A118='JOURNAL DE CAISSE'!$B$1,'JOURNAL DE CAISSE'!$B$11,"") | D118: =IF(A118='JOURNAL DE CAISSE'!$B$1,'JOURNAL DE CAISSE'!$C$11,"") | E118: =IF(A118='JOURNAL DE CAISSE'!$B$1,'JOURNAL DE CAISSE'!$D$11,"") | F118: =IF(A118='JOURNAL DE CAISSE'!$B$1,'JOURNAL DE CAISSE'!$E$11,"") | G118: =IF(A118='JOURNAL DE CAISSE'!$B$1,'JOURNAL DE CAISSE'!$F$11,"") | H118: =IF(A118='JOURNAL DE CAISSE'!$B$1,'JOURNAL DE CAISSE'!$G$11,"") | I118: =IF(A118='JOURNAL DE CAISSE'!$B$1,'JOURNAL DE CAISSE'!$H$11,"")
A119: 42189 | B119: =IF(A119='JOURNAL DE CAISSE'!$B$1,'JOURNAL DE CAISSE'!$A$11,"") | C119: =IF(A119='JOURNAL DE CAISSE'!$B$1,'JOURNAL DE CAISSE'!$B$11,"") | D119: =IF(A119='JOURNAL DE CAISSE'!$B$1,'JOURNAL DE CAISSE'!$C$11,"") | E119: =IF(A119='JOURNAL DE CAISSE'!$B$1,'JOURNAL DE CAISSE'!$D$11,"") | F119: =IF(A119='JOURNAL DE CAISSE'!$B$1,'JOURNAL DE CAISSE'!$E$11,"") | G119: =IF(A119='JOURNAL DE CAISSE'!$B$1,'JOURNAL DE CAISSE'!$F$11,"") | H119: =IF(A119='JOURNAL DE CAISSE'!$B$1,'JOURNAL DE CAISSE'!$G$11,"") | I119: =IF(A119='JOURNAL DE CAISSE'!$B$1,'JOURNAL DE CAISSE'!$H$11,"")
A120: 42190 | B120: =IF(A120='JOURNAL DE CAISSE'!$B$1,'JOURNAL DE CAISSE'!$A$11,"") | C120: =IF(A120='JOURNAL DE CAISSE'!$B$1,'JOURNAL DE CAISSE'!$B$11,"") | D120: =IF(A120='JOURNAL DE CAISSE'!$B$1,'JOURNAL DE CAISSE'!$C$11,"") | E120: =IF(A120='JOURNAL DE CAISSE'!$B$1,'JOURNAL DE CAISSE'!$D$11,"") | F120: =IF(A120='JOURNAL DE CAISSE'!$B$1,'JOURNAL DE CAISSE'!$E$11,"") | G120: =IF(A120='JOURNAL DE CAISSE'!$B$1,'JOURNAL DE CAISSE'!$F$11,"") | H120: =IF(A120='JOURNAL DE CAISSE'!$B$1,'JOURNAL DE CAISSE'!$G$11,"") | I120: =IF(A120='JOURNAL DE CAISSE'!$B$1,'JOURNAL DE CAISSE'!$H$11,"")
A121: 42191 | B121: =IF(A121='JOURNAL DE CAISSE'!$B$1,'JOURNAL DE CAISSE'!$A$11,"") | C121: =IF(A121='JOURNAL DE CAISSE'!$B$1,'JOURNAL DE CAISSE'!$B$11,"") | D121: =IF(A121='JOURNAL DE CAISSE'!$B$1,'JOURNAL DE CAISSE'!$C$11,"") | E121: =IF(A121='JOURNAL DE CAISSE'!$B$1,'JOURNAL DE CAISSE'!$D$11,"") | F121: =IF(A121='JOURNAL DE CAISSE'!$B$1,'JOURNAL DE CAISSE'!$E$11,"") | G121: =IF(A121='JOURNAL DE CAISSE'!$B$1,'JOURNAL DE CAISSE'!$F$11,"") | H121: =IF(A121='JOURNAL DE CAISSE'!$B$1,'JOURNAL DE CAISSE'!$G$11,"") | I121: =IF(A121='JOURNAL DE CAISSE'!$B$1,'JOURNAL DE CAISSE'!$H$11,"")
A122: 42192 | B122: =IF(A122='JOURNAL DE CAISSE'!$B$1,'JOURNAL DE CAISSE'!$A$11,"") | C122: =IF(A122='JOURNAL DE CAISSE'!$B$1,'JOURNAL DE CAISSE'!$B$11,"") | D122: =IF(A122='JOURNAL DE CAISSE'!$B$1,'JOURNAL DE CAISSE'!$C$11,"") | E122: =IF(A122='JOURNAL DE CAISSE'!$B$1,'JOURNAL DE CAISSE'!$D$11,"") | F122: =IF(A122='JOURNAL DE CAISSE'!$B$1,'JOURNAL DE CAISSE'!$E$11,"") | G122: =IF(A122='JOURNAL DE CAISSE'!$B$1,'JOURNAL DE CAISSE'!$F$11,"") | H122: =IF(A122='JOURNAL DE CAISSE'!$B$1,'JOURNAL DE CAISSE'!$G$11,"") | I122: =IF(A122='JOURNAL DE CAISSE'!$B$1,'JOURNAL DE CAISSE'!$H$11,"")
A123: 42193 | B123: =IF(A123='JOURNAL DE CAISSE'!$B$1,'JOURNAL DE CAISSE'!$A$11,"") | C123: =IF(A123='JOURNAL DE CAISSE'!$B$1,'JOURNAL DE CAISSE'!$B$11,"") | D123: =IF(A123='JOURNAL DE CAISSE'!$B$1,'JOURNAL DE CAISSE'!$C$11,"") | E123: =IF(A123='JOURNAL DE CAISSE'!$B$1,'JOURNAL DE CAISSE'!$D$11,"") | F123: =IF(A123='JOURNAL DE CAISSE'!$B$1,'JOURNAL DE CAISSE'!$E$11,"") | G123: =IF(A123='JOURNAL DE CAISSE'!$B$1,'JOURNAL DE CAISSE'!$F$11,"") | H123: =IF(A123='JOURNAL DE CAISSE'!$B$1,'JOURNAL DE CAISSE'!$G$11,"") | I123: =IF(A123='JOURNAL DE CAISSE'!$B$1,'JOURNAL DE CAISSE'!$H$11,"")
A124: 42194 | B124: =IF(A124='JOURNAL DE CAISSE'!$B$1,'JOURNAL DE CAISSE'!$A$11,"") | C124: =IF(A124='JOURNAL DE CAISSE'!$B$1,'JOURNAL DE CAISSE'!$B$11,"") | D124: =IF(A124='JOURNAL DE CAISSE'!$B$1,'JOURNAL DE CAISSE'!$C$11,"") | E124: =IF(A124='JOURNAL DE CAISSE'!$B$1,'JOURNAL DE CAISSE'!$D$11,"") | F124: =IF(A124='JOURNAL DE CAISSE'!$B$1,'JOURNAL DE CAISSE'!$E$11,"") | G124: =IF(A124='JOURNAL DE CAISSE'!$B$1,'JOURNAL DE CAISSE'!$F$11,"") | H124: =IF(A124='JOURNAL DE CAISSE'!$B$1,'JOURNAL DE CAISSE'!$G$11,"") | I124: =IF(A124='JOURNAL DE CAISSE'!$B$1,'JOURNAL DE CAISSE'!$H$11,"")
A125: 42195 | B125: =IF(A125='JOURNAL DE CAISSE'!$B$1,'JOURNAL DE CAISSE'!$A$11,"") | C125: =IF(A125='JOURNAL DE CAISSE'!$B$1,'JOURNAL DE CAISSE'!$B$11,"") | D125: =IF(A125='JOURNAL DE CAISSE'!$B$1,'JOURNAL DE CAISSE'!$C$11,"") | E125: =IF(A125='JOURNAL DE CAISSE'!$B$1,'JOURNAL DE CAISSE'!$D$11,"") | F125: =IF(A125='JOURNAL DE CAISSE'!$B$1,'JOURNAL DE CAISSE'!$E$11,"") | G125: =IF(A125='JOURNAL DE CAISSE'!$B$1,'JOURNAL DE CAISSE'!$F$11,"") | H125: =IF(A125='JOURNAL DE CAISSE'!$B$1,'JOURNAL DE CAISSE'!$G$11,"") | I125: =IF(A125='JOURNAL DE CAISSE'!$B$1,'JOURNAL DE CAISSE'!$H$11,"")
A126: 42196 | B126: =IF(A126='JOURNAL DE CAISSE'!$B$1,'JOURNAL DE CAISSE'!$A$11,"") | C126: =IF(A126='JOURNAL DE CAISSE'!$B$1,'JOURNAL DE CAISSE'!$B$11,"") | D126: =IF(A126='JOURNAL DE CAISSE'!$B$1,'JOURNAL DE CAISSE'!$C$11,"") | E126: =IF(A126='JOURNAL DE CAISSE'!$B$1,'JOURNAL DE CAISSE'!$D$11,"") | F126: =IF(A126='JOURNAL DE CAISSE'!$B$1,'JOURNAL DE CAISSE'!$E$11,"") | G126: =IF(A126='JOURNAL DE CAISSE'!$B$1,'JOURNAL DE CAISSE'!$F$11,"") | H126: =IF(A126='JOURNAL DE CAISSE'!$B$1,'JOURNAL DE CAISSE'!$G$11,"") | I126: =IF(A126='JOURNAL DE CAISSE'!$B$1,'JOURNAL DE CAISSE'!$H$11,"")
A127: 42197 | B127: =IF(A127='JOURNAL DE CAISSE'!$B$1,'JOURNAL DE CAISSE'!$A$11,"") | C127: =IF(A127='JOURNAL DE CAISSE'!$B$1,'JOURNAL DE CAISSE'!$B$11,"") | D127: =IF(A127='JOURNAL DE CAISSE'!$B$1,'JOURNAL DE CAISSE'!$C$11,"") | E127: =IF(A127='JOURNAL DE CAISSE'!$B$1,'JOURNAL DE CAISSE'!$D$11,"") | F127: =IF(A127='JOURNAL DE CAISSE'!$B$1,'JOURNAL DE CAISSE'!$E$11,"") | G127: =IF(A127='JOURNAL DE CAISSE'!$B$1,'JOURNAL DE CAISSE'!$F$11,"") | H127: =IF(A127='JOURNAL DE CAISSE'!$B$1,'JOURNAL DE CAISSE'!$G$11,"") | I127: =IF(A127='JOURNAL DE CAISSE'!$B$1,'JOURNAL DE CAISSE'!$H$11,"")
... A146: 42216 | B146: =IF(A146='JOURNAL DE CAISSE'!$B$1,'JOURNAL DE CAISSE'!$A$11,"") | C146: =IF(A146='JOURNAL DE CAISSE'!$B$1,'JOURNAL DE CAISSE'!$B$11,"") | D146: =IF(A146='JOURNAL DE CAISSE'!$B$1,'JOURNAL DE CAISSE'!$C$11,"") | E146: =IF(A146='JOURNAL DE CAISSE'!$B$1,'JOURNAL DE CAISSE'!$D$11,"") | F146: =IF(A146='JOURNAL DE CAISSE'!$B$1,'JOURNAL DE CAISSE'!$E$11,"") | G146: =IF(A146='JOURNAL DE CAISSE'!$B$1,'JOURNAL DE CAISSE'!$F$11,"") | H146: =IF(A146='JOURNAL DE CAISSE'!$B$1,'JOURNAL DE CAISSE'!$G$11,"") | I146: =IF(A146='JOURNAL DE CAISSE'!$B$1,'JOURNAL DE CAISSE'!$H$11,"")
A147: TOTAL MOIS | B147: =SUM(B131:B146) -> 0 | C147: =SUM(C131:C146) -> 0 | D147: =SUM(D131:D146) -> 0 | E147: =SUM(E131:E146) -> 0 | F147: =SUM(F131:F146) -> 0 | G147: =SUM(G131:G146) -> 0 | H147: =SUM(H131:H146) -> 0 | I147: =SUM(I131:I146) -> 0 | J147: =SUM(C147+E147+G147+I147) -> 0
A148: 42217 | B148: =IF(A148='JOURNAL DE CAISSE'!$B$1,'JOURNAL DE CAISSE'!$A$11,"") | C148: =IF(A148='JOURNAL DE CAISSE'!$B$1,'JOURNAL DE CAISSE'!$B$11,"") | D148: =IF(A148='JOURNAL DE CAISSE'!$B$1,'JOURNAL DE CAISSE'!$C$11,"") | E148: =IF(A148='JOURNAL DE CAISSE'!$B$1,'JOURNAL DE CAISSE'!$D$11,"") | F148: =IF(A148='JOURNAL DE CAISSE'!$B$1,'JOURNAL DE CAISSE'!$E$11,"") | G148: =IF(A148='JOURNAL DE CAISSE'!$B$1,'JOURNAL DE CAISSE'!$F$11,"") | H148: =IF(A148='JOURNAL DE CAISSE'!$B$1,'JOURNAL DE CAISSE'!$G$11,"") | I148: =IF(A148='JOURNAL DE CAISSE'!$B$1,'JOURNAL DE CAISSE'!$H$11,"")
A149: 42218 | B149: =IF(A149='JOURNAL DE CAISSE'!$B$1,'JOURNAL DE CAISSE'!$A$11,"") | C149: =IF(A149='JOURNAL DE CAISSE'!$B$1,'JOURNAL DE CAISSE'!$B$11,"") | D149: =IF(A149='JOURNAL DE CAISSE'!$B$1,'JOURNAL DE CAISSE'!$C$11,"") | E149: =IF(A149='JOURNAL DE CAISSE'!$B$1,'JOURNAL DE CAISSE'!$D$11,"") | F149: =IF(A149='JOURNAL DE CAISSE'!$B$1,'JOURNAL DE CAISSE'!$E$11,"") | G149: =IF(A149='JOURNAL DE CAISSE'!$B$1,'JOURNAL DE CAISSE'!$F$11,"") | H149: =IF(A149='JOURNAL DE CAISSE'!$B$1,'JOURNAL DE CAISSE'!$G$11,"") | I149: =IF(A149='JOURNAL DE CAISSE'!$B$1,'JOURNAL DE CAISSE'!$H$11,"")
A150: 42219 | B150: =IF(A150='JOURNAL DE CAISSE'!$B$1,'JOURNAL DE CAISSE'!$A$11,"") | C150: =IF(A150='JOURNAL DE CAISSE'!$B$1,'JOURNAL DE CAISSE'!$B$11,"") | D150: =IF(A150='JOURNAL DE CAISSE'!$B$1,'JOURNAL DE CAISSE'!$C$11,"") | E150: =IF(A150='JOURNAL DE CAISSE'!$B$1,'JOURNAL DE CAISSE'!$D$11,"") | F150: =IF(A150='JOURNAL DE CAISSE'!$B$1,'JOURNAL DE CAISSE'!$E$11,"") | G150: =IF(A150='JOURNAL DE CAISSE'!$B$1,'JOURNAL DE CAISSE'!$F$11,"") | H150: =IF(A150='JOURNAL DE CAISSE'!$B$1,'JOURNAL DE CAISSE'!$G$11,"") | I150: =IF(A150='JOURNAL DE CAISSE'!$B$1,'JOURNAL DE CAISSE'!$H$11,"")
A151: 42220 | B151: =IF(A151='JOURNAL DE CAISSE'!$B$1,'JOURNAL DE CAISSE'!$A$11,"") | C151: =IF(A151='JOURNAL DE CAISSE'!$B$1,'JOURNAL DE CAISSE'!$B$11,"") | D151: =IF(A151='JOURNAL DE CAISSE'!$B$1,'JOURNAL DE CAISSE'!$C$11,"") | E151: =IF(A151='JOURNAL DE CAISSE'!$B$1,'JOURNAL DE CAISSE'!$D$11,"") | F151: =IF(A151='JOURNAL DE CAISSE'!$B$1,'JOURNAL DE CAISSE'!$E$11,"") | G151: =IF(A151='JOURNAL DE CAISSE'!$B$1,'JOURNAL DE CAISSE'!$F$11,"") | H151: =IF(A151='JOURNAL DE CAISSE'!$B$1,'JOURNAL DE CAISSE'!$G$11,"") | I151: =IF(A151='JOURNAL DE CAISSE'!$B$1,'JOURNAL DE CAISSE'!$H$11,"")
A152: 42221 | B152: =IF(A152='JOURNAL DE CAISSE'!$B$1,'JOURNAL DE CAISSE'!$A$11,"") | C152: =IF(A152='JOURNAL DE CAISSE'!$B$1,'JOURNAL DE CAISSE'!$B$11,"") | D152: =IF(A152='JOURNAL DE CAISSE'!$B$1,'JOURNAL DE CAISSE'!$C$11,"") | E152: =IF(A152='JOURNAL DE CAISSE'!$B$1,'JOURNAL DE CAISSE'!$D$11,"") | F152: =IF(A152='JOURNAL DE CAISSE'!$B$1,'JOURNAL DE CAISSE'!$E$11,"") | G152: =IF(A152='JOURNAL DE CAISSE'!$B$1,'JOURNAL DE CAISSE'!$F$11,"") | H152: =IF(A152='JOURNAL DE CAISSE'!$B$1,'JOURNAL DE CAISSE'!$G$11,"") | I152: =IF(A152='JOURNAL DE CAISSE'!$B$1,'JOURNAL DE CAISSE'!$H$11,"")
A153: 42222 | B153: =IF(A153='JOURNAL DE CAISSE'!$B$1,'JOURNAL DE CAISSE'!$A$11,"") | C153: =IF(A153='JOURNAL DE CAISSE'!$B$1,'JOURNAL DE CAISSE'!$B$11,"") | D153: =IF(A153='JOURNAL DE CAISSE'!$B$1,'JOURNAL DE CAISSE'!$C$11,"") | E153: =IF(A153='JOURNAL DE CAISSE'!$B$1,'JOURNAL DE CAISSE'!$D$11,"") | F153: =IF(A153='JOURNAL DE CAISSE'!$B$1,'JOURNAL DE CAISSE'!$E$11,"") | G153: =IF(A153='JOURNAL DE CAISSE'!$B$1,'JOURNAL DE CAISSE'!$F$11,"") | H153: =IF(A153='JOURNAL DE CAISSE'!$B$1,'JOURNAL DE CAISSE'!$G$11,"") | I153: =IF(A153='JOURNAL DE CAISSE'!$B$1,'JOURNAL DE CAISSE'!$H$11,"")
A154: 42223 | B154: =IF(A154='JOURNAL DE CAISSE'!$B$1,'JOURNAL DE CAISSE'!$A$11,"") | C154: =IF(A154='JOURNAL DE CAISSE'!$B$1,'JOURNAL DE CAISSE'!$B$11,"") | D154: =IF(A154='JOURNAL DE CAISSE'!$B$1,'JOURNAL DE CAISSE'!$C$11,"") | E154: =IF(A154='JOURNAL DE CAISSE'!$B$1,'JOURNAL DE CAISSE'!$D$11,"") | F154: =IF(A154='JOURNAL DE CAISSE'!$B$1,'JOURNAL DE CAISSE'!$E$11,"") | G154: =IF(A154='JOURNAL DE CAISSE'!$B$1,'JOURNAL DE CAISSE'!$F$11,"") | H154: =IF(A154='JOURNAL DE CAISSE'!$B$1,'JOURNAL DE CAISSE'!$G$11,"") | I154: =IF(A154='JOURNAL DE CAISSE'!$B$1,'JOURNAL DE CAISSE'!$H$11,"")
A155: 42224 | B155: =IF(A155='JOURNAL DE CAISSE'!$B$1,'JOURNAL DE CAISSE'!$A$11,"") | C155: =IF(A155='JOURNAL DE CAISSE'!$B$1,'JOURNAL DE CAISSE'!$B$11,"") | D155: =IF(A155='JOURNAL DE CAISSE'!$B$1,'JOURNAL DE CAISSE'!$C$11,"") | E155: =IF(A155='JOURNAL DE CAISSE'!$B$1,'JOURNAL DE CAISSE'!$D$11,"") | F155: =IF(A155='JOURNAL DE CAISSE'!$B$1,'JOURNAL DE CAISSE'!$E$11,"") | G155: =IF(A155='JOURNAL DE CAISSE'!$B$1,'JOURNAL DE CAISSE'!$F$11,"") | H155: =IF(A155='JOURNAL DE CAISSE'!$B$1,'JOURNAL DE CAISSE'!$G$11,"") | I155: =IF(A155='JOURNAL DE CAISSE'!$B$1,'JOURNAL DE CAISSE'!$H$11,"")
A156: 42225 | B156: =IF(A156='JOURNAL DE CAISSE'!$B$1,'JOURNAL DE CAISSE'!$A$11,"") | C156: =IF(A156='JOURNAL DE CAISSE'!$B$1,'JOURNAL DE CAISSE'!$B$11,"") | D156: =IF(A156='JOURNAL DE CAISSE'!$B$1,'JOURNAL DE CAISSE'!$C$11,"") | E156: =IF(A156='JOURNAL DE CAISSE'!$B$1,'JOURNAL DE CAISSE'!$D$11,"") | F156: =IF(A156='JOURNAL DE CAISSE'!$B$1,'JOURNAL DE CAISSE'!$E$11,"") | G156: =IF(A156='JOURNAL DE CAISSE'!$B$1,'JOURNAL DE CAISSE'!$F$11,"") | H156: =IF(A156='JOURNAL DE CAISSE'!$B$1,'JOURNAL DE CAISSE'!$G$11,"") | I156: =IF(A156='JOURNAL DE CAISSE'!$B$1,'JOURNAL DE CAISSE'!$H$11,"")
A157: 42226 | B157: =IF(A157='JOURNAL DE CAISSE'!$B$1,'JOURNAL DE CAISSE'!$A$11,"") | C157: =IF(A157='JOURNAL DE CAISSE'!$B$1,'JOURNAL DE CAISSE'!$B$11,"") | D157: =IF(A157='JOURNAL DE CAISSE'!$B$1,'JOURNAL DE CAISSE'!$C$11,"") | E157: =IF(A157='JOURNAL DE CAISSE'!$B$1,'JOURNAL DE CAISSE'!$D$11,"") | F157: =IF(A157='JOURNAL DE CAISSE'!$B$1,'JOURNAL DE CAISSE'!$E$11,"") | G157: =IF(A157='JOURNAL DE CAISSE'!$B$1,'JOURNAL DE CAISSE'!$F$11,"") | H157: =IF(A157='JOURNAL DE CAISSE'!$B$1,'JOURNAL DE CAISSE'!$G$11,"") | I157: =IF(A157='JOURNAL DE CAISSE'!$B$1,'JOURNAL DE CAISSE'!$H$11,"")
A158: 42227 | B158: =IF(A158='JOURNAL DE CAISSE'!$B$1,'JOURNAL DE CAISSE'!$A$11,"") | C158: =IF(A158='JOURNAL DE CAISSE'!$B$1,'JOURNAL DE CAISSE'!$B$11,"") | D158: =IF(A158='JOURNAL DE CAISSE'!$B$1,'JOURNAL DE CAISSE'!$C$11,"") | E158: =IF(A158='JOURNAL DE CAISSE'!$B$1,'JOURNAL DE CAISSE'!$D$11,"") | F158: =IF(A158='JOURNAL DE CAISSE'!$B$1,'JOURNAL DE CAISSE'!$E$11,"") | G158: =IF(A158='JOURNAL DE CAISSE'!$B$1,'JOURNAL DE CAISSE'!$F$11,"") | H158: =IF(A158='JOURNAL DE CAISSE'!$B$1,'JOURNAL DE CAISSE'!$G$11,"") | I158: =IF(A158='JOURNAL DE CAISSE'!$B$1,'JOURNAL DE CAISSE'!$H$11,"")
A159: 42228 | B159: =IF(A159='JOURNAL DE CAISSE'!$B$1,'JOURNAL DE CAISSE'!$A$11,"") | C159: =IF(A159='JOURNAL DE CAISSE'!$B$1,'JOURNAL DE CAISSE'!$B$11,"") | D159: =IF(A159='JOURNAL DE CAISSE'!$B$1,'JOURNAL DE CAISSE'!$C$11,"") | E159: =IF(A159='JOURNAL DE CAISSE'!$B$1,'JOURNAL DE CAISSE'!$D$11,"") | F159: =IF(A159='JOURNAL DE CAISSE'!$B$1,'JOURNAL DE CAISSE'!$E$11,"") | G159: =IF(A159='JOURNAL DE CAISSE'!$B$1,'JOURNAL DE CAISSE'!$F$11,"") | H159: =IF(A159='JOURNAL DE CAISSE'!$B$1,'JOURNAL DE CAISSE'!$G$11,"") | I159: =IF(A159='JOURNAL DE CAISSE'!$B$1,'JOURNAL DE CAISSE'!$H$11,"")
... A178: 42247 | B178: =IF(A178='JOURNAL DE CAISSE'!$B$1,'JOURNAL DE CAISSE'!$A$11,"") | C178: =IF(A178='JOURNAL DE CAISSE'!$B$1,'JOURNAL DE CAISSE'!$B$11,"") | D178: =IF(A178='JOURNAL DE CAISSE'!$B$1,'JOURNAL DE CAISSE'!$C$11,"") | E178: =IF(A178='JOURNAL DE CAISSE'!$B$1,'JOURNAL DE CAISSE'!$D$11,"") | F178: =IF(A178='JOURNAL DE CAISSE'!$B$1,'JOURNAL DE CAISSE'!$E$11,"") | G178: =IF(A178='JOURNAL DE CAISSE'!$B$1,'JOURNAL DE CAISSE'!$F$11,"") | H178: =IF(A178='JOURNAL DE CAISSE'!$B$1,'JOURNAL DE CAISSE'!$G$11,"") | I178: =IF(A178='JOURNAL DE CAISSE'!$B$1,'JOURNAL DE CAISSE'!$H$11,"")
A179: TOTAL MOIS | B179: =SUM(B163:B178) -> 0 | C179: =SUM(C163:C178) -> 0 | D179: =SUM(D163:D178) -> 0 | E179: =SUM(E163:E178) -> 0 | F179: =SUM(F163:F178) -> 0 | G179: =SUM(G163:G178) -> 0 | H179: =SUM(H163:H178) -> 0 | I179: =SUM(I163:I178) -> 0 | J179: =SUM(C179+E179+G179+I179) -> 0
A180: 42248 | B180: =IF(A180='JOURNAL DE CAISSE'!$B$1,'JOURNAL DE CAISSE'!$A$11,"") | C180: =IF(A180='JOURNAL DE CAISSE'!$B$1,'JOURNAL DE CAISSE'!$B$11,"") | D180: =IF(A180='JOURNAL DE CAISSE'!$B$1,'JOURNAL DE CAISSE'!$C$11,"") | E180: =IF(A180='JOURNAL DE CAISSE'!$B$1,'JOURNAL DE CAISSE'!$D$11,"") | F180: =IF(A180='JOURNAL DE CAISSE'!$B$1,'JOURNAL DE CAISSE'!$E$11,"") | G180: =IF(A180='JOURNAL DE CAISSE'!$B$1,'JOURNAL DE CAISSE'!$F$11,"") | H180: =IF(A180='JOURNAL DE CAISSE'!$B$1,'JOURNAL DE CAISSE'!$G$11,"") | I180: =IF(A180='JOURNAL DE CAISSE'!$B$1,'JOURNAL DE CAISSE'!$H$11,"")
A181: 42249 | B181: =IF(A181='JOURNAL DE CAISSE'!$B$1,'JOURNAL DE CAISSE'!$A$11,"") | C181: =IF(A181='JOURNAL DE CAISSE'!$B$1,'JOURNAL DE CAISSE'!$B$11,"") | D181: =IF(A181='JOURNAL DE CAISSE'!$B$1,'JOURNAL DE CAISSE'!$C$11,"") | E181: =IF(A181='JOURNAL DE CAISSE'!$B$1,'JOURNAL DE CAISSE'!$D$11,"") | F181: =IF(A181='JOURNAL DE CAISSE'!$B$1,'JOURNAL DE CAISSE'!$E$11,"") | G181: =IF(A181='JOURNAL DE CAISSE'!$B$1,'JOURNAL DE CAISSE'!$F$11,"") | H181: =IF(A181='JOURNAL DE CAISSE'!$B$1,'JOURNAL DE CAISSE'!$G$11,"") | I181: =IF(A181='JOURNAL DE CAISSE'!$B$1,'JOURNAL DE CAISSE'!$H$11,"")
A182: 42250 | B182: =IF(A182='JOURNAL DE CAISSE'!$B$1,'JOURNAL DE CAISSE'!$A$11,"") | C182: =IF(A182='JOURNAL DE CAISSE'!$B$1,'JOURNAL DE CAISSE'!$B$11,"") | D182: =IF(A182='JOURNAL DE CAISSE'!$B$1,'JOURNAL DE CAISSE'!$C$11,"") | E182: =IF(A182='JOURNAL DE CAISSE'!$B$1,'JOURNAL DE CAISSE'!$D$11,"") | F182: =IF(A182='JOURNAL DE CAISSE'!$B$1,'JOURNAL DE CAISSE'!$E$11,"") | G182: =IF(A182='JOURNAL DE CAISSE'!$B$1,'JOURNAL DE CAISSE'!$F$11,"") | H182: =IF(A182='JOURNAL DE CAISSE'!$B$1,'JOURNAL DE CAISSE'!$G$11,"") | I182: =IF(A182='JOURNAL DE CAISSE'!$B$1,'JOURNAL DE CAISSE'!$H$11,"")
A183: 42251 | B183: =IF(A183='JOURNAL DE CAISSE'!$B$1,'JOURNAL DE CAISSE'!$A$11,"") | C183: =IF(A183='JOURNAL DE CAISSE'!$B$1,'JOURNAL DE CAISSE'!$B$11,"") | D183: =IF(A183='JOURNAL DE CAISSE'!$B$1,'JOURNAL DE CAISSE'!$C$11,"") | E183: =IF(A183='JOURNAL DE CAISSE'!$B$1,'JOURNAL DE CAISSE'!$D$11,"") | F183: =IF(A183='JOURNAL DE CAISSE'!$B$1,'JOURNAL DE CAISSE'!$E$11,"") | G183: =IF(A183='JOURNAL DE CAISSE'!$B$1,'JOURNAL DE CAISSE'!$F$11,"") | H183: =IF(A183='JOURNAL DE CAISSE'!$B$1,'JOURNAL DE CAISSE'!$G$11,"") | I183: =IF(A183='JOURNAL DE CAISSE'!$B$1,'JOURNAL DE CAISSE'!$H$11,"")
A184: 42252 | B184: =IF(A184='JOURNAL DE CAISSE'!$B$1,'JOURNAL DE CAISSE'!$A$11,"") | C184: =IF(A184='JOURNAL DE CAISSE'!$B$1,'JOURNAL DE CAISSE'!$B$11,"") | D184: =IF(A184='JOURNAL DE CAISSE'!$B$1,'JOURNAL DE CAISSE'!$C$11,"") | E184: =IF(A184='JOURNAL DE CAISSE'!$B$1,'JOURNAL DE CAISSE'!$D$11,"") | F184: =IF(A184='JOURNAL DE CAISSE'!$B$1,'JOURNAL DE CAISSE'!$E$11,"") | G184: =IF(A184='JOURNAL DE CAISSE'!$B$1,'JOURNAL DE CAISSE'!$F$11,"") | H184: =IF(A184='JOURNAL DE CAISSE'!$B$1,'JOURNAL DE CAISSE'!$G$11,"") | I184: =IF(A184='JOURNAL DE CAISSE'!$B$1,'JOURNAL DE CAISSE'!$H$11,"")
A185: 42253 | B185: =IF(A185='JOURNAL DE CAISSE'!$B$1,'JOURNAL DE CAISSE'!$A$11,"") | C185: =IF(A185='JOURNAL DE CAISSE'!$B$1,'JOURNAL DE CAISSE'!$B$11,"") | D185: =IF(A185='JOURNAL DE CAISSE'!$B$1,'JOURNAL DE CAISSE'!$C$11,"") | E185: =IF(A185='JOURNAL DE CAISSE'!$B$1,'JOURNAL DE CAISSE'!$D$11,"") | F185: =IF(A185='JOURNAL DE CAISSE'!$B$1,'JOURNAL DE CAISSE'!$E$11,"") | G185: =IF(A185='JOURNAL DE CAISSE'!$B$1,'JOURNAL DE CAISSE'!$F$11,"") | H185: =IF(A185='JOURNAL DE CAISSE'!$B$1,'JOURNAL DE CAISSE'!$G$11,"") | I185: =IF(A185='JOURNAL DE CAISSE'!$B$1,'JOURNAL DE CAISSE'!$H$11,"")
A186: 42254 | B186: =IF(A186='JOURNAL DE CAISSE'!$B$1,'JOURNAL DE CAISSE'!$A$11,"") | C186: =IF(A186='JOURNAL DE CAISSE'!$B$1,'JOURNAL DE CAISSE'!$B$11,"") | D186: =IF(A186='JOURNAL DE CAISSE'!$B$1,'JOURNAL DE CAISSE'!$C$11,"") | E186: =IF(A186='JOURNAL DE CAISSE'!$B$1,'JOURNAL DE CAISSE'!$D$11,"") | F186: =IF(A186='JOURNAL DE CAISSE'!$B$1,'JOURNAL DE CAISSE'!$E$11,"") | G186: =IF(A186='JOURNAL DE CAISSE'!$B$1,'JOURNAL DE CAISSE'!$F$11,"") | H186: =IF(A186='JOURNAL DE CAISSE'!$B$1,'JOURNAL DE CAISSE'!$G$11,"") | I186: =IF(A186='JOURNAL DE CAISSE'!$B$1,'JOURNAL DE CAISSE'!$H$11,"")
A187: 42255 | B187: =IF(A187='JOURNAL DE CAISSE'!$B$1,'JOURNAL DE CAISSE'!$A$11,"") | C187: =IF(A187='JOURNAL DE CAISSE'!$B$1,'JOURNAL DE CAISSE'!$B$11,"") | D187: =IF(A187='JOURNAL DE CAISSE'!$B$1,'JOURNAL DE CAISSE'!$C$11,"") | E187: =IF(A187='JOURNAL DE CAISSE'!$B$1,'JOURNAL DE CAISSE'!$D$11,"") | F187: =IF(A187='JOURNAL DE CAISSE'!$B$1,'JOURNAL DE CAISSE'!$E$11,"") | G187: =IF(A187='JOURNAL DE CAISSE'!$B$1,'JOURNAL DE CAISSE'!$F$11,"") | H187: =IF(A187='JOURNAL DE CAISSE'!$B$1,'JOURNAL DE CAISSE'!$G$11,"") | I187: =IF(A187='JOURNAL DE CAISSE'!$B$1,'JOURNAL DE CAISSE'!$H$11,"")
A188: 42256 | B188: =IF(A188='JOURNAL DE CAISSE'!$B$1,'JOURNAL DE CAISSE'!$A$11,"") | C188: =IF(A188='JOURNAL DE CAISSE'!$B$1,'JOURNAL DE CAISSE'!$B$11,"") | D188: =IF(A188='JOURNAL DE CAISSE'!$B$1,'JOURNAL DE CAISSE'!$C$11,"") | E188: =IF(A188='JOURNAL DE CAISSE'!$B$1,'JOURNAL DE CAISSE'!$D$11,"") | F188: =IF(A188='JOURNAL DE CAISSE'!$B$1,'JOURNAL DE CAISSE'!$E$11,"") | G188: =IF(A188='JOURNAL DE CAISSE'!$B$1,'JOURNAL DE CAISSE'!$F$11,"") | H188: =IF(A188='JOURNAL DE CAISSE'!$B$1,'JOURNAL DE CAISSE'!$G$11,"") | I188: =IF(A188='JOURNAL DE CAISSE'!$B$1,'JOURNAL DE CAISSE'!$H$11,"")
A189: 42257 | B189: =IF(A189='JOURNAL DE CAISSE'!$B$1,'JOURNAL DE CAISSE'!$A$11,"") | C189: =IF(A189='JOURNAL DE CAISSE'!$B$1,'JOURNAL DE CAISSE'!$B$11,"") | D189: =IF(A189='JOURNAL DE CAISSE'!$B$1,'JOURNAL DE CAISSE'!$C$11,"") | E189: =IF(A189='JOURNAL DE CAISSE'!$B$1,'JOURNAL DE CAISSE'!$D$11,"") | F189: =IF(A189='JOURNAL DE CAISSE'!$B$1,'JOURNAL DE CAISSE'!$E$11,"") | G189: =IF(A189='JOURNAL DE CAISSE'!$B$1,'JOURNAL DE CAISSE'!$F$11,"") | H189: =IF(A189='JOURNAL DE CAISSE'!$B$1,'JOURNAL DE CAISSE'!$G$11,"") | I189: =IF(A189='JOURNAL DE CAISSE'!$B$1,'JOURNAL DE CAISSE'!$H$11,"")
A190: 42258 | B190: =IF(A190='JOURNAL DE CAISSE'!$B$1,'JOURNAL DE CAISSE'!$A$11,"") | C190: =IF(A190='JOURNAL DE CAISSE'!$B$1,'JOURNAL DE CAISSE'!$B$11,"") | D190: =IF(A190='JOURNAL DE CAISSE'!$B$1,'JOURNAL DE CAISSE'!$C$11,"") | E190: =IF(A190='JOURNAL DE CAISSE'!$B$1,'JOURNAL DE CAISSE'!$D$11,"") | F190: =IF(A190='JOURNAL DE CAISSE'!$B$1,'JOURNAL DE CAISSE'!$E$11,"") | G190: =IF(A190='JOURNAL DE CAISSE'!$B$1,'JOURNAL DE CAISSE'!$F$11,"") | H190: =IF(A190='JOURNAL DE CAISSE'!$B$1,'JOURNAL DE CAISSE'!$G$11,"") | I190: =IF(A190='JOURNAL DE CAISSE'!$B$1,'JOURNAL DE CAISSE'!$H$11,"")
A191: 42259 | B191: =IF(A191='JOURNAL DE CAISSE'!$B$1,'JOURNAL DE CAISSE'!$A$11,"") | C191: =IF(A191='JOURNAL DE CAISSE'!$B$1,'JOURNAL DE CAISSE'!$B$11,"") | D191: =IF(A191='JOURNAL DE CAISSE'!$B$1,'JOURNAL DE CAISSE'!$C$11,"") | E191: =IF(A191='JOURNAL DE CAISSE'!$B$1,'JOURNAL DE CAISSE'!$D$11,"") | F191: =IF(A191='JOURNAL DE CAISSE'!$B$1,'JOURNAL DE CAISSE'!$E$11,"") | G191: =IF(A191='JOURNAL DE CAISSE'!$B$1,'JOURNAL DE CAISSE'!$F$11,"") | H191: =IF(A191='JOURNAL DE CAISSE'!$B$1,'JOURNAL DE CAISSE'!$G$11,"") | I191: =IF(A191='JOURNAL DE CAISSE'!$B$1,'JOURNAL DE CAISSE'!$H$11,"")
... A209: 42277 | B209: =IF(A209='JOURNAL DE CAISSE'!$B$1,'JOURNAL DE CAISSE'!$A$11,"") | C209: =IF(A209='JOURNAL DE CAISSE'!$B$1,'JOURNAL DE CAISSE'!$B$11,"") | D209: =IF(A209='JOURNAL DE CAISSE'!$B$1,'JOURNAL DE CAISSE'!$C$11,"") | E209: =IF(A209='JOURNAL DE CAISSE'!$B$1,'JOURNAL DE CAISSE'!$D$11,"") | F209: =IF(A209='JOURNAL DE CAISSE'!$B$1,'JOURNAL DE CAISSE'!$E$11,"") | G209: =IF(A209='JOURNAL DE CAISSE'!$B$1,'JOURNAL DE CAISSE'!$F$11,"") | H209: =IF(A209='JOURNAL DE CAISSE'!$B$1,'JOURNAL DE CAISSE'!$G$11,"") | I209: =IF(A209='JOURNAL DE CAISSE'!$B$1,'JOURNAL DE CAISSE'!$H$11,"")
...

Sheet TABLE
A1: CODE | C1: NOM | D1: DOMAINE | E1: MILLESIME | F1: COULEUR | G1: CONTENANCE | H1: QTE DISPO | I1: PA HT | J1: MT TVA | K1: PA TTC | L1: PV TTC BOUTEILLE | M1: PV TTC DANS UN COFFRET | N1: PV TTC VERRE | O1: VALEUR DEGUST | P1: VALEUR CASSE | Q1: VALEUR OFFERT | S1: TVA
A2: =+STOCK!A3 -> BL0001 | B2: =LEFT(A2,2) -> BL | C2: =+STOCK!C3 -> L'ESPRIT DE BESSEUIL | D2: =+STOCK!D3 -> CHÂTEAU DE BESSEUIL | E2: =+STOCK!E3 -> 2010 | F2: =+STOCK!F3 -> BLANC | G2: =+STOCK!G3 -> 75ML | H2: =+STOCK!V3-STOCK!AI3 -> 24 | I2: =STOCK!H3 -> 5.5 | J2: =+K2-I2 -> 0.275 | K2: =IF(STOCK!I3=5.5%,STOCK!H3*1.05,IF(STOCK!I3=10%,STOCK!H3*1.1,IF(STOCK!I3=20%,STOCK!H3*1.2))) -> 5.775 | L2: =+I2*2 -> 11 | M2: =((L2*3)/1.1)/3 -> 10 | N2: 5 | O2: =+STOCK!H3 -> 5.5 | P2: =+STOCK!H3 -> 5.5 | Q2: =+STOCK!H3 -> 5.5 | S2: 5.5 | T2: 1.05
A3: =+STOCK!A4 -> BL0011 | B3: =LEFT(A3,2) -> BL | C3: =+STOCK!C4 -> La cuvée du Chat | D3: =+STOCK!D4 -> Domaine XXX | E3: =+STOCK!E4 -> 2013 | F3: =+STOCK!F4 -> BLANC | G3: =+STOCK!G4 -> 75ml | H3: =+STOCK!V4-STOCK!AI4 -> 6 | I3: =STOCK!H4 -> 4 | J3: =+K3-STOCK!H4 -> 0.2 | K3: =IF(STOCK!I4=5.5%,STOCK!H4*1.05,IF(STOCK!I4=10%,STOCK!H4*1.1,IF(STOCK!I4=20%,STOCK!H4*1.2))) -> 4.2 | L3: =+I3*2 -> 8 | M3: =((L3*3)/1.1)/3 -> 7.2727273 | N3: 5 | O3: =+STOCK!H4 -> 4 | P3: =+STOCK!H4 -> 4 | Q3: =+STOCK!H4 -> 4 | S3: 10 | T3: 1.1
A4: =+STOCK!A5 -> BL0012 | B4: =LEFT(A4,2) -> BL | C4: =+STOCK!C5 -> Le moine chauve | D4: =+STOCK!D5 -> Dommaine de l'Abbaye | E4: =+STOCK!E5 -> 2008 | F4: =+STOCK!F5 -> BLANC | G4: =+STOCK!G5 -> 75ml | H4: =+STOCK!V5-STOCK!AI5 -> 6 | I4: =STOCK!H5 -> 5 | J4: =+K4-STOCK!H5 -> 0.25 | K4: =IF(STOCK!I5=5.5%,STOCK!H5*1.05,IF(STOCK!I5=10%,STOCK!H5*1.1,IF(STOCK!I5=20%,STOCK!H5*1.2))) -> 5.25 | L4: =+I4*2 -> 10 | M4: =((L4*3)/1.1)/3 -> 9.0909091 | N4: 6 | O4: =+STOCK!H5 -> 5 | P4: =+STOCK!H5 -> 5 | Q4: =+STOCK!H5 -> 5 | S4: 20 | T4: 1.2
A5: =+STOCK!A6 -> BL0002 | B5: =LEFT(A5,2) -> BL | C5: =+STOCK!C6 -> La cuvée 123 | D5: =+STOCK!D6 -> Château Barbanau | E5: =+STOCK!E6 -> 2010 | F5: =+STOCK!F6 -> BLANC | G5: =+STOCK!G6 -> 75ML | H5: =+STOCK!V6-STOCK!AI6 -> 12 | I5: =STOCK!H6 -> 3.75 | J5: =+K5-STOCK!H6 -> 0.1875 | K5: =IF(STOCK!I6=5.5%,STOCK!H6*1.05,IF(STOCK!I6=10%,STOCK!H6*1.1,IF(STOCK!I6=20%,STOCK!H6*1.2))) -> 3.9375 | L5: =+I5*2 -> 7.5 | M5: =((L5*3)/1.1)/3 -> 6.8181818 | N5: 6 | O5: =+STOCK!H6 -> 3.75 | P5: =+STOCK!H6 -> 3.75 | Q5: =+STOCK!H6 -> 3.75
A6: =+STOCK!A7 -> BL0003 | B6: =LEFT(A6,2) -> BL | C6: =+STOCK!C7 -> La cuvée bbb | D6: =+STOCK!D7 -> Château Barbeyrolles | E6: =+STOCK!E7 -> 2009 | F6: =+STOCK!F7 -> BLANC | G6: =+STOCK!G7 -> 75ML | H6: =+STOCK!V7-STOCK!AI7 -> 12 | I6: =STOCK!H7 -> 3.5 | J6: =+K6-STOCK!H7 -> 0.175 | K6: =IF(STOCK!I7=5.5%,STOCK!H7*1.05,IF(STOCK!I7=10%,STOCK!H7*1.1,IF(STOCK!I7=20%,STOCK!H7*1.2))) -> 3.675 | L6: =+I6*2 -> 7 | M6: =((L6*3)/1.1)/3 -> 6.3636364 | N6: 6 | O6: =+STOCK!H7 -> 3.5 | P6: =+STOCK!H7 -> 3.5 | Q6: =+STOCK!H7 -> 3.5
A7: =+STOCK!A8 -> BL0004 | B7: =LEFT(A7,2) -> BL | C7: =+STOCK!C8 -> La cuvée ddd | D7: =+STOCK!D8 -> Château Carpe Diem | E7: =+STOCK!E8 -> 2009 | F7: =+STOCK!F8 -> BLANC | G7: =+STOCK!G8 -> 75ML | H7: =+STOCK!V8-STOCK!AI8 -> 12 | I7: =STOCK!H8 -> 5 | J7: =+K7-STOCK!H8 -> 0.25 | K7: =IF(STOCK!I8=5.5%,STOCK!H8*1.05,IF(STOCK!I8=10%,STOCK!H8*1.1,IF(STOCK!I8=20%,STOCK!H8*1.2))) -> 5.25 | L7: =+I7*2 -> 10 | M7: =((L7*3)/1.1)/3 -> 9.0909091 | N7: 5 | O7: =+STOCK!H8 -> 5 | P7: =+STOCK!H8 -> 5 | Q7: =+STOCK!H8 -> 5
A8: =+STOCK!A9 -> BL0005 | B8: =LEFT(A8,2) -> BL | C8: =+STOCK!C9 -> La cuvée eee | D8: =+STOCK!D9 -> Château Commanderie de Peyrassol | E8: =+STOCK!E9 -> 2009 | F8: =+STOCK!F9 -> BLANC | G8: =+STOCK!G9 -> 75ML | H8: =+STOCK!V9-STOCK!AI9 -> 12 | I8: =STOCK!H9 -> 5 | J8: =+K8-STOCK!H9 -> 0.25 | K8: =IF(STOCK!I9=5.5%,STOCK!H9*1.05,IF(STOCK!I9=10%,STOCK!H9*1.1,IF(STOCK!I9=20%,STOCK!H9*1.2))) -> 5.25 | L8: =+I8*2 -> 10 | M8: =((L8*3)/1.1)/3 -> 9.0909091 | N8: 5 | O8: =+STOCK!H9 -> 5 | P8: =+STOCK!H9 -> 5 | Q8: =+STOCK!H9 -> 5
A9: =+STOCK!A10 -> BL0006 | B9: =LEFT(A9,2) -> BL | C9: =+STOCK!C10 -> La cuvée fff | D9: =+STOCK!D10 -> Château Coussin | E9: =+STOCK!E10 -> 2013 | F9: =+STOCK!F10 -> BLANC | G9: =+STOCK!G10 -> 75ML | H9: =+STOCK!V10-STOCK!AI10 -> 12 | I9: =STOCK!H10 -> 5 | J9: =+K9-STOCK!H10 -> 0.25 | K9: =IF(STOCK!I10=5.5%,STOCK!H10*1.05,IF(STOCK!I10=10%,STOCK!H10*1.1,IF(STOCK!I10=20%,STOCK!H10*1.2))) -> 5.25 | L9: =+I9*2 -> 10 | M9: =((L9*3)/1.1)/3 -> 9.0909091 | N9: 5 | O9: =+STOCK!H10 -> 5 | P9: =+STOCK!H10 -> 5 | Q9: =+STOCK!H10 -> 5
A10: =+STOCK!A11 -> BL0007 | B10: =LEFT(A10,2) -> BL | C10: =+STOCK!C11 -> La cuvée ggg | D10: =+STOCK!D11 -> Château d'Esclans | E10: =+STOCK!E11 -> 2013 | F10: =+STOCK!F11 -> BLANC | G10: =+STOCK!G11 -> 75ML | H10: =+STOCK!V11-STOCK!AI11 -> 12 | I10: =STOCK!H11 -> 8.9 | J10: =+K10-STOCK!H11 -> 0.445 | K10: =IF(STOCK!I11=5.5%,STOCK!H11*1.05,IF(STOCK!I11=10%,STOCK!H11*1.1,IF(STOCK!I11=20%,STOCK!H11*1.2))) -> 9.345 | L10: =+I10*2 -> 17.8 | M10: =((L10*3)/1.1)/3 -> 16.181818 | N10: 6 | O10: =+STOCK!H11 -> 8.9 | P10: =+STOCK!H11 -> 8.9 | Q10: =+STOCK!H11 -> 8.9
A11: =+STOCK!A12 -> BL0008 | B11: =LEFT(A11,2) -> BL | C11: =+STOCK!C12 -> La cuvée hhh | D11: =+STOCK!D12 -> Château de la Jeannette | E11: =+STOCK!E12 -> 2013 | F11: =+STOCK!F12 -> BLANC | G11: =+STOCK!G12 -> 75ML | H11: =+STOCK!V12-STOCK!AI12 -> 12 | I11: =STOCK!H12 -> 7.5 | J11: =+K11-STOCK!H12 -> 0.375 | K11: =IF(STOCK!I12=5.5%,STOCK!H12*1.05,IF(STOCK!I12=10%,STOCK!H12*1.1,IF(STOCK!I12=20%,STOCK!H12*1.2))) -> 7.875 | L11: =+I11*2 -> 15 | M11: =((L11*3)/1.1)/3 -> 13.636364 | N11: 5 | O11: =+STOCK!H12 -> 7.5 | P11: =+STOCK!H12 -> 7.5 | Q11: =+STOCK!H12 -> 7.5
A12: =+STOCK!A13 -> BL0009 | B12: =LEFT(A12,2) -> BL | C12: =+STOCK!C13 -> La cuvée iii | D12: =+STOCK!D13 -> Château de Roquefort | E12: =+STOCK!E13 -> 2009 | F12: =+STOCK!F13 -> BLANC | G12: =+STOCK!G13 -> 75ML | H12: =+STOCK!V13-STOCK!AI13 -> 6 | I12: =STOCK!H13 -> 3.75 | J12: =+K12-STOCK!H13 -> 0.1875 | K12: =IF(STOCK!I13=5.5%,STOCK!H13*1.05,IF(STOCK!I13=10%,STOCK!H13*1.1,IF(STOCK!I13=20%,STOCK!H13*1.2))) -> 3.9375 | L12: =+I12*2 -> 7.5 | M12: =((L12*3)/1.1)/3 -> 6.8181818 | N12: 6 | O12: =+STOCK!H13 -> 3.75 | P12: =+STOCK!H13 -> 3.75 | Q12: =+STOCK!H13 -> 3.75
A13: =+STOCK!A14 -> BL0010 | B13: =LEFT(A13,2) -> BL | C13: =+STOCK!C14 -> La cuvée jjj | D13: =+STOCK!D14 -> Château de Selle | E13: =+STOCK!E14 -> 2010 | F13: =+STOCK!F14 -> BLANC | G13: =+STOCK!G14 -> 75ML | H13: =+STOCK!V14-STOCK!AI14 -> 12 | I13: =STOCK!H14 -> 3.35 | J13: =+K13-STOCK!H14 -> 0.1675 | K13: =IF(STOCK!I14=5.5%,STOCK!H14*1.05,IF(STOCK!I14=10%,STOCK!H14*1.1,IF(STOCK!I14=20%,STOCK!H14*1.2))) -> 3.5175 | L13: =+I13*2 -> 6.7 | M13: =((L13*3)/1.1)/3 -> 6.0909091 | N13: 6 | O13: =+STOCK!H14 -> 3.35 | P13: =+STOCK!H14 -> 3.35 | Q13: =+STOCK!H14 -> 3.35
A14: =+STOCK!A15 -> RG0001 | B14: =LEFT(A14,2) -> RG | C14: =+STOCK!C15 -> La cuvée www | D14: =+STOCK!D15 -> Château Miraval | E14: =+STOCK!E15 -> 2013 | F14: =+STOCK!F15 -> ROUGE | G14: =+STOCK!G15 -> 75ML | H14: =+STOCK!V15-STOCK!AI15 -> 24 | I14: =STOCK!H15 -> 5 | J14: =+K14-STOCK!H15 -> 0.25 | K14: =IF(STOCK!I15=5.5%,STOCK!H15*1.05,IF(STOCK!I15=10%,STOCK!H15*1.1,IF(STOCK!I15=20%,STOCK!H15*1.2))) -> 5.25 | L14: =+I14*2 -> 10 | M14: =((L14*3)/1.1)/3 -> 9.0909091 | N14: 6 | O14: =+STOCK!H15 -> 5 | P14: =+STOCK!H15 -> 5 | Q14: =+STOCK!H15 -> 5
A15: =+STOCK!A16 -> RG0002 | B15: =LEFT(A15,2) -> RG | C15: =+STOCK!C16 -> La cuvée yyy | D15: =+STOCK!D16 -> Château Pas du Cerf | E15: =+STOCK!E16 -> 2013 | F15: =+STOCK!F16 -> ROUGE | G15: =+STOCK!G16 -> 75ML | H15: =+STOCK!V16-STOCK!AI16 -> 24 | I15: =STOCK!H16 -> 8.9 | J15: =+K15-STOCK!H16 -> 0.445 | K15: =IF(STOCK!I16=5.5%,STOCK!H16*1.05,IF(STOCK!I16=10%,STOCK!H16*1.1,IF(STOCK!I16=20%,STOCK!H16*1.2))) -> 9.345 | L15: =+I15*2 -> 17.8 | M15: =((L15*3)/1.1)/3 -> 16.181818 | N15: 6 | O15: =+STOCK!H16 -> 8.9 | P15: =+STOCK!H16 -> 8.9 | Q15: =+STOCK!H16 -> 8.9
A16: =+STOCK!A17 -> RG0003 | B16: =LEFT(A16,2) -> RG | C16: =+STOCK!C17 -> La cuvée zzz | D16: =+STOCK!D17 -> Château Roubine | E16: =+STOCK!E17 -> 2013 | F16: =+STOCK!F17 -> ROUGE | G16: =+STOCK!G17 -> 75ML | H16: =+STOCK!V17-STOCK!AI17 -> 12 | I16: =STOCK!H17 -> 7.5 | J16: =+K16-STOCK!H17 -> 0.375 | K16: =IF(STOCK!I17=5.5%,STOCK!H17*1.05,IF(STOCK!I17=10%,STOCK!H17*1.1,IF(STOCK!I17=20%,STOCK!H17*1.2))) -> 7.875 | L16: =+I16*2 -> 15 | M16: =((L16*3)/1.1)/3 -> 13.636364 | N16: 5 | O16: =+STOCK!H17 -> 7.5 | P16: =+STOCK!H17 -> 7.5 | Q16: =+STOCK!H17 -> 7.5
... A35: =+STOCK!A36 -> RS0012 | B35: =LEFT(A35,2) -> RS | C35: =+STOCK!C36 -> La cuvée vvv | D35: =+STOCK!D36 -> Château Minuty | E35: =+STOCK!E36 -> 2013 | F35: =+STOCK!F36 -> ROSE | G35: =+STOCK!G36 -> 75ML | H35: =+STOCK!V36-STOCK!AI36 -> 24 | I35: =STOCK!H36 -> 5 | J35: =+K35-STOCK!H36 -> 0.25 | K35: =IF(STOCK!I36=5.5%,STOCK!H36*1.05,IF(STOCK!I36=10%,STOCK!H36*1.1,IF(STOCK!I36=20%,STOCK!H36*1.2))) -> 5.25 | L35: =+I35*2 -> 10 | M35: =((L35*3)/1.1)/3 -> 9.0909091 | N35: 5 | O35: =+STOCK!H36 -> 5 | P35: =+STOCK!H36 -> 5 | Q35: =+STOCK!H36 -> 5
A36: =+STOCK!A37 -> RG0011 | B36: =LEFT(A36,2) -> RG | C36: =+STOCK!C37 -> La Prestigieuse | D36: =+STOCK!D37 -> Domaine des Dentelles | E36: =+STOCK!E37 -> 2013 | F36: =+STOCK!F37 -> ROUGE | G36: =+STOCK!G37 -> 75ML | H36: =+STOCK!V37-STOCK!AI37 -> 12 | I36: =STOCK!H37 -> 7.2 | J36: =+K36-STOCK!H37 -> 0.36 | K36: =IF(STOCK!I37=5.5%,STOCK!H37*1.05,IF(STOCK!I37=10%,STOCK!H37*1.1,IF(STOCK!I37=20%,STOCK!H37*1.2))) -> 7.56 | L36: =+I36*2 -> 14.4 | M36: =((L36*3)/1.1)/3 -> 13.090909 | N36: 5 | O36: =+I35 -> 5 | P36: =+I35 -> 5 | Q36: =+I35 -> 5
A37: =+STOCK!A38 -> BL0011 | B37: =LEFT(A37,2) -> BL | C37: =+STOCK!C38 -> La grosse Bertha | D37: =+STOCK!D38 -> Dommaine les voisins | E37: =+STOCK!E38 -> 2008 | F37: =+STOCK!F38 -> BLANC | G37: =+STOCK!G38 -> 75ML | H37: =+STOCK!V38-STOCK!AI38 -> 18 | I37: =STOCK!H38 -> 5.5 | J37: =+K37-I37 -> 0.275 | K37: =IF(STOCK!I38=5.5%,STOCK!H38*1.05,IF(STOCK!I38=10%,STOCK!H38*1.1,IF(STOCK!I38=20%,STOCK!H38*1.2))) -> 5.775 | L37: =+I37*2 -> 11 | M37: =((L37*3)/1.1)/3 -> 10 | N37: 5 | O37: =+I37 -> 5.5 | P37: =+I37 -> 5.5 | Q37: =+I37 -> 5.5
A38: =+STOCK!A39 -> 0 | B38: =LEFT(A38,2) -> 0 | C38: =+STOCK!C39 -> 0 | D38: =+STOCK!D39 -> 0 | E38: =+STOCK!E39 -> 0 | F38: =+STOCK!F39 | G38: =+STOCK!G39 -> 0 | H38: =+STOCK!V39-STOCK!AI39 -> 0 | I38: =STOCK!H39 -> 0 | J38: =+K38-I38 -> 0 | K38: =IF(STOCK!I39=5.5%,STOCK!H39*1.05,IF(STOCK!I39=10%,STOCK!H39*1.1,IF(STOCK!I39=20%,STOCK!H39*1.2))) -> FALSE | L38: =+I38*2 -> 0 | M38: =((L38*3)/1.1)/3 -> 0 | N38: 5 | O38: =+I38 -> 0 | P38: =+I38 -> 0 | Q38: =+I38 -> 0
A39: =+STOCK!A40 -> 0 | B39: =LEFT(A39,2) -> 0 | C39: =+STOCK!C40 -> 0 | D39: =+STOCK!D40 -> 0 | E39: =+STOCK!E40 -> 0 | F39: =+STOCK!F40 | G39: =+STOCK!G40 -> 0 | H39: =+STOCK!V40-STOCK!AI40 -> 0 | I39: =STOCK!H40 -> 0 | J39: =+K39-I39 -> 0 | K39: =IF(STOCK!I40=5.5%,STOCK!H40*1.05,IF(STOCK!I40=10%,STOCK!H40*1.1,IF(STOCK!I40=20%,STOCK!H40*1.2))) -> FALSE | L39: =+I39*2 -> 0 | M39: =((L39*3)/1.1)/3 -> 0 | N39: 5 | O39: =+I39 -> 0 | P39: =+I39 -> 0 | Q39: =+I39 -> 0
A40: =+STOCK!A41 -> 0 | B40: =LEFT(A40,2) -> 0 | C40: =+STOCK!C41 -> 0 | D40: =+STOCK!D41 -> 0 | E40: =+STOCK!E41 -> 0 | F40: =+STOCK!F41 | G40: =+STOCK!G41 -> 0 | H40: =+STOCK!V41-STOCK!AI41 -> 0 | I40: =STOCK!H41 -> 0 | J40: =+K40-I40 -> 0 | K40: =IF(STOCK!I41=5.5%,STOCK!H41*1.05,IF(STOCK!I41=10%,STOCK!H41*1.1,IF(STOCK!I41=20%,STOCK!H41*1.2))) -> FALSE | L40: =+I40*2 -> 0 | M40: =((L40*3)/1.1)/3 -> 0 | N40: 5 | O40: =+I40 -> 0 | P40: =+I40 -> 0 | Q40: =+I40 -> 0
A41: =+STOCK!A42 -> 0 | B41: =LEFT(A41,2) -> 0 | C41: =+STOCK!C42 -> 0 | D41: =+STOCK!D42 -> 0 | E41: =+STOCK!E42 -> 0 | F41: =+STOCK!F42 | G41: =+STOCK!G42 -> 0 | H41: =+STOCK!V42-STOCK!AI42 -> 0 | I41: =STOCK!H42 -> 0 | J41: =+K41-I41 -> 0 | K41: =IF(STOCK!I42=5.5%,STOCK!H42*1.05,IF(STOCK!I42=10%,STOCK!H42*1.1,IF(STOCK!I42=20%,STOCK!H42*1.2))) -> FALSE | L41: =+I41*2 -> 0 | M41: =((L41*3)/1.1)/3 -> 0 | N41: 5 | O41: =+I41 -> 0 | P41: =+I41 -> 0 | Q41: =+I41 -> 0
A42: =+STOCK!A43 -> 0 | B42: =LEFT(A42,2) -> 0 | C42: =+STOCK!C43 -> 0 | D42: =+STOCK!D43 -> 0 | E42: =+STOCK!E43 -> 0 | F42: =+STOCK!F43 | G42: =+STOCK!G43 -> 0 | H42: =+STOCK!V43-STOCK!AI43 -> 0 | I42: =STOCK!H43 -> 0 | J42: =+K42-I42 -> 0 | K42: =IF(STOCK!I43=5.5%,STOCK!H43*1.05,IF(STOCK!I43=10%,STOCK!H43*1.1,IF(STOCK!I43=20%,STOCK!H43*1.2))) -> FALSE | L42: =+I42*2 -> 0 | M42: =((L42*3)/1.1)/3 -> 0 | N42: 5 | O42: =+I42 -> 0 | P42: =+I42 -> 0 | Q42: =+I42 -> 0
A43: =+STOCK!A44 -> 0 | B43: =LEFT(A43,2) -> 0 | C43: =+STOCK!C44 -> 0 | D43: =+STOCK!D44 -> 0 | E43: =+STOCK!E44 -> 0 | F43: =+STOCK!F44 | G43: =+STOCK!G44 -> 0 | H43: =+STOCK!V44-STOCK!AI44 -> 0 | I43: =STOCK!H44 -> 0 | J43: =+K43-I43 -> 0 | K43: =IF(STOCK!I44=5.5%,STOCK!H44*1.05,IF(STOCK!I44=10%,STOCK!H44*1.1,IF(STOCK!I44=20%,STOCK!H44*1.2))) -> FALSE | L43: =+I43*2 -> 0 | M43: =((L43*3)/1.1)/3 -> 0 | N43: 5 | O43: =+I43 -> 0 | P43: =+I43 -> 0 | Q43: =+I43 -> 0
A44: =+STOCK!A45 -> 0 | B44: =LEFT(A44,2) -> 0 | C44: =+STOCK!C45 -> 0 | D44: =+STOCK!D45 -> 0 | E44: =+STOCK!E45 -> 0 | F44: =+STOCK!F45 | G44: =+STOCK!G45 -> 0 | H44: =+STOCK!V45-STOCK!AI45 -> 0 | I44: =STOCK!H45 -> 0 | J44: =+K44-I44 -> 0 | K44: =IF(STOCK!I45=5.5%,STOCK!H45*1.05,IF(STOCK!I45=10%,STOCK!H45*1.1,IF(STOCK!I45=20%,STOCK!H45*1.2))) -> FALSE | L44: =+I44*2 -> 0 | M44: =((L44*3)/1.1)/3 -> 0 | N44: 5 | O44: =+I44 -> 0 | P44: =+I44 -> 0 | Q44: =+I44 -> 0
A45: =+STOCK!A46 -> 0 | B45: =LEFT(A45,2) -> 0 | C45: =+STOCK!C46 -> 0 | D45: =+STOCK!D46 -> 0 | E45: =+STOCK!E46 -> 0 | F45: =+STOCK!F46 | G45: =+STOCK!G46 -> 0 | H45: =+STOCK!V46-STOCK!AI46 -> 0 | I45: =STOCK!H46 -> 0 | J45: =+K45-I45 -> 0 | K45: =IF(STOCK!I46=5.5%,STOCK!H46*1.05,IF(STOCK!I46=10%,STOCK!H46*1.1,IF(STOCK!I46=20%,STOCK!H46*1.2))) -> FALSE | L45: =+I45*2 -> 0 | M45: =((L45*3)/1.1)/3 -> 0 | N45: 5 | O45: =+I45 -> 0 | P45: =+I45 -> 0 | Q45: =+I45 -> 0
A46: =+STOCK!A47 -> 0 | B46: =LEFT(A46,2) -> 0 | C46: =+STOCK!C47 -> 0 | D46: =+STOCK!D47 -> 0 | E46: =+STOCK!E47 -> 0 | F46: =+STOCK!F47 | G46: =+STOCK!G47 -> 0 | H46: =+STOCK!V47-STOCK!AI47 -> 0 | I46: =STOCK!H47 -> 0 | J46: =+K46-I46 -> 0 | K46: =IF(STOCK!I47=5.5%,STOCK!H47*1.05,IF(STOCK!I47=10%,STOCK!H47*1.1,IF(STOCK!I47=20%,STOCK!H47*1.2))) -> FALSE | L46: =+I46*2 -> 0 | M46: =((L46*3)/1.1)/3 -> 0 | N46: 5 | O46: =+I46 -> 0 | P46: =+I46 -> 0 | Q46: =+I46 -> 0
A47: =+STOCK!A48 -> 0 | B47: =LEFT(A47,2) -> 0 | C47: =+STOCK!C48 -> 0 | D47: =+STOCK!D48 -> 0 | E47: =+STOCK!E48 -> 0 | F47: =+STOCK!F48 | G47: =+STOCK!G48 -> 0 | H47: =+STOCK!V48-STOCK!AI48 -> 0 | I47: =STOCK!H48 -> 0 | J47: =+K47-I47 -> 0 | K47: =IF(STOCK!I48=5.5%,STOCK!H48*1.05,IF(STOCK!I48=10%,STOCK!H48*1.1,IF(STOCK!I48=20%,STOCK!H48*1.2))) -> FALSE | L47: =+I47*2 -> 0 | M47: =((L47*3)/1.1)/3 -> 0 | N47: 5 | O47: =+I47 -> 0 | P47: =+I47 -> 0 | Q47: =+I47 -> 0
A48: =+STOCK!A49 -> 0 | B48: =LEFT(A48,2) -> 0 | C48: =+STOCK!C49 -> 0 | D48: =+STOCK!D49 -> 0 | E48: =+STOCK!E49 -> 0 | F48: =+STOCK!F49 | G48: =+STOCK!G49 -> 0 | H48: =+STOCK!V49-STOCK!AI49 -> 0 | I48: =STOCK!H49 -> 0 | J48: =+K48-I48 -> 0 | K48: =IF(STOCK!I49=5.5%,STOCK!H49*1.05,IF(STOCK!I49=10%,STOCK!H49*1.1,IF(STOCK!I49=20%,STOCK!H49*1.2))) -> FALSE | L48: =+I48*2 -> 0 | M48: =((L48*3)/1.1)/3 -> 0 | N48: 5 | O48: =+I48 -> 0 | P48: =+I48 -> 0 | Q48: =+I48 -> 0
... A136: =+STOCK!A137 -> 0 | B136: =LEFT(A136,2) -> 0 | C136: =+STOCK!C137 -> 0 | D136: =+STOCK!D137 -> 0 | E136: =+STOCK!E137 -> 0 | F136: =+STOCK!F137 | G136: =+STOCK!G137 -> 0 | H136: =+STOCK!V137-STOCK!AI137 -> 0 | I136: =STOCK!H137 -> 0 | J136: =+K136-I136 -> 0 | K136: =IF(STOCK!I137=5.5%,STOCK!H137*1.05,IF(STOCK!I137=10%,STOCK!H137*1.1,IF(STOCK!I137=20%,STOCK!H137*1.2))) -> FALSE | L136: =+I136*2 -> 0 | M136: =((L136*3)/1.1)/3 -> 0 | N136: 5 | O136: =+I136 -> 0 | P136: =+I136 -> 0 | Q136: =+I136 -> 0
B137: =LEFT(A137,2) | F137: =+IF(B137="RG","ROUGE",IF(B137="BL","BLANC",IF(B137="RS","ROSE",""))) | I137: =STOCK!H138 -> 0 | J137: =+K137-I137 -> 0 | K137: =IF(STOCK!I138=5.5%,STOCK!H138*1.05,IF(STOCK!I138=10%,STOCK!H138*1.1,IF(STOCK!I138=20%,STOCK!H138*1.2))) -> FALSE | L137: =+I137*2 -> 0 | M137: =((L137*3)/1.1)/3 -> 0 | N137: 5 | O137: =+I137 -> 0 | P137: =+I137 -> 0 | Q137: =+I137 -> 0
B138: =LEFT(A138,2) | F138: =+IF(B138="RG","ROUGE",IF(B138="BL","BLANC",IF(B138="RS","ROSE",""))) | I138: =STOCK!H139 -> 0 | J138: =+K138-I138 -> 0 | K138: =IF(STOCK!I139=5.5%,STOCK!H139*1.05,IF(STOCK!I139=10%,STOCK!H139*1.1,IF(STOCK!I139=20%,STOCK!H139*1.2))) -> FALSE | L138: =+I138*2 -> 0 | M138: =((L138*3)/1.1)/3 -> 0 | N138: 5 | O138: =+I138 -> 0 | P138: =+I138 -> 0 | Q138: =+I138 -> 0
B139: =LEFT(A139,2) | F139: =+IF(B139="RG","ROUGE",IF(B139="BL","BLANC",IF(B139="RS","ROSE",""))) | I139: =STOCK!H140 -> 0 | J139: =+K139-I139 -> 0 | K139: =IF(STOCK!I140=5.5%,STOCK!H140*1.05,IF(STOCK!I140=10%,STOCK!H140*1.1,IF(STOCK!I140=20%,STOCK!H140*1.2))) -> FALSE | L139: =+I139*2 -> 0 | M139: =((L139*3)/1.1)/3 -> 0 | N139: 5 | O139: =+I139 -> 0 | P139: =+I139 -> 0 | Q139: =+I139 -> 0
B140: =LEFT(A140,2) | F140: =+IF(B140="RG","ROUGE",IF(B140="BL","BLANC",IF(B140="RS","ROSE",""))) | I140: =STOCK!H141 -> 0 | J140: =+K140-I140 -> 0 | K140: =IF(STOCK!I141=5.5%,STOCK!H141*1.05,IF(STOCK!I141=10%,STOCK!H141*1.1,IF(STOCK!I141=20%,STOCK!H141*1.2))) -> FALSE | L140: =+I140*2 -> 0 | M140: =((L140*3)/1.1)/3 -> 0 | N140: 5 | O140: =+I140 -> 0 | P140: =+I140 -> 0 | Q140: =+I140 -> 0
B141: =LEFT(A141,2) | F141: =+IF(B141="RG","ROUGE",IF(B141="BL","BLANC",IF(B141="RS","ROSE",""))) | I141: =STOCK!H142 -> 0 | J141: =+K141-I141 -> 0 | K141: =IF(STOCK!I142=5.5%,STOCK!H142*1.05,IF(STOCK!I142=10%,STOCK!H142*1.1,IF(STOCK!I142=20%,STOCK!H142*1.2))) -> FALSE | L141: =+I141*2 -> 0 | M141: =((L141*3)/1.1)/3 -> 0 | N141: 5 | O141: =+I141 -> 0 | P141: =+I141 -> 0 | Q141: =+I141 -> 0
B142: =LEFT(A142,2) | F142: =+IF(B142="RG","ROUGE",IF(B142="BL","BLANC",IF(B142="RS","ROSE",""))) | I142: =STOCK!H143 -> 0 | J142: =+K142-I142 -> 0 | K142: =IF(STOCK!I143=5.5%,STOCK!H143*1.05,IF(STOCK!I143=10%,STOCK!H143*1.1,IF(STOCK!I143=20%,STOCK!H143*1.2))) -> FALSE | L142: =+I142*2 -> 0 | M142: =((L142*3)/1.1)/3 -> 0 | N142: 5 | O142: =+I142 -> 0 | P142: =+I142 -> 0 | Q142: =+I142 -> 0
B143: =LEFT(A143,2) | F143: =+IF(B143="RG","ROUGE",IF(B143="BL","BLANC",IF(B143="RS","ROSE",""))) | I143: =STOCK!H144 -> 0 | J143: =+K143-I143 -> 0 | K143: =IF(STOCK!I144=5.5%,STOCK!H144*1.05,IF(STOCK!I144=10%,STOCK!H144*1.1,IF(STOCK!I144=20%,STOCK!H144*1.2))) -> FALSE | L143: =+I143*2 -> 0 | M143: =((L143*3)/1.1)/3 -> 0 | N143: 5 | O143: =+I143 -> 0 | P143: =+I143 -> 0 | Q143: =+I143 -> 0
B144: =LEFT(A144,2) | F144: =+IF(B144="RG","ROUGE",IF(B144="BL","BLANC",IF(B144="RS","ROSE",""))) | I144: =STOCK!H145 -> 0 | J144: =+K144-I144 -> 0 | K144: =IF(STOCK!I145=5.5%,STOCK!H145*1.05,IF(STOCK!I145=10%,STOCK!H145*1.1,IF(STOCK!I145=20%,STOCK!H145*1.2))) -> FALSE | L144: =+I144*2 -> 0 | M144: =((L144*3)/1.1)/3 -> 0 | N144: 5 | O144: =+I144 -> 0 | P144: =+I144 -> 0 | Q144: =+I144 -> 0
B145: =LEFT(A145,2) | F145: =+IF(B145="RG","ROUGE",IF(B145="BL","BLANC",IF(B145="RS","ROSE",""))) | I145: =STOCK!H146 -> 0 | J145: =+K145-I145 -> 0 | K145: =IF(STOCK!I146=5.5%,STOCK!H146*1.05,IF(STOCK!I146=10%,STOCK!H146*1.1,IF(STOCK!I146=20%,STOCK!H146*1.2))) -> FALSE | L145: =+I145*2 -> 0 | M145: =((L145*3)/1.1)/3 -> 0 | N145: 5 | O145: =+I145 -> 0 | P145: =+I145 -> 0 | Q145: =+I145 -> 0
B146: =LEFT(A146,2) | F146: =+IF(B146="RG","ROUGE",IF(B146="BL","BLANC",IF(B146="RS","ROSE",""))) | I146: =STOCK!H147 -> 0 | J146: =+K146-I146 -> 0 | K146: =IF(STOCK!I147=5.5%,STOCK!H147*1.05,IF(STOCK!I147=10%,STOCK!H147*1.1,IF(STOCK!I147=20%,STOCK!H147*1.2))) -> FALSE | L146: =+I146*2 -> 0 | M146: =((L146*3)/1.1)/3 -> 0 | N146: 5 | O146: =+I146 -> 0 | P146: =+I146 -> 0 | Q146: =+I146 -> 0
B147: =LEFT(A147,2) | F147: =+IF(B147="RG","ROUGE",IF(B147="BL","BLANC",IF(B147="RS","ROSE",""))) | I147: =STOCK!H148 -> 0 | J147: =+K147-I147 -> 0 | K147: =IF(STOCK!I148=5.5%,STOCK!H148*1.05,IF(STOCK!I148=10%,STOCK!H148*1.1,IF(STOCK!I148=20%,STOCK!H148*1.2))) -> FALSE | L147: =+I147*2 -> 0 | M147: =((L147*3)/1.1)/3 -> 0 | N147: 5 | O147: =+I147 -> 0 | P147: =+I147 -> 0 | Q147: =+I147 -> 0
B148: =LEFT(A148,2) | F148: =+IF(B148="RG","ROUGE",IF(B148="BL","BLANC",IF(B148="RS","ROSE",""))) | I148: =STOCK!H149 -> 0 | J148: =+K148-I148 -> 0 | K148: =IF(STOCK!I149=5.5%,STOCK!H149*1.05,IF(STOCK!I149=10%,STOCK!H149*1.1,IF(STOCK!I149=20%,STOCK!H149*1.2))) -> FALSE | L148: =+I148*2 -> 0 | M148: =((L148*3)/1.1)/3 -> 0 | N148: 5 | O148: =+I148 -> 0 | P148: =+I148 -> 0 | Q148: =+I148 -> 0
... B500: =LEFT(A500,2) | F500: =+IF(B500="RG","ROUGE",IF(B500="BL","BLANC",IF(B500="RS","ROSE",""))) | I500: =STOCK!H501 -> 0 | J500: =+K500-I500 -> 0 | K500: =IF(STOCK!I501=5.5%,STOCK!H501*1.05,IF(STOCK!I501=10%,STOCK!H501*1.1,IF(STOCK!I501=20%,STOCK!H501*1.2))) -> FALSE | L500: =+I500*2 -> 0 | M500: =((L500*3)/1.1)/3 -> 0 | N500: 5 | O500: =+I500 -> 0 | P500: =+I500 -> 0 | Q500: =+I500 -> 0
F501: =+IF(B501="RG","ROUGE",IF(B501="BL","BLANC",IF(B501="RS","ROSE",""))) | I501: =STOCK!H502 -> 0 | N501: 5

Sheet STOCK
J1: ENTREES | V1: =+SUM(V3:V501) -> 492 | W1: SORTIES | AI1: =+SUM(AI3:AI501) -> 0
A2: CODE | C2: NOM | D2: DOMAINE | E2: MIL. | F2: COUL. | G2: CONT. | H2: PA HT | I2: CHOIX TVA | J2: JANV | K2: FEVR | L2: MARS | M2: AVRIL | N2: MAI | O2: JUIN | P2: JUILL | Q2: JUILLET | R2: SEPT | S2: OCT | T2: NOV | U2: DEC | V2: TOTAL | W2: JANV | X2: FEVR | Y2: MARS | Z2: AVRIL | AA2: MAI | AB2: JUIN | AC2: JUILL | AD2: JUILLET | AE2: SEPT | AF2: OCT | AG2: NOV | AH2: DEC | AI2: TOTAL | AJ2: ALERTE
A3: BL0001 | B3: =LEFT(A3,2) -> BL | C3: L'ESPRIT DE BESSEUIL | D3: CHÂTEAU DE BESSEUIL | E3: 2010 | F3: =+IF(B3="BL","BLANC",IF(B3="RS","ROSE",IF(B3="RG","ROUGE",""))) -> BLANC | G3: 75ML | H3: 5.5 | I3: 0.055 | N3: 24 | V3: =+SUM(J3:U3) -> 24 | AI3: =+SUM(W3:AH3) -> 0 | AJ3: =+IF(AI3>V3,"RUPTURE","")
A4: BL0011 | B4: =LEFT(A4,2) -> BL | C4: La cuvée du Chat | D4: Domaine XXX | E4: 2013 | F4: =+IF(B4="BL","BLANC",IF(B4="RS","ROSE",IF(B4="RG","ROUGE",""))) -> BLANC | G4: 75ml | H4: 4 | I4: 0.055 | N4: 6 | V4: =+SUM(J4:U4) -> 6 | AI4: =+SUM(W4:AH4) -> 0 | AJ4: =+IF(AI4>V4,"RUPTURE","")
A5: BL0012 | B5: =LEFT(A5,2) -> BL | C5: Le moine chauve | D5: Dommaine de l'Abbaye | E5: 2008 | F5: =+IF(B5="BL","BLANC",IF(B5="RS","ROSE",IF(B5="RG","ROUGE",""))) -> BLANC | G5: 75ml | H5: 5 | I5: 0.055 | N5: 6 | V5: =+SUM(J5:U5) -> 6 | AI5: =+SUM(W5:AH5) -> 0 | AJ5: =+IF(AI5>V5,"RUPTURE","")
A6: BL0002 | B6: =LEFT(A6,2) -> BL | C6: La cuvée 123 | D6: Château Barbanau | E6: 2010 | F6: =+IF(B6="BL","BLANC",IF(B6="RS","ROSE",IF(B6="RG","ROUGE",""))) -> BLANC | G6: 75ML | H6: 3.75 | I6: 0.055 | N6: 12 | V6: =+SUM(J6:U6) -> 12 | AI6: =+SUM(W6:AH6) -> 0 | AJ6: =+IF(AI6>V6,"RUPTURE","")
A7: BL0003 | B7: =LEFT(A7,2) -> BL | C7: La cuvée bbb | D7: Château Barbeyrolles | E7: 2009 | F7: =+IF(B7="BL","BLANC",IF(B7="RS","ROSE",IF(B7="RG","ROUGE",""))) -> BLANC | G7: 75ML | H7: 3.5 | I7: 0.055 | N7: 12 | V7: =+SUM(J7:U7) -> 12 | AI7: =+SUM(W7:AH7) -> 0 | AJ7: =+IF(AI7>V7,"RUPTURE","")
A8: BL0004 | B8: =LEFT(A8,2) -> BL | C8: La cuvée ddd | D8: Château Carpe Diem | E8: 2009 | F8: =+IF(B8="BL","BLANC",IF(B8="RS","ROSE",IF(B8="RG","ROUGE",""))) -> BLANC | G8: 75ML | H8: 5 | I8: 0.055 | N8: 12 | V8: =+SUM(J8:U8) -> 12 | AI8: =+SUM(W8:AH8) -> 0 | AJ8: =+IF(AI8>V8,"RUPTURE","")
A9: BL0005 | B9: =LEFT(A9,2) -> BL | C9: La cuvée eee | D9: Château Commanderie de Peyrassol | E9: 2009 | F9: =+IF(B9="BL","BLANC",IF(B9="RS","ROSE",IF(B9="RG","ROUGE",""))) -> BLANC | G9: 75ML | H9: 5 | I9: 0.055 | N9: 12 | V9: =+SUM(J9:U9) -> 12 | AI9: =+SUM(W9:AH9) -> 0 | AJ9: =+IF(AI9>V9,"RUPTURE","")
A10: BL0006 | B10: =LEFT(A10,2) -> BL | C10: La cuvée fff | D10: Château Coussin | E10: 2013 | F10: =+IF(B10="BL","BLANC",IF(B10="RS","ROSE",IF(B10="RG","ROUGE",""))) -> BLANC | G10: 75ML | H10: 5 | I10: 0.055 | N10: 12 | V10: =+SUM(J10:U10) -> 12 | AI10: =+SUM(W10:AH10) -> 0 | AJ10: =+IF(AI10>V10,"RUPTURE","")
A11: BL0007 | B11: =LEFT(A11,2) -> BL | C11: La cuvée ggg | D11: Château d'Esclans | E11: 2013 | F11: =+IF(B11="BL","BLANC",IF(B11="RS","ROSE",IF(B11="RG","ROUGE",""))) -> BLANC | G11: 75ML | H11: 8.9 | I11: 0.055 | N11: 12 | V11: =+SUM(J11:U11) -> 12 | AI11: =+SUM(W11:AH11) -> 0 | AJ11: =+IF(AI11>V11,"RUPTURE","")
A12: BL0008 | B12: =LEFT(A12,2) -> BL | C12: La cuvée hhh | D12: Château de la Jeannette | E12: 2013 | F12: =+IF(B12="BL","BLANC",IF(B12="RS","ROSE",IF(B12="RG","ROUGE",""))) -> BLANC | G12: 75ML | H12: 7.5 | I12: 0.055 | N12: 12 | V12: =+SUM(J12:U12) -> 12 | AI12: =+SUM(W12:AH12) -> 0 | AJ12: =+IF(AI12>V12,"RUPTURE","")
A13: BL0009 | B13: =LEFT(A13,2) -> BL | C13: La cuvée iii | D13: Château de Roquefort | E13: 2009 | F13: =+IF(B13="BL","BLANC",IF(B13="RS","ROSE",IF(B13="RG","ROUGE",""))) -> BLANC | G13: 75ML | H13: 3.75 | I13: 0.055 | N13: 6 | V13: =+SUM(J13:U13) -> 6 | AI13: =+SUM(W13:AH13) -> 0 | AJ13: =+IF(AI13>V13,"RUPTURE","")
A14: BL0010 | B14: =LEFT(A14,2) -> BL | C14: La cuvée jjj | D14: Château de Selle | E14: 2010 | F14: =+IF(B14="BL","BLANC",IF(B14="RS","ROSE",IF(B14="RG","ROUGE",""))) -> BLANC | G14: 75ML | H14: 3.35 | I14: 0.055 | N14: 12 | V14: =+SUM(J14:U14) -> 12 | AI14: =+SUM(W14:AH14) -> 0 | AJ14: =+IF(AI14>V14,"RUPTURE","")
... A38: BL0011 | B38: =LEFT(A38,2) -> BL | C38: La grosse Bertha | D38: Dommaine les voisins | E38: 2008 | F38: =+IF(B38="BL","BLANC",IF(B38="RS","ROSE",IF(B38="RG","ROUGE",""))) -> BLANC | G38: 75ML | H38: 5.5 | I38: 0.055 | N38: 18 | V38: =+SUM(J38:U38) -> 18 | AI38: =+SUM(W38:AH38) -> 0 | AJ38: =+IF(AI38>V38,"RUPTURE","")
B39: =LEFT(A39,2) | F39: =+IF(B39="BL","BLANC",IF(B39="RS","ROSE",IF(B39="RG","ROUGE",""))) | V39: =+SUM(J39:U39) -> 0 | AI39: =+SUM(W39:AH39) -> 0 | AJ39: =+IF(AI39>V39,"RUPTURE","")
B40: =LEFT(A40,2) | F40: =+IF(B40="BL","BLANC",IF(B40="RS","ROSE",IF(B40="RG","ROUGE",""))) | V40: =+SUM(J40:U40) -> 0 | AI40: =+SUM(W40:AH40) -> 0 | AJ40: =+IF(AI40>V40,"RUPTURE","")
B41: =LEFT(A41,2) | F41: =+IF(B41="BL","BLANC",IF(B41="RS","ROSE",IF(B41="RG","ROUGE",""))) | V41: =+SUM(J41:U41) -> 0 | AI41: =+SUM(W41:AH41) -> 0 | AJ41: =+IF(AI41>V41,"RUPTURE","")
B42: =LEFT(A42,2) | F42: =+IF(B42="BL","BLANC",IF(B42="RS","ROSE",IF(B42="RG","ROUGE",""))) | V42: =+SUM(J42:U42) -> 0 | AI42: =+SUM(W42:AH42) -> 0 | AJ42: =+IF(AI42>V42,"RUPTURE","")
B43: =LEFT(A43,2) | F43: =+IF(B43="BL","BLANC",IF(B43="RS","ROSE",IF(B43="RG","ROUGE",""))) | V43: =+SUM(J43:U43) -> 0 | AI43: =+SUM(W43:AH43) -> 0 | AJ43: =+IF(AI43>V43,"RUPTURE","")
B44: =LEFT(A44,2) | F44: =+IF(B44="BL","BLANC",IF(B44="RS","ROSE",IF(B44="RG","ROUGE",""))) | V44: =+SUM(J44:U44) -> 0 | AI44: =+SUM(W44:AH44) -> 0 | AJ44: =+IF(AI44>V44,"RUPTURE","")
B45: =LEFT(A45,2) | F45: =+IF(B45="BL","BLANC",IF(B45="RS","ROSE",IF(B45="RG","ROUGE",""))) | V45: =+SUM(J45:U45) -> 0 | AI45: =+SUM(W45:AH45) -> 0 | AJ45: =+IF(AI45>V45,"RUPTURE","")
B46: =LEFT(A46,2) | F46: =+IF(B46="BL","BLANC",IF(B46="RS","ROSE",IF(B46="RG","ROUGE",""))) | V46: =+SUM(J46:U46) -> 0 | AI46: =+SUM(W46:AH46) -> 0 | AJ46: =+IF(AI46>V46,"RUPTURE","")
B47: =LEFT(A47,2) | F47: =+IF(B47="BL","BLANC",IF(B47="RS","ROSE",IF(B47="RG","ROUGE",""))) | V47: =+SUM(J47:U47) -> 0 | AI47: =+SUM(W47:AH47) -> 0 | AJ47: =+IF(AI47>V47,"RUPTURE","")
B48: =LEFT(A48,2) | F48: =+IF(B48="BL","BLANC",IF(B48="RS","ROSE",IF(B48="RG","ROUGE",""))) | V48: =+SUM(J48:U48) -> 0 | AI48: =+SUM(W48:AH48) -> 0 | AJ48: =+IF(AI48>V48,"RUPTURE","")
B49: =LEFT(A49,2) | F49: =+IF(B49="BL","BLANC",IF(B49="RS","ROSE",IF(B49="RG","ROUGE",""))) | V49: =+SUM(J49:U49) -> 0 | AI49: =+SUM(W49:AH49) -> 0 | AJ49: =+IF(AI49>V49,"RUPTURE","")
B50: =LEFT(A50,2) | F50: =+IF(B50="BL","BLANC",IF(B50="RS","ROSE",IF(B50="RG","ROUGE",""))) | V50: =+SUM(J50:U50) -> 0 | AI50: =+SUM(W50:AH50) -> 0 | AJ50: =+IF(AI50>V50,"RUPTURE","")
... B501: =LEFT(A501,2) | F501: =+IF(B501="BL","BLANC",IF(B501="RS","ROSE",IF(B501="RG","ROUGE",""))) | V501: =+SUM(J501:U501) -> 0 | AI501: =+SUM(W501:AH501) -> 0 | AJ501: =+IF(AI501>V501,"RUPTURE","")
B502: =LEFT(A502,2) | F502: =+IF(B502="BL","BLANC",IF(B502="RS","ROSE",IF(B502="RG","ROUGE",""))) | AJ502: =+IF(AI502>V502,"RUPTURE","")
B503: =LEFT(A503,2) | F503: =+IF(B503="BL","BLANC",IF(B503="RS","ROSE",IF(B503="RG","ROUGE",""))) | AJ503: =+IF(AI503>V503,"RUPTURE","")
B504: =LEFT(A504,2) | F504: =+IF(B504="BL","BLANC",IF(B504="RS","ROSE",IF(B504="RG","ROUGE",""))) | AJ504: =+IF(AI504>V504,"RUPTURE","")
B505: =LEFT(A505,2) | F505: =+IF(B505="BL","BLANC",IF(B505="RS","ROSE",IF(B505="RG","ROUGE",""))) | AJ505: =+IF(AI505>V505,"RUPTURE","")
B506: =LEFT(A506,2) | F506: =+IF(B506="BL","BLANC",IF(B506="RS","ROSE",IF(B506="RG","ROUGE",""))) | AJ506: =+IF(AI506>V506,"RUPTURE","")
B507: =LEFT(A507,2) | F507: =+IF(B507="BL","BLANC",IF(B507="RS","ROSE",IF(B507="RG","ROUGE",""))) | AJ507: =+IF(AI507>V507,"RUPTURE","")
B508: =LEFT(A508,2) | F508: =+IF(B508="BL","BLANC",IF(B508="RS","ROSE",IF(B508="RG","ROUGE",""))) | AJ508: =+IF(AI508>V508,"RUPTURE","")
B509: =LEFT(A509,2) | F509: =+IF(B509="BL","BLANC",IF(B509="RS","ROSE",IF(B509="RG","ROUGE",""))) | AJ509: =+IF(AI509>V509,"RUPTURE","")
B510: =LEFT(A510,2) | F510: =+IF(B510="BL","BLANC",IF(B510="RS","ROSE",IF(B510="RG","ROUGE",""))) | AJ510: =+IF(AI510>V510,"RUPTURE","")
B511: =LEFT(A511,2) | F511: =+IF(B511="BL","BLANC",IF(B511="RS","ROSE",IF(B511="RG","ROUGE",""))) | AJ511: =+IF(AI511>V511,"RUPTURE","")
B512: =LEFT(A512,2) | F512: =+IF(B512="BL","BLANC",IF(B512="RS","ROSE",IF(B512="RG","ROUGE",""))) | AJ512: =+IF(AI512>V512,"RUPTURE","")
B513: =LEFT(A513,2) | F513: =+IF(B513="BL","BLANC",IF(B513="RS","ROSE",IF(B513="RG","ROUGE",""))) | AJ513: =+IF(AI513>V513,"RUPTURE","")
... B826: =LEFT(A826,2) | F826: =+IF(B826="BL","BLANC",IF(B826="RS","ROSE",IF(B826="RG","ROUGE",""))) | AJ826: =+IF(AI826>V826,"RUPTURE","")

Sheet SUIVI CA
B3: CA Histo | C3: CA Budg | D3: CA Réel | E3: evol R/H | F3: evol R/B | G3: MA Histo | H3: MA Budg | I3: MA Réel | J3: VAL STOCK
A4: GENERAL
A5: DETAIL PAR CIBLE
A6: BOUTEILLE
A7: COFFRET
A8: VERRE
A9: DEGUSTATION
A10: CASSE
A11: OFFERT
A12: DETAIL PAR PRODUIT
A13: BLANC
A14: ROSE
A15: ROUGE
... A19: …

Sheet TICKET DE CAISSE
A1: Nom Etblissement
A2: Adresse + CP + Ville
A3: Tel …………. SIRET …………..
A6: Commande N° | B6: 10010
A7: Qté | B7: Produit | C7: PU | D7: Total
A8: {=IF(ROW()-7<=COUNTIF(CAISSE!$A$2:$A$499,$B$6),INDIRECT("CAISSE!E"&SMALL(IF((CAISSE!$A$2:$A$499=$B$6)*(CAISSE!$A$2:$A$499<>""),ROW(CAISSE!$A$2:$A$499)),ROWS($A$1:$IU1))),"")} -> 2 | B8: {=IF(ROW()-7<=COUNTIF(CAISSE!$A$2:$A$499,$B$6),INDIRECT("CAISSE!C"&SMALL(IF((CAISSE!$A$2:$A$499=$B$6)*(CAISSE!$A$2:$A$499<>""),ROW(CAISSE!$A$2:$A$499)),ROWS($A$1:$IU1))),"")} -> La cuvée sss | C8: {=IF(ROW()-7<=COUNTIF(CAISSE!$A$2:$A$499,$B$6),INDIRECT("CAISSE!Q"&SMALL(IF((CAISSE!$A$2:$A$499=$B$6)*(CAISSE!$A$2:$A$499<>""),ROW(CAISSE!$A$2:$A$499)),ROWS($A$1:$IU1))),"")} -> 10.45 | D8: =IF(A8="","",C8*A8) -> 20.9
A9: {=IF(ROW()-7<=COUNTIF(CAISSE!$A$2:$A$499,$B$6),INDIRECT("CAISSE!E"&SMALL(IF((CAISSE!$A$2:$A$499=$B$6)*(CAISSE!$A$2:$A$499<>""),ROW(CAISSE!$A$2:$A$499)),ROWS($A$1:$IU2))),"")} -> 4 | B9: {=IF(ROW()-7<=COUNTIF(CAISSE!$A$2:$A$499,$B$6),INDIRECT("CAISSE!C"&SMALL(IF((CAISSE!$A$2:$A$499=$B$6)*(CAISSE!$A$2:$A$499<>""),ROW(CAISSE!$A$2:$A$499)),ROWS($A$1:$IU2))),"")} -> La cuvée qqq | C9: {=IF(ROW()-7<=COUNTIF(CAISSE!$A$2:$A$499,$B$6),INDIRECT("CAISSE!Q"&SMALL(IF((CAISSE!$A$2:$A$499=$B$6)*(CAISSE!$A$2:$A$499<>""),ROW(CAISSE!$A$2:$A$499)),ROWS($A$1:$IU2))),"")} -> 8.7 | D9: =IF(A9="","",C9*A9) -> 34.8
A10: {=IF(ROW()-7<=COUNTIF(CAISSE!$A$2:$A$499,$B$6),INDIRECT("CAISSE!E"&SMALL(IF((CAISSE!$A$2:$A$499=$B$6)*(CAISSE!$A$2:$A$499<>""),ROW(CAISSE!$A$2:$A$499)),ROW($A$1:$IU3))),"")} -> 2 | B10: {=IF(ROW()-7<=COUNTIF(CAISSE!$A$2:$A$499,$B$6),INDIRECT("CAISSE!C"&SMALL(IF((CAISSE!$A$2:$A$499=$B$6)*(CAISSE!$A$2:$A$499<>""),ROW(CAISSE!$A$2:$A$499)),ROWS($A$1:$IU3))),"")} -> La cuvée nnn | C10: {=IF(ROW()-7<=COUNTIF(CAISSE!$A$2:$A$499,$B$6),INDIRECT("CAISSE!Q"&SMALL(IF((CAISSE!$A$2:$A$499=$B$6)*(CAISSE!$A$2:$A$499<>""),ROW(CAISSE!$A$2:$A$499)),ROWS($A$1:$IU3))),"")} -> 5 | D10: =IF(A10="","",C10*A10) -> 10
A11: {=IF(ROW()-7<=COUNTIF(CAISSE!$A$2:$A$499,$B$6),INDIRECT("CAISSE!E"&SMALL(IF((CAISSE!$A$2:$A$499=$B$6)*(CAISSE!$A$2:$A$499<>""),ROW(CAISSE!$A$2:$A$499)),ROW($A$1:$IU4))),"")} -> 2 | B11: {=IF(ROW()-7<=COUNTIF(CAISSE!$A$2:$A$499,$B$6),INDIRECT("CAISSE!C"&SMALL(IF((CAISSE!$A$2:$A$499=$B$6)*(CAISSE!$A$2:$A$499<>""),ROW(CAISSE!$A$2:$A$499)),ROWS($A$1:$IU4))),"")} -> La cuvée nnn | C11: {=IF(ROW()-7<=COUNTIF(CAISSE!$A$2:$A$499,$B$6),INDIRECT("CAISSE!Q"&SMALL(IF((CAISSE!$A$2:$A$499=$B$6)*(CAISSE!$A$2:$A$499<>""),ROW(CAISSE!$A$2:$A$499)),ROWS($A$1:$IU4))),"")} -> 5 | D11: =IF(A11="","",C11*A11) -> 10
A12: {=IF(ROW()-7<=COUNTIF(CAISSE!$A$2:$A$499,$B$6),INDIRECT("CAISSE!E"&SMALL(IF((CAISSE!$A$2:$A$499=$B$6)*(CAISSE!$A$2:$A$499<>""),ROW(CAISSE!$A$2:$A$499)),ROW($A$1:$IU5))),"")} -> 2 | B12: {=IF(ROW()-7<=COUNTIF(CAISSE!$A$2:$A$499,$B$6),INDIRECT("CAISSE!C"&SMALL(IF((CAISSE!$A$2:$A$499=$B$6)*(CAISSE!$A$2:$A$499<>""),ROW(CAISSE!$A$2:$A$499)),ROWS($A$1:$IU5))),"")} -> La cuvée nnn | C12: {=IF(ROW()-7<=COUNTIF(CAISSE!$A$2:$A$499,$B$6),INDIRECT("CAISSE!Q"&SMALL(IF((CAISSE!$A$2:$A$499=$B$6)*(CAISSE!$A$2:$A$499<>""),ROW(CAISSE!$A$2:$A$499)),ROWS($A$1:$IU5))),"")} -> 5 | D12: =IF(A12="","",C12*A12) -> 10
A13: {=IF(ROW()-7<=COUNTIF(CAISSE!$A$2:$A$499,$B$6),INDIRECT("CAISSE!E"&SMALL(IF((CAISSE!$A$2:$A$499=$B$6)*(CAISSE!$A$2:$A$499<>""),ROW(CAISSE!$A$2:$A$499)),ROW($A$1:$IU6))),"")} -> 2 | B13: {=IF(ROW()-7<=COUNTIF(CAISSE!$A$2:$A$499,$B$6),INDIRECT("CAISSE!C"&SMALL(IF((CAISSE!$A$2:$A$499=$B$6)*(CAISSE!$A$2:$A$499<>""),ROW(CAISSE!$A$2:$A$499)),ROWS($A$1:$IU6))),"")} -> La cuvée nnn | C13: {=IF(ROW()-7<=COUNTIF(CAISSE!$A$2:$A$499,$B$6),INDIRECT("CAISSE!Q"&SMALL(IF((CAISSE!$A$2:$A$499=$B$6)*(CAISSE!$A$2:$A$499<>""),ROW(CAISSE!$A$2:$A$499)),ROWS($A$1:$IU6))),"")} -> 5 | D13: =IF(A13="","",C13*A13) -> 10
A14: {=IF(ROW()-7<=COUNTIF(CAISSE!$A$2:$A$499,$B$6),INDIRECT("CAISSE!E"&SMALL(IF((CAISSE!$A$2:$A$499=$B$6)*(CAISSE!$A$2:$A$499<>""),ROW(CAISSE!$A$2:$A$499)),ROW($A$1:$IU7))),"")} -> 2 | B14: {=IF(ROW()-7<=COUNTIF(CAISSE!$A$2:$A$499,$B$6),INDIRECT("CAISSE!C"&SMALL(IF((CAISSE!$A$2:$A$499=$B$6)*(CAISSE!$A$2:$A$499<>""),ROW(CAISSE!$A$2:$A$499)),ROWS($A$1:$IU7))),"")} -> La cuvée nnn | C14: {=IF(ROW()-7<=COUNTIF(CAISSE!$A$2:$A$499,$B$6),INDIRECT("CAISSE!Q"&SMALL(IF((CAISSE!$A$2:$A$499=$B$6)*(CAISSE!$A$2:$A$499<>""),ROW(CAISSE!$A$2:$A$499)),ROWS($A$1:$IU7))),"")} -> 5 | D14: =IF(A14="","",C14*A14) -> 10
A15: {=IF(ROW()-7<=COUNTIF(CAISSE!$A$2:$A$499,$B$6),INDIRECT("CAISSE!E"&SMALL(IF((CAISSE!$A$2:$A$499=$B$6)*(CAISSE!$A$2:$A$499<>""),ROW(CAISSE!$A$2:$A$499)),ROW($A$1:$IU8))),"")} | B15: {=IF(ROW()-7<=COUNTIF(CAISSE!$A$2:$A$499,$B$6),INDIRECT("CAISSE!C"&SMALL(IF((CAISSE!$A$2:$A$499=$B$6)*(CAISSE!$A$2:$A$499<>""),ROW(CAISSE!$A$2:$A$499)),ROWS($A$1:$IU8))),"")} | C15: {=IF(ROW()-7<=COUNTIF(CAISSE!$A$2:$A$499,$B$6),INDIRECT("CAISSE!Q"&SMALL(IF((CAISSE!$A$2:$A$499=$B$6)*(CAISSE!$A$2:$A$499<>""),ROW(CAISSE!$A$2:$A$499)),ROWS($A$1:$IU8))),"")} | D15: =IF(A15="","",C15*A15)
A16: TOTAL TTC | D16: =SUM(D8:D15) -> 105.7
A17: dont TVA 5,5% | B17: =VLOOKUP(B8,[1]STOCK!1:1048576,9)*AND(B9,[1]STOCK!1:1048576,9)*AND(B10,[1]STOCK!1:1048576,9)*AND(B11,[1]STOCK!1:1048576,9)*AND(B12,[1]STOCK!1:1048576,9)*AND(B13,[1]STOCK!1:1048576,9)*AND(B14,[1]STOCK!1:1048576,9)*AND(B15,[1]STOCK!1:1048576,9) -> 0 | D17: =D16-E17 -> 105.7 | E17: =IF(B17=5.5%,D16/1.05,IF(B17=10%,D16/1.1,IF(B17=20%,D16/1.2))) -> FALSE
A18: dont TVA 10% | B18: ??
A19: dont TVA 20% | B19: ??
A20: Le | B20: =CAISSE!AE1 -> 42080
A21: Paiement | B21: {=INDIRECT("CAISSE!V"&SMALL(IF((CAISSE!$A$2:$A$499=$B$6)*(CAISSE!$A$2:$A$499<>""),ROW(CAISSE!$A$2:$A$499)),ROWS($A$1:$IU1)))} -> ESPECES
A22: Merci de votre visite. A bientôt !
A23: =IF(E23>0,"VOUS AVEZ BENEFICIEZ D'UNE REMISE DE","") -> VOUS AVEZ BENEFICIEZ D'UNE REMISE DE | D23: =IF(E23>0,E23,"") -> 0.05 | E23: =VLOOKUP(B6,CAISSE!1:1048576,16,FALSE) -> 0.05
