Workbook

Sheet 1
B1: JOURNEE | D1: 42096 | H1: 69 camions
A3: chargmt | B3: HEURE DE CHARGEMENT | C3: HEURE REELLE | D3: TRANSPORTEUR | F3: DATE DE LIVRAISON | G3: CP | H3: DESTINATION VILLE | I3: CODE VENDEUR | J3: début chargement | K3: fin chargement | L3: Heure départ | M3: Nplace | N3: Cariste chargeur | O3: Cariste validant | P3: N tél conducteur | Q3: Heure prévue/heure arrivée | R3: Temps de chargement | S3: Retard chargement | T3: COMMENTAIRES | V3: V | W3: W | X3: X | Y3: Y | Z3: Z | AA3: AA
A5: =IF(B5="","",IF(C5<=B5,1,3.25)+C5) -> 13.5 | B5: 13 | C5: 12.5 | D5: TND VOLUME SEV | E5: 315387/26193893 | F5: 03/04/2015 | G5: 94 | H5: ORLY | I5: SD | J5: 13.5 | N5: EG | O5: EG | Q5: =IF(B5="","",IF(C5="","",B5-C5)) -> 0.5 | R5: =IF(K5="","",K5-J5) | S5: =IF(J5="","",IF(Q5<0,(J5-C5),(J5-B5))) -> 0.5 | V5: =IF($Q5="","",IF($Q5<(-1),1,"")) | W5: =IF($Q5="","",IF($Q5<(-2),1,"")) | X5: =IF($Q5="","",IF($Q5>(2),1,"")) | Y5: =IF($Q5="","",IF($Q5>(4),1,"")) | Z5: =IF(S5="","",IF(Q5<0,"",IF(S5>(1),1,""))) | AA5: =IF(J5="","",IF(J5<B5,1,""))
A6: =IF(B6="","",IF(C6<=B6,1,3.25)+C6) -> 16 | B6: 15 | C6: 15 | D6: SAVAM SOISSONS | E6: 315264/26192163SOL | F6: 02/04/2015 | G6: 45 | H6: INGRE | I6: SD | N6: EG | O6: EG | Q6: =IF(B6="","",IF(C6="","",B6-C6)) -> 0 | R6: =IF(K6="","",K6-J6) | S6: =IF(J6="","",IF(Q6<0,(J6-C6),(J6-B6))) | V6: =IF($Q6="","",IF($Q6<(-1),1,"")) | W6: =IF($Q6="","",IF($Q6<(-2),1,"")) | X6: =IF($Q6="","",IF($Q6>(2),1,"")) | Y6: =IF($Q6="","",IF($Q6>(4),1,"")) | Z6: =IF(S6="","",IF(Q6<0,"",IF(S6>(1),1,""))) | AA6: =IF(J6="","",IF(J6<B6,1,""))
A7: =IF(B7="","",IF(C7<=B7,1,3.25)+C7) | E7: 315264/26193948 | F7: 02/04/2015 | G7: 45 | H7: CHATEAURENARD | I7: SD | Q7: =IF(B7="","",IF(C7="","",B7-C7)) | R7: =IF(K7="","",K7-J7) | S7: =IF(J7="","",IF(Q7<0,(J7-C7),(J7-B7))) | V7: =IF($Q7="","",IF($Q7<(-1),1,"")) | W7: =IF($Q7="","",IF($Q7<(-2),1,"")) | X7: =IF($Q7="","",IF($Q7>(2),1,"")) | Y7: =IF($Q7="","",IF($Q7>(4),1,"")) | Z7: =IF(S7="","",IF(Q7<0,"",IF(S7>(1),1,""))) | AA7: =IF(J7="","",IF(J7<B7,1,""))
A8: =IF(B8="","",IF(C8<=B8,1,3.25)+C8) | E8: 315264/26193951 | F8: 02/04/2015 | G8: 45 | H8: CHATEAURENARD | I8: SD | Q8: =IF(B8="","",IF(C8="","",B8-C8)) | R8: =IF(K8="","",K8-J8) | S8: =IF(J8="","",IF(Q8<0,(J8-C8),(J8-B8))) | V8: =IF($Q8="","",IF($Q8<(-1),1,"")) | W8: =IF($Q8="","",IF($Q8<(-2),1,"")) | X8: =IF($Q8="","",IF($Q8>(2),1,"")) | Y8: =IF($Q8="","",IF($Q8>(4),1,"")) | Z8: =IF(S8="","",IF(Q8<0,"",IF(S8>(1),1,""))) | AA8: =IF(J8="","",IF(J8<B8,1,""))
A9: =IF(B9="","",IF(C9<=B9,1,3.25)+C9) | E9: 315264/26192075 | F9: 02/04/2015 | G9: 45 | H9: CHATEAURENARD | I9: SD | Q9: =IF(B9="","",IF(C9="","",B9-C9)) | R9: =IF(K9="","",K9-J9) | S9: =IF(J9="","",IF(Q9<0,(J9-C9),(J9-B9))) | V9: =IF($Q9="","",IF($Q9<(-1),1,"")) | W9: =IF($Q9="","",IF($Q9<(-2),1,"")) | X9: =IF($Q9="","",IF($Q9>(2),1,"")) | Y9: =IF($Q9="","",IF($Q9>(4),1,"")) | Z9: =IF(S9="","",IF(Q9<0,"",IF(S9>(1),1,""))) | AA9: =IF(J9="","",IF(J9<B9,1,""))
A10: =IF(B10="","",IF(C10<=B10,1,3.25)+C10) | E10: 315264/26193808 | F10: 02/04/2015 | G10: 45 | H10: SULLY SUR LOIRE | I10: SD | Q10: =IF(B10="","",IF(C10="","",B10-C10)) | R10: =IF(K10="","",K10-J10) | S10: =IF(J10="","",IF(Q10<0,(J10-C10),(J10-B10))) | V10: =IF($Q10="","",IF($Q10<(-1),1,"")) | W10: =IF($Q10="","",IF($Q10<(-2),1,"")) | X10: =IF($Q10="","",IF($Q10>(2),1,"")) | Y10: =IF($Q10="","",IF($Q10>(4),1,"")) | Z10: =IF(S10="","",IF(Q10<0,"",IF(S10>(1),1,""))) | AA10: =IF(J10="","",IF(J10<B10,1,""))
A11: =IF(B11="","",IF(C11<=B11,1,3.25)+C11) -> 15.5 | B11: 10 | C11: 12.25 | D11: SEBER ES25 | E11: 315372/26193977 | F11: 03/04/2015 | G11: 64 | H11: BAYONNE | I11: CV | J11: 12.25 | Q11: =IF(B11="","",IF(C11="","",B11-C11)) -> -2.25 | R11: =IF(K11="","",K11-J11) | S11: =IF(J11="","",IF(Q11<0,(J11-C11),(J11-B11))) -> 0 | V11: =IF($Q11="","",IF($Q11<(-1),1,"")) -> 1 | W11: =IF($Q11="","",IF($Q11<(-2),1,"")) -> 1 | X11: =IF($Q11="","",IF($Q11>(2),1,"")) | Y11: =IF($Q11="","",IF($Q11>(4),1,"")) | Z11: =IF(S11="","",IF(Q11<0,"",IF(S11>(1),1,""))) | AA11: =IF(J11="","",IF(J11<B11,1,""))
A12: =IF(B12="","",IF(C12<=B12,1,3.25)+C12) | E12: 315372/26193829 | F12: 03/04/2015 | G12: 64 | H12: BAYONNE | I12: EG | Q12: =IF(B12="","",IF(C12="","",B12-C12)) | R12: =IF(K12="","",K12-J12) | S12: =IF(J12="","",IF(Q12<0,(J12-C12),(J12-B12))) | V12: =IF($Q12="","",IF($Q12<(-1),1,"")) | W12: =IF($Q12="","",IF($Q12<(-2),1,"")) | X12: =IF($Q12="","",IF($Q12>(2),1,"")) | Y12: =IF($Q12="","",IF($Q12>(4),1,"")) | Z12: =IF(S12="","",IF(Q12<0,"",IF(S12>(1),1,""))) | AA12: =IF(J12="","",IF(J12<B12,1,""))
A13: =IF(B13="","",IF(C13<=B13,1,3.25)+C13) | E13: 315372/26192888 | F13: 03/04/2015 | G13: 64 | H13: SAINT JEAN DE LUZ | I13: CV | Q13: =IF(B13="","",IF(C13="","",B13-C13)) | R13: =IF(K13="","",K13-J13) | S13: =IF(J13="","",IF(Q13<0,(J13-C13),(J13-B13))) | V13: =IF($Q13="","",IF($Q13<(-1),1,"")) | W13: =IF($Q13="","",IF($Q13<(-2),1,"")) | X13: =IF($Q13="","",IF($Q13>(2),1,"")) | Y13: =IF($Q13="","",IF($Q13>(4),1,"")) | Z13: =IF(S13="","",IF(Q13<0,"",IF(S13>(1),1,""))) | AA13: =IF(J13="","",IF(J13<B13,1,""))
A14: =IF(B14="","",IF(C14<=B14,1,3.25)+C14) | E14: 315372/26192898 | F14: 03/04/2015 | G14: 64 | H14: SAINT JEAN DE LUZ | I14: CV | Q14: =IF(B14="","",IF(C14="","",B14-C14)) | R14: =IF(K14="","",K14-J14) | S14: =IF(J14="","",IF(Q14<0,(J14-C14),(J14-B14))) | V14: =IF($Q14="","",IF($Q14<(-1),1,"")) | W14: =IF($Q14="","",IF($Q14<(-2),1,"")) | X14: =IF($Q14="","",IF($Q14>(2),1,"")) | Y14: =IF($Q14="","",IF($Q14>(4),1,"")) | Z14: =IF(S14="","",IF(Q14<0,"",IF(S14>(1),1,""))) | AA14: =IF(J14="","",IF(J14<B14,1,""))
A15: =IF(B15="","",IF(C15<=B15,1,3.25)+C15) -> 6.5 | B15: 6 | C15: 5.5 | D15: LE BELLER | E15: 315262/26193429 | F15: 03/04/2015 | G15: 44 | H15: NANTES | I15: cd | Q15: =IF(B15="","",IF(C15="","",B15-C15)) -> 0.5 | R15: =IF(K15="","",K15-J15) | S15: =IF(J15="","",IF(Q15<0,(J15-C15),(J15-B15))) | V15: =IF($Q15="","",IF($Q15<(-1),1,"")) | W15: =IF($Q15="","",IF($Q15<(-2),1,"")) | X15: =IF($Q15="","",IF($Q15>(2),1,"")) | Y15: =IF($Q15="","",IF($Q15>(4),1,"")) | Z15: =IF(S15="","",IF(Q15<0,"",IF(S15>(1),1,""))) | AA15: =IF(J15="","",IF(J15<B15,1,""))
A16: =IF(B16="","",IF(C16<=B16,1,3.25)+C16) | E16: 315262/26193794 | F16: 03/04/2015 | G16: 85 | H16: LUCON | I16: mn | Q16: =IF(B16="","",IF(C16="","",B16-C16)) | R16: =IF(K16="","",K16-J16) | S16: =IF(J16="","",IF(Q16<0,(J16-C16),(J16-B16))) | V16: =IF($Q16="","",IF($Q16<(-1),1,"")) | W16: =IF($Q16="","",IF($Q16<(-2),1,"")) | X16: =IF($Q16="","",IF($Q16>(2),1,"")) | Y16: =IF($Q16="","",IF($Q16>(4),1,"")) | Z16: =IF(S16="","",IF(Q16<0,"",IF(S16>(1),1,""))) | AA16: =IF(J16="","",IF(J16<B16,1,""))
A17: =IF(B17="","",IF(C17<=B17,1,3.25)+C17) | E17: 315262/26193849 | F17: 03/04/2015 | G17: 85 | H17: LONGEVILLE SUR MER | I17: mn | Q17: =IF(B17="","",IF(C17="","",B17-C17)) | R17: =IF(K17="","",K17-J17) | S17: =IF(J17="","",IF(Q17<0,(J17-C17),(J17-B17))) | V17: =IF($Q17="","",IF($Q17<(-1),1,"")) | W17: =IF($Q17="","",IF($Q17<(-2),1,"")) | X17: =IF($Q17="","",IF($Q17>(2),1,"")) | Y17: =IF($Q17="","",IF($Q17>(4),1,"")) | Z17: =IF(S17="","",IF(Q17<0,"",IF(S17>(1),1,""))) | AA17: =IF(J17="","",IF(J17<B17,1,""))
A18: =IF(B18="","",IF(C18<=B18,1,3.25)+C18) -> 10 | B18: 6 | C18: 6.75 | D18: SCHUON DE7 | E18: 315400/26190111 | F18: 02/04/2015 | G18: 10 | H18: ROSIERES PRES TROYES | I18: EB | Q18: =IF(B18="","",IF(C18="","",B18-C18)) -> -0.75 | R18: =IF(K18="","",K18-J18) | S18: =IF(J18="","",IF(Q18<0,(J18-C18),(J18-B18))) | V18: =IF($Q18="","",IF($Q18<(-1),1,"")) | W18: =IF($Q18="","",IF($Q18<(-2),1,"")) | X18: =IF($Q18="","",IF($Q18>(2),1,"")) | Y18: =IF($Q18="","",IF($Q18>(4),1,"")) | Z18: =IF(S18="","",IF(Q18<0,"",IF(S18>(1),1,""))) | AA18: =IF(J18="","",IF(J18<B18,1,""))
A19: =IF(B19="","",IF(C19<=B19,1,3.25)+C19) | E19: 315400/26194180 | F19: 02/04/2015 | G19: 10 | H19: TORCY LE GRAND | I19: EB | Q19: =IF(B19="","",IF(C19="","",B19-C19)) | R19: =IF(K19="","",K19-J19) | S19: =IF(J19="","",IF(Q19<0,(J19-C19),(J19-B19))) | V19: =IF($Q19="","",IF($Q19<(-1),1,"")) | W19: =IF($Q19="","",IF($Q19<(-2),1,"")) | X19: =IF($Q19="","",IF($Q19>(2),1,"")) | Y19: =IF($Q19="","",IF($Q19>(4),1,"")) | Z19: =IF(S19="","",IF(Q19<0,"",IF(S19>(1),1,""))) | AA19: =IF(J19="","",IF(J19<B19,1,""))
A20: =IF(B20="","",IF(C20<=B20,1,3.25)+C20) | E20: 315400/26193103REL | F20: 02/04/2015 | G20: 52 | H20: CHAUMONT | I20: EB | Q20: =IF(B20="","",IF(C20="","",B20-C20)) | R20: =IF(K20="","",K20-J20) | S20: =IF(J20="","",IF(Q20<0,(J20-C20),(J20-B20))) | V20: =IF($Q20="","",IF($Q20<(-1),1,"")) | W20: =IF($Q20="","",IF($Q20<(-2),1,"")) | X20: =IF($Q20="","",IF($Q20>(2),1,"")) | Y20: =IF($Q20="","",IF($Q20>(4),1,"")) | Z20: =IF(S20="","",IF(Q20<0,"",IF(S20>(1),1,""))) | AA20: =IF(J20="","",IF(J20<B20,1,""))
A21: =IF(B21="","",IF(C21<=B21,1,3.25)+C21) -> 7 | B21: 6 | C21: 6 | D21: TND VOLUME SEV | E21: 315385/26193875 | F21: 03/04/2015 | G21: 75 | H21: PARIS | I21: fk | Q21: =IF(B21="","",IF(C21="","",B21-C21)) -> 0 | R21: =IF(K21="","",K21-J21) | S21: =IF(J21="","",IF(Q21<0,(J21-C21),(J21-B21))) | V21: =IF($Q21="","",IF($Q21<(-1),1,"")) | W21: =IF($Q21="","",IF($Q21<(-2),1,"")) | X21: =IF($Q21="","",IF($Q21>(2),1,"")) | Y21: =IF($Q21="","",IF($Q21>(4),1,"")) | Z21: =IF(S21="","",IF(Q21<0,"",IF(S21>(1),1,""))) | AA21: =IF(J21="","",IF(J21<B21,1,""))
A22: =IF(B22="","",IF(C22<=B22,1,3.25)+C22) | E22: 315385/26193883SOL | F22: 03/04/2015 | G22: 91 | H22: SAULX LES CHARTREUX | I22: fk | Q22: =IF(B22="","",IF(C22="","",B22-C22)) | R22: =IF(K22="","",K22-J22) | S22: =IF(J22="","",IF(Q22<0,(J22-C22),(J22-B22))) | V22: =IF($Q22="","",IF($Q22<(-1),1,"")) | W22: =IF($Q22="","",IF($Q22<(-2),1,"")) | X22: =IF($Q22="","",IF($Q22>(2),1,"")) | Y22: =IF($Q22="","",IF($Q22>(4),1,"")) | Z22: =IF(S22="","",IF(Q22<0,"",IF(S22>(1),1,""))) | AA22: =IF(J22="","",IF(J22<B22,1,""))
A23: =IF(B23="","",IF(C23<=B23,1,3.25)+C23) -> 10.58 | B23: 7 | C23: 7.33 | D23: TND VOLUME SEV | E23: 315386/26193635REL | F23: 03/04/2015 | G23: 92 | H23: CLAMART | I23: fk | Q23: =IF(B23="","",IF(C23="","",B23-C23)) -> -0.33 | R23: =IF(K23="","",K23-J23) | S23: =IF(J23="","",IF(Q23<0,(J23-C23),(J23-B23))) | V23: =IF($Q23="","",IF($Q23<(-1),1,"")) | W23: =IF($Q23="","",IF($Q23<(-2),1,"")) | X23: =IF($Q23="","",IF($Q23>(2),1,"")) | Y23: =IF($Q23="","",IF($Q23>(4),1,"")) | Z23: =IF(S23="","",IF(Q23<0,"",IF(S23>(1),1,""))) | AA23: =IF(J23="","",IF(J23<B23,1,""))
A24: =IF(B24="","",IF(C24<=B24,1,3.25)+C24) | E24: 315386/26194184REL | F24: 03/04/2015 | G24: 92 | H24: CHATILLON | I24: fk | Q24: =IF(B24="","",IF(C24="","",B24-C24)) | R24: =IF(K24="","",K24-J24) | S24: =IF(J24="","",IF(Q24<0,(J24-C24),(J24-B24))) | V24: =IF($Q24="","",IF($Q24<(-1),1,"")) | W24: =IF($Q24="","",IF($Q24<(-2),1,"")) | X24: =IF($Q24="","",IF($Q24>(2),1,"")) | Y24: =IF($Q24="","",IF($Q24>(4),1,"")) | Z24: =IF(S24="","",IF(Q24<0,"",IF(S24>(1),1,""))) | AA24: =IF(J24="","",IF(J24<B24,1,""))
A25: =IF(B25="","",IF(C25<=B25,1,3.25)+C25) -> 15.25 | B25: 7 | C25: 12 | D25: SEBER ES25 | E25: 315367/26194365 | F25: 03/04/2015 | G25: 40 | H25: SAINT GEOURS DE MAREMNE | I25: MPT | Q25: =IF(B25="","",IF(C25="","",B25-C25)) -> -5 | R25: =IF(K25="","",K25-J25) | S25: =IF(J25="","",IF(Q25<0,(J25-C25),(J25-B25))) | V25: =IF($Q25="","",IF($Q25<(-1),1,"")) -> 1 | W25: =IF($Q25="","",IF($Q25<(-2),1,"")) -> 1 | X25: =IF($Q25="","",IF($Q25>(2),1,"")) | Y25: =IF($Q25="","",IF($Q25>(4),1,"")) | Z25: =IF(S25="","",IF(Q25<0,"",IF(S25>(1),1,""))) | AA25: =IF(J25="","",IF(J25<B25,1,""))
A26: =IF(B26="","",IF(C26<=B26,1,3.25)+C26) -> 16.25 | B26: 8 | C26: 13 | D26: TND VOLUME SEV | E26: 315383/26193962 | F26: 03/04/2015 | G26: 93 | H26: AUBERVILLIERS | I26: fk | Q26: =IF(B26="","",IF(C26="","",B26-C26)) -> -5 | R26: =IF(K26="","",K26-J26) | S26: =IF(J26="","",IF(Q26<0,(J26-C26),(J26-B26))) | V26: =IF($Q26="","",IF($Q26<(-1),1,"")) -> 1 | W26: =IF($Q26="","",IF($Q26<(-2),1,"")) -> 1 | X26: =IF($Q26="","",IF($Q26>(2),1,"")) | Y26: =IF($Q26="","",IF($Q26>(4),1,"")) | Z26: =IF(S26="","",IF(Q26<0,"",IF(S26>(1),1,""))) | AA26: =IF(J26="","",IF(J26<B26,1,""))
A27: =IF(B27="","",IF(C27<=B27,1,3.25)+C27) | E27: 315383/26190849 | F27: 03/04/2015 | G27: 93 | H27: SAINT OUEN | I27: fk | Q27: =IF(B27="","",IF(C27="","",B27-C27)) | R27: =IF(K27="","",K27-J27) | S27: =IF(J27="","",IF(Q27<0,(J27-C27),(J27-B27))) | V27: =IF($Q27="","",IF($Q27<(-1),1,"")) | W27: =IF($Q27="","",IF($Q27<(-2),1,"")) | X27: =IF($Q27="","",IF($Q27>(2),1,"")) | Y27: =IF($Q27="","",IF($Q27>(4),1,"")) | Z27: =IF(S27="","",IF(Q27<0,"",IF(S27>(1),1,""))) | AA27: =IF(J27="","",IF(J27<B27,1,""))
A28: =IF(B28="","",IF(C28<=B28,1,3.25)+C28) -> 8.75 | B28: 8 | C28: 7.75 | D28: UTP FR13 | E28: 315404/26194371 | F28: 03/04/2015 | G28: 7 | H28: VOULTE SUR RHONE (LA) | I28: JP | Q28: =IF(B28="","",IF(C28="","",B28-C28)) -> 0.25 | R28: =IF(K28="","",K28-J28) | S28: =IF(J28="","",IF(Q28<0,(J28-C28),(J28-B28))) | V28: =IF($Q28="","",IF($Q28<(-1),1,"")) | W28: =IF($Q28="","",IF($Q28<(-2),1,"")) | X28: =IF($Q28="","",IF($Q28>(2),1,"")) | Y28: =IF($Q28="","",IF($Q28>(4),1,"")) | Z28: =IF(S28="","",IF(Q28<0,"",IF(S28>(1),1,""))) | AA28: =IF(J28="","",IF(J28<B28,1,""))
A29: =IF(B29="","",IF(C29<=B29,1,3.25)+C29) | E29: 315404/26194054 | F29: 03/04/2015 | G29: 84 | H29: CARPENTRAS | I29: OS | Q29: =IF(B29="","",IF(C29="","",B29-C29)) | R29: =IF(K29="","",K29-J29) | S29: =IF(J29="","",IF(Q29<0,(J29-C29),(J29-B29))) | V29: =IF($Q29="","",IF($Q29<(-1),1,"")) | W29: =IF($Q29="","",IF($Q29<(-2),1,"")) | X29: =IF($Q29="","",IF($Q29>(2),1,"")) | Y29: =IF($Q29="","",IF($Q29>(4),1,"")) | Z29: =IF(S29="","",IF(Q29<0,"",IF(S29>(1),1,""))) | AA29: =IF(J29="","",IF(J29<B29,1,""))
A30: =IF(B30="","",IF(C30<=B30,1,3.25)+C30) -> 1 | B30: 9 | D30: TND VOLUME SEV | E30: 315384/26193883REL | F30: 03/04/2015 | G30: 91 | H30: SAULX LES CHARTREUX | Q30: =IF(B30="","",IF(C30="","",B30-C30)) | R30: =IF(K30="","",K30-J30) | S30: =IF(J30="","",IF(Q30<0,(J30-C30),(J30-B30))) | V30: =IF($Q30="","",IF($Q30<(-1),1,"")) | W30: =IF($Q30="","",IF($Q30<(-2),1,"")) | X30: =IF($Q30="","",IF($Q30>(2),1,"")) | Y30: =IF($Q30="","",IF($Q30>(4),1,"")) | Z30: =IF(S30="","",IF(Q30<0,"",IF(S30>(1),1,""))) | AA30: =IF(J30="","",IF(J30<B30,1,""))
A31: =IF(B31="","",IF(C31<=B31,1,3.25)+C31) -> 1 | B31: 9 | D31: GIROD FR39 | E31: 315379/26194727 | F31: 03/04/2015 | G31: 74 | H31: MIEUSSY | Q31: =IF(B31="","",IF(C31="","",B31-C31)) | R31: =IF(K31="","",K31-J31) | S31: =IF(J31="","",IF(Q31<0,(J31-C31),(J31-B31))) | V31: =IF($Q31="","",IF($Q31<(-1),1,"")) | W31: =IF($Q31="","",IF($Q31<(-2),1,"")) | X31: =IF($Q31="","",IF($Q31>(2),1,"")) | Y31: =IF($Q31="","",IF($Q31>(4),1,"")) | Z31: =IF(S31="","",IF(Q31<0,"",IF(S31>(1),1,""))) | AA31: =IF(J31="","",IF(J31<B31,1,""))
A32: =IF(B32="","",IF(C32<=B32,1,3.25)+C32) -> 1 | B32: 10 | D32: BRANDY FR4 | E32: 315266/26191650 | F32: 03/04/2015 | G32: 44 | H32: REMOUILLE | Q32: =IF(B32="","",IF(C32="","",B32-C32)) | R32: =IF(K32="","",K32-J32) | S32: =IF(J32="","",IF(Q32<0,(J32-C32),(J32-B32))) | V32: =IF($Q32="","",IF($Q32<(-1),1,"")) | W32: =IF($Q32="","",IF($Q32<(-2),1,"")) | X32: =IF($Q32="","",IF($Q32>(2),1,"")) | Y32: =IF($Q32="","",IF($Q32>(4),1,"")) | Z32: =IF(S32="","",IF(Q32<0,"",IF(S32>(1),1,""))) | AA32: =IF(J32="","",IF(J32<B32,1,""))
A33: =IF(B33="","",IF(C33<=B33,1,3.25)+C33) | E33: 315266/26193783 | F33: 03/04/2015 | G33: 85 | H33: SOULLANS | Q33: =IF(B33="","",IF(C33="","",B33-C33)) | R33: =IF(K33="","",K33-J33) | S33: =IF(J33="","",IF(Q33<0,(J33-C33),(J33-B33))) | V33: =IF($Q33="","",IF($Q33<(-1),1,"")) | W33: =IF($Q33="","",IF($Q33<(-2),1,"")) | X33: =IF($Q33="","",IF($Q33>(2),1,"")) | Y33: =IF($Q33="","",IF($Q33>(4),1,"")) | Z33: =IF(S33="","",IF(Q33<0,"",IF(S33>(1),1,""))) | AA33: =IF(J33="","",IF(J33<B33,1,""))
A34: =IF(B34="","",IF(C34<=B34,1,3.25)+C34) | E34: 315266/26194047 | F34: 03/04/2015 | G34: 85 | H34: CHAMP SAINT PERE (LE) | Q34: =IF(B34="","",IF(C34="","",B34-C34)) | R34: =IF(K34="","",K34-J34) | S34: =IF(J34="","",IF(Q34<0,(J34-C34),(J34-B34))) | V34: =IF($Q34="","",IF($Q34<(-1),1,"")) | W34: =IF($Q34="","",IF($Q34<(-2),1,"")) | X34: =IF($Q34="","",IF($Q34>(2),1,"")) | Y34: =IF($Q34="","",IF($Q34>(4),1,"")) | Z34: =IF(S34="","",IF(Q34<0,"",IF(S34>(1),1,""))) | AA34: =IF(J34="","",IF(J34<B34,1,""))
A35: =IF(B35="","",IF(C35<=B35,1,3.25)+C35) -> 1 | B35: 10 | D35: TND VOLUME SEV | E35: 315370/26194341 | F35: 03/04/2015 | G35: 69 | H35: VILLEURBANNE | Q35: =IF(B35="","",IF(C35="","",B35-C35)) | R35: =IF(K35="","",K35-J35) | S35: =IF(J35="","",IF(Q35<0,(J35-C35),(J35-B35))) | V35: =IF($Q35="","",IF($Q35<(-1),1,"")) | W35: =IF($Q35="","",IF($Q35<(-2),1,"")) | X35: =IF($Q35="","",IF($Q35>(2),1,"")) | Y35: =IF($Q35="","",IF($Q35>(4),1,"")) | Z35: =IF(S35="","",IF(Q35<0,"",IF(S35>(1),1,""))) | AA35: =IF(J35="","",IF(J35<B35,1,""))
A36: =IF(B36="","",IF(C36<=B36,1,3.25)+C36) | E36: 315370/26194280 | F36: 03/04/2015 | G36: 69 | H36: DARDILLY | Q36: =IF(B36="","",IF(C36="","",B36-C36)) | R36: =IF(K36="","",K36-J36) | S36: =IF(J36="","",IF(Q36<0,(J36-C36),(J36-B36))) | V36: =IF($Q36="","",IF($Q36<(-1),1,"")) | W36: =IF($Q36="","",IF($Q36<(-2),1,"")) | X36: =IF($Q36="","",IF($Q36>(2),1,"")) | Y36: =IF($Q36="","",IF($Q36>(4),1,"")) | Z36: =IF(S36="","",IF(Q36<0,"",IF(S36>(1),1,""))) | AA36: =IF(J36="","",IF(J36<B36,1,""))
A37: =IF(B37="","",IF(C37<=B37,1,3.25)+C37) -> 1 | B37: 10 | D37: SEBER ES25 | E37: 315374/26193054 | F37: 03/04/2015 | G37: 64 | H37: PAU | Q37: =IF(B37="","",IF(C37="","",B37-C37)) | R37: =IF(K37="","",K37-J37) | S37: =IF(J37="","",IF(Q37<0,(J37-C37),(J37-B37))) | V37: =IF($Q37="","",IF($Q37<(-1),1,"")) | W37: =IF($Q37="","",IF($Q37<(-2),1,"")) | X37: =IF($Q37="","",IF($Q37>(2),1,"")) | Y37: =IF($Q37="","",IF($Q37>(4),1,"")) | Z37: =IF(S37="","",IF(Q37<0,"",IF(S37>(1),1,""))) | AA37: =IF(J37="","",IF(J37<B37,1,""))
A38: =IF(B38="","",IF(C38<=B38,1,3.25)+C38) | E38: 315374/26193491 | F38: 03/04/2015 | G38: 64 | H38: CAME | I38: CV | Q38: =IF(B38="","",IF(C38="","",B38-C38)) | R38: =IF(K38="","",K38-J38) | S38: =IF(J38="","",IF(Q38<0,(J38-C38),(J38-B38))) | V38: =IF($Q38="","",IF($Q38<(-1),1,"")) | W38: =IF($Q38="","",IF($Q38<(-2),1,"")) | X38: =IF($Q38="","",IF($Q38>(2),1,"")) | Y38: =IF($Q38="","",IF($Q38>(4),1,"")) | Z38: =IF(S38="","",IF(Q38<0,"",IF(S38>(1),1,""))) | AA38: =IF(J38="","",IF(J38<B38,1,""))
A39: =IF(B39="","",IF(C39<=B39,1,3.25)+C39) -> 1 | B39: 10 | D39: TND VOLUME SEV | E39: 315368/26171966 | F39: 03/04/2015 | G39: 44 | H39: NANTES | I39: CF | Q39: =IF(B39="","",IF(C39="","",B39-C39)) | R39: =IF(K39="","",K39-J39) | S39: =IF(J39="","",IF(Q39<0,(J39-C39),(J39-B39))) | V39: =IF($Q39="","",IF($Q39<(-1),1,"")) | W39: =IF($Q39="","",IF($Q39<(-2),1,"")) | X39: =IF($Q39="","",IF($Q39>(2),1,"")) | Y39: =IF($Q39="","",IF($Q39>(4),1,"")) | Z39: =IF(S39="","",IF(Q39<0,"",IF(S39>(1),1,""))) | AA39: =IF(J39="","",IF(J39<B39,1,""))
A40: =IF(B40="","",IF(C40<=B40,1,3.25)+C40) | E40: 315368/26194409 | F40: 03/04/2015 | G40: 44 | H40: BOUGUENAIS | I40: CF | Q40: =IF(B40="","",IF(C40="","",B40-C40)) | R40: =IF(K40="","",K40-J40) | S40: =IF(J40="","",IF(Q40<0,(J40-C40),(J40-B40))) | V40: =IF($Q40="","",IF($Q40<(-1),1,"")) | W40: =IF($Q40="","",IF($Q40<(-2),1,"")) | X40: =IF($Q40="","",IF($Q40>(2),1,"")) | Y40: =IF($Q40="","",IF($Q40>(4),1,"")) | Z40: =IF(S40="","",IF(Q40<0,"",IF(S40>(1),1,""))) | AA40: =IF(J40="","",IF(J40<B40,1,""))
A41: =IF(B41="","",IF(C41<=B41,1,3.25)+C41) | E41: 315368/26194386 | F41: 03/04/2015 | G41: 44 | H41: BOUGUENAIS | I41: CF | Q41: =IF(B41="","",IF(C41="","",B41-C41)) | R41: =IF(K41="","",K41-J41) | S41: =IF(J41="","",IF(Q41<0,(J41-C41),(J41-B41))) | V41: =IF($Q41="","",IF($Q41<(-1),1,"")) | W41: =IF($Q41="","",IF($Q41<(-2),1,"")) | X41: =IF($Q41="","",IF($Q41>(2),1,"")) | Y41: =IF($Q41="","",IF($Q41>(4),1,"")) | Z41: =IF(S41="","",IF(Q41<0,"",IF(S41>(1),1,""))) | AA41: =IF(J41="","",IF(J41<B41,1,""))
A42: =IF(B42="","",IF(C42<=B42,1,3.25)+C42) | E42: 315368/26192965 | F42: 03/04/2015 | G42: 44 | H42: SAINT NICOLAS DE REDON | I42: cf | Q42: =IF(B42="","",IF(C42="","",B42-C42)) | R42: =IF(K42="","",K42-J42) | S42: =IF(J42="","",IF(Q42<0,(J42-C42),(J42-B42))) | V42: =IF($Q42="","",IF($Q42<(-1),1,"")) | W42: =IF($Q42="","",IF($Q42<(-2),1,"")) | X42: =IF($Q42="","",IF($Q42>(2),1,"")) | Y42: =IF($Q42="","",IF($Q42>(4),1,"")) | Z42: =IF(S42="","",IF(Q42<0,"",IF(S42>(1),1,""))) | AA42: =IF(J42="","",IF(J42<B42,1,""))
A43: =IF(B43="","",IF(C43<=B43,1,3.25)+C43) -> 1 | B43: 10 | D43: HALLEY JEA | E43: 315273/26189400 | F43: 03/04/2015 | G43: 76 | H43: MAROMME | I43: OS | Q43: =IF(B43="","",IF(C43="","",B43-C43)) | R43: =IF(K43="","",K43-J43) | S43: =IF(J43="","",IF(Q43<0,(J43-C43),(J43-B43))) | V43: =IF($Q43="","",IF($Q43<(-1),1,"")) | W43: =IF($Q43="","",IF($Q43<(-2),1,"")) | X43: =IF($Q43="","",IF($Q43>(2),1,"")) | Y43: =IF($Q43="","",IF($Q43>(4),1,"")) | Z43: =IF(S43="","",IF(Q43<0,"",IF(S43>(1),1,""))) | AA43: =IF(J43="","",IF(J43<B43,1,""))
A44: =IF(B44="","",IF(C44<=B44,1,3.25)+C44) -> 1 | B44: 11 | D44: GIROD FR39 | E44: 315263/26194194 | F44: 03/04/2015 | G44: 74 | H44: THONON LES BAINS | I44: jp | Q44: =IF(B44="","",IF(C44="","",B44-C44)) | R44: =IF(K44="","",K44-J44) | S44: =IF(J44="","",IF(Q44<0,(J44-C44),(J44-B44))) | V44: =IF($Q44="","",IF($Q44<(-1),1,"")) | W44: =IF($Q44="","",IF($Q44<(-2),1,"")) | X44: =IF($Q44="","",IF($Q44>(2),1,"")) | Y44: =IF($Q44="","",IF($Q44>(4),1,"")) | Z44: =IF(S44="","",IF(Q44<0,"",IF(S44>(1),1,""))) | AA44: =IF(J44="","",IF(J44<B44,1,""))
A45: =IF(B45="","",IF(C45<=B45,1,3.25)+C45) -> 1 | B45: 11 | D45: COMBRONDE | E45: 315380/26193580SOL | F45: 03/04/2015 | G45: 63 | H45: CLERMONT FERRAND | I45: ss | Q45: =IF(B45="","",IF(C45="","",B45-C45)) | R45: =IF(K45="","",K45-J45) | S45: =IF(J45="","",IF(Q45<0,(J45-C45),(J45-B45))) | V45: =IF($Q45="","",IF($Q45<(-1),1,"")) | W45: =IF($Q45="","",IF($Q45<(-2),1,"")) | X45: =IF($Q45="","",IF($Q45>(2),1,"")) | Y45: =IF($Q45="","",IF($Q45>(4),1,"")) | Z45: =IF(S45="","",IF(Q45<0,"",IF(S45>(1),1,""))) | AA45: =IF(J45="","",IF(J45<B45,1,""))
A46: =IF(B46="","",IF(C46<=B46,1,3.25)+C46) | E46: 315380/26194109 | F46: 03/04/2015 | G46: 63 | H46: CLERMONT FERRAND | I46: ss | Q46: =IF(B46="","",IF(C46="","",B46-C46)) | R46: =IF(K46="","",K46-J46) | S46: =IF(J46="","",IF(Q46<0,(J46-C46),(J46-B46))) | V46: =IF($Q46="","",IF($Q46<(-1),1,"")) | W46: =IF($Q46="","",IF($Q46<(-2),1,"")) | X46: =IF($Q46="","",IF($Q46>(2),1,"")) | Y46: =IF($Q46="","",IF($Q46>(4),1,"")) | Z46: =IF(S46="","",IF(Q46<0,"",IF(S46>(1),1,""))) | AA46: =IF(J46="","",IF(J46<B46,1,""))
A47: =IF(B47="","",IF(C47<=B47,1,3.25)+C47) -> 1 | B47: 11 | D47: DANIEL DEM | E47: 315377/26192196 | F47: 03/04/2015 | G47: 73 | H47: CHAMBERY | I47: jp | Q47: =IF(B47="","",IF(C47="","",B47-C47)) | R47: =IF(K47="","",K47-J47) | S47: =IF(J47="","",IF(Q47<0,(J47-C47),(J47-B47))) | V47: =IF($Q47="","",IF($Q47<(-1),1,"")) | W47: =IF($Q47="","",IF($Q47<(-2),1,"")) | X47: =IF($Q47="","",IF($Q47>(2),1,"")) | Y47: =IF($Q47="","",IF($Q47>(4),1,"")) | Z47: =IF(S47="","",IF(Q47<0,"",IF(S47>(1),1,""))) | AA47: =IF(J47="","",IF(J47<B47,1,""))
A48: =IF(B48="","",IF(C48<=B48,1,3.25)+C48) | E48: 315377/26190863 | F48: 03/04/2015 | G48: 73 | H48: DETRIER | I48: jp | Q48: =IF(B48="","",IF(C48="","",B48-C48)) | R48: =IF(K48="","",K48-J48) | S48: =IF(J48="","",IF(Q48<0,(J48-C48),(J48-B48))) | V48: =IF($Q48="","",IF($Q48<(-1),1,"")) | W48: =IF($Q48="","",IF($Q48<(-2),1,"")) | X48: =IF($Q48="","",IF($Q48>(2),1,"")) | Y48: =IF($Q48="","",IF($Q48>(4),1,"")) | Z48: =IF(S48="","",IF(Q48<0,"",IF(S48>(1),1,""))) | AA48: =IF(J48="","",IF(J48<B48,1,""))
A49: =IF(B49="","",IF(C49<=B49,1,3.25)+C49) | E49: 315377/26194241 | F49: 03/04/2015 | G49: 73 | H49: PONT DE BEAUVOISIN (LE) | I49: jp | Q49: =IF(B49="","",IF(C49="","",B49-C49)) | R49: =IF(K49="","",K49-J49) | S49: =IF(J49="","",IF(Q49<0,(J49-C49),(J49-B49))) | V49: =IF($Q49="","",IF($Q49<(-1),1,"")) | W49: =IF($Q49="","",IF($Q49<(-2),1,"")) | X49: =IF($Q49="","",IF($Q49>(2),1,"")) | Y49: =IF($Q49="","",IF($Q49>(4),1,"")) | Z49: =IF(S49="","",IF(Q49<0,"",IF(S49>(1),1,""))) | AA49: =IF(J49="","",IF(J49<B49,1,""))
A50: =IF(B50="","",IF(C50<=B50+0.5,1,3.25)+C50) -> 1 | B50: 11 | D50: UNIROUTE F | E50: 315267/26192200 | F50: 03/04/2015 | G50: 38 | H50: ECHIROLLES | I50: jp | Q50: =IF(B50="","",IF(C50="","",B50-C50)) | R50: =IF(K50="","",K50-J50) | S50: =IF(J50="","",IF(Q50<0,(J50-C50),(J50-B50))) | V50: =IF($Q50="","",IF($Q50<(-1),1,"")) | W50: =IF($Q50="","",IF($Q50<(-2),1,"")) | X50: =IF($Q50="","",IF($Q50>(2),1,"")) | Y50: =IF($Q50="","",IF($Q50>(4),1,"")) | Z50: =IF(S50="","",IF(Q50<0,"",IF(S50>(1),1,""))) | AA50: =IF(J50="","",IF(J50<B50,1,""))
A51: =IF(B51="","",IF(C51<=B51+0.5,1,3.25)+C51) | E51: 315267/26194476 | F51: 03/04/2015 | G51: 69 | H51: CALUIRE ET CUIRE | I51: ss | Q51: =IF(B51="","",IF(C51="","",B51-C51)) | R51: =IF(K51="","",K51-J51) | S51: =IF(J51="","",IF(Q51<0,(J51-C51),(J51-B51))) | V51: =IF($Q51="","",IF($Q51<(-1),1,"")) | W51: =IF($Q51="","",IF($Q51<(-2),1,"")) | X51: =IF($Q51="","",IF($Q51>(2),1,"")) | Y51: =IF($Q51="","",IF($Q51>(4),1,"")) | Z51: =IF(S51="","",IF(Q51<0,"",IF(S51>(1),1,""))) | AA51: =IF(J51="","",IF(J51<B51,1,""))
A52: =IF(B52="","",IF(C52<=B52+0.5,1,3.25)+C52) -> 1 | B52: 11 | D52: BOIZUMEAU | E52: 315401/26194763 | F52: 03/04/2015 | G52: 17 | H52: SURGERES | I52: MN | Q52: =IF(B52="","",IF(C52="","",B52-C52)) | R52: =IF(K52="","",K52-J52) | S52: =IF(J52="","",IF(Q52<0,(J52-C52),(J52-B52))) | V52: =IF($Q52="","",IF($Q52<(-1),1,"")) | W52: =IF($Q52="","",IF($Q52<(-2),1,"")) | X52: =IF($Q52="","",IF($Q52>(2),1,"")) | Y52: =IF($Q52="","",IF($Q52>(4),1,"")) | Z52: =IF(S52="","",IF(Q52<0,"",IF(S52>(1),1,""))) | AA52: =IF(J52="","",IF(J52<B52,1,""))
A53: =IF(B53="","",IF(C53<=B53+0.5,1,3.25)+C53) | E53: 315401/26192119 | F53: 03/04/2015 | G53: 85 | H53: MONTAIGU | I53: MN | Q53: =IF(B53="","",IF(C53="","",B53-C53)) | R53: =IF(K53="","",K53-J53) | S53: =IF(J53="","",IF(Q53<0,(J53-C53),(J53-B53))) | V53: =IF($Q53="","",IF($Q53<(-1),1,"")) | W53: =IF($Q53="","",IF($Q53<(-2),1,"")) | X53: =IF($Q53="","",IF($Q53>(2),1,"")) | Y53: =IF($Q53="","",IF($Q53>(4),1,"")) | Z53: =IF(S53="","",IF(Q53<0,"",IF(S53>(1),1,""))) | AA53: =IF(J53="","",IF(J53<B53,1,""))
A54: =IF(B54="","",IF(C54<=B54+0.5,1,3.25)+C54) -> 1 | B54: 11 | D54: TND VOLUME SEV | E54: 312527/26194000 | F54: 03/04/2015 | G54: 14 | H54: ORBEC | I54: CFO | Q54: =IF(B54="","",IF(C54="","",B54-C54)) | R54: =IF(K54="","",K54-J54) | S54: =IF(J54="","",IF(Q54<0,(J54-C54),(J54-B54))) | V54: =IF($Q54="","",IF($Q54<(-1),1,"")) | W54: =IF($Q54="","",IF($Q54<(-2),1,"")) | X54: =IF($Q54="","",IF($Q54>(2),1,"")) | Y54: =IF($Q54="","",IF($Q54>(4),1,"")) | Z54: =IF(S54="","",IF(Q54<0,"",IF(S54>(1),1,""))) | AA54: =IF(J54="","",IF(J54<B54,1,""))
A55: =IF(B55="","",IF(C55<=B55+0.5,1,3.25)+C55) | E55: 315257/26193744 | F55: 03/04/2015 | G55: 27 | H55: EPAIGNES | I55: CFO | Q55: =IF(B55="","",IF(C55="","",B55-C55)) | R55: =IF(K55="","",K55-J55) | S55: =IF(J55="","",IF(Q55<0,(J55-C55),(J55-B55))) | V55: =IF($Q55="","",IF($Q55<(-1),1,"")) | W55: =IF($Q55="","",IF($Q55<(-2),1,"")) | X55: =IF($Q55="","",IF($Q55>(2),1,"")) | Y55: =IF($Q55="","",IF($Q55>(4),1,"")) | Z55: =IF(S55="","",IF(Q55<0,"",IF(S55>(1),1,""))) | AA55: =IF(J55="","",IF(J55<B55,1,""))
A56: =IF(B56="","",IF(C56<=B56+0.5,1,3.25)+C56) -> 1 | B56: 11 | D56: TND VOLUME SEV | E56: 363/26191603 | F56: 03/04/2015 | G56: 69 | H56: MIONS | I56: SS | Q56: =IF(B56="","",IF(C56="","",B56-C56)) | R56: =IF(K56="","",K56-J56) | S56: =IF(J56="","",IF(Q56<0,(J56-C56),(J56-B56))) | V56: =IF($Q56="","",IF($Q56<(-1),1,"")) | W56: =IF($Q56="","",IF($Q56<(-2),1,"")) | X56: =IF($Q56="","",IF($Q56>(2),1,"")) | Y56: =IF($Q56="","",IF($Q56>(4),1,"")) | Z56: =IF(S56="","",IF(Q56<0,"",IF(S56>(1),1,""))) | AA56: =IF(J56="","",IF(J56<B56,1,""))
A57: =IF(B57="","",IF(C57<=B57+0.5,1,3.25)+C57) -> 1 | B57: 11 | D57: SAVAM SOISSONS | E57: 315271/26192719 | F57: 03/04/2015 | G57: 76 | H57: HAVRE (LE) | I57: CFO | Q57: =IF(B57="","",IF(C57="","",B57-C57)) | R57: =IF(K57="","",K57-J57) | S57: =IF(J57="","",IF(Q57<0,(J57-C57),(J57-B57))) | V57: =IF($Q57="","",IF($Q57<(-1),1,"")) | W57: =IF($Q57="","",IF($Q57<(-2),1,"")) | X57: =IF($Q57="","",IF($Q57>(2),1,"")) | Y57: =IF($Q57="","",IF($Q57>(4),1,"")) | Z57: =IF(S57="","",IF(Q57<0,"",IF(S57>(1),1,""))) | AA57: =IF(J57="","",IF(J57<B57,1,""))
A58: =IF(B58="","",IF(C58<=B58+0.5,1,3.25)+C58) | E58: 315271/26192718 | F58: 03/04/2015 | G58: 76 | H58: ROUXMESNIL BOUTEILLES | I58: CFO | Q58: =IF(B58="","",IF(C58="","",B58-C58)) | R58: =IF(K58="","",K58-J58) | S58: =IF(J58="","",IF(Q58<0,(J58-C58),(J58-B58))) | V58: =IF($Q58="","",IF($Q58<(-1),1,"")) | W58: =IF($Q58="","",IF($Q58<(-2),1,"")) | X58: =IF($Q58="","",IF($Q58>(2),1,"")) | Y58: =IF($Q58="","",IF($Q58>(4),1,"")) | Z58: =IF(S58="","",IF(Q58<0,"",IF(S58>(1),1,""))) | AA58: =IF(J58="","",IF(J58<B58,1,""))
A59: =IF(B59="","",IF(C59<=B59+0.5,1,3.25)+C59) -> 1 | B59: 11 | D59: TND VOLUME SEV | E59: 315345/26192670 | F59: 03/04/2015 | G59: 44 | H59: ANCENIS | I59: cf | Q59: =IF(B59="","",IF(C59="","",B59-C59)) | R59: =IF(K59="","",K59-J59) | S59: =IF(J59="","",IF(Q59<0,(J59-C59),(J59-B59))) | V59: =IF($Q59="","",IF($Q59<(-1),1,"")) | W59: =IF($Q59="","",IF($Q59<(-2),1,"")) | X59: =IF($Q59="","",IF($Q59>(2),1,"")) | Y59: =IF($Q59="","",IF($Q59>(4),1,"")) | Z59: =IF(S59="","",IF(Q59<0,"",IF(S59>(1),1,""))) | AA59: =IF(J59="","",IF(J59<B59,1,""))
A60: =IF(B60="","",IF(C60<=B60+0.5,1,3.25)+C60) -> 1 | B60: 12 | D60: UNITED SAVAM AFFRET. | E60: 315403/26193695 | F60: 03/04/2015 | G60: 21 | H60: CHATILLON SUR SEINE | I60: SD | Q60: =IF(B60="","",IF(C60="","",B60-C60)) | R60: =IF(K60="","",K60-J60) | S60: =IF(J60="","",IF(Q60<0,(J60-C60),(J60-B60))) | V60: =IF($Q60="","",IF($Q60<(-1),1,"")) | W60: =IF($Q60="","",IF($Q60<(-2),1,"")) | X60: =IF($Q60="","",IF($Q60>(2),1,"")) | Y60: =IF($Q60="","",IF($Q60>(4),1,"")) | Z60: =IF(S60="","",IF(Q60<0,"",IF(S60>(1),1,""))) | AA60: =IF(J60="","",IF(J60<B60,1,""))
A61: =IF(B61="","",IF(C61<=B61+0.5,1,3.25)+C61) | E61: 315403/26193043 | F61: 03/04/2015 | G61: 25 | H61: AUDINCOURT | I61: SD | Q61: =IF(B61="","",IF(C61="","",B61-C61)) | R61: =IF(K61="","",K61-J61) | S61: =IF(J61="","",IF(Q61<0,(J61-C61),(J61-B61))) | V61: =IF($Q61="","",IF($Q61<(-1),1,"")) | W61: =IF($Q61="","",IF($Q61<(-2),1,"")) | X61: =IF($Q61="","",IF($Q61>(2),1,"")) | Y61: =IF($Q61="","",IF($Q61>(4),1,"")) | Z61: =IF(S61="","",IF(Q61<0,"",IF(S61>(1),1,""))) | AA61: =IF(J61="","",IF(J61<B61,1,""))
A62: =IF(B62="","",IF(C62<=B62+0.5,1,3.25)+C62) | E62: 315403/26194473 | F62: 03/04/2015 | G62: 25 | H62: ETALANS | I62: SD | Q62: =IF(B62="","",IF(C62="","",B62-C62)) | R62: =IF(K62="","",K62-J62) | S62: =IF(J62="","",IF(Q62<0,(J62-C62),(J62-B62))) | V62: =IF($Q62="","",IF($Q62<(-1),1,"")) | W62: =IF($Q62="","",IF($Q62<(-2),1,"")) | X62: =IF($Q62="","",IF($Q62>(2),1,"")) | Y62: =IF($Q62="","",IF($Q62>(4),1,"")) | Z62: =IF(S62="","",IF(Q62<0,"",IF(S62>(1),1,""))) | AA62: =IF(J62="","",IF(J62<B62,1,""))
A63: =IF(B63="","",IF(C63<=B63+0.5,1,3.25)+C63) -> 1 | B63: 12 | D63: TND VOLUME SEV | E63: 315388/26193635REL | F63: 03/04/2015 | G63: 92 | H63: CLAMART | I63: fk | Q63: =IF(B63="","",IF(C63="","",B63-C63)) | R63: =IF(K63="","",K63-J63) | S63: =IF(J63="","",IF(Q63<0,(J63-C63),(J63-B63))) | V63: =IF($Q63="","",IF($Q63<(-1),1,"")) | W63: =IF($Q63="","",IF($Q63<(-2),1,"")) | X63: =IF($Q63="","",IF($Q63>(2),1,"")) | Y63: =IF($Q63="","",IF($Q63>(4),1,"")) | Z63: =IF(S63="","",IF(Q63<0,"",IF(S63>(1),1,""))) | AA63: =IF(J63="","",IF(J63<B63,1,""))
A64: =IF(B64="","",IF(C64<=B64+0.5,1,3.25)+C64) | E64: 315388/26194184SOL | F64: 03/04/2015 | G64: 92 | H64: CHATILLON | I64: fk | Q64: =IF(B64="","",IF(C64="","",B64-C64)) | R64: =IF(K64="","",K64-J64) | S64: =IF(J64="","",IF(Q64<0,(J64-C64),(J64-B64))) | V64: =IF($Q64="","",IF($Q64<(-1),1,"")) | W64: =IF($Q64="","",IF($Q64<(-2),1,"")) | X64: =IF($Q64="","",IF($Q64>(2),1,"")) | Y64: =IF($Q64="","",IF($Q64>(4),1,"")) | Z64: =IF(S64="","",IF(Q64<0,"",IF(S64>(1),1,""))) | AA64: =IF(J64="","",IF(J64<B64,1,""))
A65: =IF(B65="","",IF(C65<=B65+0.5,1,3.25)+C65) -> 1 | B65: 12 | D65: UNITED SAVAM AFFRET. | E65: 315260/26193910 | F65: 03/04/2015 | G65: 29 | H65: QUIMPER | I65: CF | Q65: =IF(B65="","",IF(C65="","",B65-C65)) | R65: =IF(K65="","",K65-J65) | S65: =IF(J65="","",IF(Q65<0,(J65-C65),(J65-B65))) | V65: =IF($Q65="","",IF($Q65<(-1),1,"")) | W65: =IF($Q65="","",IF($Q65<(-2),1,"")) | X65: =IF($Q65="","",IF($Q65>(2),1,"")) | Y65: =IF($Q65="","",IF($Q65>(4),1,"")) | Z65: =IF(S65="","",IF(Q65<0,"",IF(S65>(1),1,""))) | AA65: =IF(J65="","",IF(J65<B65,1,""))
A66: =IF(B66="","",IF(C66<=B66+0.5,1,3.25)+C66) | E66: 315260/26194001 | F66: 03/04/2015 | G66: 29 | H66: BREST | I66: CF | Q66: =IF(B66="","",IF(C66="","",B66-C66)) | R66: =IF(K66="","",K66-J66) | S66: =IF(J66="","",IF(Q66<0,(J66-C66),(J66-B66))) | V66: =IF($Q66="","",IF($Q66<(-1),1,"")) | W66: =IF($Q66="","",IF($Q66<(-2),1,"")) | X66: =IF($Q66="","",IF($Q66>(2),1,"")) | Y66: =IF($Q66="","",IF($Q66>(4),1,"")) | Z66: =IF(S66="","",IF(Q66<0,"",IF(S66>(1),1,""))) | AA66: =IF(J66="","",IF(J66<B66,1,""))
A67: =IF(B67="","",IF(C67<=B67+0.5,1,3.25)+C67) | E67: 315260/26192576 | F67: 03/04/2015 | G67: 29 | H67: PONT DE BUIS LES QUIMERCH | I67: cf | Q67: =IF(B67="","",IF(C67="","",B67-C67)) | R67: =IF(K67="","",K67-J67) | S67: =IF(J67="","",IF(Q67<0,(J67-C67),(J67-B67))) | V67: =IF($Q67="","",IF($Q67<(-1),1,"")) | W67: =IF($Q67="","",IF($Q67<(-2),1,"")) | X67: =IF($Q67="","",IF($Q67>(2),1,"")) | Y67: =IF($Q67="","",IF($Q67>(4),1,"")) | Z67: =IF(S67="","",IF(Q67<0,"",IF(S67>(1),1,""))) | AA67: =IF(J67="","",IF(J67<B67,1,""))
A68: =IF(B68="","",IF(C68<=B68+0.5,1,3.25)+C68) | E68: 315260/26194239 | F68: 03/04/2015 | G68: 29 | H68: CLOHARS FOUESNANT | I68: CF | Q68: =IF(B68="","",IF(C68="","",B68-C68)) | R68: =IF(K68="","",K68-J68) | S68: =IF(J68="","",IF(Q68<0,(J68-C68),(J68-B68))) | V68: =IF($Q68="","",IF($Q68<(-1),1,"")) | W68: =IF($Q68="","",IF($Q68<(-2),1,"")) | X68: =IF($Q68="","",IF($Q68>(2),1,"")) | Y68: =IF($Q68="","",IF($Q68>(4),1,"")) | Z68: =IF(S68="","",IF(Q68<0,"",IF(S68>(1),1,""))) | AA68: =IF(J68="","",IF(J68<B68,1,""))
A69: =IF(B69="","",IF(C69<=B69+0.5,1,3.25)+C69) -> 1 | B69: 12 | D69: DE RIJKE F | E69: 315265/26191909 | F69: 03/04/2015 | G69: 59 | H69: HELLEMMES | I69: EB | Q69: =IF(B69="","",IF(C69="","",B69-C69)) | R69: =IF(K69="","",K69-J69) | S69: =IF(J69="","",IF(Q69<0,(J69-C69),(J69-B69))) | V69: =IF($Q69="","",IF($Q69<(-1),1,"")) | W69: =IF($Q69="","",IF($Q69<(-2),1,"")) | X69: =IF($Q69="","",IF($Q69>(2),1,"")) | Y69: =IF($Q69="","",IF($Q69>(4),1,"")) | Z69: =IF(S69="","",IF(Q69<0,"",IF(S69>(1),1,""))) | AA69: =IF(J69="","",IF(J69<B69,1,""))
A70: =IF(B70="","",IF(C70<=B70+0.5,1,3.25)+C70) | E70: 315265/26193146 | F70: 03/04/2015 | G70: 59 | H70: LIEU SAINT AMAND | I70: EB | Q70: =IF(B70="","",IF(C70="","",B70-C70)) | R70: =IF(K70="","",K70-J70) | S70: =IF(J70="","",IF(Q70<0,(J70-C70),(J70-B70))) | V70: =IF($Q70="","",IF($Q70<(-1),1,"")) | W70: =IF($Q70="","",IF($Q70<(-2),1,"")) | X70: =IF($Q70="","",IF($Q70>(2),1,"")) | Y70: =IF($Q70="","",IF($Q70>(4),1,"")) | Z70: =IF(S70="","",IF(Q70<0,"",IF(S70>(1),1,""))) | AA70: =IF(J70="","",IF(J70<B70,1,""))
A71: =IF(B71="","",IF(C71<=B71+0.5,1,3.25)+C71) | E71: 315265/26192884 | F71: 03/04/2015 | G71: 59 | H71: CAMBRAI | I71: EB | Q71: =IF(B71="","",IF(C71="","",B71-C71)) | R71: =IF(K71="","",K71-J71) | S71: =IF(J71="","",IF(Q71<0,(J71-C71),(J71-B71))) | V71: =IF($Q71="","",IF($Q71<(-1),1,"")) | W71: =IF($Q71="","",IF($Q71<(-2),1,"")) | X71: =IF($Q71="","",IF($Q71>(2),1,"")) | Y71: =IF($Q71="","",IF($Q71>(4),1,"")) | Z71: =IF(S71="","",IF(Q71<0,"",IF(S71>(1),1,""))) | AA71: =IF(J71="","",IF(J71<B71,1,""))
A72: =IF(B72="","",IF(C72<=B72+0.5,1,3.25)+C72) | E72: 315265/26192868 | F72: 03/04/2015 | G72: 59 | H72: LESQUIN | I72: EB | Q72: =IF(B72="","",IF(C72="","",B72-C72)) | R72: =IF(K72="","",K72-J72) | S72: =IF(J72="","",IF(Q72<0,(J72-C72),(J72-B72))) | V72: =IF($Q72="","",IF($Q72<(-1),1,"")) | W72: =IF($Q72="","",IF($Q72<(-2),1,"")) | X72: =IF($Q72="","",IF($Q72>(2),1,"")) | Y72: =IF($Q72="","",IF($Q72>(4),1,"")) | Z72: =IF(S72="","",IF(Q72<0,"",IF(S72>(1),1,""))) | AA72: =IF(J72="","",IF(J72<B72,1,""))
A73: =IF(B73="","",IF(C73<=B73+0.5,1,3.25)+C73) -> 1 | B73: 12 | D73: TND VOLUME SEV | E73: 315258/26193755 | F73: 03/04/2015 | G73: 76 | H73: HAVRE (LE) | I73: CFO | Q73: =IF(B73="","",IF(C73="","",B73-C73)) | R73: =IF(K73="","",K73-J73) | S73: =IF(J73="","",IF(Q73<0,(J73-C73),(J73-B73))) | V73: =IF($Q73="","",IF($Q73<(-1),1,"")) | W73: =IF($Q73="","",IF($Q73<(-2),1,"")) | X73: =IF($Q73="","",IF($Q73>(2),1,"")) | Y73: =IF($Q73="","",IF($Q73>(4),1,"")) | Z73: =IF(S73="","",IF(Q73<0,"",IF(S73>(1),1,""))) | AA73: =IF(J73="","",IF(J73<B73,1,""))
A74: =IF(B74="","",IF(C74<=B74+0.5,1,3.25)+C74) | E74: 315258/26194195 | F74: 03/04/2015 | G74: 76 | H74: GRAND COURONNE | I74: CFO | Q74: =IF(B74="","",IF(C74="","",B74-C74)) | R74: =IF(K74="","",K74-J74) | S74: =IF(J74="","",IF(Q74<0,(J74-C74),(J74-B74))) | V74: =IF($Q74="","",IF($Q74<(-1),1,"")) | W74: =IF($Q74="","",IF($Q74<(-2),1,"")) | X74: =IF($Q74="","",IF($Q74>(2),1,"")) | Y74: =IF($Q74="","",IF($Q74>(4),1,"")) | Z74: =IF(S74="","",IF(Q74<0,"",IF(S74>(1),1,""))) | AA74: =IF(J74="","",IF(J74<B74,1,""))
A75: =IF(B75="","",IF(C75<=B75+0.5,1,3.25)+C75) -> 1 | B75: 12 | D75: TND VOLUME SEV | E75: 315281/26192770 | F75: 03/04/2015 | G75: 44 | H75: SAINT HERBLAIN | I75: CF | Q75: =IF(B75="","",IF(C75="","",B75-C75)) | R75: =IF(K75="","",K75-J75) | S75: =IF(J75="","",IF(Q75<0,(J75-C75),(J75-B75))) | V75: =IF($Q75="","",IF($Q75<(-1),1,"")) | W75: =IF($Q75="","",IF($Q75<(-2),1,"")) | X75: =IF($Q75="","",IF($Q75>(2),1,"")) | Y75: =IF($Q75="","",IF($Q75>(4),1,"")) | Z75: =IF(S75="","",IF(Q75<0,"",IF(S75>(1),1,""))) | AA75: =IF(J75="","",IF(J75<B75,1,""))
A76: =IF(B76="","",IF(C76<=B76+0.5,1,3.25)+C76) -> 1 | B76: 12 | D76: TND VOLUME SEV | E76: 315371/26193470SOL | F76: 03/04/2015 | G76: 33 | H76: BORDEAUX | I76: CV | Q76: =IF(B76="","",IF(C76="","",B76-C76)) | R76: =IF(K76="","",K76-J76) | S76: =IF(J76="","",IF(Q76<0,(J76-C76),(J76-B76))) | V76: =IF($Q76="","",IF($Q76<(-1),1,"")) | W76: =IF($Q76="","",IF($Q76<(-2),1,"")) | X76: =IF($Q76="","",IF($Q76>(2),1,"")) | Y76: =IF($Q76="","",IF($Q76>(4),1,"")) | Z76: =IF(S76="","",IF(Q76<0,"",IF(S76>(1),1,""))) | AA76: =IF(J76="","",IF(J76<B76,1,""))
A77: =IF(B77="","",IF(C77<=B77+0.5,1,3.25)+C77) | E77: 315371/26194572 | F77: 03/04/2015 | G77: 33 | H77: EYSINES | I77: CV | Q77: =IF(B77="","",IF(C77="","",B77-C77)) | R77: =IF(K77="","",K77-J77) | S77: =IF(J77="","",IF(Q77<0,(J77-C77),(J77-B77))) | V77: =IF($Q77="","",IF($Q77<(-1),1,"")) | W77: =IF($Q77="","",IF($Q77<(-2),1,"")) | X77: =IF($Q77="","",IF($Q77>(2),1,"")) | Y77: =IF($Q77="","",IF($Q77>(4),1,"")) | Z77: =IF(S77="","",IF(Q77<0,"",IF(S77>(1),1,""))) | AA77: =IF(J77="","",IF(J77<B77,1,""))
A78: =IF(B78="","",IF(C78<=B78+0.5,1,3.25)+C78) | E78: 315371/26194662 | F78: 03/04/2015 | G78: 47 | H78: NERAC | I78: CV | Q78: =IF(B78="","",IF(C78="","",B78-C78)) | R78: =IF(K78="","",K78-J78) | S78: =IF(J78="","",IF(Q78<0,(J78-C78),(J78-B78))) | V78: =IF($Q78="","",IF($Q78<(-1),1,"")) | W78: =IF($Q78="","",IF($Q78<(-2),1,"")) | X78: =IF($Q78="","",IF($Q78>(2),1,"")) | Y78: =IF($Q78="","",IF($Q78>(4),1,"")) | Z78: =IF(S78="","",IF(Q78<0,"",IF(S78>(1),1,""))) | AA78: =IF(J78="","",IF(J78<B78,1,""))
A79: =IF(B79="","",IF(C79<=B79+0.5,1,3.25)+C79) -> 1 | B79: 12 | D79: SODYTRANS | E79: 315369/26194199 | F79: 03/04/2015 | G79: 44 | H79: PORNIC | I79: CF | Q79: =IF(B79="","",IF(C79="","",B79-C79)) | R79: =IF(K79="","",K79-J79) | S79: =IF(J79="","",IF(Q79<0,(J79-C79),(J79-B79))) | V79: =IF($Q79="","",IF($Q79<(-1),1,"")) | W79: =IF($Q79="","",IF($Q79<(-2),1,"")) | X79: =IF($Q79="","",IF($Q79>(2),1,"")) | Y79: =IF($Q79="","",IF($Q79>(4),1,"")) | Z79: =IF(S79="","",IF(Q79<0,"",IF(S79>(1),1,""))) | AA79: =IF(J79="","",IF(J79<B79,1,""))
A80: =IF(B80="","",IF(C80<=B80+0.5,1,3.25)+C80) | E80: 315369/26193709 | F80: 03/04/2015 | G80: 44 | H80: SAINT NAZAIRE | I80: CF | Q80: =IF(B80="","",IF(C80="","",B80-C80)) | R80: =IF(K80="","",K80-J80) | S80: =IF(J80="","",IF(Q80<0,(J80-C80),(J80-B80))) | V80: =IF($Q80="","",IF($Q80<(-1),1,"")) | W80: =IF($Q80="","",IF($Q80<(-2),1,"")) | X80: =IF($Q80="","",IF($Q80>(2),1,"")) | Y80: =IF($Q80="","",IF($Q80>(4),1,"")) | Z80: =IF(S80="","",IF(Q80<0,"",IF(S80>(1),1,""))) | AA80: =IF(J80="","",IF(J80<B80,1,""))
A81: =IF(B81="","",IF(C81<=B81+0.5,1,3.25)+C81) | E81: 315369/26194271 | F81: 03/04/2015 | G81: 44 | H81: SAINT NAZAIRE | I81: CF | Q81: =IF(B81="","",IF(C81="","",B81-C81)) | R81: =IF(K81="","",K81-J81) | S81: =IF(J81="","",IF(Q81<0,(J81-C81),(J81-B81))) | V81: =IF($Q81="","",IF($Q81<(-1),1,"")) | W81: =IF($Q81="","",IF($Q81<(-2),1,"")) | X81: =IF($Q81="","",IF($Q81>(2),1,"")) | Y81: =IF($Q81="","",IF($Q81>(4),1,"")) | Z81: =IF(S81="","",IF(Q81<0,"",IF(S81>(1),1,""))) | AA81: =IF(J81="","",IF(J81<B81,1,""))
A82: =IF(B82="","",IF(C82<=B82+0.5,1,3.25)+C82) -> 1 | B82: 13 | D82: TND VOLUME SEV | E82: 315389/26194600SOL | F82: 03/04/2015 | G82: 78 | H82: SAINT CYR L'ECOLE | I82: fk | Q82: =IF(B82="","",IF(C82="","",B82-C82)) | R82: =IF(K82="","",K82-J82) | S82: =IF(J82="","",IF(Q82<0,(J82-C82),(J82-B82))) | V82: =IF($Q82="","",IF($Q82<(-1),1,"")) | W82: =IF($Q82="","",IF($Q82<(-2),1,"")) | X82: =IF($Q82="","",IF($Q82>(2),1,"")) | Y82: =IF($Q82="","",IF($Q82>(4),1,"")) | Z82: =IF(S82="","",IF(Q82<0,"",IF(S82>(1),1,""))) | AA82: =IF(J82="","",IF(J82<B82,1,""))
A83: =IF(B83="","",IF(C83<=B83+0.5,1,3.25)+C83) | E83: 315389/26193635SOL | F83: 03/04/2015 | G83: 92 | H83: CLAMART | I83: fk | Q83: =IF(B83="","",IF(C83="","",B83-C83)) | R83: =IF(K83="","",K83-J83) | S83: =IF(J83="","",IF(Q83<0,(J83-C83),(J83-B83))) | V83: =IF($Q83="","",IF($Q83<(-1),1,"")) | W83: =IF($Q83="","",IF($Q83<(-2),1,"")) | X83: =IF($Q83="","",IF($Q83>(2),1,"")) | Y83: =IF($Q83="","",IF($Q83>(4),1,"")) | Z83: =IF(S83="","",IF(Q83<0,"",IF(S83>(1),1,""))) | AA83: =IF(J83="","",IF(J83<B83,1,""))
A84: =IF(B84="","",IF(C84<=B84+0.5,1,3.25)+C84) -> 1 | B84: 13 | D84: LE BELLER | E84: 315279/26193841 | F84: 03/04/2015 | G84: 56 | H84: VANNES | I84: cf | Q84: =IF(B84="","",IF(C84="","",B84-C84)) | R84: =IF(K84="","",K84-J84) | S84: =IF(J84="","",IF(Q84<0,(J84-C84),(J84-B84))) | V84: =IF($Q84="","",IF($Q84<(-1),1,"")) | W84: =IF($Q84="","",IF($Q84<(-2),1,"")) | X84: =IF($Q84="","",IF($Q84>(2),1,"")) | Y84: =IF($Q84="","",IF($Q84>(4),1,"")) | Z84: =IF(S84="","",IF(Q84<0,"",IF(S84>(1),1,""))) | AA84: =IF(J84="","",IF(J84<B84,1,""))
A85: =IF(B85="","",IF(C85<=B85+0.5,1,3.25)+C85) | E85: 315279/26193669 | F85: 03/04/2015 | G85: 56 | H85: VANNES | I85: cf | Q85: =IF(B85="","",IF(C85="","",B85-C85)) | R85: =IF(K85="","",K85-J85) | S85: =IF(J85="","",IF(Q85<0,(J85-C85),(J85-B85))) | V85: =IF($Q85="","",IF($Q85<(-1),1,"")) | W85: =IF($Q85="","",IF($Q85<(-2),1,"")) | X85: =IF($Q85="","",IF($Q85>(2),1,"")) | Y85: =IF($Q85="","",IF($Q85>(4),1,"")) | Z85: =IF(S85="","",IF(Q85<0,"",IF(S85>(1),1,""))) | AA85: =IF(J85="","",IF(J85<B85,1,""))
A86: =IF(B86="","",IF(C86<=B86+0.5,1,3.25)+C86) -> 1 | B86: 13 | D86: TND VOLUME SEV | E86: 315261/26194182 | F86: 03/04/2015 | G86: 21 | H86: CHENOVE | I86: sd | Q86: =IF(B86="","",IF(C86="","",B86-C86)) | R86: =IF(K86="","",K86-J86) | S86: =IF(J86="","",IF(Q86<0,(J86-C86),(J86-B86))) | V86: =IF($Q86="","",IF($Q86<(-1),1,"")) | W86: =IF($Q86="","",IF($Q86<(-2),1,"")) | X86: =IF($Q86="","",IF($Q86>(2),1,"")) | Y86: =IF($Q86="","",IF($Q86>(4),1,"")) | Z86: =IF(S86="","",IF(Q86<0,"",IF(S86>(1),1,""))) | AA86: =IF(J86="","",IF(J86<B86,1,""))
A87: =IF(B87="","",IF(C87<=B87+0.5,1,3.25)+C87) | E87: 315261/26194189 | F87: 03/04/2015 | G87: 25 | H87: BESANCON | I87: sd | Q87: =IF(B87="","",IF(C87="","",B87-C87)) | R87: =IF(K87="","",K87-J87) | S87: =IF(J87="","",IF(Q87<0,(J87-C87),(J87-B87))) | V87: =IF($Q87="","",IF($Q87<(-1),1,"")) | W87: =IF($Q87="","",IF($Q87<(-2),1,"")) | X87: =IF($Q87="","",IF($Q87>(2),1,"")) | Y87: =IF($Q87="","",IF($Q87>(4),1,"")) | Z87: =IF(S87="","",IF(Q87<0,"",IF(S87>(1),1,""))) | AA87: =IF(J87="","",IF(J87<B87,1,""))
A88: =IF(B88="","",IF(C88<=B88+0.5,1,3.25)+C88) -> 1 | B88: 13 | D88: SAVAM SOISSONS | E88: 315365/26194397 | F88: 03/04/2015 | G88: 17 | H88: ROCHELLE (LA) | I88: cv | Q88: =IF(B88="","",IF(C88="","",B88-C88)) | R88: =IF(K88="","",K88-J88) | S88: =IF(J88="","",IF(Q88<0,(J88-C88),(J88-B88))) | V88: =IF($Q88="","",IF($Q88<(-1),1,"")) | W88: =IF($Q88="","",IF($Q88<(-2),1,"")) | X88: =IF($Q88="","",IF($Q88>(2),1,"")) | Y88: =IF($Q88="","",IF($Q88>(4),1,"")) | Z88: =IF(S88="","",IF(Q88<0,"",IF(S88>(1),1,""))) | AA88: =IF(J88="","",IF(J88<B88,1,""))
A89: =IF(B89="","",IF(C89<=B89+0.5,1,3.25)+C89) -> 1 | B89: 13 | D89: SAVAM SOISSONS | E89: 315397/26194194 | F89: 03/04/2015 | G89: 74 | H89: THONON LES BAINS | I89: JP | Q89: =IF(B89="","",IF(C89="","",B89-C89)) | R89: =IF(K89="","",K89-J89) | S89: =IF(J89="","",IF(Q89<0,(J89-C89),(J89-B89))) | V89: =IF($Q89="","",IF($Q89<(-1),1,"")) | W89: =IF($Q89="","",IF($Q89<(-2),1,"")) | X89: =IF($Q89="","",IF($Q89>(2),1,"")) | Y89: =IF($Q89="","",IF($Q89>(4),1,"")) | Z89: =IF(S89="","",IF(Q89<0,"",IF(S89>(1),1,""))) | AA89: =IF(J89="","",IF(J89<B89,1,""))
A90: =IF(B90="","",IF(C90<=B90+0.5,1,3.25)+C90) -> 1 | B90: 13 | D90: LONJON FR1 | E90: 315256/26191681 | F90: 03/04/2015 | G90: 31 | H90: COLOMIERS | I90: MPT | Q90: =IF(B90="","",IF(C90="","",B90-C90)) | R90: =IF(K90="","",K90-J90) | S90: =IF(J90="","",IF(Q90<0,(J90-C90),(J90-B90))) | V90: =IF($Q90="","",IF($Q90<(-1),1,"")) | W90: =IF($Q90="","",IF($Q90<(-2),1,"")) | X90: =IF($Q90="","",IF($Q90>(2),1,"")) | Y90: =IF($Q90="","",IF($Q90>(4),1,"")) | Z90: =IF(S90="","",IF(Q90<0,"",IF(S90>(1),1,""))) | AA90: =IF(J90="","",IF(J90<B90,1,""))
A91: =IF(B91="","",IF(C91<=B91+0.5,1,3.25)+C91) | E91: 315256/26194276 | F91: 03/04/2015 | G91: 82 | H91: LAVIT | I91: FK | Q91: =IF(B91="","",IF(C91="","",B91-C91)) | R91: =IF(K91="","",K91-J91) | S91: =IF(J91="","",IF(Q91<0,(J91-C91),(J91-B91))) | V91: =IF($Q91="","",IF($Q91<(-1),1,"")) | W91: =IF($Q91="","",IF($Q91<(-2),1,"")) | X91: =IF($Q91="","",IF($Q91>(2),1,"")) | Y91: =IF($Q91="","",IF($Q91>(4),1,"")) | Z91: =IF(S91="","",IF(Q91<0,"",IF(S91>(1),1,""))) | AA91: =IF(J91="","",IF(J91<B91,1,""))
A92: =IF(B92="","",IF(C92<=B92+0.5,1,3.25)+C92) -> 1 | B92: 13 | D92: DELATTE FR | E92: 315399/26194028 | F92: 03/04/2015 | G92: 62 | H92: SAINT LAURENT BLANGY | I92: EB | Q92: =IF(B92="","",IF(C92="","",B92-C92)) | R92: =IF(K92="","",K92-J92) | S92: =IF(J92="","",IF(Q92<0,(J92-C92),(J92-B92))) | V92: =IF($Q92="","",IF($Q92<(-1),1,"")) | W92: =IF($Q92="","",IF($Q92<(-2),1,"")) | X92: =IF($Q92="","",IF($Q92>(2),1,"")) | Y92: =IF($Q92="","",IF($Q92>(4),1,"")) | Z92: =IF(S92="","",IF(Q92<0,"",IF(S92>(1),1,""))) | AA92: =IF(J92="","",IF(J92<B92,1,""))
A93: =IF(B93="","",IF(C93<=B93+0.5,1,3.25)+C93) | E93: 315399/26193504 | F93: 03/04/2015 | G93: 62 | H93: ROQUETOIRE | I93: eb | Q93: =IF(B93="","",IF(C93="","",B93-C93)) | R93: =IF(K93="","",K93-J93) | S93: =IF(J93="","",IF(Q93<0,(J93-C93),(J93-B93))) | V93: =IF($Q93="","",IF($Q93<(-1),1,"")) | W93: =IF($Q93="","",IF($Q93<(-2),1,"")) | X93: =IF($Q93="","",IF($Q93>(2),1,"")) | Y93: =IF($Q93="","",IF($Q93>(4),1,"")) | Z93: =IF(S93="","",IF(Q93<0,"",IF(S93>(1),1,""))) | AA93: =IF(J93="","",IF(J93<B93,1,""))
A94: =IF(B94="","",IF(C94<=B94+0.5,1,3.25)+C94) | E94: 315399/26187021 | F94: 03/04/2015 | G94: 62 | H94: SAINT LEONARD | I94: EB | Q94: =IF(B94="","",IF(C94="","",B94-C94)) | R94: =IF(K94="","",K94-J94) | S94: =IF(J94="","",IF(Q94<0,(J94-C94),(J94-B94))) | V94: =IF($Q94="","",IF($Q94<(-1),1,"")) | W94: =IF($Q94="","",IF($Q94<(-2),1,"")) | X94: =IF($Q94="","",IF($Q94>(2),1,"")) | Y94: =IF($Q94="","",IF($Q94>(4),1,"")) | Z94: =IF(S94="","",IF(Q94<0,"",IF(S94>(1),1,""))) | AA94: =IF(J94="","",IF(J94<B94,1,""))
A95: =IF(B95="","",IF(C95<=B95+0.5,1,3.25)+C95) | E95: 315399/26194751 | F95: 03/04/2015 | G95: 62 | H95: ROUVROY | I95: EB | Q95: =IF(B95="","",IF(C95="","",B95-C95)) | R95: =IF(K95="","",K95-J95) | S95: =IF(J95="","",IF(Q95<0,(J95-C95),(J95-B95))) | V95: =IF($Q95="","",IF($Q95<(-1),1,"")) | W95: =IF($Q95="","",IF($Q95<(-2),1,"")) | X95: =IF($Q95="","",IF($Q95>(2),1,"")) | Y95: =IF($Q95="","",IF($Q95>(4),1,"")) | Z95: =IF(S95="","",IF(Q95<0,"",IF(S95>(1),1,""))) | AA95: =IF(J95="","",IF(J95<B95,1,""))
A96: =IF(B96="","",IF(C96<=B96+0.5,1,3.25)+C96) | E96: 315399/26194023 | F96: 03/04/2015 | G96: 62 | H96: BERCK SUR MER | I96: EB | Q96: =IF(B96="","",IF(C96="","",B96-C96)) | R96: =IF(K96="","",K96-J96) | S96: =IF(J96="","",IF(Q96<0,(J96-C96),(J96-B96))) | V96: =IF($Q96="","",IF($Q96<(-1),1,"")) | W96: =IF($Q96="","",IF($Q96<(-2),1,"")) | X96: =IF($Q96="","",IF($Q96>(2),1,"")) | Y96: =IF($Q96="","",IF($Q96>(4),1,"")) | Z96: =IF(S96="","",IF(Q96<0,"",IF(S96>(1),1,""))) | AA96: =IF(J96="","",IF(J96<B96,1,""))
A97: =IF(B97="","",IF(C97<=B97+0.5,1,3.25)+C97) -> 1 | B97: 13 | D97: LE BELLER | E97: 315405/26188682 | F97: 03/04/2015 | G97: 56 | H97: PLESCOP | I97: cf | Q97: =IF(B97="","",IF(C97="","",B97-C97)) | R97: =IF(K97="","",K97-J97) | S97: =IF(J97="","",IF(Q97<0,(J97-C97),(J97-B97))) | V97: =IF($Q97="","",IF($Q97<(-1),1,"")) | W97: =IF($Q97="","",IF($Q97<(-2),1,"")) | X97: =IF($Q97="","",IF($Q97>(2),1,"")) | Y97: =IF($Q97="","",IF($Q97>(4),1,"")) | Z97: =IF(S97="","",IF(Q97<0,"",IF(S97>(1),1,""))) | AA97: =IF(J97="","",IF(J97<B97,1,""))
A98: =IF(B98="","",IF(C98<=B98+0.5,1,3.25)+C98) | E98: 315405/26186513REL/365 | F98: 03/04/2015 | G98: 56 | H98: PLESCOP | I98: CF | Q98: =IF(B98="","",IF(C98="","",B98-C98)) | R98: =IF(K98="","",K98-J98) | S98: =IF(J98="","",IF(Q98<0,(J98-C98),(J98-B98))) | V98: =IF($Q98="","",IF($Q98<(-1),1,"")) | W98: =IF($Q98="","",IF($Q98<(-2),1,"")) | X98: =IF($Q98="","",IF($Q98>(2),1,"")) | Y98: =IF($Q98="","",IF($Q98>(4),1,"")) | Z98: =IF(S98="","",IF(Q98<0,"",IF(S98>(1),1,""))) | AA98: =IF(J98="","",IF(J98<B98,1,""))
A99: =IF(B99="","",IF(C99<=B99+0.5,1,3.25)+C99) -> 1 | B99: 13 | D99: ND VOL IBERIA LOUAGE | E99: 366/26193276 | F99: 03/04/2015 | G99: 29 | H99: QUIMPER | I99: CF | Q99: =IF(B99="","",IF(C99="","",B99-C99)) | R99: =IF(K99="","",K99-J99) | S99: =IF(J99="","",IF(Q99<0,(J99-C99),(J99-B99))) | V99: =IF($Q99="","",IF($Q99<(-1),1,"")) | W99: =IF($Q99="","",IF($Q99<(-2),1,"")) | X99: =IF($Q99="","",IF($Q99>(2),1,"")) | Y99: =IF($Q99="","",IF($Q99>(4),1,"")) | Z99: =IF(S99="","",IF(Q99<0,"",IF(S99>(1),1,""))) | AA99: =IF(J99="","",IF(J99<B99,1,""))
A100: =IF(B100="","",IF(C100<=B100+0.5,1,3.25)+C100) | E100: 366/26193656 | F100: 03/04/2015 | G100: 29 | H100: MORLAIX | I100: cf | Q100: =IF(B100="","",IF(C100="","",B100-C100)) | R100: =IF(K100="","",K100-J100) | S100: =IF(J100="","",IF(Q100<0,(J100-C100),(J100-B100))) | V100: =IF($Q100="","",IF($Q100<(-1),1,"")) | W100: =IF($Q100="","",IF($Q100<(-2),1,"")) | X100: =IF($Q100="","",IF($Q100>(2),1,"")) | Y100: =IF($Q100="","",IF($Q100>(4),1,"")) | Z100: =IF(S100="","",IF(Q100<0,"",IF(S100>(1),1,""))) | AA100: =IF(J100="","",IF(J100<B100,1,""))
A101: =IF(B101="","",IF(C101<=B101+0.5,1,3.25)+C101) -> 1 | B101: 14 | D101: TND VOLUME SEV | E101: 315381/26194173 | F101: 03/04/2015 | G101: 45 | H101: VILLEMANDEUR | I101: sd | Q101: =IF(B101="","",IF(C101="","",B101-C101)) | R101: =IF(K101="","",K101-J101) | S101: =IF(J101="","",IF(Q101<0,(J101-C101),(J101-B101))) | V101: =IF($Q101="","",IF($Q101<(-1),1,"")) | W101: =IF($Q101="","",IF($Q101<(-2),1,"")) | X101: =IF($Q101="","",IF($Q101>(2),1,"")) | Y101: =IF($Q101="","",IF($Q101>(4),1,"")) | Z101: =IF(S101="","",IF(Q101<0,"",IF(S101>(1),1,""))) | AA101: =IF(J101="","",IF(J101<B101,1,""))
A102: =IF(B102="","",IF(C102<=B102+0.5,1,3.25)+C102) | E102: 315381/26194164 | F102: 03/04/2015 | G102: 45 | H102: COURTENAY | I102: sd | Q102: =IF(B102="","",IF(C102="","",B102-C102)) | R102: =IF(K102="","",K102-J102) | S102: =IF(J102="","",IF(Q102<0,(J102-C102),(J102-B102))) | V102: =IF($Q102="","",IF($Q102<(-1),1,"")) | W102: =IF($Q102="","",IF($Q102<(-2),1,"")) | X102: =IF($Q102="","",IF($Q102>(2),1,"")) | Y102: =IF($Q102="","",IF($Q102>(4),1,"")) | Z102: =IF(S102="","",IF(Q102<0,"",IF(S102>(1),1,""))) | AA102: =IF(J102="","",IF(J102<B102,1,""))
...

Sheet Récap
B1: JOURNEE | D1: ='1'!D1 -> 42096 | G1: ='1'!G1 -> 0 | H1: ='1'!H1 -> 69 camions
A3: Nbre de | B3: camion en | C3: retard +1h | D3: =SUM('1'!V:V) -> 3 | E3: dont +2 heures : | G3: =SUM('1'!W:W) -> 3 | H3: Soit : | I3: =IF(ISERROR(D3/D26),0,(D3/D26)) -> 1.5 | J3: de retard
A5: Nbre de | B5: camion en | C5: avance + 2h | D5: =SUM('1'!X:X) -> 0 | E5: dont +4heures : | G5: =SUM('1'!Y:Y) -> 0
D7: Chargement TND | E7: Chgt Autres | F7: Rception | H7: Total cariste
C8: AB | D8: =COUNTIF('1'!N:N,Récap!C8) -> 0 | H8: =SUM(D8:G8) -> 0
C9: CS | D9: =COUNTIF('1'!N:N,Récap!C9) -> 0 | H9: =SUM(D9:G9) -> 0
C10: DA | D10: =COUNTIF('1'!N:N,Récap!C10) -> 0 | H10: =SUM(D10:G10) -> 0
C11: DD | D11: =COUNTIF('1'!N:N,Récap!C11) -> 0 | H11: =SUM(D11:G11) -> 0
C12: BL | D12: =COUNTIF('1'!N:N,Récap!C12) -> 0 | H12: =SUM(D12:G12) -> 0
C13: DP | D13: =COUNTIF('1'!N:N,Récap!C13) -> 0 | H13: =SUM(D13:G13) -> 0
C14: EG | D14: =COUNTIF('1'!N:N,Récap!C14) -> 2 | H14: =SUM(D14:G14) -> 2
C15: FDS | D15: =COUNTIF('1'!N:N,Récap!C15) -> 0 | H15: =SUM(D15:G15) -> 0
C16: RM | D16: =COUNTIF('1'!N:N,Récap!C16) -> 0 | H16: =SUM(D16:G16) -> 0
C17: SK | D17: =COUNTIF('1'!N:N,Récap!C17) -> 0 | H17: =SUM(D17:G17) -> 0
C18: MRI | D18: =COUNTIF('1'!N:N,Récap!C18) -> 0 | H18: =SUM(D18:G18) -> 0
C19: CT | D19: =COUNTIF('1'!N:N,Récap!C19) -> 0 | H19: =SUM(D19:G19) -> 0
... C24: LL | D24: =COUNTIF('1'!N:N,Récap!C24) -> 0 | H24: =SUM(D24:G24) -> 0
D25: =COUNTIF('1'!N:N,Récap!C25) -> 0 | H25: =SUM(D25:G25) -> 0
D26: =SUM(D8:D25) -> 2 | E26: =SUM(E8:E25) -> 0 | F26: =SUM(F8:F25) -> 0 | G26: =SUM(G8:G25) -> 0 | H26: =SUM(H8:H25) -> 2
A28: Nbre de | B28: camion | C28: en retard | D28: au chargement : | E28: =SUM('1'!Z:Z) -> 0 | F28: soit : | G28: =IF(ISERROR(E28/D26),0,(E28/D26)) -> 0 | H28: de retard
A29: Nbre de | B29: camion | C29: en avance | D29: au chargement : | E29: =SUM('1'!AA:AA) -> 0 | F29: soit : | G29: =IF(ISERROR(E29/D26),0,(E29/D26)) -> 0 | H29: d'avance
