Workbook

Sheet 1
B1: JOURNEE | D1: 42096 | H1: 69 camions
A3: chargmt | B3: HEURE DE CHARGEMENT | C3: HEURE REELLE | D3: TRANSPORTEUR | F3: DATE DE LIVRAISON | G3: CP | H3: DESTINATION VILLE | I3: CODE VENDEUR | J3: début chargement | K3: fin chargement | L3: Heure départ | M3: Nplace | N3: Cariste chargeur | O3: Cariste validant | P3: N tél conducteur | Q3: Heure prévue/heure arrivée | R3: Temps de chargement | S3: Retard chargement | T3: COMMENTAIRES | V3: V | W3: W | X3: X | Y3: Y | Z3: Z | AA3: AA
A5: =IF(B5="","",IF(C5<=B5,1,3.25)+C5) -> 13.5 | B5: 13 | C5: 12.5 | D5: TND VOLUME SEV | E5: 315387/26193893 | F5: 03/04/2015 | G5: 94 | H5: ORLY | I5: SD | J5: 13.5 | N5: EG | O5: EG | Q5: =IF(B5="","",IF(C5="","",B5-C5)) -> 0.5 | R5: =IF(K5="","",K5-J5) | S5: =IF(J5="","",IF(Q5<0,(J5-C5),(J5-B5))) -> 0.5 | V5: =IF($Q5="","",IF($Q5<(-1),1,"")) | W5: =IF($Q5="","",IF($Q5<(-2),1,"")) | X5: =IF($Q5="","",IF($Q5>(2),1,"")) | Y5: =IF($Q5="","",IF($Q5>(4),1,"")) | Z5: =IF(S5="","",IF(Q5<0,"",IF(S5>(1),1,""))) | AA5: =IF(J5="","",IF(J5<B5,1,""))
A6: =IF(B6="","",IF(C6<=B6,1,3.25)+C6) -> 16 | B6: 15 | C6: 15 | D6: SAVAM SOISSONS | E6: 315264/26192163SOL | F6: 02/04/2015 | G6: 45 | H6: INGRE | I6: SD | N6: EG | O6: EG | Q6: =IF(B6="","",IF(C6="","",B6-C6)) -> 0 | R6: =IF(K6="","",K6-J6) | S6: =IF(J6="","",IF(Q6<0,(J6-C6),(J6-B6))) | V6: =IF($Q6="","",IF($Q6<(-1),1,"")) | W6: =IF($Q6="","",IF($Q6<(-2),1,"")) | X6: =IF($Q6="","",IF($Q6>(2),1,"")) | Y6: =IF($Q6="","",IF($Q6>(4),1,"")) | Z6: =IF(S6="","",IF(Q6<0,"",IF(S6>(1),1,""))) | AA6: =IF(J6="","",IF(J6<B6,1,""))
A7: =IF(B7="","",IF(C7<=B7,1,3.25)+C7) | E7: 315264/26193948 | F7: 02/04/2015 | G7: 45 | H7: CHATEAURENARD | I7: SD | Q7: =IF(B7="","",IF(C7="","",B7-C7)) | R7: =IF(K7="","",K7-J7) | S7: =IF(J7="","",IF(Q7<0,(J7-C7),(J7-B7))) | V7: =IF($Q7="","",IF($Q7<(-1),1,"")) | W7: =IF($Q7="","",IF($Q7<(-2),1,"")) | X7: =IF($Q7="","",IF($Q7>(2),1,"")) | Y7: =IF($Q7="","",IF($Q7>(4),1,"")) | Z7: =IF(S7="","",IF(Q7<0,"",IF(S7>(1),1,""))) | AA7: =IF(J7="","",IF(J7<B7,1,""))
A8: =IF(B8="","",IF(C8<=B8,1,3.25)+C8) | E8: 315264/26193951 | F8: 02/04/2015 | G8: 45 | H8: CHATEAURENARD | I8: SD | Q8: =IF(B8="","",IF(C8="","",B8-C8)) | R8: =IF(K8="","",K8-J8) | S8: =IF(J8="","",IF(Q8<0,(J8-C8),(J8-B8))) | V8: =IF($Q8="","",IF($Q8<(-1),1,"")) | W8: =IF($Q8="","",IF($Q8<(-2),1,"")) | X8: =IF($Q8="","",IF($Q8>(2),1,"")) | Y8: =IF($Q8="","",IF($Q8>(4),1,"")) | Z8: =IF(S8="","",IF(Q8<0,"",IF(S8>(1),1,""))) | AA8: =IF(J8="","",IF(J8<B8,1,""))
A9: =IF(B9="","",IF(C9<=B9,1,3.25)+C9) | E9: 315264/26192075 | F9: 02/04/2015 | G9: 45 | H9: CHATEAURENARD | I9: SD | Q9: =IF(B9="","",IF(C9="","",B9-C9)) | R9: =IF(K9="","",K9-J9) | S9: =IF(J9="","",IF(Q9<0,(J9-C9),(J9-B9))) | V9: =IF($Q9="","",IF($Q9<(-1),1,"")) | W9: =IF($Q9="","",IF($Q9<(-2),1,"")) | X9: =IF($Q9="","",IF($Q9>(2),1,"")) | Y9: =IF($Q9="","",IF($Q9>(4),1,"")) | Z9: =IF(S9="","",IF(Q9<0,"",IF(S9>(1),1,""))) | AA9: =IF(J9="","",IF(J9<B9,1,""))
A10: =IF(B10="","",IF(C10<=B10,1,3.25)+C10) | E10: 315264/26193808 | F10: 02/04/2015 | G10: 45 | H10: SULLY SUR LOIRE | I10: SD | Q10: =IF(B10="","",IF(C10="","",B10-C10)) | R10: =IF(K10="","",K10-J10) | S10: =IF(J10="","",IF(Q10<0,(J10-C10),(J10-B10))) | V10: =IF($Q10="","",IF($Q10<(-1),1,"")) | W10: =IF($Q10="","",IF($Q10<(-2),1,"")) | X10: =IF($Q10="","",IF($Q10>(2),1,"")) | Y10: =IF($Q10="","",IF($Q10>(4),1,"")) | Z10: =IF(S10="","",IF(Q10<0,"",IF(S10>(1),1,""))) | AA10: =IF(J10="","",IF(J10<B10,1,""))
A11: =IF(B11="","",IF(C11<=B11,1,3.25)+C11) -> 15.5 | B11: 10 | C11: 12.25 | D11: SEBER ES25 | E11: 315372/26193977 | F11: 03/04/2015 | G11: 64 | H11: BAYONNE | I11: CV | J11: 12.25 | Q11: =IF(B11="","",IF(C11="","",B11-C11)) -> -2.25 | R11: =IF(K11="","",K11-J11) | S11: =IF(J11="","",IF(Q11<0,(J11-C11),(J11-B11))) -> 0 | V11: =IF($Q11="","",IF($Q11<(-1),1,"")) -> 1 | W11: =IF($Q11="","",IF($Q11<(-2),1,"")) -> 1 | X11: =IF($Q11="","",IF($Q11>(2),1,"")) | Y11: =IF($Q11="","",IF($Q11>(4),1,"")) | Z11: =IF(S11="","",IF(Q11<0,"",IF(S11>(1),1,""))) | AA11: =IF(J11="","",IF(J11<B11,1,""))
A12: =IF(B12="","",IF(C12<=B12,1,3.25)+C12) | E12: 315372/26193829 | F12: 03/04/2015 | G12: 64 | H12: BAYONNE | I12: EG | Q12: =IF(B12="","",IF(C12="","",B12-C12)) | R12: =IF(K12="","",K12-J12) | S12: =IF(J12="","",IF(Q12<0,(J12-C12),(J12-B12))) | V12: =IF($Q12="","",IF($Q12<(-1),1,"")) | W12: =IF($Q12="","",IF($Q12<(-2),1,"")) | X12: =IF($Q12="","",IF($Q12>(2),1,"")) | Y12: =IF($Q12="","",IF($Q12>(4),1,"")) | Z12: =IF(S12="","",IF(Q12<0,"",IF(S12>(1),1,""))) | AA12: =IF(J12="","",IF(J12<B12,1,""))
A13: =IF(B13="","",IF(C13<=B13,1,3.25)+C13) | E13: 315372/26192888 | F13: 03/04/2015 | G13: 64 | H13: SAINT JEAN DE LUZ | I13: CV | Q13: =IF(B13="","",IF(C13="","",B13-C13)) | R13: =IF(K13="","",K13-J13) | S13: =IF(J13="","",IF(Q13<0,(J13-C13),(J13-B13))) | V13: =IF($Q13="","",IF($Q13<(-1),1,"")) | W13: =IF($Q13="","",IF($Q13<(-2),1,"")) | X13: =IF($Q13="","",IF($Q13>(2),1,"")) | Y13: =IF($Q13="","",IF($Q13>(4),1,"")) | Z13: =IF(S13="","",IF(Q13<0,"",IF(S13>(1),1,""))) | AA13: =IF(J13="","",IF(J13<B13,1,""))
A14: =IF(B14="","",IF(C14<=B14,1,3.25)+C14) | E14: 315372/26192898 | F14: 03/04/2015 | G14: 64 | H14: SAINT JEAN DE LUZ | I14: CV | Q14: =IF(B14="","",IF(C14="","",B14-C14)) | R14: =IF(K14="","",K14-J14) | S14: =IF(J14="","",IF(Q14<0,(J14-C14),(J14-B14))) | V14: =IF($Q14="","",IF($Q14<(-1),1,"")) | W14: =IF($Q14="","",IF($Q14<(-2),1,"")) | X14: =IF($Q14="","",IF($Q14>(2),1,"")) | Y14: =IF($Q14="","",IF($Q14>(4),1,"")) | Z14: =IF(S14="","",IF(Q14<0,"",IF(S14>(1),1,""))) | AA14: =IF(J14="","",IF(J14<B14,1,""))
A15: =IF(B15="","",IF(C15<=B15,1,3.25)+C15) -> 6.5 | B15: 6 | C15: 5.5 | D15: LE BELLER | E15: 315262/26193429 | F15: 03/04/2015 | G15: 44 | H15: NANTES | I15: cd | Q15: =IF(B15="","",IF(C15="","",B15-C15)) -> 0.5 | R15: =IF(K15="","",K15-J15) | S15: =IF(J15="","",IF(Q15<0,(J15-C15),(J15-B15))) | V15: =IF($Q15="","",IF($Q15<(-1),1,"")) | W15: =IF($Q15="","",IF($Q15<(-2),1,"")) | X15: =IF($Q15="","",IF($Q15>(2),1,"")) | Y15: =IF($Q15="","",IF($Q15>(4),1,"")) | Z15: =IF(S15="","",IF(Q15<0,"",IF(S15>(1),1,""))) | AA15: =IF(J15="","",IF(J15<B15,1,""))
A16: =IF(B16="","",IF(C16<=B16,1,3.25)+C16) | E16: 315262/26193794 | F16: 03/04/2015 | G16: 85 | H16: LUCON | I16: mn | Q16: =IF(B16="","",IF(C16="","",B16-C16)) | R16: =IF(K16="","",K16-J16) | S16: =IF(J16="","",IF(Q16<0,(J16-C16),(J16-B16))) | V16: =IF($Q16="","",IF($Q16<(-1),1,"")) | W16: =IF($Q16="","",IF($Q16<(-2),1,"")) | X16: =IF($Q16="","",IF($Q16>(2),1,"")) | Y16: =IF($Q16="","",IF($Q16>(4),1,"")) | Z16: =IF(S16="","",IF(Q16<0,"",IF(S16>(1),1,""))) | AA16: =IF(J16="","",IF(J16<B16,1,""))
A17: =IF(B17="","",IF(C17<=B17,1,3.25)+C17) | E17: 315262/26193849 | F17: 03/04/2015 | G17: 85 | H17: LONGEVILLE SUR MER | I17: mn | Q17: =IF(B17="","",IF(C17="","",B17-C17)) | R17: =IF(K17="","",K17-J17) | S17: =IF(J17="","",IF(Q17<0,(J17-C17),(J17-B17))) | V17: =IF($Q17="","",IF($Q17<(-1),1,"")) | W17: =IF($Q17="","",IF($Q17<(-2),1,"")) | X17: =IF($Q17="","",IF($Q17>(2),1,"")) | Y17: =IF($Q17="","",IF($Q17>(4),1,"")) | Z17: =IF(S17="","",IF(Q17<0,"",IF(S17>(1),1,""))) | AA17: =IF(J17="","",IF(J17<B17,1,""))
A18: =IF(B18="","",IF(C18<=B18,1,3.25)+C18) -> 10 | B18: 6 | C18: 6.75 | D18: SCHUON DE7 | E18: 315400/26190111 | F18: 02/04/2015 | G18: 10 | H18: ROSIERES PRES TROYES | I18: EB | Q18: =IF(B18="","",IF(C18="","",B18-C18)) -> -0.75 | R18: =IF(K18="","",K18-J18) | S18: =IF(J18="","",IF(Q18<0,(J18-C18),(J18-B18))) | V18: =IF($Q18="","",IF($Q18<(-1),1,"")) | W18: =IF($Q18="","",IF($Q18<(-2),1,"")) | X18: =IF($Q18="","",IF($Q18>(2),1,"")) | Y18: =IF($Q18="","",IF($Q18>(4),1,"")) | Z18: =IF(S18="","",IF(Q18<0,"",IF(S18>(1),1,""))) | AA18: =IF(J18="","",IF(J18<B18,1,""))
A19: =IF(B19="","",IF(C19<=B19,1,3.25)+C19) | E19: 315400/26194180 | F19: 02/04/2015 | G19: 10 | H19: TORCY LE GRAND | I19: EB | Q19: =IF(B19="","",IF(C19="","",B19-C19)) | R19: =IF(K19="","",K19-J19) | S19: =IF(J19="","",IF(Q19<0,(J19-C19),(J19-B19))) | V19: =IF($Q19="","",IF($Q19<(-1),1,"")) | W19: =IF($Q19="","",IF($Q19<(-2),1,"")) | X19: =IF($Q19="","",IF($Q19>(2),1,"")) | Y19: =IF($Q19="","",IF($Q19>(4),1,"")) | Z19: =IF(S19="","",IF(Q19<0,"",IF(S19>(1),1,""))) | AA19: =IF(J19="","",IF(J19<B19,1,""))
A20: =IF(B20="","",IF(C20<=B20,1,3.25)+C20) | E20: 315400/26193103REL | F20: 02/04/2015 | G20: 52 | H20: CHAUMONT | I20: EB | Q20: =IF(B20="","",IF(C20="","",B20-C20)) | R20: =IF(K20="","",K20-J20) | S20: =IF(J20="","",IF(Q20<0,(J20-C20),(J20-B20))) | V20: =IF($Q20="","",IF($Q20<(-1),1,"")) | W20: =IF($Q20="","",IF($Q20<(-2),1,"")) | X20: =IF($Q20="","",IF($Q20>(2),1,"")) | Y20: =IF($Q20="","",IF($Q20>(4),1,"")) | Z20: =IF(S20="","",IF(Q20<0,"",IF(S20>(1),1,""))) | AA20: =IF(J20="","",IF(J20<B20,1,""))
A21: =IF(B21="","",IF(C21<=B21,1,3.25)+C21) -> 7 | B21: 6 | C21: 6 | D21: TND VOLUME SEV | E21: 315385/26193875 | F21: 03/04/2015 | G21: 75 | H21: PARIS | I21: fk | Q21: =IF(B21="","",IF(C21="","",B21-C21)) -> 0 | R21: =IF(K21="","",K21-J21) | S21: =IF(J21="","",IF(Q21<0,(J21-C21),(J21-B21))) | V21: =IF($Q21="","",IF($Q21<(-1),1,"")) | W21: =IF($Q21="","",IF($Q21<(-2),1,"")) | X21: =IF($Q21="","",IF($Q21>(2),1,"")) | Y21: =IF($Q21="","",IF($Q21>(4),1,"")) | Z21: =IF(S21="","",IF(Q21<0,"",IF(S21>(1),1,""))) | AA21: =IF(J21="","",IF(J21<B21,1,""))
A22: =IF(B22="","",IF(C22<=B22,1,3.25)+C22) | E22: 315385/26193883SOL | F22: 03/04/2015 | G22: 91 | H22: SAULX LES CHARTREUX | I22: fk | Q22: =IF(B22="","",IF(C22="","",B22-C22)) | R22: =IF(K22="","",K22-J22) | S22: =IF(J22="","",IF(Q22<0,(J22-C22),(J22-B22))) | V22: =IF($Q22="","",IF($Q22<(-1),1,"")) | W22: =IF($Q22="","",IF($Q22<(-2),1,"")) | X22: =IF($Q22="","",IF($Q22>(2),1,"")) | Y22: =IF($Q22="","",IF($Q22>(4),1,"")) | Z22: =IF(S22="","",IF(Q22<0,"",IF(S22>(1),1,""))) | AA22: =IF(J22="","",IF(J22<B22,1,""))
A23: =IF(B23="","",IF(C23<=B23,1,3.25)+C23) -> 10.58 | B23: 7 | C23: 7.33 | D23: TND VOLUME SEV | E23: 315386/26193635REL | F23: 03/04/2015 | G23: 92 | H23: CLAMART | I23: fk | Q23: =IF(B23="","",IF(C23="","",B23-C23)) -> -0.33 | R23: =IF(K23="","",K23-J23) | S23: =IF(J23="","",IF(Q23<0,(J23-C23),(J23-B23))) | V23: =IF($Q23="","",IF($Q23<(-1),1,"")) | W23: =IF($Q23="","",IF($Q23<(-2),1,"")) | X23: =IF($Q23="","",IF($Q23>(2),1,"")) | Y23: =IF($Q23="","",IF($Q23>(4),1,"")) | Z23: =IF(S23="","",IF(Q23<0,"",IF(S23>(1),1,""))) | AA23: =IF(J23="","",IF(J23<B23,1,""))
A24: =IF(B24="","",IF(C24<=B24,1,3.25)+C24) | E24: 315386/26194184REL | F24: 03/04/2015 | G24: 92 | H24: CHATILLON | I24: fk | Q24: =IF(B24="","",IF(C24="","",B24-C24)) | R24: =IF(K24="","",K24-J24) | S24: =IF(J24="","",IF(Q24<0,(J24-C24),(J24-B24))) | V24: =IF($Q24="","",IF($Q24<(-1),1,"")) | W24: =IF($Q24="","",IF($Q24<(-2),1,"")) | X24: =IF($Q24="","",IF($Q24>(2),1,"")) | Y24: =IF($Q24="","",IF($Q24>(4),1,"")) | Z24: =IF(S24="","",IF(Q24<0,"",IF(S24>(1),1,""))) | AA24: =IF(J24="","",IF(J24<B24,1,""))
A25: =IF(B25="","",IF(C25<=B25,1,3.25)+C25) -> 15.25 | B25: 7 | C25: 12 | D25: SEBER ES25 | E25: 315367/26194365 | F25: 03/04/2015 | G25: 40 | H25: SAINT GEOURS DE MAREMNE | I25: MPT | Q25: =IF(B25="","",IF(C25="","",B25-C25)) -> -5 | R25: =IF(K25="","",K25-J25) | S25: =IF(J25="","",IF(Q25<0,(J25-C25),(J25-B25))) | V25: =IF($Q25="","",IF($Q25<(-1),1,"")) -> 1 | W25: =IF($Q25="","",IF($Q25<(-2),1,"")) -> 1 | X25: =IF($Q25="","",IF($Q25>(2),1,"")) | Y25: =IF($Q25="","",IF($Q25>(4),1,"")) | Z25: =IF(S25="","",IF(Q25<0,"",IF(S25>(1),1,""))) | AA25: =IF(J25="","",IF(J25<B25,1,""))
A26: =IF(B26="","",IF(C26<=B26,1,3.25)+C26) -> 16.25 | B26: 8 | C26: 13 | D26: TND VOLUME SEV | E26: 315383/26193962 | F26: 03/04/2015 | G26: 93 | H26: AUBERVILLIERS | I26: fk | Q26: =IF(B26="","",IF(C26="","",B26-C26)) -> -5 | R26: =IF(K26="","",K26-J26) | S26: =IF(J26="","",IF(Q26<0,(J26-C26),(J26-B26))) | V26: =IF($Q26="","",IF($Q26<(-1),1,"")) -> 1 | W26: =IF($Q26="","",IF($Q26<(-2),1,"")) -> 1 | X26: =IF($Q26="","",IF($Q26>(2),1,"")) | Y26: =IF($Q26="","",IF($Q26>(4),1,"")) | Z26: =IF(S26="","",IF(Q26<0,"",IF(S26>(1),1,""))) | AA26: =IF(J26="","",IF(J26<B26,1,""))
A27: =IF(B27="","",IF(C27<=B27,1,3.25)+C27) | E27: 315383/26190849 | F27: 03/04/2015 | G27: 93 | H27: SAINT OUEN | I27: fk | Q27: =IF(B27="","",IF(C27="","",B27-C27)) | R27: =IF(K27="","",K27-J27) | S27: =IF(J27="","",IF(Q27<0,(J27-C27),(J27-B27))) | V27: =IF($Q27="","",IF($Q27<(-1),1,"")) | W27: =IF($Q27="","",IF($Q27<(-2),1,"")) | X27: =IF($Q27="","",IF($Q27>(2),1,"")) | Y27: =IF($Q27="","",IF($Q27>(4),1,"")) | Z27: =IF(S27="","",IF(Q27<0,"",IF(S27>(1),1,""))) | AA27: =IF(J27="","",IF(J27<B27,1,""))
A28: =IF(B28="","",IF(C28<=B28,1,3.25)+C28) -> 8.75 | B28: 8 | C28: 7.75 | D28: UTP FR13 | E28: 315404/26194371 | F28: 03/04/2015 | G28: 7 | H28: VOULTE SUR RHONE (LA) | I28: JP | Q28: =IF(B28="","",IF(C28="","",B28-C28)) -> 0.25 | R28: =IF(K28="","",K28-J28) | S28: =IF(J28="","",IF(Q28<0,(J28-C28),(J28-B28))) | V28: =IF($Q28="","",IF($Q28<(-1),1,"")) | W28: =IF($Q28="","",IF($Q28<(-2),1,"")) | X28: =IF($Q28="","",IF($Q28>(2),1,"")) | Y28: =IF($Q28="","",IF($Q28>(4),1,"")) | Z28: =IF(S28="","",IF(Q28<0,"",IF(S28>(1),1,""))) | AA28: =IF(J28="","",IF(J28<B28,1,""))
A29: =IF(B29="","",IF(C29<=B29,1,3.25)+C29) | E29: 315404/26194054 | F29: 03/04/2015 | G29: 84 | H29: CARPENTRAS | I29: OS | Q29: =IF(B29="","",IF(C29="","",B29-C29)) | R29: =IF(K29="","",K29-J29) | S29: =IF(J29="","",IF(Q29<0,(J29-C29),(J29-B29))) | V29: =IF($Q29="","",IF($Q29<(-1),1,"")) | W29: =IF($Q29="","",IF($Q29<(-2),1,"")) | X29: =IF($Q29="","",IF($Q29>(2),1,"")) | Y29: =IF($Q29="","",IF($Q29>(4),1,"")) | Z29: =IF(S29="","",IF(Q29<0,"",IF(S29>(1),1,""))) | AA29: =IF(J29="","",IF(J29<B29,1,""))
A30: =IF(B30="","",IF(C30<=B30,1,3.25)+C30) -> 1 | B30: 9 | D30: TND VOLUME SEV | E30: 315384/26193883REL | F30: 03/04/2015 | G30: 91 | H30: SAULX LES CHARTREUX | Q30: =IF(B30="","",IF(C30="","",B30-C30)) | R30: =IF(K30="","",K30-J30) | S30: =IF(J30="","",IF(Q30<0,(J30-C30),(J30-B30))) | V30: =IF($Q30="","",IF($Q30<(-1),1,"")) | W30: =IF($Q30="","",IF($Q30<(-2),1,"")) | X30: =IF($Q30="","",IF($Q30>(2),1,"")) | Y30: =IF($Q30="","",IF($Q30>(4),1,"")) | Z30: =IF(S30="","",IF(Q30<0,"",IF(S30>(1),1,""))) | AA30: =IF(J30="","",IF(J30<B30,1,""))
A31: =IF(B31="","",IF(C31<=B31,1,3.25)+C31) -> 1 | B31: 9 | D31: GIROD FR39 | E31: 315379/26194727 | F31: 03/04/2015 | G31: 74 | H31: MIEUSSY | Q31: =IF(B31="","",IF(C31="","",B31-C31)) | R31: =IF(K31="","",K31-J31) | S31: =IF(J31="","",IF(Q31<0,(J31-C31),(J31-B31))) | V31: =IF($Q31="","",IF($Q31<(-1),1,"")) | W31: =IF($Q31="","",IF($Q31<(-2),1,"")) | X31: =IF($Q31="","",IF($Q31>(2),1,"")) | Y31: =IF($Q31="","",IF($Q31>(4),1,"")) | Z31: =IF(S31="","",IF(Q31<0,"",IF(S31>(1),1,""))) | AA31: =IF(J31="","",IF(J31<B31,1,""))
A32: =IF(B32="","",IF(C32<=B32,1,3.25)+C32) -> 1 | B32: 10 | D32: BRANDY FR4 | E32: 315266/26191650 | F32: 03/04/2015 | G32: 44 | H32: REMOUILLE | Q32: =IF(B32="","",IF(C32="","",B32-C32)) | R32: =IF(K32="","",K32-J32) | S32: =IF(J32="","",IF(Q32<0,(J32-C32),(J32-B32))) | V32: =IF($Q32="","",IF($Q32<(-1),1,"")) | W32: =IF($Q32="","",IF($Q32<(-2),1,"")) | X32: =IF($Q32="","",IF($Q32>(2),1,"")) | Y32: =IF($Q32="","",IF($Q32>(4),1,"")) | Z32: =IF(S32="","",IF(Q32<0,"",IF(S32>(1),1,""))) | AA32: =IF(J32="","",IF(J32<B32,1,""))
A33: =IF(B33="","",IF(C33<=B33,1,3.25)+C33) | E33: 315266/26193783 | F33: 03/04/2015 | G33: 85 | H33: SOULLANS | Q33: =IF(B33="","",IF(C33="","",B33-C33)) | R33: =IF(K33="","",K33-J33) | S33: =IF(J33="","",IF(Q33<0,(J33-C33),(J33-B33))) | V33: =IF($Q33="","",IF($Q33<(-1),1,"")) | W33: =IF($Q33="","",IF($Q33<(-2),1,"")) | X33: =IF($Q33="","",IF($Q33>(2),1,"")) | Y33: =IF($Q33="","",IF($Q33>(4),1,"")) | Z33: =IF(S33="","",IF(Q33<0,"",IF(S33>(1),1,""))) | AA33: =IF(J33="","",IF(J33<B33,1,""))
A34: =IF(B34="","",IF(C34<=B34,1,3.25)+C34) | E34: 315266/26194047 | F34: 03/04/2015 | G34: 85 | H34: CHAMP SAINT PERE (LE) | Q34: =IF(B34="","",IF(C34="","",B34-C34)) | R34: =IF(K34="","",K34-J34) | S34: =IF(J34="","",IF(Q34<0,(J34-C34),(J34-B34))) | V34: =IF($Q34="","",IF($Q34<(-1),1,"")) | W34: =IF($Q34="","",IF($Q34<(-2),1,"")) | X34: =IF($Q34="","",IF($Q34>(2),1,"")) | Y34: =IF($Q34="","",IF($Q34>(4),1,"")) | Z34: =IF(S34="","",IF(Q34<0,"",IF(S34>(1),1,""))) | AA34: =IF(J34="","",IF(J34<B34,1,""))
A35: =IF(B35="","",IF(C35<=B35,1,3.25)+C35) -> 1 | B35: 10 | D35: TND VOLUME SEV | E35: 315370/26194341 | F35: 03/04/2015 | G35: 69 | H35: VILLEURBANNE | Q35: =IF(B35="","",IF(C35="","",B35-C35)) | R35: =IF(K35="","",K35-J35) | S35: =IF(J35="","",IF(Q35<0,(J35-C35),(J35-B35))) | V35: =IF($Q35="","",IF($Q35<(-1),1,"")) | W35: =IF($Q35="","",IF($Q35<(-2),1,"")) | X35: =IF($Q35="","",IF($Q35>(2),1,"")) | Y35: =IF($Q35="","",IF($Q35>(4),1,"")) | Z35: =IF(S35="","",IF(Q35<0,"",IF(S35>(1),1,""))) | AA35: =IF(J35="","",IF(J35<B35,1,""))
A36: =IF(B36="","",IF(C36<=B36,1,3.25)+C36) | E36: 315370/26194280 | F36: 03/04/2015 | G36: 69 | H36: DARDILLY | Q36: =IF(B36="","",IF(C36="","",B36-C36)) | R36: =IF(K36="","",K36-J36) | S36: =IF(J36="","",IF(Q36<0,(J36-C36),(J36-B36))) | V36: =IF($Q36="","",IF($Q36<(-1),1,"")) | W36: =IF($Q36="","",IF($Q36<(-2),1,"")) | X36: =IF($Q36="","",IF($Q36>(2),1,"")) | Y36: =IF($Q36="","",IF($Q36>(4),1,"")) | Z36: =IF(S36="","",IF(Q36<0,"",IF(S36>(1),1,""))) | AA36: =IF(J36="","",IF(J36<B36,1,""))
A37: =IF(B37="","",IF(C37<=B37,1,3.25)+C37) -> 1 | B37: 10 | D37: SEBER ES25 | E37: 315374/26193054 | F37: 03/04/2015 | G37: 64 | H37: PAU | Q37: =IF(B37="","",IF(C37="","",B37-C37)) | R37: =IF(K37="","",K37-J37) | S37: =IF(J37="","",IF(Q37<0,(J37-C37),(J37-B37))) | V37: =IF($Q37="","",IF($Q37<(-1),1,"")) | W37: =IF($Q37="","",IF($Q37<(-2),1,"")) | X37: =IF($Q37="","",IF($Q37>(2),1,"")) | Y37: =IF($Q37="","",IF($Q37>(4),1,"")) | Z37: =IF(S37="","",IF(Q37<0,"",IF(S37>(1),1,""))) | AA37: =IF(J37="","",IF(J37<B37,1,""))
A38: =IF(B38="","",IF(C38<=B38,1,3.25)+C38) | E38: 315374/26193491 | F38: 03/04/2015 | G38: 64 | H38: CAME | I38: CV | Q38: =IF(B38="","",IF(C38="","",B38-C38)) | R38: =IF(K38="","",K38-J38) | S38: =IF(J38="","",IF(Q38<0,(J38-C38),(J38-B38))) | V38: =IF($Q38="","",IF($Q38<(-1),1,"")) | W38: =IF($Q38="","",IF($Q38<(-2),1,"")) | X38: =IF($Q38="","",IF($Q38>(2),1,"")) | Y38: =IF($Q38="","",IF($Q38>(4),1,"")) | Z38: =IF(S38="","",IF(Q38<0,"",IF(S38>(1),1,""))) | AA38: =IF(J38="","",IF(J38<B38,1,""))
A39: =IF(B39="","",IF(C39<=B39,1,3.25)+C39) -> 1 | B39: 10 | D39: TND VOLUME SEV | E39: 315368/26171966 | F39: 03/04/2015 | G39: 44 | H39: NANTES | I39: CF | Q39: =IF(B39="","",IF(C39="","",B39-C39)) | R39: =IF(K39="","",K39-J39) | S39: =IF(J39="","",IF(Q39<0,(J39-C39),(J39-B39))) | V39: =IF($Q39="","",IF($Q39<(-1),1,"")) | W39: =IF($Q39="","",IF($Q39<(-2),1,"")) | X39: =IF($Q39="","",IF($Q39>(2),1,"")) | Y39: =IF($Q39="","",IF($Q39>(4),1,"")) | Z39: =IF(S39="","",IF(Q39<0,"",IF(S39>(1),1,""))) | AA39: =IF(J39="","",IF(J39<B39,1,""))
A40: =IF(B40="","",IF(C40<=B40,1,3.25)+C40) | E40: 315368/26194409 | F40: 03/04/2015 | G40: 44 | H40: BOUGUENAIS | I40: CF | Q40: =IF(B40="","",IF(C40="","",B40-C40)) | R40: =IF(K40="","",K40-J40) | S40: =IF(J40="","",IF(Q40<0,(J40-C40),(J40-B40))) | V40: =IF($Q40="","",IF($Q40<(-1),1,"")) | W40: =IF($Q40="","",IF($Q40<(-2),1,"")) | X40: =IF($Q40="","",IF($Q40>(2),1,"")) | Y40: =IF($Q40="","",IF($Q40>(4),1,"")) | Z40: =IF(S40="","",IF(Q40<0,"",IF(S40>(1),1,""))) | AA40: =IF(J40="","",IF(J40<B40,1,""))
A41: =IF(B41="","",IF(C41<=B41,1,3.25)+C41) | E41: 315368/26194386 | F41: 03/04/2015 | G41: 44 | H41: BOUGUENAIS | I41: CF | Q41: =IF(B41="","",IF(C41="","",B41-C41)) | R41: =IF(K41="","",K41-J41) | S41: =IF(J41="","",IF(Q41<0,(J41-C41),(J41-B41))) | V41: =IF($Q41="","",IF($Q41<(-1),1,"")) | W41: =IF($Q41="","",IF($Q41<(-2),1,"")) | X41: =IF($Q41="","",IF($Q41>(2),1,"")) | Y41: =IF($Q41="","",IF($Q41>(4),1,"")) | Z41: =IF(S41="","",IF(Q41<0,"",IF(S41>(1),1,""))) | AA41: =IF(J41="","",IF(J41<B41,1,""))
A42: =IF(B42="","",IF(C42<=B42,1,3.25)+C42) | E42: 315368/26192965 | F42: 03/04/2015 | G42: 44 | H42: SAINT NICOLAS DE REDON | I42: cf | Q42: =IF(B42="","",IF(C42="","",B42-C42)) | R42: =IF(K42="","",K42-J42) | S42: =IF(J42="","",IF(Q42<0,(J42-C42),(J42-B42))) | V42: =IF($Q42="","",IF($Q42<(-1),1,"")) | W42: =IF($Q42="","",IF($Q42<(-2),1,"")) | X42: =IF($Q42="","",IF($Q42>(2),1,"")) | Y42: =IF($Q42="","",IF($Q42>(4),1,"")) | Z42: =IF(S42="","",IF(Q42<0,"",IF(S42>(1),1,""))) | AA42: =IF(J42="","",IF(J42<B42,1,""))
...

Sheet Récap
B1: JOURNEE | D1: ='1'!D1 -> 42096 | G1: ='1'!G1 -> 0 | H1: ='1'!H1 -> 69 camions
A3: Nbre de | B3: camion en | C3: retard +1h | D3: =SUM('1'!V:V) -> 3 | E3: dont +2 heures : | G3: =SUM('1'!W:W) -> 3 | H3: Soit : | I3: =IF(ISERROR(D3/D26),0,(D3/D26)) -> 1.5 | J3: de retard
A5: Nbre de | B5: camion en | C5: avance + 2h | D5: =SUM('1'!X:X) -> 0 | E5: dont +4heures : | G5: =SUM('1'!Y:Y) -> 0
D7: Chargement TND | E7: Chgt Autres | F7: Rception | H7: Total cariste
C8: AB | D8: =COUNTIF('1'!N:N,Récap!C8) -> 0 | H8: =SUM(D8:G8) -> 0
C9: CS | D9: =COUNTIF('1'!N:N,Récap!C9) -> 0 | H9: =SUM(D9:G9) -> 0
C10: DA | D10: =COUNTIF('1'!N:N,Récap!C10) -> 0 | H10: =SUM(D10:G10) -> 0
C11: DD | D11: =COUNTIF('1'!N:N,Récap!C11) -> 0 | H11: =SUM(D11:G11) -> 0
C12: BL | D12: =COUNTIF('1'!N:N,Récap!C12) -> 0 | H12: =SUM(D12:G12) -> 0
C13: DP | D13: =COUNTIF('1'!N:N,Récap!C13) -> 0 | H13: =SUM(D13:G13) -> 0
C14: EG | D14: =COUNTIF('1'!N:N,Récap!C14) -> 2 | H14: =SUM(D14:G14) -> 2
C15: FDS | D15: =COUNTIF('1'!N:N,Récap!C15) -> 0 | H15: =SUM(D15:G15) -> 0
C16: RM | D16: =COUNTIF('1'!N:N,Récap!C16) -> 0 | H16: =SUM(D16:G16) -> 0
C17: SK | D17: =COUNTIF('1'!N:N,Récap!C17) -> 0 | H17: =SUM(D17:G17) -> 0
C18: MRI | D18: =COUNTIF('1'!N:N,Récap!C18) -> 0 | H18: =SUM(D18:G18) -> 0
C19: CT | D19: =COUNTIF('1'!N:N,Récap!C19) -> 0 | H19: =SUM(D19:G19) -> 0
... C24: LL | D24: =COUNTIF('1'!N:N,Récap!C24) -> 0 | H24: =SUM(D24:G24) -> 0
D25: =COUNTIF('1'!N:N,Récap!C25) -> 0 | H25: =SUM(D25:G25) -> 0
D26: =SUM(D8:D25) -> 2 | E26: =SUM(E8:E25) -> 0 | F26: =SUM(F8:F25) -> 0 | G26: =SUM(G8:G25) -> 0 | H26: =SUM(H8:H25) -> 2
A28: Nbre de | B28: camion | C28: en retard | D28: au chargement : | E28: =SUM('1'!Z:Z) -> 0 | F28: soit : | G28: =IF(ISERROR(E28/D26),0,(E28/D26)) -> 0 | H28: de retard
A29: Nbre de | B29: camion | C29: en avance | D29: au chargement : | E29: =SUM('1'!AA:AA) -> 0 | F29: soit : | G29: =IF(ISERROR(E29/D26),0,(E29/D26)) -> 0 | H29: d'avance
