Workbook

Sheet 1
A1: Il est maintenant (hh.00) : | B1: 14.5 | C1: Soit (hh:mm) : | D1: 0.60416667
A2: Passage à l'orange de A8 | B2: =A8-0.5 -> 14.5 | C2: pcq nous sommes à 30mns de 15
A3: Passage au rouge de A8 | B3: =A8-0.25 -> 14.75 | C3: pcq nous sommes à 15mns de 15
A4: Passage au noir de A8 | B4: =B1>A8 -> FALSE | C4: pcq nous avons depassé 15 et qu'aucun chargmt effectif n'a été renseigné en D8 ou alors pcq renseigné apres 15 en cellule D8
A5: passage au vert de A8 | B5: =D8<A8 -> TRUE | C5: pcq LA CELLULE D8 a été renseignée avant l'heure prévue à A8
A6: chargmt prévue à | B6: heure arrivée pévue | C6: heure arrivée réelle | D6: chargement effectif | N6: CAS1
A8: =IF(B8="",A7,IF(C8<=B8+0.5,1,3.25)+C8) -> 15 | B8: 14 | C8: 14
A13: Il est maintenant (hh.00) : | B13: 14.75 | C13: Soit (hh:mm) : | D13: 0.61458333
A14: Passage à l'orange de A20 | B14: =A20-0.5 -> 14.75 | C14: pcq nous sommes à 30mns de 15,25
A15: Passage au rouge de A20 | B15: =A20-0.25 -> 15 | C15: pcq nous sommes à 15mns de 15
A16: Passage au noir de A20 | B16: =B13>A20 -> FALSE | C16: pcq nous avons depassé 15,25 et qu'aucu chargmt effectif n'a été renseigné en D20 ou alors pcq renseigné apres 15,25 en cellule D20
A17: passage au vert de A20 | B17: =D20<A20 -> TRUE | C17: pcq LA CELLULE D20 a été renseignée avant l'heure prévue à A20
A18: chargmt prévue à | B18: heure arrivée pévue | C18: heure arrivée réelle | D18: chargement effectif | N18: CAS2
A20: =IF(B20="",A19,IF(C20<=B20+0.5,1,3.25)+C20) -> 15.25 | B20: 14 | C20: 14.25
A26: Il est maintenant (hh.00) : | B26: 15 | C26: Soit (hh:mm) : | D26: 0.625
A27: Passage à l'orange de A33 | B27: =A33-0.5 -> 15 | C27: pcq nous sommes à 30mns de 15,5
A28: Passage au rouge de A33 | B28: =A33-0.25 -> 15.25 | C28: pcq nous sommes à 15mns de 15,5
A29: Passage au noir de A33 | B29: =B26>A33 -> FALSE | C29: pcq nous avons depassé 15,5 et qu'aucu chargmt effectif n'a été renseigné en 33 ou alors pcq renseigné apres 15,5 en cellule D33
A30: passage au vert de A33 | B30: =D33<A33 -> TRUE | C30: pcq LA CELLULE D33 a été renseignée avant l'heure prévue à A33
A31: chargmt prévue à | B31: heure arrivée pévue | C31: heure arrivée réelle | D31: chargement effectif | N31: CAS3
A33: =IF(B33="",A32,IF(C33<=B33+0.5,1,3.25)+C33) -> 15.5 | B33: 14 | C33: 14.5
A39: Il est maintenant (hh.00) : | B39: 17.26 | C39: Soit (hh:mm) : | D39: 0.71944444
A40: Passage à l'orange de A46 | B40: =A46-0.5 -> 17.26 | C40: pcq nous sommes à 30mns de 17,76
A41: Passage au rouge de A46 | B41: =A46-0.25 -> 17.51 | C41: pcq nous sommes à 15mns de 17,76
A42: Passage au noir de A46 | B42: =B39>A46 -> FALSE | C42: pcq nous avons depassé 17,76 et qu'aucu chargmt effectif n'a été renseigné en D46 ou alors pcq renseigné apres 17,76 en cellule D46
A43: passage au vert de A46 | B43: =D46<A46 -> TRUE | C43: pcq LA CELLULE D46 a été renseignée avant l'heure prévue à A46
A44: chargmt prévue à | B44: heure arrivée pévue | C44: heure arrivée réelle | D44: chargement effectif | N44: CAS4
A46: =IF(B46="",A45,IF(C46<=B46+0.5,1,3.25)+C46) -> 17.76 | B46: 14 | C46: 14.51

Sheet Récap
B1: JOURNEE | D1: ='1'!#REF! -> #REF! | G1: ='1'!#REF! -> #REF! | H1: ='1'!#REF! -> #REF!
A3: Nbre de | B3: camion en | C3: retard +1h | D3: =SUM('1'!#REF!) -> #REF! | E3: dont +2 heures : | G3: =SUM('1'!#REF!) -> #REF! | H3: Soit : | I3: =IF(ISERROR(D3/D26),0,(D3/D26)) -> 0 | J3: de retard
A5: Nbre de | B5: camion en | C5: avance + 2h | D5: =SUM('1'!#REF!) -> #REF! | E5: dont +4heures : | G5: =SUM('1'!#REF!) -> #REF!
D7: Chargement TND | E7: Chgt Autres | F7: Rception | H7: Total cariste
C8: AB | D8: =COUNTIF('1'!#REF!,Récap!C8) -> #REF! | H8: =SUM(D8:G8) -> #REF!
C9: CS | D9: =COUNTIF('1'!#REF!,Récap!C9) -> #REF! | H9: =SUM(D9:G9) -> #REF!
C10: DA | D10: =COUNTIF('1'!#REF!,Récap!C10) -> #REF! | H10: =SUM(D10:G10) -> #REF!
C11: DD | D11: =COUNTIF('1'!#REF!,Récap!C11) -> #REF! | H11: =SUM(D11:G11) -> #REF!
C12: BL | D12: =COUNTIF('1'!#REF!,Récap!C12) -> #REF! | H12: =SUM(D12:G12) -> #REF!
C13: DP | D13: =COUNTIF('1'!#REF!,Récap!C13) -> #REF! | H13: =SUM(D13:G13) -> #REF!
C14: EG | D14: =COUNTIF('1'!#REF!,Récap!C14) -> #REF! | H14: =SUM(D14:G14) -> #REF!
C15: FDS | D15: =COUNTIF('1'!#REF!,Récap!C15) -> #REF! | H15: =SUM(D15:G15) -> #REF!
C16: RM | D16: =COUNTIF('1'!#REF!,Récap!C16) -> #REF! | H16: =SUM(D16:G16) -> #REF!
C17: SK | D17: =COUNTIF('1'!#REF!,Récap!C17) -> #REF! | H17: =SUM(D17:G17) -> #REF!
C18: MRI | D18: =COUNTIF('1'!#REF!,Récap!C18) -> #REF! | H18: =SUM(D18:G18) -> #REF!
C19: CT | D19: =COUNTIF('1'!#REF!,Récap!C19) -> #REF! | H19: =SUM(D19:G19) -> #REF!
... C24: LL | D24: =COUNTIF('1'!#REF!,Récap!C24) -> #REF! | H24: =SUM(D24:G24) -> #REF!
D25: =COUNTIF('1'!#REF!,Récap!C25) -> #REF! | H25: =SUM(D25:G25) -> #REF!
D26: =SUM(D8:D25) -> #REF! | E26: =SUM(E8:E25) -> 0 | F26: =SUM(F8:F25) -> 0 | G26: =SUM(G8:G25) -> 0 | H26: =SUM(H8:H25) -> #REF!
A28: Nbre de | B28: camion | C28: en retard | D28: au chargement : | E28: =SUM('1'!#REF!) -> #REF! | F28: soit : | G28: =IF(ISERROR(E28/D26),0,(E28/D26)) -> 0 | H28: de retard
A29: Nbre de | B29: camion | C29: en avance | D29: au chargement : | E29: =SUM('1'!#REF!) -> #REF! | F29: soit : | G29: =IF(ISERROR(E29/D26),0,(E29/D26)) -> 0 | H29: d'avance
