Workbook
Name Machines: Données!$D$7:$D$21
Name Outil: #REF!,#REF!
Name Outils: 'Conditions de coupe'!$D$14:$D$54
Name OutilsF: #REF!
Name OutilsT: #REF!
Name Phase: Données!$B$2:$B$3

Sheet Fraisage Ph10
A1: PHASE | B1: FRAISAGE | H1: Machine : | I1: DMU
A2: Pièce | G2: avance rapide machine : | I2: =IF($I$1=Données!$D$7,Données!E$7,IF($I$1=Données!$D$8,Données!E$8,IF($I$1=Données!$D$9,Données!E$9,IF($I$1=Données!$D$10,Données!E$10,IF($I$1=Données!$D$11,Données!E$11,IF($I$1=Données!$D$12,Données!E$12,IF($I$1=Données!$D$13,Données!E$13,IF($I$1=Données!$D$14,Données!E$14,IF($I$1=Données!$D$15,Données!E$15,IF($I$1=Données!$D$16,Données!E$16,IF($I$1=Données!$D$17,Données!E$17,IF($I$1=Données!$D$18,Données!E$18,IF($I$1=Données!$D$19,Données!E$19,IF($I$1=Données!$D$20,Données!E$20,Données!E$21)))))))))))))) -> 12000 | J2: mm/min
G3: Changement d'outil : | I3: =IF($I$1=Données!$D$7,Données!F$7,IF($I$1=Données!$D$8,Données!F$8,IF($I$1=Données!$D$9,Données!F$9,IF($I$1=Données!$D$10,Données!F$10,IF($I$1=Données!$D$11,Données!F$11,IF($I$1=Données!$D$12,Données!F$12,IF($I$1=Données!$D$13,Données!F$13,IF($I$1=Données!$D$14,Données!F$14,IF($I$1=Données!$D$15,Données!F$15,IF($I$1=Données!$D$16,Données!F$16,IF($I$1=Données!$D$17,Données!F$17,IF($I$1=Données!$D$18,Données!F$18,IF($I$1=Données!$D$19,Données!F$19,IF($I$1=Données!$D$20,Données!F$20,Données!F$21)))))))))))))) -> 21 | J3: cmin.
A6: Outils: | B6: Fraise | D6: Vc: | E6: =VLOOKUP($B6,'Conditions de coupe'!$D$14:$J$54,3,FALSE) -> 500 | F6: m/min | H6: avance: | I6: =VLOOKUP($B6,'Conditions de coupe'!$D$14:$J$54,4,FALSE) -> 0.05
G7: nombre de dents: | I7: =VLOOKUP($B6,'Conditions de coupe'!$D$14:$J$54,5,FALSE) -> 5
C8: Diamètre outil: | E8: =VLOOKUP($B6,'Conditions de coupe'!$D$14:$J$54,2,FALSE) -> 30 | F8: mm
H9: Vf: | I9: =VLOOKUP($B6,'Conditions de coupe'!$D$14:$J$54,7,FALSE) -> 1326.2912
D11: Vf en mm/min | F11: Temps technologique
B12: déplacement | C12: Longueur | D12: rapide | E12: travail | F12: T rapide | G12: T travail
A13: trajectoire 1 | B13: travail | C13: 90 | D13: =IF(B13="rapide",$I$2,"-") -> - | E13: =IF(B13="travail", MROUND($I$9,0.001),"-") -> 1326.291 | F13: =IF(B13="rapide", MROUND(C13/D13,0.001),"-") -> - | G13: =IF($E13=0,0,(IF($B13="travail", MROUND($C13/$E13,0.001),"-"))) -> 0.068
A14: trajectoire 2 | B14: rapide | C14: 89 | D14: =IF(B14="rapide",$I$2,"-") -> 12000 | E14: =IF(B14="travail", $I$9,"-") -> - | F14: =IF(B14="rapide", MROUND(C14/D14,0.001),"-") -> 0.007 | G14: =IF($E14=0,0,(IF($B14="travail", MROUND($C14/$E14,0.001),"-"))) -> -
A15: trajectoire 3 | B15: travail | C15: 90 | D15: =IF(B15="rapide",$I$2,"-") -> - | E15: =IF(B15="travail", $I$9,"-") -> 1326.2912 | F15: =IF(B15="rapide", MROUND(C15/D15,0.001),"-") -> - | G15: =IF($E15=0,0,(IF($B15="travail", MROUND($C15/$E15,0.001),"-"))) -> 0.068
A16: trajectoire 4 | B16: rapide | C16: 30 | D16: =IF(B16="rapide",$I$2,"-") -> 12000 | E16: =IF(B16="travail", $I$9,"-") -> - | F16: =IF(B16="rapide", MROUND(C16/D16,0.001),"-") -> 0.003 | G16: =IF($E16=0,0,(IF($B16="travail", MROUND($C16/$E16,0.001),"-"))) -> -
A17: trajectoire 5 | B17: travail | C17: 93 | D17: =IF(B17="rapide",$I$2,"-") -> - | E17: =IF(B17="travail", $I$9,"-") -> 1326.2912 | F17: =IF(B17="rapide", MROUND(C17/D17,0.001),"-") -> - | G17: =IF($E17=0,0,(IF($B17="travail", MROUND($C17/$E17,0.001),"-"))) -> 0.07
A18: trajectoire 6 | B18: rapide | C18: 10 | D18: =IF(B18="rapide",$I$2,"-") -> 12000 | E18: =IF(B18="travail", $I$9,"-") -> - | F18: =IF(B18="rapide", MROUND(C18/D18,0.001),"-") -> 0.001 | G18: =IF($E18=0,0,(IF($B18="travail", MROUND($C18/$E18,0.001),"-"))) -> -
A19: trajectoire 7 | B19: travail | C19: 93 | D19: =IF(B19="rapide",$I$2,"-") -> - | E19: =IF(B19="travail", $I$9,"-") -> 1326.2912 | F19: =IF(B19="rapide", MROUND(C19/D19,0.001),"-") -> - | G19: =IF($E19=0,0,(IF($B19="travail", MROUND($C19/$E19,0.001),"-"))) -> 0.07
A20: trajectoire 8 | B20: rapide | C20: 10 | D20: =IF(B20="rapide",$I$2,"-") -> 12000 | E20: =IF(B20="travail", $I$9,"-") -> - | F20: =IF(B20="rapide", MROUND(C20/D20,0.001),"-") -> 0.001 | G20: =IF($E20=0,0,(IF($B20="travail", MROUND($C20/$E20,0.001),"-"))) -> -
A21: Opération 1 | D21: Tt : | E21: =IF(G13=0," ",(SUM(F13:G20,($I$3/100)))) -> 0.498 | F21: min
A24: Outils: | D24: Vc: | E24: =VLOOKUP($B24,'Conditions de coupe'!$D$14:$J$54,3,FALSE) -> 0 | F24: m/min | H24: avance: | I24: =VLOOKUP($B24,'Conditions de coupe'!$D$14:$J$54,4,FALSE) -> 0
G25: nombre de dents: | I25: =VLOOKUP($B24,'Conditions de coupe'!$D$14:$J$54,5,FALSE) -> 0
C26: Diamètre outil: | E26: =VLOOKUP($B24,'Conditions de coupe'!$D$14:$J$54,2,FALSE) -> 0 | F26: mm
H27: Vf: | I27: =VLOOKUP($B24,'Conditions de coupe'!$D$14:$J$54,7,FALSE) -> 0
D29: Vf en mm/min | F29: Temps technologique
B30: déplacement | C30: Longueur | D30: rapide | E30: travail | F30: T rapide | G30: T travail
A31: trajectoire 1 | B31: travail | C31: 90 | D31: =IF(B31="rapide",$I$2,"-") -> - | E31: =IF(B31="travail", MROUND($I$27,0.001),"-") -> 0 | F31: =IF(B31="rapide", MROUND(C31/D31,0.001),"-") -> - | G31: =IF($E31=0,0,(IF($B31="travail", MROUND($C31/$E31,0.001),"-"))) -> 0
A32: trajectoire 2 | B32: rapide | C32: 89 | D32: =IF(B32="rapide",$I$2,"-") -> 12000 | E32: =IF(B32="travail", MROUND($I$27,0.001),"-") -> - | F32: =IF(B32="rapide", MROUND(C32/D32,0.001),"-") -> 0.007 | G32: =IF($E32=0,0,(IF($B32="travail", MROUND($C32/$E32,0.001),"-"))) -> -
A33: trajectoire 3 | B33: travail | C33: 90 | D33: =IF(B33="rapide",$I$2,"-") -> - | E33: =IF(B33="travail", MROUND($I$27,0.001),"-") -> 0 | F33: =IF(B33="rapide", MROUND(C33/D33,0.001),"-") -> - | G33: =IF($E33=0,0,(IF($B33="travail", MROUND($C33/$E33,0.001),"-"))) -> 0
A34: trajectoire 4 | B34: rapide | C34: 30 | D34: =IF(B34="rapide",$I$2,"-") -> 12000 | E34: =IF(B34="travail", MROUND($I$27,0.001),"-") -> - | F34: =IF(B34="rapide", MROUND(C34/D34,0.001),"-") -> 0.003 | G34: =IF($E34=0,0,(IF($B34="travail", MROUND($C34/$E34,0.001),"-"))) -> -
A35: trajectoire 5 | B35: travail | C35: 93 | D35: =IF(B35="rapide",$I$2,"-") -> - | E35: =IF(B35="travail", MROUND($I$27,0.001),"-") -> 0 | F35: =IF(B35="rapide", MROUND(C35/D35,0.001),"-") -> - | G35: =IF($E35=0,0,(IF($B35="travail", MROUND($C35/$E35,0.001),"-"))) -> 0
A36: trajectoire 6 | B36: rapide | C36: 10 | D36: =IF(B36="rapide",$I$2,"-") -> 12000 | E36: =IF(B36="travail", MROUND($I$27,0.001),"-") -> - | F36: =IF(B36="rapide", MROUND(C36/D36,0.001),"-") -> 0.001 | G36: =IF($E36=0,0,(IF($B36="travail", MROUND($C36/$E36,0.001),"-"))) -> -
A37: trajectoire 7 | B37: travail | C37: 93 | D37: =IF(B37="rapide",$I$2,"-") -> - | E37: =IF(B37="travail", MROUND($I$27,0.001),"-") -> 0 | F37: =IF(B37="rapide", MROUND(C37/D37,0.001),"-") -> - | G37: =IF($E37=0,0,(IF($B37="travail", MROUND($C37/$E37,0.001),"-"))) -> 0
A38: trajectoire 8 | B38: rapide | C38: 10 | D38: =IF(B38="rapide",$I$2,"-") -> 12000 | E38: =IF(B38="travail", MROUND($I$27,0.001),"-") -> - | F38: =IF(B38="rapide", MROUND(C38/D38,0.001),"-") -> 0.001 | G38: =IF($E38=0,0,(IF($B38="travail", MROUND($C38/$E38,0.001),"-"))) -> -
A39: Opération 2 | D39: Tt : | E39: =IF(G31=0," ",(SUM(F31:G38,($I$3/100)))) | F39: min
A42: Outils: | D42: Vc: | E42: =VLOOKUP($B42,'Conditions de coupe'!$D$14:$J$54,3,FALSE) -> 0 | F42: m/min | H42: avance: | I42: =VLOOKUP($B42,'Conditions de coupe'!$D$14:$J$54,4,FALSE) -> 0
G43: nombre de dents: | I43: =VLOOKUP($B42,'Conditions de coupe'!$D$14:$J$54,5,FALSE) -> 0
C44: Diamètre outil: | E44: =VLOOKUP($B42,'Conditions de coupe'!$D$14:$J$54,2,FALSE) -> 0 | F44: mm
H45: Vf: | I45: =VLOOKUP($B42,'Conditions de coupe'!$D$14:$J$54,7,FALSE) -> 0
D47: Vf en mm/min | F47: Temps technologique
B48: déplacement | C48: Longueur | D48: rapide | E48: travail | F48: T rapide | G48: T travail
A49: trajectoire 1 | B49: travail | C49: 90 | D49: =IF(B49="rapide",$I$2,"-") -> - | E49: =IF(B49="travail", MROUND($I$45,0.001),"-") -> 0 | F49: =IF(B49="rapide", MROUND(C49/D49,0.001),"-") -> - | G49: =IF($E49=0,0,(IF($B49="travail", MROUND($C49/$E49,0.001),"-"))) -> 0
...

Sheet Fraisage Ph20
A1: PHASE | B1: FRAISAGE | H1: Machine : | I1: DMU
A2: Pièce | G2: avance rapide machine : | I2: =IF($I$1=Données!$D$7,Données!E$7,IF($I$1=Données!$D$8,Données!E$8,IF($I$1=Données!$D$9,Données!E$9,IF($I$1=Données!$D$10,Données!E$10,IF($I$1=Données!$D$11,Données!E$11,IF($I$1=Données!$D$12,Données!E$12,IF($I$1=Données!$D$13,Données!E$13,IF($I$1=Données!$D$14,Données!E$14,IF($I$1=Données!$D$15,Données!E$15,IF($I$1=Données!$D$16,Données!E$16,IF($I$1=Données!$D$17,Données!E$17,IF($I$1=Données!$D$18,Données!E$18,IF($I$1=Données!$D$19,Données!E$19,IF($I$1=Données!$D$20,Données!E$20,Données!E$21)))))))))))))) -> 12000 | J2: mm/min
G3: Changement d'outil : | I3: =IF($I$1=Données!$D$7,Données!F$7,IF($I$1=Données!$D$8,Données!F$8,IF($I$1=Données!$D$9,Données!F$9,IF($I$1=Données!$D$10,Données!F$10,IF($I$1=Données!$D$11,Données!F$11,IF($I$1=Données!$D$12,Données!F$12,IF($I$1=Données!$D$13,Données!F$13,IF($I$1=Données!$D$14,Données!F$14,IF($I$1=Données!$D$15,Données!F$15,IF($I$1=Données!$D$16,Données!F$16,IF($I$1=Données!$D$17,Données!F$17,IF($I$1=Données!$D$18,Données!F$18,IF($I$1=Données!$D$19,Données!F$19,IF($I$1=Données!$D$20,Données!F$20,Données!F$21)))))))))))))) -> 21 | J3: cmin.
A6: Outils: | D6: Vc: | E6: =VLOOKUP($B6,'Conditions de coupe'!$D$14:$J$54,3,FALSE) -> 0 | F6: m/min | H6: avance: | I6: =VLOOKUP($B6,'Conditions de coupe'!$D$14:$J$54,4,FALSE) -> 0
G7: nombre de dents: | I7: =VLOOKUP($B6,'Conditions de coupe'!$D$14:$J$54,5,FALSE) -> 0
C8: Diamètre outil: | E8: =VLOOKUP($B6,'Conditions de coupe'!$D$14:$J$54,5,FALSE) -> 0 | F8: mm
H9: Vf: | I9: =VLOOKUP($B6,'Conditions de coupe'!$D$14:$J$54,7,FALSE) -> 0
D11: Vf en mm/min | F11: Temps technologique
B12: déplacement | C12: Longueur | D12: rapide | E12: travail | F12: T rapide | G12: T travail
A13: trajectoire 1 | B13: travail | C13: 90 | D13: =IF(B13="rapide",$I$2,"-") -> - | E13: =IF(B13="travail", MROUND($I$9,0.001),"-") -> 0 | F13: =IF(B13="rapide", MROUND(C13/D13,0.001),"-") -> - | G13: =IF($E13=0,0,(IF($B13="travail", MROUND($C13/$E13,0.001),"-"))) -> 0
A14: trajectoire 2 | B14: rapide | C14: 89 | D14: =IF(B14="rapide",$I$2,"-") -> 12000 | E14: =IF(B14="travail", $I$9,"-") -> - | F14: =IF(B14="rapide", MROUND(C14/D14,0.001),"-") -> 0.007 | G14: =IF($E14=0,0,(IF($B14="travail", MROUND($C14/$E14,0.001),"-"))) -> -
A15: trajectoire 3 | B15: travail | C15: 90 | D15: =IF(B15="rapide",$I$2,"-") -> - | E15: =IF(B15="travail", $I$9,"-") -> 0 | F15: =IF(B15="rapide", MROUND(C15/D15,0.001),"-") -> - | G15: =IF($E15=0,0,(IF($B15="travail", MROUND($C15/$E15,0.001),"-"))) -> 0
A16: trajectoire 4 | B16: rapide | C16: 30 | D16: =IF(B16="rapide",$I$2,"-") -> 12000 | E16: =IF(B16="travail", $I$9,"-") -> - | F16: =IF(B16="rapide", MROUND(C16/D16,0.001),"-") -> 0.003 | G16: =IF($E16=0,0,(IF($B16="travail", MROUND($C16/$E16,0.001),"-"))) -> -
A17: trajectoire 5 | B17: travail | C17: 93 | D17: =IF(B17="rapide",$I$2,"-") -> - | E17: =IF(B17="travail", $I$9,"-") -> 0 | F17: =IF(B17="rapide", MROUND(C17/D17,0.001),"-") -> - | G17: =IF($E17=0,0,(IF($B17="travail", MROUND($C17/$E17,0.001),"-"))) -> 0
A18: trajectoire 6 | B18: rapide | C18: 10 | D18: =IF(B18="rapide",$I$2,"-") -> 12000 | E18: =IF(B18="travail", $I$9,"-") -> - | F18: =IF(B18="rapide", MROUND(C18/D18,0.001),"-") -> 0.001 | G18: =IF($E18=0,0,(IF($B18="travail", MROUND($C18/$E18,0.001),"-"))) -> -
A19: trajectoire 7 | B19: travail | C19: 93 | D19: =IF(B19="rapide",$I$2,"-") -> - | E19: =IF(B19="travail", $I$9,"-") -> 0 | F19: =IF(B19="rapide", MROUND(C19/D19,0.001),"-") -> - | G19: =IF($E19=0,0,(IF($B19="travail", MROUND($C19/$E19,0.001),"-"))) -> 0
A20: trajectoire 8 | B20: rapide | C20: 10 | D20: =IF(B20="rapide",$I$2,"-") -> 12000 | E20: =IF(B20="travail", $I$9,"-") -> - | F20: =IF(B20="rapide", MROUND(C20/D20,0.001),"-") -> 0.001 | G20: =IF($E20=0,0,(IF($B20="travail", MROUND($C20/$E20,0.001),"-"))) -> -
A21: Opération 1 | D21: Tt : | E21: =IF(G13=0," ",(SUM(F13:G20,($I$3/100)))) | F21: min
A24: Outils: | D24: Vc: | E24: =VLOOKUP($B24,'Conditions de coupe'!$D$14:$J$54,3,FALSE) -> 0 | F24: m/min | H24: avance: | I24: =VLOOKUP($B24,'Conditions de coupe'!$D$14:$J$54,4,FALSE) -> 0
G25: nombre de dents: | I25: =VLOOKUP($B24,'Conditions de coupe'!$D$14:$J$54,5,FALSE) -> 0
C26: Diamètre outil: | E26: =VLOOKUP($B24,'Conditions de coupe'!$D$14:$J$54,5,FALSE) -> 0 | F26: mm
H27: Vf: | I27: =VLOOKUP($B24,'Conditions de coupe'!$D$14:$J$54,7,FALSE) -> 0
D29: Vf en mm/min | F29: Temps technologique
B30: déplacement | C30: Longueur | D30: rapide | E30: travail | F30: T rapide | G30: T travail
A31: trajectoire 1 | B31: travail | C31: 90 | D31: =IF(B31="rapide",$I$2,"-") -> - | E31: =IF(B31="travail", MROUND($I$27,0.001),"-") -> 0 | F31: =IF(B31="rapide", MROUND(C31/D31,0.001),"-") -> - | G31: =IF($E31=0,0,(IF($B31="travail", MROUND($C31/$E31,0.001),"-"))) -> 0
A32: trajectoire 2 | B32: rapide | C32: 89 | D32: =IF(B32="rapide",$I$2,"-") -> 12000 | E32: =IF(B32="travail", MROUND($I$27,0.001),"-") -> - | F32: =IF(B32="rapide", MROUND(C32/D32,0.001),"-") -> 0.007 | G32: =IF($E32=0,0,(IF($B32="travail", MROUND($C32/$E32,0.001),"-"))) -> -
A33: trajectoire 3 | B33: travail | C33: 90 | D33: =IF(B33="rapide",$I$2,"-") -> - | E33: =IF(B33="travail", MROUND($I$27,0.001),"-") -> 0 | F33: =IF(B33="rapide", MROUND(C33/D33,0.001),"-") -> - | G33: =IF($E33=0,0,(IF($B33="travail", MROUND($C33/$E33,0.001),"-"))) -> 0
A34: trajectoire 4 | B34: rapide | C34: 30 | D34: =IF(B34="rapide",$I$2,"-") -> 12000 | E34: =IF(B34="travail", MROUND($I$27,0.001),"-") -> - | F34: =IF(B34="rapide", MROUND(C34/D34,0.001),"-") -> 0.003 | G34: =IF($E34=0,0,(IF($B34="travail", MROUND($C34/$E34,0.001),"-"))) -> -
A35: trajectoire 5 | B35: travail | C35: 93 | D35: =IF(B35="rapide",$I$2,"-") -> - | E35: =IF(B35="travail", MROUND($I$27,0.001),"-") -> 0 | F35: =IF(B35="rapide", MROUND(C35/D35,0.001),"-") -> - | G35: =IF($E35=0,0,(IF($B35="travail", MROUND($C35/$E35,0.001),"-"))) -> 0
A36: trajectoire 6 | B36: rapide | C36: 10 | D36: =IF(B36="rapide",$I$2,"-") -> 12000 | E36: =IF(B36="travail", MROUND($I$27,0.001),"-") -> - | F36: =IF(B36="rapide", MROUND(C36/D36,0.001),"-") -> 0.001 | G36: =IF($E36=0,0,(IF($B36="travail", MROUND($C36/$E36,0.001),"-"))) -> -
A37: trajectoire 7 | B37: travail | C37: 93 | D37: =IF(B37="rapide",$I$2,"-") -> - | E37: =IF(B37="travail", MROUND($I$27,0.001),"-") -> 0 | F37: =IF(B37="rapide", MROUND(C37/D37,0.001),"-") -> - | G37: =IF($E37=0,0,(IF($B37="travail", MROUND($C37/$E37,0.001),"-"))) -> 0
A38: trajectoire 8 | B38: rapide | C38: 10 | D38: =IF(B38="rapide",$I$2,"-") -> 12000 | E38: =IF(B38="travail", MROUND($I$27,0.001),"-") -> - | F38: =IF(B38="rapide", MROUND(C38/D38,0.001),"-") -> 0.001 | G38: =IF($E38=0,0,(IF($B38="travail", MROUND($C38/$E38,0.001),"-"))) -> -
A39: Opération 2 | D39: Tt : | E39: =IF(G31=0," ",(SUM(F31:G38,($I$3/100)))) | F39: min
A42: Outils: | D42: Vc: | E42: =VLOOKUP($B42,'Conditions de coupe'!$D$14:$J$54,3,FALSE) -> 0 | F42: m/min | H42: avance: | I42: =VLOOKUP($B42,'Conditions de coupe'!$D$14:$J$54,4,FALSE) -> 0
G43: nombre de dents: | I43: =VLOOKUP($B42,'Conditions de coupe'!$D$14:$J$54,5,FALSE) -> 0
C44: Diamètre outil: | E44: =VLOOKUP($B42,'Conditions de coupe'!$D$14:$J$54,5,FALSE) -> 0 | F44: mm
H45: Vf: | I45: =VLOOKUP($B42,'Conditions de coupe'!$D$14:$J$54,7,FALSE) -> 0
D47: Vf en mm/min | F47: Temps technologique
B48: déplacement | C48: Longueur | D48: rapide | E48: travail | F48: T rapide | G48: T travail
A49: trajectoire 1 | B49: travail | C49: 90 | D49: =IF(B49="rapide",$I$2,"-") -> - | E49: =IF(B49="travail", MROUND($I$45,0.001),"-") -> 0 | F49: =IF(B49="rapide", MROUND(C49/D49,0.001),"-") -> - | G49: =IF($E49=0,0,(IF($B49="travail", MROUND($C49/$E49,0.001),"-"))) -> 0
...

Sheet Fraisage Ph30
A1: PHASE | B1: FRAISAGE | H1: Machine : | I1: DMU
A2: Pièce | G2: avance rapide machine : | I2: =IF($I$1=Données!$D$7,Données!E$7,IF($I$1=Données!$D$8,Données!E$8,IF($I$1=Données!$D$9,Données!E$9,IF($I$1=Données!$D$10,Données!E$10,IF($I$1=Données!$D$11,Données!E$11,IF($I$1=Données!$D$12,Données!E$12,IF($I$1=Données!$D$13,Données!E$13,IF($I$1=Données!$D$14,Données!E$14,IF($I$1=Données!$D$15,Données!E$15,IF($I$1=Données!$D$16,Données!E$16,IF($I$1=Données!$D$17,Données!E$17,IF($I$1=Données!$D$18,Données!E$18,IF($I$1=Données!$D$19,Données!E$19,IF($I$1=Données!$D$20,Données!E$20,Données!E$21)))))))))))))) -> 12000 | J2: mm/min
G3: Changement d'outil : | I3: =IF($I$1=Données!$D$7,Données!F$7,IF($I$1=Données!$D$8,Données!F$8,IF($I$1=Données!$D$9,Données!F$9,IF($I$1=Données!$D$10,Données!F$10,IF($I$1=Données!$D$11,Données!F$11,IF($I$1=Données!$D$12,Données!F$12,IF($I$1=Données!$D$13,Données!F$13,IF($I$1=Données!$D$14,Données!F$14,IF($I$1=Données!$D$15,Données!F$15,IF($I$1=Données!$D$16,Données!F$16,IF($I$1=Données!$D$17,Données!F$17,IF($I$1=Données!$D$18,Données!F$18,IF($I$1=Données!$D$19,Données!F$19,IF($I$1=Données!$D$20,Données!F$20,Données!F$21)))))))))))))) -> 21 | J3: cmin.
A6: Outils: | D6: Vc: | E6: =VLOOKUP($B6,'Conditions de coupe'!$D$14:$J$54,3,FALSE) -> 0 | F6: m/min | H6: avance: | I6: =VLOOKUP($B6,'Conditions de coupe'!$D$14:$J$54,4,FALSE) -> 0
G7: nombre de dents: | I7: =VLOOKUP($B6,'Conditions de coupe'!$D$14:$J$54,5,FALSE) -> 0
C8: Diamètre outil: | E8: =VLOOKUP($B6,'Conditions de coupe'!$D$14:$J$54,5,FALSE) -> 0 | F8: mm
H9: Vf: | I9: =VLOOKUP($B6,'Conditions de coupe'!$D$14:$J$54,7,FALSE) -> 0
D11: Vf en mm/min | F11: Temps technologique
B12: déplacement | C12: Longueur | D12: rapide | E12: travail | F12: T rapide | G12: T travail
A13: trajectoire 1 | B13: travail | C13: 90 | D13: =IF(B13="rapide",$I$2,"-") -> - | E13: =IF(B13="travail", MROUND($I$9,0.001),"-") -> 0 | F13: =IF(B13="rapide", MROUND(C13/D13,0.001),"-") -> - | G13: =IF($E13=0,0,(IF($B13="travail", MROUND($C13/$E13,0.001),"-"))) -> 0
A14: trajectoire 2 | B14: rapide | C14: 89 | D14: =IF(B14="rapide",$I$2,"-") -> 12000 | E14: =IF(B14="travail", $I$9,"-") -> - | F14: =IF(B14="rapide", MROUND(C14/D14,0.001),"-") -> 0.007 | G14: =IF($E14=0,0,(IF($B14="travail", MROUND($C14/$E14,0.001),"-"))) -> -
A15: trajectoire 3 | B15: travail | C15: 90 | D15: =IF(B15="rapide",$I$2,"-") -> - | E15: =IF(B15="travail", $I$9,"-") -> 0 | F15: =IF(B15="rapide", MROUND(C15/D15,0.001),"-") -> - | G15: =IF($E15=0,0,(IF($B15="travail", MROUND($C15/$E15,0.001),"-"))) -> 0
A16: trajectoire 4 | B16: rapide | C16: 30 | D16: =IF(B16="rapide",$I$2,"-") -> 12000 | E16: =IF(B16="travail", $I$9,"-") -> - | F16: =IF(B16="rapide", MROUND(C16/D16,0.001),"-") -> 0.003 | G16: =IF($E16=0,0,(IF($B16="travail", MROUND($C16/$E16,0.001),"-"))) -> -
A17: trajectoire 5 | B17: travail | C17: 93 | D17: =IF(B17="rapide",$I$2,"-") -> - | E17: =IF(B17="travail", $I$9,"-") -> 0 | F17: =IF(B17="rapide", MROUND(C17/D17,0.001),"-") -> - | G17: =IF($E17=0,0,(IF($B17="travail", MROUND($C17/$E17,0.001),"-"))) -> 0
A18: trajectoire 6 | B18: rapide | C18: 10 | D18: =IF(B18="rapide",$I$2,"-") -> 12000 | E18: =IF(B18="travail", $I$9,"-") -> - | F18: =IF(B18="rapide", MROUND(C18/D18,0.001),"-") -> 0.001 | G18: =IF($E18=0,0,(IF($B18="travail", MROUND($C18/$E18,0.001),"-"))) -> -
A19: trajectoire 7 | B19: travail | C19: 93 | D19: =IF(B19="rapide",$I$2,"-") -> - | E19: =IF(B19="travail", $I$9,"-") -> 0 | F19: =IF(B19="rapide", MROUND(C19/D19,0.001),"-") -> - | G19: =IF($E19=0,0,(IF($B19="travail", MROUND($C19/$E19,0.001),"-"))) -> 0
A20: trajectoire 8 | B20: rapide | C20: 10 | D20: =IF(B20="rapide",$I$2,"-") -> 12000 | E20: =IF(B20="travail", $I$9,"-") -> - | F20: =IF(B20="rapide", MROUND(C20/D20,0.001),"-") -> 0.001 | G20: =IF($E20=0,0,(IF($B20="travail", MROUND($C20/$E20,0.001),"-"))) -> -
A21: Opération 1 | D21: Tt : | E21: =IF(G13=0," ",(SUM(F13:G20,($I$3/100)))) | F21: min
A24: Outils: | D24: Vc: | E24: =VLOOKUP($B24,'Conditions de coupe'!$D$14:$J$54,3,FALSE) -> 0 | F24: m/min | H24: avance: | I24: =VLOOKUP($B24,'Conditions de coupe'!$D$14:$J$54,4,FALSE) -> 0
G25: nombre de dents: | I25: =VLOOKUP($B24,'Conditions de coupe'!$D$14:$J$54,5,FALSE) -> 0
C26: Diamètre outil: | E26: =VLOOKUP($B24,'Conditions de coupe'!$D$14:$J$54,5,FALSE) -> 0 | F26: mm
H27: Vf: | I27: =VLOOKUP($B24,'Conditions de coupe'!$D$14:$J$54,7,FALSE) -> 0
D29: Vf en mm/min | F29: Temps technologique
B30: déplacement | C30: Longueur | D30: rapide | E30: travail | F30: T rapide | G30: T travail
A31: trajectoire 1 | B31: travail | C31: 90 | D31: =IF(B31="rapide",$I$2,"-") -> - | E31: =IF(B31="travail", MROUND($I$27,0.001),"-") -> 0 | F31: =IF(B31="rapide", MROUND(C31/D31,0.001),"-") -> - | G31: =IF($E31=0,0,(IF($B31="travail", MROUND($C31/$E31,0.001),"-"))) -> 0
A32: trajectoire 2 | B32: rapide | C32: 89 | D32: =IF(B32="rapide",$I$2,"-") -> 12000 | E32: =IF(B32="travail", MROUND($I$27,0.001),"-") -> - | F32: =IF(B32="rapide", MROUND(C32/D32,0.001),"-") -> 0.007 | G32: =IF($E32=0,0,(IF($B32="travail", MROUND($C32/$E32,0.001),"-"))) -> -
A33: trajectoire 3 | B33: travail | C33: 90 | D33: =IF(B33="rapide",$I$2,"-") -> - | E33: =IF(B33="travail", MROUND($I$27,0.001),"-") -> 0 | F33: =IF(B33="rapide", MROUND(C33/D33,0.001),"-") -> - | G33: =IF($E33=0,0,(IF($B33="travail", MROUND($C33/$E33,0.001),"-"))) -> 0
A34: trajectoire 4 | B34: rapide | C34: 30 | D34: =IF(B34="rapide",$I$2,"-") -> 12000 | E34: =IF(B34="travail", MROUND($I$27,0.001),"-") -> - | F34: =IF(B34="rapide", MROUND(C34/D34,0.001),"-") -> 0.003 | G34: =IF($E34=0,0,(IF($B34="travail", MROUND($C34/$E34,0.001),"-"))) -> -
A35: trajectoire 5 | B35: travail | C35: 93 | D35: =IF(B35="rapide",$I$2,"-") -> - | E35: =IF(B35="travail", MROUND($I$27,0.001),"-") -> 0 | F35: =IF(B35="rapide", MROUND(C35/D35,0.001),"-") -> - | G35: =IF($E35=0,0,(IF($B35="travail", MROUND($C35/$E35,0.001),"-"))) -> 0
A36: trajectoire 6 | B36: rapide | C36: 10 | D36: =IF(B36="rapide",$I$2,"-") -> 12000 | E36: =IF(B36="travail", MROUND($I$27,0.001),"-") -> - | F36: =IF(B36="rapide", MROUND(C36/D36,0.001),"-") -> 0.001 | G36: =IF($E36=0,0,(IF($B36="travail", MROUND($C36/$E36,0.001),"-"))) -> -
A37: trajectoire 7 | B37: travail | C37: 93 | D37: =IF(B37="rapide",$I$2,"-") -> - | E37: =IF(B37="travail", MROUND($I$27,0.001),"-") -> 0 | F37: =IF(B37="rapide", MROUND(C37/D37,0.001),"-") -> - | G37: =IF($E37=0,0,(IF($B37="travail", MROUND($C37/$E37,0.001),"-"))) -> 0
A38: trajectoire 8 | B38: rapide | C38: 10 | D38: =IF(B38="rapide",$I$2,"-") -> 12000 | E38: =IF(B38="travail", MROUND($I$27,0.001),"-") -> - | F38: =IF(B38="rapide", MROUND(C38/D38,0.001),"-") -> 0.001 | G38: =IF($E38=0,0,(IF($B38="travail", MROUND($C38/$E38,0.001),"-"))) -> -
A39: Opération 2 | D39: Tt : | E39: =IF(G31=0," ",(SUM(F31:G38,($I$3/100)))) | F39: min
A42: Outils: | D42: Vc: | E42: =VLOOKUP($B42,'Conditions de coupe'!$D$14:$J$54,3,FALSE) -> 0 | F42: m/min | H42: avance: | I42: =VLOOKUP($B42,'Conditions de coupe'!$D$14:$J$54,4,FALSE) -> 0
G43: nombre de dents: | I43: =VLOOKUP($B42,'Conditions de coupe'!$D$14:$J$54,5,FALSE) -> 0
C44: Diamètre outil: | E44: =VLOOKUP($B42,'Conditions de coupe'!$D$14:$J$54,5,FALSE) -> 0 | F44: mm
H45: Vf: | I45: =VLOOKUP($B42,'Conditions de coupe'!$D$14:$J$54,7,FALSE) -> 0
D47: Vf en mm/min | F47: Temps technologique
B48: déplacement | C48: Longueur | D48: rapide | E48: travail | F48: T rapide | G48: T travail
A49: trajectoire 1 | B49: travail | C49: 90 | D49: =IF(B49="rapide",$I$2,"-") -> - | E49: =IF(B49="travail", MROUND($I$45,0.001),"-") -> 0 | F49: =IF(B49="rapide", MROUND(C49/D49,0.001),"-") -> - | G49: =IF($E49=0,0,(IF($B49="travail", MROUND($C49/$E49,0.001),"-"))) -> 0
...

Sheet Fraisage Ph40
A1: PHASE | B1: FRAISAGE | H1: Machine : | I1: DMU
A2: Pièce | G2: avance rapide machine : | I2: =IF($I$1=Données!$D$7,Données!E$7,IF($I$1=Données!$D$8,Données!E$8,IF($I$1=Données!$D$9,Données!E$9,IF($I$1=Données!$D$10,Données!E$10,IF($I$1=Données!$D$11,Données!E$11,IF($I$1=Données!$D$12,Données!E$12,IF($I$1=Données!$D$13,Données!E$13,IF($I$1=Données!$D$14,Données!E$14,IF($I$1=Données!$D$15,Données!E$15,IF($I$1=Données!$D$16,Données!E$16,IF($I$1=Données!$D$17,Données!E$17,IF($I$1=Données!$D$18,Données!E$18,IF($I$1=Données!$D$19,Données!E$19,IF($I$1=Données!$D$20,Données!E$20,Données!E$21)))))))))))))) -> 12000 | J2: mm/min
G3: Changement d'outil : | I3: =IF($I$1=Données!$D$7,Données!F$7,IF($I$1=Données!$D$8,Données!F$8,IF($I$1=Données!$D$9,Données!F$9,IF($I$1=Données!$D$10,Données!F$10,IF($I$1=Données!$D$11,Données!F$11,IF($I$1=Données!$D$12,Données!F$12,IF($I$1=Données!$D$13,Données!F$13,IF($I$1=Données!$D$14,Données!F$14,IF($I$1=Données!$D$15,Données!F$15,IF($I$1=Données!$D$16,Données!F$16,IF($I$1=Données!$D$17,Données!F$17,IF($I$1=Données!$D$18,Données!F$18,IF($I$1=Données!$D$19,Données!F$19,IF($I$1=Données!$D$20,Données!F$20,Données!F$21)))))))))))))) -> 21 | J3: cmin.
A6: Outils: | D6: Vc: | E6: =VLOOKUP($B6,'Conditions de coupe'!$D$14:$J$54,3,FALSE) -> 0 | F6: m/min | H6: avance: | I6: =VLOOKUP($B6,'Conditions de coupe'!$D$14:$J$54,4,FALSE) -> 0
G7: nombre de dents: | I7: =VLOOKUP($B6,'Conditions de coupe'!$D$14:$J$54,5,FALSE) -> 0
C8: Diamètre outil: | E8: =VLOOKUP($B6,'Conditions de coupe'!$D$14:$J$54,4,FALSE) -> 0 | F8: mm
H9: Vf: | I9: =VLOOKUP($B6,'Conditions de coupe'!$D$14:$J$54,7,FALSE) -> 0
D11: Vf en mm/min | F11: Temps technologique
B12: déplacement | C12: Longueur | D12: rapide | E12: travail | F12: T rapide | G12: T travail
A13: trajectoire 1 | B13: travail | C13: 90 | D13: =IF(B13="rapide",$I$2,"-") -> - | E13: =IF(B13="travail", MROUND($I$9,0.001),"-") -> 0 | F13: =IF(B13="rapide", MROUND(C13/D13,0.001),"-") -> - | G13: =IF($E13=0,0,(IF($B13="travail", MROUND($C13/$E13,0.001),"-"))) -> 0
A14: trajectoire 2 | B14: rapide | C14: 89 | D14: =IF(B14="rapide",$I$2,"-") -> 12000 | E14: =IF(B14="travail", $I$9,"-") -> - | F14: =IF(B14="rapide", MROUND(C14/D14,0.001),"-") -> 0.007 | G14: =IF($E14=0,0,(IF($B14="travail", MROUND($C14/$E14,0.001),"-"))) -> -
A15: trajectoire 3 | B15: travail | C15: 90 | D15: =IF(B15="rapide",$I$2,"-") -> - | E15: =IF(B15="travail", $I$9,"-") -> 0 | F15: =IF(B15="rapide", MROUND(C15/D15,0.001),"-") -> - | G15: =IF($E15=0,0,(IF($B15="travail", MROUND($C15/$E15,0.001),"-"))) -> 0
A16: trajectoire 4 | B16: rapide | C16: 30 | D16: =IF(B16="rapide",$I$2,"-") -> 12000 | E16: =IF(B16="travail", $I$9,"-") -> - | F16: =IF(B16="rapide", MROUND(C16/D16,0.001),"-") -> 0.003 | G16: =IF($E16=0,0,(IF($B16="travail", MROUND($C16/$E16,0.001),"-"))) -> -
A17: trajectoire 5 | B17: travail | C17: 93 | D17: =IF(B17="rapide",$I$2,"-") -> - | E17: =IF(B17="travail", $I$9,"-") -> 0 | F17: =IF(B17="rapide", MROUND(C17/D17,0.001),"-") -> - | G17: =IF($E17=0,0,(IF($B17="travail", MROUND($C17/$E17,0.001),"-"))) -> 0
A18: trajectoire 6 | B18: rapide | C18: 10 | D18: =IF(B18="rapide",$I$2,"-") -> 12000 | E18: =IF(B18="travail", $I$9,"-") -> - | F18: =IF(B18="rapide", MROUND(C18/D18,0.001),"-") -> 0.001 | G18: =IF($E18=0,0,(IF($B18="travail", MROUND($C18/$E18,0.001),"-"))) -> -
A19: trajectoire 7 | B19: travail | C19: 93 | D19: =IF(B19="rapide",$I$2,"-") -> - | E19: =IF(B19="travail", $I$9,"-") -> 0 | F19: =IF(B19="rapide", MROUND(C19/D19,0.001),"-") -> - | G19: =IF($E19=0,0,(IF($B19="travail", MROUND($C19/$E19,0.001),"-"))) -> 0
A20: trajectoire 8 | B20: rapide | C20: 10 | D20: =IF(B20="rapide",$I$2,"-") -> 12000 | E20: =IF(B20="travail", $I$9,"-") -> - | F20: =IF(B20="rapide", MROUND(C20/D20,0.001),"-") -> 0.001 | G20: =IF($E20=0,0,(IF($B20="travail", MROUND($C20/$E20,0.001),"-"))) -> -
A21: Opération 1 | D21: Tt : | E21: =IF(G13=0," ",(SUM(F13:G20,($I$3/100)))) | F21: min
A24: Outils: | D24: Vc: | E24: =VLOOKUP($B24,'Conditions de coupe'!$D$14:$J$54,3,FALSE) -> 0 | F24: m/min | H24: avance: | I24: =VLOOKUP($B24,'Conditions de coupe'!$D$14:$J$54,4,FALSE) -> 0
G25: nombre de dents: | I25: =VLOOKUP($B24,'Conditions de coupe'!$D$14:$J$54,5,FALSE) -> 0
C26: Diamètre outil: | E26: =VLOOKUP($B24,'Conditions de coupe'!$D$14:$J$54,4,FALSE) -> 0 | F26: mm
H27: Vf: | I27: =VLOOKUP($B24,'Conditions de coupe'!$D$14:$J$54,7,FALSE) -> 0
D29: Vf en mm/min | F29: Temps technologique
B30: déplacement | C30: Longueur | D30: rapide | E30: travail | F30: T rapide | G30: T travail
A31: trajectoire 1 | B31: travail | C31: 90 | D31: =IF(B31="rapide",$I$2,"-") -> - | E31: =IF(B31="travail", MROUND($I$27,0.001),"-") -> 0 | F31: =IF(B31="rapide", MROUND(C31/D31,0.001),"-") -> - | G31: =IF($E31=0,0,(IF($B31="travail", MROUND($C31/$E31,0.001),"-"))) -> 0
A32: trajectoire 2 | B32: rapide | C32: 89 | D32: =IF(B32="rapide",$I$2,"-") -> 12000 | E32: =IF(B32="travail", MROUND($I$27,0.001),"-") -> - | F32: =IF(B32="rapide", MROUND(C32/D32,0.001),"-") -> 0.007 | G32: =IF($E32=0,0,(IF($B32="travail", MROUND($C32/$E32,0.001),"-"))) -> -
A33: trajectoire 3 | B33: travail | C33: 90 | D33: =IF(B33="rapide",$I$2,"-") -> - | E33: =IF(B33="travail", MROUND($I$27,0.001),"-") -> 0 | F33: =IF(B33="rapide", MROUND(C33/D33,0.001),"-") -> - | G33: =IF($E33=0,0,(IF($B33="travail", MROUND($C33/$E33,0.001),"-"))) -> 0
A34: trajectoire 4 | B34: rapide | C34: 30 | D34: =IF(B34="rapide",$I$2,"-") -> 12000 | E34: =IF(B34="travail", MROUND($I$27,0.001),"-") -> - | F34: =IF(B34="rapide", MROUND(C34/D34,0.001),"-") -> 0.003 | G34: =IF($E34=0,0,(IF($B34="travail", MROUND($C34/$E34,0.001),"-"))) -> -
A35: trajectoire 5 | B35: travail | C35: 93 | D35: =IF(B35="rapide",$I$2,"-") -> - | E35: =IF(B35="travail", MROUND($I$27,0.001),"-") -> 0 | F35: =IF(B35="rapide", MROUND(C35/D35,0.001),"-") -> - | G35: =IF($E35=0,0,(IF($B35="travail", MROUND($C35/$E35,0.001),"-"))) -> 0
A36: trajectoire 6 | B36: rapide | C36: 10 | D36: =IF(B36="rapide",$I$2,"-") -> 12000 | E36: =IF(B36="travail", MROUND($I$27,0.001),"-") -> - | F36: =IF(B36="rapide", MROUND(C36/D36,0.001),"-") -> 0.001 | G36: =IF($E36=0,0,(IF($B36="travail", MROUND($C36/$E36,0.001),"-"))) -> -
A37: trajectoire 7 | B37: travail | C37: 93 | D37: =IF(B37="rapide",$I$2,"-") -> - | E37: =IF(B37="travail", MROUND($I$27,0.001),"-") -> 0 | F37: =IF(B37="rapide", MROUND(C37/D37,0.001),"-") -> - | G37: =IF($E37=0,0,(IF($B37="travail", MROUND($C37/$E37,0.001),"-"))) -> 0
A38: trajectoire 8 | B38: rapide | C38: 10 | D38: =IF(B38="rapide",$I$2,"-") -> 12000 | E38: =IF(B38="travail", MROUND($I$27,0.001),"-") -> - | F38: =IF(B38="rapide", MROUND(C38/D38,0.001),"-") -> 0.001 | G38: =IF($E38=0,0,(IF($B38="travail", MROUND($C38/$E38,0.001),"-"))) -> -
A39: Opération 2 | D39: Tt : | E39: =IF(G31=0," ",(SUM(F31:G38,($I$3/100)))) | F39: min
A42: Outils: | D42: Vc: | E42: =VLOOKUP($B42,'Conditions de coupe'!$D$14:$J$54,3,FALSE) -> 0 | F42: m/min | H42: avance: | I42: =VLOOKUP($B42,'Conditions de coupe'!$D$14:$J$54,4,FALSE) -> 0
G43: nombre de dents: | I43: =VLOOKUP($B42,'Conditions de coupe'!$D$14:$J$54,5,FALSE) -> 0
C44: Diamètre outil: | E44: =VLOOKUP($B42,'Conditions de coupe'!$D$14:$J$54,4,FALSE) -> 0 | F44: mm
H45: Vf: | I45: =VLOOKUP($B42,'Conditions de coupe'!$D$14:$J$54,7,FALSE) -> 0
D47: Vf en mm/min | F47: Temps technologique
B48: déplacement | C48: Longueur | D48: rapide | E48: travail | F48: T rapide | G48: T travail
A49: trajectoire 1 | B49: travail | C49: 90 | D49: =IF(B49="rapide",$I$2,"-") -> - | E49: =IF(B49="travail", MROUND($I$45,0.001),"-") -> 0 | F49: =IF(B49="rapide", MROUND(C49/D49,0.001),"-") -> - | G49: =IF($E49=0,0,(IF($B49="travail", MROUND($C49/$E49,0.001),"-"))) -> 0
...

Sheet Tournage Ph10
A1: PHASE | B1: TOURNAGE | H1: Machine : | I1: Somab 400
A2: Pièce | G2: avance rapide machine : | I2: =IF($I$1=Données!$D$7,Données!E$7,IF($I$1=Données!$D$8,Données!E$8,IF($I$1=Données!$D$9,Données!E$9,IF($I$1=Données!$D$10,Données!E$10,IF($I$1=Données!$D$11,Données!E$11,IF($I$1=Données!$D$12,Données!E$12,IF($I$1=Données!$D$13,Données!E$13,IF($I$1=Données!$D$14,Données!E$14,IF($I$1=Données!$D$15,Données!E$15,IF($I$1=Données!$D$16,Données!E$16,IF($I$1=Données!$D$17,Données!E$17,IF($I$1=Données!$D$18,Données!E$18,IF($I$1=Données!$D$19,Données!E$19,IF($I$1=Données!$D$20,Données!E$20,Données!E$21)))))))))))))) -> 3000 | J2: mm/min
G3: Changement d'outil : | I3: =IF($I$1=Données!$D$7,Données!F$7,IF($I$1=Données!$D$8,Données!F$8,IF($I$1=Données!$D$9,Données!F$9,IF($I$1=Données!$D$10,Données!F$10,IF($I$1=Données!$D$11,Données!F$11,IF($I$1=Données!$D$12,Données!F$12,IF($I$1=Données!$D$13,Données!F$13,IF($I$1=Données!$D$14,Données!F$14,IF($I$1=Données!$D$15,Données!F$15,IF($I$1=Données!$D$16,Données!F$16,IF($I$1=Données!$D$17,Données!F$17,IF($I$1=Données!$D$18,Données!F$18,IF($I$1=Données!$D$19,Données!F$19,IF($I$1=Données!$D$20,Données!F$20,Données!F$21)))))))))))))) -> 15 | J3: cmin.
A6: Outils: | D6: Vc: | E6: =VLOOKUP($B6,'Conditions de coupe'!$D$14:$J$54,3,FALSE) -> 0 | F6: m/min | H6: avance: | I6: =VLOOKUP($B6,'Conditions de coupe'!$D$14:$J$54,2,FALSE) -> 0
C8: Diamètre pièce: | E8: =VLOOKUP($B6,'Conditions de coupe'!$D$14:$J$54,2,FALSE) -> 0 | F8: mm
H9: Vf: | I9: =VLOOKUP($B6,'Conditions de coupe'!$D$14:$J$54,7,FALSE) -> 0
D11: Vf en mm/min | F11: Temps technologique
B12: déplacement | C12: Longueur | D12: rapide | E12: travail | F12: T rapide | G12: T travail
A13: trajectoire 1 | B13: travail | C13: 90 | D13: =IF(B13="rapide",$I$2,"-") -> - | E13: =IF($B13="travail", MROUND($I$9,0.001),"-") -> 0 | F13: =IF(B13="rapide", MROUND(C13/D13,0.001),"-") -> - | G13: =IF($E13=0,0,(IF($B13="travail", MROUND($C13/$E13,0.001),"-"))) -> 0
A14: trajectoire 2 | B14: rapide | C14: 89 | D14: =IF(B14="rapide",$I$2,"-") -> 3000 | E14: =IF($B14="travail", MROUND($I$9,0.001),"-") -> - | F14: =IF(B14="rapide", MROUND(C14/D14,0.001),"-") -> 0.03 | G14: =IF($E14=0,0,(IF($B14="travail", MROUND($C14/$E14,0.001),"-"))) -> -
A15: trajectoire 3 | B15: travail | C15: 90 | D15: =IF(B15="rapide",$I$2,"-") -> - | E15: =IF($B15="travail", MROUND($I$9,0.001),"-") -> 0 | F15: =IF(B15="rapide", MROUND(C15/D15,0.001),"-") -> - | G15: =IF($E15=0,0,(IF($B15="travail", MROUND($C15/$E15,0.001),"-"))) -> 0
A16: trajectoire 4 | B16: rapide | C16: 30 | D16: =IF(B16="rapide",$I$2,"-") -> 3000 | E16: =IF($B16="travail", MROUND($I$9,0.001),"-") -> - | F16: =IF(B16="rapide", MROUND(C16/D16,0.001),"-") -> 0.01 | G16: =IF($E16=0,0,(IF($B16="travail", MROUND($C16/$E16,0.001),"-"))) -> -
A17: trajectoire 5 | B17: travail | C17: 93 | D17: =IF(B17="rapide",$I$2,"-") -> - | E17: =IF($B17="travail", MROUND($I$9,0.001),"-") -> 0 | F17: =IF(B17="rapide", MROUND(C17/D17,0.001),"-") -> - | G17: =IF($E17=0,0,(IF($B17="travail", MROUND($C17/$E17,0.001),"-"))) -> 0
A18: trajectoire 6 | B18: rapide | C18: 10 | D18: =IF(B18="rapide",$I$2,"-") -> 3000 | E18: =IF($B18="travail", MROUND($I$9,0.001),"-") -> - | F18: =IF(B18="rapide", MROUND(C18/D18,0.001),"-") -> 0.003 | G18: =IF($E18=0,0,(IF($B18="travail", MROUND($C18/$E18,0.001),"-"))) -> -
A19: trajectoire 7 | B19: travail | C19: 93 | D19: =IF(B19="rapide",$I$2,"-") -> - | E19: =IF($B19="travail", MROUND($I$9,0.001),"-") -> 0 | F19: =IF(B19="rapide", MROUND(C19/D19,0.001),"-") -> - | G19: =IF($E19=0,0,(IF($B19="travail", MROUND($C19/$E19,0.001),"-"))) -> 0
A20: trajectoire 8 | B20: rapide | C20: 10 | D20: =IF(B20="rapide",$I$2,"-") -> 3000 | E20: =IF($B20="travail", MROUND($I$9,0.001),"-") -> - | F20: =IF(B20="rapide", MROUND(C20/D20,0.001),"-") -> 0.003 | G20: =IF($E20=0,0,(IF($B20="travail", MROUND($C20/$E20,0.001),"-"))) -> -
A21: Opération 1 | D21: Tt : | E21: =IF(G13=0," ",(SUM(F13:G20,($I$3/100)))) | F21: min
A24: Outils: | D24: Vc: | E24: =VLOOKUP($B24,'Conditions de coupe'!$D$14:$J$54,3,FALSE) -> 0 | F24: m/min | H24: avance: | I24: =VLOOKUP($B24,'Conditions de coupe'!$D$14:$J$54,2,FALSE) -> 0
C26: Diamètre pièce: | E26: =VLOOKUP($B24,'Conditions de coupe'!$D$14:$J$54,2,FALSE) -> 0 | F26: mm
H27: Vf: | I27: =VLOOKUP($B24,'Conditions de coupe'!$D$14:$J$54,7,FALSE) -> 0
D29: Vf en mm/min | F29: Temps technologique
B30: déplacement | C30: Longueur | D30: rapide | E30: travail | F30: T rapide | G30: T travail
A31: trajectoire 1 | B31: travail | C31: 90 | D31: =IF(B31="rapide",$I$2,"-") -> - | E31: =IF($B31="travail", MROUND($I$27,0.001),"-") -> 0 | F31: =IF(B31="rapide", MROUND(C31/D31,0.001),"-") -> - | G31: =IF($E31=0,0,(IF($B31="travail", MROUND($C31/$E31,0.001),"-"))) -> 0
A32: trajectoire 2 | B32: rapide | C32: 89 | D32: =IF(B32="rapide",$I$2,"-") -> 3000 | E32: =IF($B32="travail", MROUND($I$27,0.001),"-") -> - | F32: =IF(B32="rapide", MROUND(C32/D32,0.001),"-") -> 0.03 | G32: =IF($E32=0,0,(IF($B32="travail", MROUND($C32/$E32,0.001),"-"))) -> -
A33: trajectoire 3 | B33: travail | C33: 90 | D33: =IF(B33="rapide",$I$2,"-") -> - | E33: =IF($B33="travail", MROUND($I$27,0.001),"-") -> 0 | F33: =IF(B33="rapide", MROUND(C33/D33,0.001),"-") -> - | G33: =IF($E33=0,0,(IF($B33="travail", MROUND($C33/$E33,0.001),"-"))) -> 0
A34: trajectoire 4 | B34: rapide | C34: 30 | D34: =IF(B34="rapide",$I$2,"-") -> 3000 | E34: =IF($B34="travail", MROUND($I$27,0.001),"-") -> - | F34: =IF(B34="rapide", MROUND(C34/D34,0.001),"-") -> 0.01 | G34: =IF($E34=0,0,(IF($B34="travail", MROUND($C34/$E34,0.001),"-"))) -> -
A35: trajectoire 5 | B35: travail | C35: 93 | D35: =IF(B35="rapide",$I$2,"-") -> - | E35: =IF($B35="travail", MROUND($I$27,0.001),"-") -> 0 | F35: =IF(B35="rapide", MROUND(C35/D35,0.001),"-") -> - | G35: =IF($E35=0,0,(IF($B35="travail", MROUND($C35/$E35,0.001),"-"))) -> 0
A36: trajectoire 6 | B36: rapide | C36: 10 | D36: =IF(B36="rapide",$I$2,"-") -> 3000 | E36: =IF($B36="travail", MROUND($I$27,0.001),"-") -> - | F36: =IF(B36="rapide", MROUND(C36/D36,0.001),"-") -> 0.003 | G36: =IF($E36=0,0,(IF($B36="travail", MROUND($C36/$E36,0.001),"-"))) -> -
A37: trajectoire 7 | B37: travail | C37: 93 | D37: =IF(B37="rapide",$I$2,"-") -> - | E37: =IF($B37="travail", MROUND($I$27,0.001),"-") -> 0 | F37: =IF(B37="rapide", MROUND(C37/D37,0.001),"-") -> - | G37: =IF($E37=0,0,(IF($B37="travail", MROUND($C37/$E37,0.001),"-"))) -> 0
A38: trajectoire 8 | B38: rapide | C38: 10 | D38: =IF(B38="rapide",$I$2,"-") -> 3000 | E38: =IF($B38="travail", MROUND($I$27,0.001),"-") -> - | F38: =IF(B38="rapide", MROUND(C38/D38,0.001),"-") -> 0.003 | G38: =IF($E38=0,0,(IF($B38="travail", MROUND($C38/$E38,0.001),"-"))) -> -
A39: Opération 2 | D39: Tt : | E39: =IF(G31=0," ",(SUM(F31:G38,($I$3/100)))) | F39: min
A42: Outils: | B42: 0 | D42: Vc: | E42: =VLOOKUP($B42,'Conditions de coupe'!$D$14:$J$54,3,FALSE) -> 0 | F42: m/min | H42: avance: | I42: =VLOOKUP($B42,'Conditions de coupe'!$D$14:$J$54,2,FALSE) -> 0
C44: Diamètre pièce: | E44: =VLOOKUP($B42,'Conditions de coupe'!$D$14:$J$54,2,FALSE) -> 0 | F44: mm
H45: Vf: | I45: =VLOOKUP($B42,'Conditions de coupe'!$D$14:$J$54,7,FALSE) -> 0
D47: Vf en mm/min | F47: Temps technologique
B48: déplacement | C48: Longueur | D48: rapide | E48: travail | F48: T rapide | G48: T travail
A49: trajectoire 1 | B49: travail | C49: 90 | D49: =IF(B49="rapide",$I$2,"-") -> - | E49: =IF($B49="travail", MROUND($I$45,0.001),"-") -> 0 | F49: =IF(B49="rapide", MROUND(C49/D49,0.001),"-") -> - | G49: =IF($E49=0,0,(IF($B49="travail", MROUND($C49/$E49,0.001),"-"))) -> 0
A50: trajectoire 2 | B50: rapide | C50: 89 | D50: =IF(B50="rapide",$I$2,"-") -> 3000 | E50: =IF($B50="travail", MROUND($I$45,0.001),"-") -> - | F50: =IF(B50="rapide", MROUND(C50/D50,0.001),"-") -> 0.03 | G50: =IF($E50=0,0,(IF($B50="travail", MROUND($C50/$E50,0.001),"-"))) -> -
A51: trajectoire 3 | B51: travail | C51: 90 | D51: =IF(B51="rapide",$I$2,"-") -> - | E51: =IF($B51="travail", MROUND($I$45,0.001),"-") -> 0 | F51: =IF(B51="rapide", MROUND(C51/D51,0.001),"-") -> - | G51: =IF($E51=0,0,(IF($B51="travail", MROUND($C51/$E51,0.001),"-"))) -> 0
A52: trajectoire 4 | B52: rapide | C52: 30 | D52: =IF(B52="rapide",$I$2,"-") -> 3000 | E52: =IF($B52="travail", MROUND($I$45,0.001),"-") -> - | F52: =IF(B52="rapide", MROUND(C52/D52,0.001),"-") -> 0.01 | G52: =IF($E52=0,0,(IF($B52="travail", MROUND($C52/$E52,0.001),"-"))) -> -
...

Sheet Tournage Ph20
A1: PHASE | B1: TOURNAGE | H1: Machine : | I1: Somab 400
A2: Pièce | G2: avance rapide machine : | I2: =IF($I$1=Données!$D$7,Données!E$7,IF($I$1=Données!$D$8,Données!E$8,IF($I$1=Données!$D$9,Données!E$9,IF($I$1=Données!$D$10,Données!E$10,IF($I$1=Données!$D$11,Données!E$11,IF($I$1=Données!$D$12,Données!E$12,IF($I$1=Données!$D$13,Données!E$13,IF($I$1=Données!$D$14,Données!E$14,IF($I$1=Données!$D$15,Données!E$15,IF($I$1=Données!$D$16,Données!E$16,IF($I$1=Données!$D$17,Données!E$17,IF($I$1=Données!$D$18,Données!E$18,IF($I$1=Données!$D$19,Données!E$19,IF($I$1=Données!$D$20,Données!E$20,Données!E$21)))))))))))))) -> 3000 | J2: mm/min
G3: Changement d'outil : | I3: =IF($I$1=Données!$D$7,Données!F$7,IF($I$1=Données!$D$8,Données!F$8,IF($I$1=Données!$D$9,Données!F$9,IF($I$1=Données!$D$10,Données!F$10,IF($I$1=Données!$D$11,Données!F$11,IF($I$1=Données!$D$12,Données!F$12,IF($I$1=Données!$D$13,Données!F$13,IF($I$1=Données!$D$14,Données!F$14,IF($I$1=Données!$D$15,Données!F$15,IF($I$1=Données!$D$16,Données!F$16,IF($I$1=Données!$D$17,Données!F$17,IF($I$1=Données!$D$18,Données!F$18,IF($I$1=Données!$D$19,Données!F$19,IF($I$1=Données!$D$20,Données!F$20,Données!F$21)))))))))))))) -> 15 | J3: cmin.
A6: Outils: | D6: Vc: | E6: =VLOOKUP($B6,'Conditions de coupe'!$D$14:$J$54,3,FALSE) -> 0 | F6: m/min | H6: avance: | I6: =VLOOKUP($B6,'Conditions de coupe'!$D$14:$J$54,2,FALSE) -> 0
C8: Diamètre pièce: | E8: =VLOOKUP($B6,'Conditions de coupe'!$D$14:$J$54,2,FALSE) -> 0 | F8: mm
H9: Vf: | I9: =VLOOKUP($B6,'Conditions de coupe'!$D$14:$J$54,7,FALSE) -> 0
D11: Vf en mm/min | F11: Temps technologique
B12: déplacement | C12: Longueur | D12: rapide | E12: travail | F12: T rapide | G12: T travail
A13: trajectoire 1 | B13: travail | C13: 90 | D13: =IF(B13="rapide",$I$2,"-") -> - | E13: =IF($B13="travail", MROUND($I$9,0.001),"-") -> 0 | F13: =IF(B13="rapide", MROUND(C13/D13,0.001),"-") -> - | G13: =IF($E13=0,0,(IF($B13="travail", MROUND($C13/$E13,0.001),"-"))) -> 0
A14: trajectoire 2 | B14: rapide | C14: 89 | D14: =IF(B14="rapide",$I$2,"-") -> 3000 | E14: =IF($B14="travail", MROUND($I$9,0.001),"-") -> - | F14: =IF(B14="rapide", MROUND(C14/D14,0.001),"-") -> 0.03 | G14: =IF($E14=0,0,(IF($B14="travail", MROUND($C14/$E14,0.001),"-"))) -> -
A15: trajectoire 3 | B15: travail | C15: 90 | D15: =IF(B15="rapide",$I$2,"-") -> - | E15: =IF($B15="travail", MROUND($I$9,0.001),"-") -> 0 | F15: =IF(B15="rapide", MROUND(C15/D15,0.001),"-") -> - | G15: =IF($E15=0,0,(IF($B15="travail", MROUND($C15/$E15,0.001),"-"))) -> 0
A16: trajectoire 4 | B16: rapide | C16: 30 | D16: =IF(B16="rapide",$I$2,"-") -> 3000 | E16: =IF($B16="travail", MROUND($I$9,0.001),"-") -> - | F16: =IF(B16="rapide", MROUND(C16/D16,0.001),"-") -> 0.01 | G16: =IF($E16=0,0,(IF($B16="travail", MROUND($C16/$E16,0.001),"-"))) -> -
A17: trajectoire 5 | B17: travail | C17: 93 | D17: =IF(B17="rapide",$I$2,"-") -> - | E17: =IF($B17="travail", MROUND($I$9,0.001),"-") -> 0 | F17: =IF(B17="rapide", MROUND(C17/D17,0.001),"-") -> - | G17: =IF($E17=0,0,(IF($B17="travail", MROUND($C17/$E17,0.001),"-"))) -> 0
A18: trajectoire 6 | B18: rapide | C18: 10 | D18: =IF(B18="rapide",$I$2,"-") -> 3000 | E18: =IF($B18="travail", MROUND($I$9,0.001),"-") -> - | F18: =IF(B18="rapide", MROUND(C18/D18,0.001),"-") -> 0.003 | G18: =IF($E18=0,0,(IF($B18="travail", MROUND($C18/$E18,0.001),"-"))) -> -
A19: trajectoire 7 | B19: travail | C19: 93 | D19: =IF(B19="rapide",$I$2,"-") -> - | E19: =IF($B19="travail", MROUND($I$9,0.001),"-") -> 0 | F19: =IF(B19="rapide", MROUND(C19/D19,0.001),"-") -> - | G19: =IF($E19=0,0,(IF($B19="travail", MROUND($C19/$E19,0.001),"-"))) -> 0
A20: trajectoire 8 | B20: rapide | C20: 10 | D20: =IF(B20="rapide",$I$2,"-") -> 3000 | E20: =IF($B20="travail", MROUND($I$9,0.001),"-") -> - | F20: =IF(B20="rapide", MROUND(C20/D20,0.001),"-") -> 0.003 | G20: =IF($E20=0,0,(IF($B20="travail", MROUND($C20/$E20,0.001),"-"))) -> -
A21: Opération 1 | D21: Tt : | E21: =IF(G13=0," ",(SUM(F13:G20,($I$3/100)))) | F21: min
A24: Outils: | D24: Vc: | E24: =VLOOKUP($B24,'Conditions de coupe'!$D$14:$J$54,3,FALSE) -> 0 | F24: m/min | H24: avance: | I24: =VLOOKUP($B24,'Conditions de coupe'!$D$14:$J$54,2,FALSE) -> 0
C26: Diamètre pièce: | E26: =VLOOKUP($B24,'Conditions de coupe'!$D$14:$J$54,2,FALSE) -> 0 | F26: mm
H27: Vf: | I27: =VLOOKUP($B24,'Conditions de coupe'!$D$14:$J$54,7,FALSE) -> 0
D29: Vf en mm/min | F29: Temps technologique
B30: déplacement | C30: Longueur | D30: rapide | E30: travail | F30: T rapide | G30: T travail
A31: trajectoire 1 | B31: travail | C31: 90 | D31: =IF(B31="rapide",$I$2,"-") -> - | E31: =IF($B31="travail", MROUND($I$27,0.001),"-") -> 0 | F31: =IF(B31="rapide", MROUND(C31/D31,0.001),"-") -> - | G31: =IF($E31=0,0,(IF($B31="travail", MROUND($C31/$E31,0.001),"-"))) -> 0
A32: trajectoire 2 | B32: rapide | C32: 89 | D32: =IF(B32="rapide",$I$2,"-") -> 3000 | E32: =IF($B32="travail", MROUND($I$27,0.001),"-") -> - | F32: =IF(B32="rapide", MROUND(C32/D32,0.001),"-") -> 0.03 | G32: =IF($E32=0,0,(IF($B32="travail", MROUND($C32/$E32,0.001),"-"))) -> -
A33: trajectoire 3 | B33: travail | C33: 90 | D33: =IF(B33="rapide",$I$2,"-") -> - | E33: =IF($B33="travail", MROUND($I$27,0.001),"-") -> 0 | F33: =IF(B33="rapide", MROUND(C33/D33,0.001),"-") -> - | G33: =IF($E33=0,0,(IF($B33="travail", MROUND($C33/$E33,0.001),"-"))) -> 0
A34: trajectoire 4 | B34: rapide | C34: 30 | D34: =IF(B34="rapide",$I$2,"-") -> 3000 | E34: =IF($B34="travail", MROUND($I$27,0.001),"-") -> - | F34: =IF(B34="rapide", MROUND(C34/D34,0.001),"-") -> 0.01 | G34: =IF($E34=0,0,(IF($B34="travail", MROUND($C34/$E34,0.001),"-"))) -> -
A35: trajectoire 5 | B35: travail | C35: 93 | D35: =IF(B35="rapide",$I$2,"-") -> - | E35: =IF($B35="travail", MROUND($I$27,0.001),"-") -> 0 | F35: =IF(B35="rapide", MROUND(C35/D35,0.001),"-") -> - | G35: =IF($E35=0,0,(IF($B35="travail", MROUND($C35/$E35,0.001),"-"))) -> 0
A36: trajectoire 6 | B36: rapide | C36: 10 | D36: =IF(B36="rapide",$I$2,"-") -> 3000 | E36: =IF($B36="travail", MROUND($I$27,0.001),"-") -> - | F36: =IF(B36="rapide", MROUND(C36/D36,0.001),"-") -> 0.003 | G36: =IF($E36=0,0,(IF($B36="travail", MROUND($C36/$E36,0.001),"-"))) -> -
A37: trajectoire 7 | B37: travail | C37: 93 | D37: =IF(B37="rapide",$I$2,"-") -> - | E37: =IF($B37="travail", MROUND($I$27,0.001),"-") -> 0 | F37: =IF(B37="rapide", MROUND(C37/D37,0.001),"-") -> - | G37: =IF($E37=0,0,(IF($B37="travail", MROUND($C37/$E37,0.001),"-"))) -> 0
A38: trajectoire 8 | B38: rapide | C38: 10 | D38: =IF(B38="rapide",$I$2,"-") -> 3000 | E38: =IF($B38="travail", MROUND($I$27,0.001),"-") -> - | F38: =IF(B38="rapide", MROUND(C38/D38,0.001),"-") -> 0.003 | G38: =IF($E38=0,0,(IF($B38="travail", MROUND($C38/$E38,0.001),"-"))) -> -
A39: Opération 2 | D39: Tt : | E39: =IF(G31=0," ",(SUM(F31:G38,($I$3/100)))) | F39: min
A42: Outils: | D42: Vc: | E42: =VLOOKUP($B42,'Conditions de coupe'!$D$14:$J$54,3,FALSE) -> 0 | F42: m/min | H42: avance: | I42: =VLOOKUP($B42,'Conditions de coupe'!$D$14:$J$54,2,FALSE) -> 0
C44: Diamètre pièce: | E44: =VLOOKUP($B42,'Conditions de coupe'!$D$14:$J$54,2,FALSE) -> 0 | F44: mm
H45: Vf: | I45: =VLOOKUP($B42,'Conditions de coupe'!$D$14:$J$54,7,FALSE) -> 0
D47: Vf en mm/min | F47: Temps technologique
B48: déplacement | C48: Longueur | D48: rapide | E48: travail | F48: T rapide | G48: T travail
A49: trajectoire 1 | B49: travail | C49: 90 | D49: =IF(B49="rapide",$I$2,"-") -> - | E49: =IF($B49="travail", MROUND($I$45,0.001),"-") -> 0 | F49: =IF(B49="rapide", MROUND(C49/D49,0.001),"-") -> - | G49: =IF($E49=0,0,(IF($B49="travail", MROUND($C49/$E49,0.001),"-"))) -> 0
A50: trajectoire 2 | B50: rapide | C50: 89 | D50: =IF(B50="rapide",$I$2,"-") -> 3000 | E50: =IF($B50="travail", MROUND($I$45,0.001),"-") -> - | F50: =IF(B50="rapide", MROUND(C50/D50,0.001),"-") -> 0.03 | G50: =IF($E50=0,0,(IF($B50="travail", MROUND($C50/$E50,0.001),"-"))) -> -
A51: trajectoire 3 | B51: travail | C51: 90 | D51: =IF(B51="rapide",$I$2,"-") -> - | E51: =IF($B51="travail", MROUND($I$45,0.001),"-") -> 0 | F51: =IF(B51="rapide", MROUND(C51/D51,0.001),"-") -> - | G51: =IF($E51=0,0,(IF($B51="travail", MROUND($C51/$E51,0.001),"-"))) -> 0
A52: trajectoire 4 | B52: rapide | C52: 30 | D52: =IF(B52="rapide",$I$2,"-") -> 3000 | E52: =IF($B52="travail", MROUND($I$45,0.001),"-") -> - | F52: =IF(B52="rapide", MROUND(C52/D52,0.001),"-") -> 0.01 | G52: =IF($E52=0,0,(IF($B52="travail", MROUND($C52/$E52,0.001),"-"))) -> -
...

Sheet Tournage Ph30
A1: PHASE | B1: TOURNAGE | H1: Machine : | I1: Somab 400
A2: Pièce | G2: avance rapide machine : | I2: =IF($I$1=Données!$D$7,Données!E$7,IF($I$1=Données!$D$8,Données!E$8,IF($I$1=Données!$D$9,Données!E$9,IF($I$1=Données!$D$10,Données!E$10,IF($I$1=Données!$D$11,Données!E$11,IF($I$1=Données!$D$12,Données!E$12,IF($I$1=Données!$D$13,Données!E$13,IF($I$1=Données!$D$14,Données!E$14,IF($I$1=Données!$D$15,Données!E$15,IF($I$1=Données!$D$16,Données!E$16,IF($I$1=Données!$D$17,Données!E$17,IF($I$1=Données!$D$18,Données!E$18,IF($I$1=Données!$D$19,Données!E$19,IF($I$1=Données!$D$20,Données!E$20,Données!E$21)))))))))))))) -> 3000 | J2: mm/min
G3: Changement d'outil : | I3: =IF($I$1=Données!$D$7,Données!F$7,IF($I$1=Données!$D$8,Données!F$8,IF($I$1=Données!$D$9,Données!F$9,IF($I$1=Données!$D$10,Données!F$10,IF($I$1=Données!$D$11,Données!F$11,IF($I$1=Données!$D$12,Données!F$12,IF($I$1=Données!$D$13,Données!F$13,IF($I$1=Données!$D$14,Données!F$14,IF($I$1=Données!$D$15,Données!F$15,IF($I$1=Données!$D$16,Données!F$16,IF($I$1=Données!$D$17,Données!F$17,IF($I$1=Données!$D$18,Données!F$18,IF($I$1=Données!$D$19,Données!F$19,IF($I$1=Données!$D$20,Données!F$20,Données!F$21)))))))))))))) -> 15 | J3: cmin.
A6: Outils: | D6: Vc: | E6: =VLOOKUP($B6,'Conditions de coupe'!$D$14:$J$54,3,FALSE) -> 0 | F6: m/min | H6: avance: | I6: =VLOOKUP($B6,'Conditions de coupe'!$D$14:$J$54,2,FALSE) -> 0
C8: Diamètre pièce: | E8: =VLOOKUP($B6,'Conditions de coupe'!$D$14:$J$54,2,FALSE) -> 0 | F8: mm
H9: Vf: | I9: =VLOOKUP($B6,'Conditions de coupe'!$D$14:$J$54,7,FALSE) -> 0
D11: Vf en mm/min | F11: Temps technologique
B12: déplacement | C12: Longueur | D12: rapide | E12: travail | F12: T rapide | G12: T travail
A13: trajectoire 1 | B13: travail | C13: 90 | D13: =IF(B13="rapide",$I$2,"-") -> - | E13: =IF($B13="travail", MROUND($I$9,0.001),"-") -> 0 | F13: =IF(B13="rapide", MROUND(C13/D13,0.001),"-") -> - | G13: =IF($E13=0,0,(IF($B13="travail", MROUND($C13/$E13,0.001),"-"))) -> 0
A14: trajectoire 2 | B14: rapide | C14: 89 | D14: =IF(B14="rapide",$I$2,"-") -> 3000 | E14: =IF($B14="travail", MROUND($I$9,0.001),"-") -> - | F14: =IF(B14="rapide", MROUND(C14/D14,0.001),"-") -> 0.03 | G14: =IF($E14=0,0,(IF($B14="travail", MROUND($C14/$E14,0.001),"-"))) -> -
A15: trajectoire 3 | B15: travail | C15: 90 | D15: =IF(B15="rapide",$I$2,"-") -> - | E15: =IF($B15="travail", MROUND($I$9,0.001),"-") -> 0 | F15: =IF(B15="rapide", MROUND(C15/D15,0.001),"-") -> - | G15: =IF($E15=0,0,(IF($B15="travail", MROUND($C15/$E15,0.001),"-"))) -> 0
A16: trajectoire 4 | B16: rapide | C16: 30 | D16: =IF(B16="rapide",$I$2,"-") -> 3000 | E16: =IF($B16="travail", MROUND($I$9,0.001),"-") -> - | F16: =IF(B16="rapide", MROUND(C16/D16,0.001),"-") -> 0.01 | G16: =IF($E16=0,0,(IF($B16="travail", MROUND($C16/$E16,0.001),"-"))) -> -
A17: trajectoire 5 | B17: travail | C17: 93 | D17: =IF(B17="rapide",$I$2,"-") -> - | E17: =IF($B17="travail", MROUND($I$9,0.001),"-") -> 0 | F17: =IF(B17="rapide", MROUND(C17/D17,0.001),"-") -> - | G17: =IF($E17=0,0,(IF($B17="travail", MROUND($C17/$E17,0.001),"-"))) -> 0
A18: trajectoire 6 | B18: rapide | C18: 10 | D18: =IF(B18="rapide",$I$2,"-") -> 3000 | E18: =IF($B18="travail", MROUND($I$9,0.001),"-") -> - | F18: =IF(B18="rapide", MROUND(C18/D18,0.001),"-") -> 0.003 | G18: =IF($E18=0,0,(IF($B18="travail", MROUND($C18/$E18,0.001),"-"))) -> -
A19: trajectoire 7 | B19: travail | C19: 93 | D19: =IF(B19="rapide",$I$2,"-") -> - | E19: =IF($B19="travail", MROUND($I$9,0.001),"-") -> 0 | F19: =IF(B19="rapide", MROUND(C19/D19,0.001),"-") -> - | G19: =IF($E19=0,0,(IF($B19="travail", MROUND($C19/$E19,0.001),"-"))) -> 0
A20: trajectoire 8 | B20: rapide | C20: 10 | D20: =IF(B20="rapide",$I$2,"-") -> 3000 | E20: =IF($B20="travail", MROUND($I$9,0.001),"-") -> - | F20: =IF(B20="rapide", MROUND(C20/D20,0.001),"-") -> 0.003 | G20: =IF($E20=0,0,(IF($B20="travail", MROUND($C20/$E20,0.001),"-"))) -> -
A21: Opération 1 | D21: Tt : | E21: =IF(G13=0," ",(SUM(F13:G20,($I$3/100)))) | F21: min
A24: Outils: | D24: Vc: | E24: =VLOOKUP($B24,'Conditions de coupe'!$D$14:$J$54,3,FALSE) -> 0 | F24: m/min | H24: avance: | I24: =VLOOKUP($B24,'Conditions de coupe'!$D$14:$J$54,2,FALSE) -> 0
C26: Diamètre pièce: | E26: =VLOOKUP($B24,'Conditions de coupe'!$D$14:$J$54,2,FALSE) -> 0 | F26: mm
H27: Vf: | I27: =VLOOKUP($B24,'Conditions de coupe'!$D$14:$J$54,7,FALSE) -> 0
D29: Vf en mm/min | F29: Temps technologique
B30: déplacement | C30: Longueur | D30: rapide | E30: travail | F30: T rapide | G30: T travail
A31: trajectoire 1 | B31: travail | C31: 90 | D31: =IF(B31="rapide",$I$2,"-") -> - | E31: =IF($B31="travail", MROUND($I$27,0.001),"-") -> 0 | F31: =IF(B31="rapide", MROUND(C31/D31,0.001),"-") -> - | G31: =IF($E31=0,0,(IF($B31="travail", MROUND($C31/$E31,0.001),"-"))) -> 0
A32: trajectoire 2 | B32: rapide | C32: 89 | D32: =IF(B32="rapide",$I$2,"-") -> 3000 | E32: =IF($B32="travail", MROUND($I$27,0.001),"-") -> - | F32: =IF(B32="rapide", MROUND(C32/D32,0.001),"-") -> 0.03 | G32: =IF($E32=0,0,(IF($B32="travail", MROUND($C32/$E32,0.001),"-"))) -> -
A33: trajectoire 3 | B33: travail | C33: 90 | D33: =IF(B33="rapide",$I$2,"-") -> - | E33: =IF($B33="travail", MROUND($I$27,0.001),"-") -> 0 | F33: =IF(B33="rapide", MROUND(C33/D33,0.001),"-") -> - | G33: =IF($E33=0,0,(IF($B33="travail", MROUND($C33/$E33,0.001),"-"))) -> 0
A34: trajectoire 4 | B34: rapide | C34: 30 | D34: =IF(B34="rapide",$I$2,"-") -> 3000 | E34: =IF($B34="travail", MROUND($I$27,0.001),"-") -> - | F34: =IF(B34="rapide", MROUND(C34/D34,0.001),"-") -> 0.01 | G34: =IF($E34=0,0,(IF($B34="travail", MROUND($C34/$E34,0.001),"-"))) -> -
A35: trajectoire 5 | B35: travail | C35: 93 | D35: =IF(B35="rapide",$I$2,"-") -> - | E35: =IF($B35="travail", MROUND($I$27,0.001),"-") -> 0 | F35: =IF(B35="rapide", MROUND(C35/D35,0.001),"-") -> - | G35: =IF($E35=0,0,(IF($B35="travail", MROUND($C35/$E35,0.001),"-"))) -> 0
A36: trajectoire 6 | B36: rapide | C36: 10 | D36: =IF(B36="rapide",$I$2,"-") -> 3000 | E36: =IF($B36="travail", MROUND($I$27,0.001),"-") -> - | F36: =IF(B36="rapide", MROUND(C36/D36,0.001),"-") -> 0.003 | G36: =IF($E36=0,0,(IF($B36="travail", MROUND($C36/$E36,0.001),"-"))) -> -
A37: trajectoire 7 | B37: travail | C37: 93 | D37: =IF(B37="rapide",$I$2,"-") -> - | E37: =IF($B37="travail", MROUND($I$27,0.001),"-") -> 0 | F37: =IF(B37="rapide", MROUND(C37/D37,0.001),"-") -> - | G37: =IF($E37=0,0,(IF($B37="travail", MROUND($C37/$E37,0.001),"-"))) -> 0
A38: trajectoire 8 | B38: rapide | C38: 10 | D38: =IF(B38="rapide",$I$2,"-") -> 3000 | E38: =IF($B38="travail", MROUND($I$27,0.001),"-") -> - | F38: =IF(B38="rapide", MROUND(C38/D38,0.001),"-") -> 0.003 | G38: =IF($E38=0,0,(IF($B38="travail", MROUND($C38/$E38,0.001),"-"))) -> -
A39: Opération 2 | D39: Tt : | E39: =IF(G31=0," ",(SUM(F31:G38,($I$3/100)))) | F39: min
A42: Outils: | D42: Vc: | E42: =VLOOKUP($B42,'Conditions de coupe'!$D$14:$J$54,3,FALSE) -> 0 | F42: m/min | H42: avance: | I42: =VLOOKUP($B42,'Conditions de coupe'!$D$14:$J$54,2,FALSE) -> 0
C44: Diamètre pièce: | E44: =VLOOKUP($B42,'Conditions de coupe'!$D$14:$J$54,2,FALSE) -> 0 | F44: mm
H45: Vf: | I45: =VLOOKUP($B42,'Conditions de coupe'!$D$14:$J$54,7,FALSE) -> 0
D47: Vf en mm/min | F47: Temps technologique
B48: déplacement | C48: Longueur | D48: rapide | E48: travail | F48: T rapide | G48: T travail
A49: trajectoire 1 | B49: travail | C49: 90 | D49: =IF(B49="rapide",$I$2,"-") -> - | E49: =IF($B49="travail", MROUND($I$45,0.001),"-") -> 0 | F49: =IF(B49="rapide", MROUND(C49/D49,0.001),"-") -> - | G49: =IF($E49=0,0,(IF($B49="travail", MROUND($C49/$E49,0.001),"-"))) -> 0
A50: trajectoire 2 | B50: rapide | C50: 89 | D50: =IF(B50="rapide",$I$2,"-") -> 3000 | E50: =IF($B50="travail", MROUND($I$45,0.001),"-") -> - | F50: =IF(B50="rapide", MROUND(C50/D50,0.001),"-") -> 0.03 | G50: =IF($E50=0,0,(IF($B50="travail", MROUND($C50/$E50,0.001),"-"))) -> -
A51: trajectoire 3 | B51: travail | C51: 90 | D51: =IF(B51="rapide",$I$2,"-") -> - | E51: =IF($B51="travail", MROUND($I$45,0.001),"-") -> 0 | F51: =IF(B51="rapide", MROUND(C51/D51,0.001),"-") -> - | G51: =IF($E51=0,0,(IF($B51="travail", MROUND($C51/$E51,0.001),"-"))) -> 0
A52: trajectoire 4 | B52: rapide | C52: 30 | D52: =IF(B52="rapide",$I$2,"-") -> 3000 | E52: =IF($B52="travail", MROUND($I$45,0.001),"-") -> - | F52: =IF(B52="rapide", MROUND(C52/D52,0.001),"-") -> 0.01 | G52: =IF($E52=0,0,(IF($B52="travail", MROUND($C52/$E52,0.001),"-"))) -> -
...

Sheet Tournage Ph40
A1: PHASE | B1: TOURNAGE | H1: Machine : | I1: Somab 400
A2: Pièce | G2: avance rapide machine : | I2: =IF($I$1=Données!$D$7,Données!E$7,IF($I$1=Données!$D$8,Données!E$8,IF($I$1=Données!$D$9,Données!E$9,IF($I$1=Données!$D$10,Données!E$10,IF($I$1=Données!$D$11,Données!E$11,IF($I$1=Données!$D$12,Données!E$12,IF($I$1=Données!$D$13,Données!E$13,IF($I$1=Données!$D$14,Données!E$14,IF($I$1=Données!$D$15,Données!E$15,IF($I$1=Données!$D$16,Données!E$16,IF($I$1=Données!$D$17,Données!E$17,IF($I$1=Données!$D$18,Données!E$18,IF($I$1=Données!$D$19,Données!E$19,IF($I$1=Données!$D$20,Données!E$20,Données!E$21)))))))))))))) -> 3000 | J2: mm/min
G3: Changement d'outil : | I3: =IF($I$1=Données!$D$7,Données!F$7,IF($I$1=Données!$D$8,Données!F$8,IF($I$1=Données!$D$9,Données!F$9,IF($I$1=Données!$D$10,Données!F$10,IF($I$1=Données!$D$11,Données!F$11,IF($I$1=Données!$D$12,Données!F$12,IF($I$1=Données!$D$13,Données!F$13,IF($I$1=Données!$D$14,Données!F$14,IF($I$1=Données!$D$15,Données!F$15,IF($I$1=Données!$D$16,Données!F$16,IF($I$1=Données!$D$17,Données!F$17,IF($I$1=Données!$D$18,Données!F$18,IF($I$1=Données!$D$19,Données!F$19,IF($I$1=Données!$D$20,Données!F$20,Données!F$21)))))))))))))) -> 15 | J3: cmin.
A6: Outils: | D6: Vc: | E6: =VLOOKUP($B6,'Conditions de coupe'!$D$14:$J$54,3,FALSE) -> 0 | F6: m/min | H6: avance: | I6: =VLOOKUP($B6,'Conditions de coupe'!$D$14:$J$54,2,FALSE) -> 0
C8: Diamètre pièce: | E8: =VLOOKUP($B6,'Conditions de coupe'!$D$14:$J$54,2,FALSE) -> 0 | F8: mm
H9: Vf: | I9: =VLOOKUP($B6,'Conditions de coupe'!$D$14:$J$54,7,FALSE) -> 0
D11: Vf en mm/min | F11: Temps technologique
B12: déplacement | C12: Longueur | D12: rapide | E12: travail | F12: T rapide | G12: T travail
A13: trajectoire 1 | B13: travail | C13: 90 | D13: =IF(B13="rapide",$I$2,"-") -> - | E13: =IF($B13="travail", MROUND($I$9,0.001),"-") -> 0 | F13: =IF(B13="rapide", MROUND(C13/D13,0.001),"-") -> - | G13: =IF($E13=0,0,(IF($B13="travail", MROUND($C13/$E13,0.001),"-"))) -> 0
A14: trajectoire 2 | B14: rapide | C14: 89 | D14: =IF(B14="rapide",$I$2,"-") -> 3000 | E14: =IF($B14="travail", MROUND($I$9,0.001),"-") -> - | F14: =IF(B14="rapide", MROUND(C14/D14,0.001),"-") -> 0.03 | G14: =IF($E14=0,0,(IF($B14="travail", MROUND($C14/$E14,0.001),"-"))) -> -
A15: trajectoire 3 | B15: travail | C15: 90 | D15: =IF(B15="rapide",$I$2,"-") -> - | E15: =IF($B15="travail", MROUND($I$9,0.001),"-") -> 0 | F15: =IF(B15="rapide", MROUND(C15/D15,0.001),"-") -> - | G15: =IF($E15=0,0,(IF($B15="travail", MROUND($C15/$E15,0.001),"-"))) -> 0
A16: trajectoire 4 | B16: rapide | C16: 30 | D16: =IF(B16="rapide",$I$2,"-") -> 3000 | E16: =IF($B16="travail", MROUND($I$9,0.001),"-") -> - | F16: =IF(B16="rapide", MROUND(C16/D16,0.001),"-") -> 0.01 | G16: =IF($E16=0,0,(IF($B16="travail", MROUND($C16/$E16,0.001),"-"))) -> -
A17: trajectoire 5 | B17: travail | C17: 93 | D17: =IF(B17="rapide",$I$2,"-") -> - | E17: =IF($B17="travail", MROUND($I$9,0.001),"-") -> 0 | F17: =IF(B17="rapide", MROUND(C17/D17,0.001),"-") -> - | G17: =IF($E17=0,0,(IF($B17="travail", MROUND($C17/$E17,0.001),"-"))) -> 0
A18: trajectoire 6 | B18: rapide | C18: 10 | D18: =IF(B18="rapide",$I$2,"-") -> 3000 | E18: =IF($B18="travail", MROUND($I$9,0.001),"-") -> - | F18: =IF(B18="rapide", MROUND(C18/D18,0.001),"-") -> 0.003 | G18: =IF($E18=0,0,(IF($B18="travail", MROUND($C18/$E18,0.001),"-"))) -> -
