Workbook
Name Machines: Données!$D$7:$D$21
Name Outil: #REF!,#REF!
Name Outils: 'Conditions de coupe'!$D$14:$D$54
Name OutilsF: #REF!
Name OutilsT: #REF!
Name Phase: Données!$B$2:$B$3

Sheet Fraisage Ph10
A1: PHASE | B1: FRAISAGE | H1: Machine : | I1: DMU
A2: Pièce | G2: avance rapide machine : | I2: =IF($I$1=Données!$D$7,Données!E$7,IF($I$1=Données!$D$8,Données!E$8,IF($I$1=Données!$D$9,Données!E$9,IF($I$1=Données!$D$10,Données!E$10,IF($I$1=Données!$D$11,Données!E$11,IF($I$1=Données!$D$12,Données!E$12,IF($I$1=Données!$D$13,Données!E$13,IF($I$1=Données!$D$14,Données!E$14,IF($I$1=Données!$D$15,Données!E$15,IF($I$1=Données!$D$16,Données!E$16,IF($I$1=Données!$D$17,Données!E$17,IF($I$1=Données!$D$18,Données!E$18,IF($I$1=Données!$D$19,Données!E$19,IF($I$1=Données!$D$20,Données!E$20,Données!E$21)))))))))))))) -> 12000 | J2: mm/min
G3: Changement d'outil : | I3: =IF($I$1=Données!$D$7,Données!F$7,IF($I$1=Données!$D$8,Données!F$8,IF($I$1=Données!$D$9,Données!F$9,IF($I$1=Données!$D$10,Données!F$10,IF($I$1=Données!$D$11,Données!F$11,IF($I$1=Données!$D$12,Données!F$12,IF($I$1=Données!$D$13,Données!F$13,IF($I$1=Données!$D$14,Données!F$14,IF($I$1=Données!$D$15,Données!F$15,IF($I$1=Données!$D$16,Données!F$16,IF($I$1=Données!$D$17,Données!F$17,IF($I$1=Données!$D$18,Données!F$18,IF($I$1=Données!$D$19,Données!F$19,IF($I$1=Données!$D$20,Données!F$20,Données!F$21)))))))))))))) -> 21 | J3: cmin.
A6: Outils: | B6: Fraise | D6: Vc: | E6: =VLOOKUP($B6,'Conditions de coupe'!$D$14:$J$54,3,FALSE) -> 500 | F6: m/min | H6: avance: | I6: =VLOOKUP($B6,'Conditions de coupe'!$D$14:$J$54,4,FALSE) -> 0.05
G7: nombre de dents: | I7: =VLOOKUP($B6,'Conditions de coupe'!$D$14:$J$54,5,FALSE) -> 5
C8: Diamètre outil: | E8: =VLOOKUP($B6,'Conditions de coupe'!$D$14:$J$54,2,FALSE) -> 30 | F8: mm
H9: Vf: | I9: =VLOOKUP($B6,'Conditions de coupe'!$D$14:$J$54,7,FALSE) -> 1326.2912
D11: Vf en mm/min | F11: Temps technologique
B12: déplacement | C12: Longueur | D12: rapide | E12: travail | F12: T rapide | G12: T travail
A13: trajectoire 1 | B13: travail | C13: 90 | D13: =IF(B13="rapide",$I$2,"-") -> - | E13: =IF(B13="travail", MROUND($I$9,0.001),"-") -> 1326.291 | F13: =IF(B13="rapide", MROUND(C13/D13,0.001),"-") -> - | G13: =IF($E13=0,0,(IF($B13="travail", MROUND($C13/$E13,0.001),"-"))) -> 0.068
A14: trajectoire 2 | B14: rapide | C14: 89 | D14: =IF(B14="rapide",$I$2,"-") -> 12000 | E14: =IF(B14="travail", $I$9,"-") -> - | F14: =IF(B14="rapide", MROUND(C14/D14,0.001),"-") -> 0.007 | G14: =IF($E14=0,0,(IF($B14="travail", MROUND($C14/$E14,0.001),"-"))) -> -
A15: trajectoire 3 | B15: travail | C15: 90 | D15: =IF(B15="rapide",$I$2,"-") -> - | E15: =IF(B15="travail", $I$9,"-") -> 1326.2912 | F15: =IF(B15="rapide", MROUND(C15/D15,0.001),"-") -> - | G15: =IF($E15=0,0,(IF($B15="travail", MROUND($C15/$E15,0.001),"-"))) -> 0.068
A16: trajectoire 4 | B16: rapide | C16: 30 | D16: =IF(B16="rapide",$I$2,"-") -> 12000 | E16: =IF(B16="travail", $I$9,"-") -> - | F16: =IF(B16="rapide", MROUND(C16/D16,0.001),"-") -> 0.003 | G16: =IF($E16=0,0,(IF($B16="travail", MROUND($C16/$E16,0.001),"-"))) -> -
A17: trajectoire 5 | B17: travail | C17: 93 | D17: =IF(B17="rapide",$I$2,"-") -> - | E17: =IF(B17="travail", $I$9,"-") -> 1326.2912 | F17: =IF(B17="rapide", MROUND(C17/D17,0.001),"-") -> - | G17: =IF($E17=0,0,(IF($B17="travail", MROUND($C17/$E17,0.001),"-"))) -> 0.07
A18: trajectoire 6 | B18: rapide | C18: 10 | D18: =IF(B18="rapide",$I$2,"-") -> 12000 | E18: =IF(B18="travail", $I$9,"-") -> - | F18: =IF(B18="rapide", MROUND(C18/D18,0.001),"-") -> 0.001 | G18: =IF($E18=0,0,(IF($B18="travail", MROUND($C18/$E18,0.001),"-"))) -> -
A19: trajectoire 7 | B19: travail | C19: 93 | D19: =IF(B19="rapide",$I$2,"-") -> - | E19: =IF(B19="travail", $I$9,"-") -> 1326.2912 | F19: =IF(B19="rapide", MROUND(C19/D19,0.001),"-") -> - | G19: =IF($E19=0,0,(IF($B19="travail", MROUND($C19/$E19,0.001),"-"))) -> 0.07
A20: trajectoire 8 | B20: rapide | C20: 10 | D20: =IF(B20="rapide",$I$2,"-") -> 12000 | E20: =IF(B20="travail", $I$9,"-") -> - | F20: =IF(B20="rapide", MROUND(C20/D20,0.001),"-") -> 0.001 | G20: =IF($E20=0,0,(IF($B20="travail", MROUND($C20/$E20,0.001),"-"))) -> -
A21: Opération 1 | D21: Tt : | E21: =IF(G13=0," ",(SUM(F13:G20,($I$3/100)))) -> 0.498 | F21: min
A24: Outils: | D24: Vc: | E24: =VLOOKUP($B24,'Conditions de coupe'!$D$14:$J$54,3,FALSE) -> 0 | F24: m/min | H24: avance: | I24: =VLOOKUP($B24,'Conditions de coupe'!$D$14:$J$54,4,FALSE) -> 0
G25: nombre de dents: | I25: =VLOOKUP($B24,'Conditions de coupe'!$D$14:$J$54,5,FALSE) -> 0
C26: Diamètre outil: | E26: =VLOOKUP($B24,'Conditions de coupe'!$D$14:$J$54,2,FALSE) -> 0 | F26: mm
H27: Vf: | I27: =VLOOKUP($B24,'Conditions de coupe'!$D$14:$J$54,7,FALSE) -> 0
D29: Vf en mm/min | F29: Temps technologique
B30: déplacement | C30: Longueur | D30: rapide | E30: travail | F30: T rapide | G30: T travail
A31: trajectoire 1 | B31: travail | C31: 90 | D31: =IF(B31="rapide",$I$2,"-") -> - | E31: =IF(B31="travail", MROUND($I$27,0.001),"-") -> 0 | F31: =IF(B31="rapide", MROUND(C31/D31,0.001),"-") -> - | G31: =IF($E31=0,0,(IF($B31="travail", MROUND($C31/$E31,0.001),"-"))) -> 0
A32: trajectoire 2 | B32: rapide | C32: 89 | D32: =IF(B32="rapide",$I$2,"-") -> 12000 | E32: =IF(B32="travail", MROUND($I$27,0.001),"-") -> - | F32: =IF(B32="rapide", MROUND(C32/D32,0.001),"-") -> 0.007 | G32: =IF($E32=0,0,(IF($B32="travail", MROUND($C32/$E32,0.001),"-"))) -> -
A33: trajectoire 3 | B33: travail | C33: 90 | D33: =IF(B33="rapide",$I$2,"-") -> - | E33: =IF(B33="travail", MROUND($I$27,0.001),"-") -> 0 | F33: =IF(B33="rapide", MROUND(C33/D33,0.001),"-") -> - | G33: =IF($E33=0,0,(IF($B33="travail", MROUND($C33/$E33,0.001),"-"))) -> 0
A34: trajectoire 4 | B34: rapide | C34: 30 | D34: =IF(B34="rapide",$I$2,"-") -> 12000 | E34: =IF(B34="travail", MROUND($I$27,0.001),"-") -> - | F34: =IF(B34="rapide", MROUND(C34/D34,0.001),"-") -> 0.003 | G34: =IF($E34=0,0,(IF($B34="travail", MROUND($C34/$E34,0.001),"-"))) -> -
A35: trajectoire 5 | B35: travail | C35: 93 | D35: =IF(B35="rapide",$I$2,"-") -> - | E35: =IF(B35="travail", MROUND($I$27,0.001),"-") -> 0 | F35: =IF(B35="rapide", MROUND(C35/D35,0.001),"-") -> - | G35: =IF($E35=0,0,(IF($B35="travail", MROUND($C35/$E35,0.001),"-"))) -> 0
A36: trajectoire 6 | B36: rapide | C36: 10 | D36: =IF(B36="rapide",$I$2,"-") -> 12000 | E36: =IF(B36="travail", MROUND($I$27,0.001),"-") -> - | F36: =IF(B36="rapide", MROUND(C36/D36,0.001),"-") -> 0.001 | G36: =IF($E36=0,0,(IF($B36="travail", MROUND($C36/$E36,0.001),"-"))) -> -
A37: trajectoire 7 | B37: travail | C37: 93 | D37: =IF(B37="rapide",$I$2,"-") -> - | E37: =IF(B37="travail", MROUND($I$27,0.001),"-") -> 0 | F37: =IF(B37="rapide", MROUND(C37/D37,0.001),"-") -> - | G37: =IF($E37=0,0,(IF($B37="travail", MROUND($C37/$E37,0.001),"-"))) -> 0
A38: trajectoire 8 | B38: rapide | C38: 10 | D38: =IF(B38="rapide",$I$2,"-") -> 12000 | E38: =IF(B38="travail", MROUND($I$27,0.001),"-") -> - | F38: =IF(B38="rapide", MROUND(C38/D38,0.001),"-") -> 0.001 | G38: =IF($E38=0,0,(IF($B38="travail", MROUND($C38/$E38,0.001),"-"))) -> -
A39: Opération 2 | D39: Tt : | E39: =IF(G31=0," ",(SUM(F31:G38,($I$3/100)))) | F39: min
A42: Outils: | D42: Vc: | E42: =VLOOKUP($B42,'Conditions de coupe'!$D$14:$J$54,3,FALSE) -> 0 | F42: m/min | H42: avance: | I42: =VLOOKUP($B42,'Conditions de coupe'!$D$14:$J$54,4,FALSE) -> 0
G43: nombre de dents: | I43: =VLOOKUP($B42,'Conditions de coupe'!$D$14:$J$54,5,FALSE) -> 0
C44: Diamètre outil: | E44: =VLOOKUP($B42,'Conditions de coupe'!$D$14:$J$54,2,FALSE) -> 0 | F44: mm
H45: Vf: | I45: =VLOOKUP($B42,'Conditions de coupe'!$D$14:$J$54,7,FALSE) -> 0
D47: Vf en mm/min | F47: Temps technologique
B48: déplacement | C48: Longueur | D48: rapide | E48: travail | F48: T rapide | G48: T travail
A49: trajectoire 1 | B49: travail | C49: 90 | D49: =IF(B49="rapide",$I$2,"-") -> - | E49: =IF(B49="travail", MROUND($I$45,0.001),"-") -> 0 | F49: =IF(B49="rapide", MROUND(C49/D49,0.001),"-") -> - | G49: =IF($E49=0,0,(IF($B49="travail", MROUND($C49/$E49,0.001),"-"))) -> 0
A50: trajectoire 2 | B50: rapide | C50: 89 | D50: =IF(B50="rapide",$I$2,"-") -> 12000 | E50: =IF(B50="travail", MROUND($I$45,0.001),"-") -> - | F50: =IF(B50="rapide", MROUND(C50/D50,0.001),"-") -> 0.007 | G50: =IF($E50=0,0,(IF($B50="travail", MROUND($C50/$E50,0.001),"-"))) -> -
A51: trajectoire 3 | B51: travail | C51: 90 | D51: =IF(B51="rapide",$I$2,"-") -> - | E51: =IF(B51="travail", MROUND($I$45,0.001),"-") -> 0 | F51: =IF(B51="rapide", MROUND(C51/D51,0.001),"-") -> - | G51: =IF($E51=0,0,(IF($B51="travail", MROUND($C51/$E51,0.001),"-"))) -> 0
A52: trajectoire 4 | B52: rapide | C52: 30 | D52: =IF(B52="rapide",$I$2,"-") -> 12000 | E52: =IF(B52="travail", MROUND($I$45,0.001),"-") -> - | F52: =IF(B52="rapide", MROUND(C52/D52,0.001),"-") -> 0.003 | G52: =IF($E52=0,0,(IF($B52="travail", MROUND($C52/$E52,0.001),"-"))) -> -
A53: trajectoire 5 | B53: travail | C53: 93 | D53: =IF(B53="rapide",$I$2,"-") -> - | E53: =IF(B53="travail", MROUND($I$45,0.001),"-") -> 0 | F53: =IF(B53="rapide", MROUND(C53/D53,0.001),"-") -> - | G53: =IF($E53=0,0,(IF($B53="travail", MROUND($C53/$E53,0.001),"-"))) -> 0
A54: trajectoire 6 | B54: rapide | C54: 10 | D54: =IF(B54="rapide",$I$2,"-") -> 12000 | E54: =IF(B54="travail", MROUND($I$45,0.001),"-") -> - | F54: =IF(B54="rapide", MROUND(C54/D54,0.001),"-") -> 0.001 | G54: =IF($E54=0,0,(IF($B54="travail", MROUND($C54/$E54,0.001),"-"))) -> -
A55: trajectoire 7 | B55: travail | C55: 93 | D55: =IF(B55="rapide",$I$2,"-") -> - | E55: =IF(B55="travail", MROUND($I$45,0.001),"-") -> 0 | F55: =IF(B55="rapide", MROUND(C55/D55,0.001),"-") -> - | G55: =IF($E55=0,0,(IF($B55="travail", MROUND($C55/$E55,0.001),"-"))) -> 0
A56: trajectoire 8 | B56: rapide | C56: 10 | D56: =IF(B56="rapide",$I$2,"-") -> 12000 | E56: =IF(B56="travail", MROUND($I$45,0.001),"-") -> - | F56: =IF(B56="rapide", MROUND(C56/D56,0.001),"-") -> 0.001 | G56: =IF($E56=0,0,(IF($B56="travail", MROUND($C56/$E56,0.001),"-"))) -> -
A57: Opération 3 | D57: Tt : | E57: =IF(G49=0," ",(SUM(F49:G56,($I$3/100)))) | F57: min
A60: Outils: | D60: Vc: | E60: =VLOOKUP($B60,'Conditions de coupe'!$D$14:$J$54,3,FALSE) -> 0 | F60: m/min | H60: avance: | I60: =VLOOKUP($B60,'Conditions de coupe'!$D$14:$J$54,4,FALSE) -> 0
G61: nombre de dents: | I61: =VLOOKUP($B60,'Conditions de coupe'!$D$14:$J$54,5,FALSE) -> 0
C62: Diamètre outil: | E62: =VLOOKUP($B60,'Conditions de coupe'!$D$14:$J$54,2,FALSE) -> 0 | F62: mm
H63: Vf: | I63: =VLOOKUP($B60,'Conditions de coupe'!$D$14:$J$54,7,FALSE) -> 0
D65: Vf en mm/min | F65: Temps technologique
B66: déplacement | C66: Longueur | D66: rapide | E66: travail | F66: T rapide | G66: T travail
A67: trajectoire 1 | B67: travail | C67: 90 | D67: =IF(B67="rapide",$I$2,"-") -> - | E67: =IF(B67="travail", MROUND($I$63,0.001),"-") -> 0 | F67: =IF(B67="rapide", MROUND(C67/D67,0.001),"-") -> - | G67: =IF($E67=0,0,(IF($B67="travail", MROUND($C67/$E67,0.001),"-"))) -> 0
A68: trajectoire 2 | B68: rapide | C68: 89 | D68: =IF(B68="rapide",$I$2,"-") -> 12000 | E68: =IF(B68="travail", MROUND($I$63,0.001),"-") -> - | F68: =IF(B68="rapide", MROUND(C68/D68,0.001),"-") -> 0.007 | G68: =IF($E68=0,0,(IF($B68="travail", MROUND($C68/$E68,0.001),"-"))) -> -
A69: trajectoire 3 | B69: travail | C69: 90 | D69: =IF(B69="rapide",$I$2,"-") -> - | E69: =IF(B69="travail", MROUND($I$63,0.001),"-") -> 0 | F69: =IF(B69="rapide", MROUND(C69/D69,0.001),"-") -> - | G69: =IF($E69=0,0,(IF($B69="travail", MROUND($C69/$E69,0.001),"-"))) -> 0
A70: trajectoire 4 | B70: rapide | C70: 30 | D70: =IF(B70="rapide",$I$2,"-") -> 12000 | E70: =IF(B70="travail", MROUND($I$63,0.001),"-") -> - | F70: =IF(B70="rapide", MROUND(C70/D70,0.001),"-") -> 0.003 | G70: =IF($E70=0,0,(IF($B70="travail", MROUND($C70/$E70,0.001),"-"))) -> -
A71: trajectoire 5 | B71: travail | C71: 93 | D71: =IF(B71="rapide",$I$2,"-") -> - | E71: =IF(B71="travail", MROUND($I$63,0.001),"-") -> 0 | F71: =IF(B71="rapide", MROUND(C71/D71,0.001),"-") -> - | G71: =IF($E71=0,0,(IF($B71="travail", MROUND($C71/$E71,0.001),"-"))) -> 0
A72: trajectoire 6 | B72: rapide | C72: 10 | D72: =IF(B72="rapide",$I$2,"-") -> 12000 | E72: =IF(B72="travail", MROUND($I$63,0.001),"-") -> - | F72: =IF(B72="rapide", MROUND(C72/D72,0.001),"-") -> 0.001 | G72: =IF($E72=0,0,(IF($B72="travail", MROUND($C72/$E72,0.001),"-"))) -> -
A73: trajectoire 7 | B73: travail | C73: 93 | D73: =IF(B73="rapide",$I$2,"-") -> - | E73: =IF(B73="travail", MROUND($I$63,0.001),"-") -> 0 | F73: =IF(B73="rapide", MROUND(C73/D73,0.001),"-") -> - | G73: =IF($E73=0,0,(IF($B73="travail", MROUND($C73/$E73,0.001),"-"))) -> 0
A74: trajectoire 8 | B74: rapide | C74: 10 | D74: =IF(B74="rapide",$I$2,"-") -> 12000 | E74: =IF(B74="travail", MROUND($I$63,0.001),"-") -> - | F74: =IF(B74="rapide", MROUND(C74/D74,0.001),"-") -> 0.001 | G74: =IF($E74=0,0,(IF($B74="travail", MROUND($C74/$E74,0.001),"-"))) -> -
A75: Opération 4 | D75: Tt : | E75: =IF(G67=0," ",(SUM(F67:G74,($I$3/100)))) | F75: min
A78: Outils: | D78: Vc: | E78: =VLOOKUP($B78,'Conditions de coupe'!$D$14:$J$54,3,FALSE) -> 0 | F78: m/min | H78: avance: | I78: =VLOOKUP($B78,'Conditions de coupe'!$D$14:$J$54,4,FALSE) -> 0
G79: nombre de dents: | I79: =VLOOKUP($B78,'Conditions de coupe'!$D$14:$J$54,5,FALSE) -> 0
C80: Diamètre outil: | E80: =VLOOKUP($B78,'Conditions de coupe'!$D$14:$J$54,2,FALSE) -> 0 | F80: mm
H81: Vf: | I81: =VLOOKUP($B78,'Conditions de coupe'!$D$14:$J$54,7,FALSE) -> 0
D83: Vf en mm/min | F83: Temps technologique
B84: déplacement | C84: Longueur | D84: rapide | E84: travail | F84: T rapide | G84: T travail
A85: trajectoire 1 | B85: travail | C85: 90 | D85: =IF(B85="rapide",$I$2,"-") -> - | E85: =IF(B85="travail", MROUND($I$81,0.001),"-") -> 0 | F85: =IF(B85="rapide", MROUND(C85/D85,0.001),"-") -> - | G85: =IF($E85=0,0,(IF($B85="travail", MROUND($C85/$E85,0.001),"-"))) -> 0
A86: trajectoire 2 | B86: rapide | C86: 89 | D86: =IF(B86="rapide",$I$2,"-") -> 12000 | E86: =IF(B86="travail", MROUND($I$81,0.001),"-") -> - | F86: =IF(B86="rapide", MROUND(C86/D86,0.001),"-") -> 0.007 | G86: =IF($E86=0,0,(IF($B86="travail", MROUND($C86/$E86,0.001),"-"))) -> -
A87: trajectoire 3 | B87: travail | C87: 90 | D87: =IF(B87="rapide",$I$2,"-") -> - | E87: =IF(B87="travail", MROUND($I$81,0.001),"-") -> 0 | F87: =IF(B87="rapide", MROUND(C87/D87,0.001),"-") -> - | G87: =IF($E87=0,0,(IF($B87="travail", MROUND($C87/$E87,0.001),"-"))) -> 0
A88: trajectoire 4 | B88: rapide | C88: 30 | D88: =IF(B88="rapide",$I$2,"-") -> 12000 | E88: =IF(B88="travail", MROUND($I$81,0.001),"-") -> - | F88: =IF(B88="rapide", MROUND(C88/D88,0.001),"-") -> 0.003 | G88: =IF($E88=0,0,(IF($B88="travail", MROUND($C88/$E88,0.001),"-"))) -> -
A89: trajectoire 5 | B89: travail | C89: 93 | D89: =IF(B89="rapide",$I$2,"-") -> - | E89: =IF(B89="travail", MROUND($I$81,0.001),"-") -> 0 | F89: =IF(B89="rapide", MROUND(C89/D89,0.001),"-") -> - | G89: =IF($E89=0,0,(IF($B89="travail", MROUND($C89/$E89,0.001),"-"))) -> 0
A90: trajectoire 6 | B90: rapide | C90: 10 | D90: =IF(B90="rapide",$I$2,"-") -> 12000 | E90: =IF(B90="travail", MROUND($I$81,0.001),"-") -> - | F90: =IF(B90="rapide", MROUND(C90/D90,0.001),"-") -> 0.001 | G90: =IF($E90=0,0,(IF($B90="travail", MROUND($C90/$E90,0.001),"-"))) -> -
A91: trajectoire 7 | B91: travail | C91: 93 | D91: =IF(B91="rapide",$I$2,"-") -> - | E91: =IF(B91="travail", MROUND($I$81,0.001),"-") -> 0 | F91: =IF(B91="rapide", MROUND(C91/D91,0.001),"-") -> - | G91: =IF($E91=0,0,(IF($B91="travail", MROUND($C91/$E91,0.001),"-"))) -> 0
A92: trajectoire 8 | B92: rapide | C92: 10 | D92: =IF(B92="rapide",$I$2,"-") -> 12000 | E92: =IF(B92="travail", MROUND($I$81,0.001),"-") -> - | F92: =IF(B92="rapide", MROUND(C92/D92,0.001),"-") -> 0.001 | G92: =IF($E92=0,0,(IF($B92="travail", MROUND($C92/$E92,0.001),"-"))) -> -
A93: Opération 5 | D93: Tt : | E93: =IF(G85=0," ",(SUM(F85:G92,($I$3/100)))) | F93: min
A96: Outils: | D96: Vc: | E96: =VLOOKUP($B96,'Conditions de coupe'!$D$14:$J$54,3,FALSE) -> 0 | F96: m/min | H96: avance: | I96: =VLOOKUP($B96,'Conditions de coupe'!$D$14:$J$54,4,FALSE) -> 0
G97: nombre de dents: | I97: =VLOOKUP($B96,'Conditions de coupe'!$D$14:$J$54,5,FALSE) -> 0
C98: Diamètre outil: | E98: =VLOOKUP($B96,'Conditions de coupe'!$D$14:$J$54,2,FALSE) -> 0 | F98: mm
H99: Vf: | I99: =VLOOKUP($B96,'Conditions de coupe'!$D$14:$J$54,7,FALSE) -> 0
D101: Vf en mm/min | F101: Temps technologique
B102: déplacement | C102: Longueur | D102: rapide | E102: travail | F102: T rapide | G102: T travail
A103: trajectoire 1 | B103: travail | C103: 90 | D103: =IF(B103="rapide",$I$2,"-") -> - | E103: =IF(B103="travail", MROUND($I$99,0.001),"-") -> 0 | F103: =IF(B103="rapide", MROUND(C103/D103,0.001),"-") -> - | G103: =IF($E103=0,0,(IF($B103="travail", MROUND($C103/$E103,0.001),"-"))) -> 0
A104: trajectoire 2 | B104: rapide | C104: 89 | D104: =IF(B104="rapide",$I$2,"-") -> 12000 | E104: =IF(B104="travail", MROUND($I$99,0.001),"-") -> - | F104: =IF(B104="rapide", MROUND(C104/D104,0.001),"-") -> 0.007 | G104: =IF($E104=0,0,(IF($B104="travail", MROUND($C104/$E104,0.001),"-"))) -> -
A105: trajectoire 3 | B105: travail | C105: 90 | D105: =IF(B105="rapide",$I$2,"-") -> - | E105: =IF(B105="travail", MROUND($I$99,0.001),"-") -> 0 | F105: =IF(B105="rapide", MROUND(C105/D105,0.001),"-") -> - | G105: =IF($E105=0,0,(IF($B105="travail", MROUND($C105/$E105,0.001),"-"))) -> 0
A106: trajectoire 4 | B106: rapide | C106: 30 | D106: =IF(B106="rapide",$I$2,"-") -> 12000 | E106: =IF(B106="travail", MROUND($I$99,0.001),"-") -> - | F106: =IF(B106="rapide", MROUND(C106/D106,0.001),"-") -> 0.003 | G106: =IF($E106=0,0,(IF($B106="travail", MROUND($C106/$E106,0.001),"-"))) -> -
A107: trajectoire 5 | B107: travail | C107: 93 | D107: =IF(B107="rapide",$I$2,"-") -> - | E107: =IF(B107="travail", MROUND($I$99,0.001),"-") -> 0 | F107: =IF(B107="rapide", MROUND(C107/D107,0.001),"-") -> - | G107: =IF($E107=0,0,(IF($B107="travail", MROUND($C107/$E107,0.001),"-"))) -> 0
A108: trajectoire 6 | B108: rapide | C108: 10 | D108: =IF(B108="rapide",$I$2,"-") -> 12000 | E108: =IF(B108="travail", MROUND($I$99,0.001),"-") -> - | F108: =IF(B108="rapide", MROUND(C108/D108,0.001),"-") -> 0.001 | G108: =IF($E108=0,0,(IF($B108="travail", MROUND($C108/$E108,0.001),"-"))) -> -
A109: trajectoire 7 | B109: travail | C109: 93 | D109: =IF(B109="rapide",$I$2,"-") -> - | E109: =IF(B109="travail", MROUND($I$99,0.001),"-") -> 0 | F109: =IF(B109="rapide", MROUND(C109/D109,0.001),"-") -> - | G109: =IF($E109=0,0,(IF($B109="travail", MROUND($C109/$E109,0.001),"-"))) -> 0
A110: trajectoire 8 | B110: rapide | C110: 10 | D110: =IF(B110="rapide",$I$2,"-") -> 12000 | E110: =IF(B110="travail", MROUND($I$99,0.001),"-") -> - | F110: =IF(B110="rapide", MROUND(C110/D110,0.001),"-") -> 0.001 | G110: =IF($E110=0,0,(IF($B110="travail", MROUND($C110/$E110,0.001),"-"))) -> -
A111: Opération 6 | D111: Tt : | E111: =IF(G103=0," ",(SUM(F103:G110,($I$3/100)))) | F111: min
A113: Durée globale de la phase | D113: Tu : | E113: =SUM(E21,E39,E57,E75,E93,E111) -> 0.498 | F113: min

Sheet Fraisage Ph20
A1: PHASE | B1: FRAISAGE | H1: Machine : | I1: DMU
A2: Pièce | G2: avance rapide machine : | I2: =IF($I$1=Données!$D$7,Données!E$7,IF($I$1=Données!$D$8,Données!E$8,IF($I$1=Données!$D$9,Données!E$9,IF($I$1=Données!$D$10,Données!E$10,IF($I$1=Données!$D$11,Données!E$11,IF($I$1=Données!$D$12,Données!E$12,IF($I$1=Données!$D$13,Données!E$13,IF($I$1=Données!$D$14,Données!E$14,IF($I$1=Données!$D$15,Données!E$15,IF($I$1=Données!$D$16,Données!E$16,IF($I$1=Données!$D$17,Données!E$17,IF($I$1=Données!$D$18,Données!E$18,IF($I$1=Données!$D$19,Données!E$19,IF($I$1=Données!$D$20,Données!E$20,Données!E$21)))))))))))))) -> 12000 | J2: mm/min
G3: Changement d'outil : | I3: =IF($I$1=Données!$D$7,Données!F$7,IF($I$1=Données!$D$8,Données!F$8,IF($I$1=Données!$D$9,Données!F$9,IF($I$1=Données!$D$10,Données!F$10,IF($I$1=Données!$D$11,Données!F$11,IF($I$1=Données!$D$12,Données!F$12,IF($I$1=Données!$D$13,Données!F$13,IF($I$1=Données!$D$14,Données!F$14,IF($I$1=Données!$D$15,Données!F$15,IF($I$1=Données!$D$16,Données!F$16,IF($I$1=Données!$D$17,Données!F$17,IF($I$1=Données!$D$18,Données!F$18,IF($I$1=Données!$D$19,Données!F$19,IF($I$1=Données!$D$20,Données!F$20,Données!F$21)))))))))))))) -> 21 | J3: cmin.
A6: Outils: | D6: Vc: | E6: =VLOOKUP($B6,'Conditions de coupe'!$D$14:$J$54,3,FALSE) -> 0 | F6: m/min | H6: avance: | I6: =VLOOKUP($B6,'Conditions de coupe'!$D$14:$J$54,4,FALSE) -> 0
G7: nombre de dents: | I7: =VLOOKUP($B6,'Conditions de coupe'!$D$14:$J$54,5,FALSE) -> 0
C8: Diamètre outil: | E8: =VLOOKUP($B6,'Conditions de coupe'!$D$14:$J$54,5,FALSE) -> 0 | F8: mm
H9: Vf: | I9: =VLOOKUP($B6,'Conditions de coupe'!$D$14:$J$54,7,FALSE) -> 0
D11: Vf en mm/min | F11: Temps technologique
B12: déplacement | C12: Longueur | D12: rapide | E12: travail | F12: T rapide | G12: T travail
A13: trajectoire 1 | B13: travail | C13: 90 | D13: =IF(B13="rapide",$I$2,"-") -> - | E13: =IF(B13="travail", MROUND($I$9,0.001),"-") -> 0 | F13: =IF(B13="rapide", MROUND(C13/D13,0.001),"-") -> - | G13: =IF($E13=0,0,(IF($B13="travail", MROUND($C13/$E13,0.001),"-"))) -> 0
A14: trajectoire 2 | B14: rapide | C14: 89 | D14: =IF(B14="rapide",$I$2,"-") -> 12000 | E14: =IF(B14="travail", $I$9,"-") -> - | F14: =IF(B14="rapide", MROUND(C14/D14,0.001),"-") -> 0.007 | G14: =IF($E14=0,0,(IF($B14="travail", MROUND($C14/$E14,0.001),"-"))) -> -
A15: trajectoire 3 | B15: travail | C15: 90 | D15: =IF(B15="rapide",$I$2,"-") -> - | E15: =IF(B15="travail", $I$9,"-") -> 0 | F15: =IF(B15="rapide", MROUND(C15/D15,0.001),"-") -> - | G15: =IF($E15=0,0,(IF($B15="travail", MROUND($C15/$E15,0.001),"-"))) -> 0
A16: trajectoire 4 | B16: rapide | C16: 30 | D16: =IF(B16="rapide",$I$2,"-") -> 12000 | E16: =IF(B16="travail", $I$9,"-") -> - | F16: =IF(B16="rapide", MROUND(C16/D16,0.001),"-") -> 0.003 | G16: =IF($E16=0,0,(IF($B16="travail", MROUND($C16/$E16,0.001),"-"))) -> -
A17: trajectoire 5 | B17: travail | C17: 93 | D17: =IF(B17="rapide",$I$2,"-") -> - | E17: =IF(B17="travail", $I$9,"-") -> 0 | F17: =IF(B17="rapide", MROUND(C17/D17,0.001),"-") -> - | G17: =IF($E17=0,0,(IF($B17="travail", MROUND($C17/$E17,0.001),"-"))) -> 0
A18: trajectoire 6 | B18: rapide | C18: 10 | D18: =IF(B18="rapide",$I$2,"-") -> 12000 | E18: =IF(B18="travail", $I$9,"-") -> - | F18: =IF(B18="rapide", MROUND(C18/D18,0.001),"-") -> 0.001 | G18: =IF($E18=0,0,(IF($B18="travail", MROUND($C18/$E18,0.001),"-"))) -> -
A19: trajectoire 7 | B19: travail | C19: 93 | D19: =IF(B19="rapide",$I$2,"-") -> - | E19: =IF(B19="travail", $I$9,"-") -> 0 | F19: =IF(B19="rapide", MROUND(C19/D19,0.001),"-") -> - | G19: =IF($E19=0,0,(IF($B19="travail", MROUND($C19/$E19,0.001),"-"))) -> 0
A20: trajectoire 8 | B20: rapide | C20: 10 | D20: =IF(B20="rapide",$I$2,"-") -> 12000 | E20: =IF(B20="travail", $I$9,"-") -> - | F20: =IF(B20="rapide", MROUND(C20/D20,0.001),"-") -> 0.001 | G20: =IF($E20=0,0,(IF($B20="travail", MROUND($C20/$E20,0.001),"-"))) -> -
A21: Opération 1 | D21: Tt : | E21: =IF(G13=0," ",(SUM(F13:G20,($I$3/100)))) | F21: min
A24: Outils: | D24: Vc: | E24: =VLOOKUP($B24,'Conditions de coupe'!$D$14:$J$54,3,FALSE) -> 0 | F24: m/min | H24: avance: | I24: =VLOOKUP($B24,'Conditions de coupe'!$D$14:$J$54,4,FALSE) -> 0
G25: nombre de dents: | I25: =VLOOKUP($B24,'Conditions de coupe'!$D$14:$J$54,5,FALSE) -> 0
C26: Diamètre outil: | E26: =VLOOKUP($B24,'Conditions de coupe'!$D$14:$J$54,5,FALSE) -> 0 | F26: mm
H27: Vf: | I27: =VLOOKUP($B24,'Conditions de coupe'!$D$14:$J$54,7,FALSE) -> 0
D29: Vf en mm/min | F29: Temps technologique
B30: déplacement | C30: Longueur | D30: rapide | E30: travail | F30: T rapide | G30: T travail
A31: trajectoire 1 | B31: travail | C31: 90 | D31: =IF(B31="rapide",$I$2,"-") -> - | E31: =IF(B31="travail", MROUND($I$27,0.001),"-") -> 0 | F31: =IF(B31="rapide", MROUND(C31/D31,0.001),"-") -> - | G31: =IF($E31=0,0,(IF($B31="travail", MROUND($C31/$E31,0.001),"-"))) -> 0
A32: trajectoire 2 | B32: rapide | C32: 89 | D32: =IF(B32="rapide",$I$2,"-") -> 12000 | E32: =IF(B32="travail", MROUND($I$27,0.001),"-") -> - | F32: =IF(B32="rapide", MROUND(C32/D32,0.001),"-") -> 0.007 | G32: =IF($E32=0,0,(IF($B32="travail", MROUND($C32/$E32,0.001),"-"))) -> -
A33: trajectoire 3 | B33: travail | C33: 90 | D33: =IF(B33="rapide",$I$2,"-") -> - | E33: =IF(B33="travail", MROUND($I$27,0.001),"-") -> 0 | F33: =IF(B33="rapide", MROUND(C33/D33,0.001),"-") -> - | G33: =IF($E33=0,0,(IF($B33="travail", MROUND($C33/$E33,0.001),"-"))) -> 0
A34: trajectoire 4 | B34: rapide | C34: 30 | D34: =IF(B34="rapide",$I$2,"-") -> 12000 | E34: =IF(B34="travail", MROUND($I$27,0.001),"-") -> - | F34: =IF(B34="rapide", MROUND(C34/D34,0.001),"-") -> 0.003 | G34: =IF($E34=0,0,(IF($B34="travail", MROUND($C34/$E34,0.001),"-"))) -> -
A35: trajectoire 5 | B35: travail | C35: 93 | D35: =IF(B35="rapide",$I$2,"-") -> - | E35: =IF(B35="travail", MROUND($I$27,0.001),"-") -> 0 | F35: =IF(B35="rapide", MROUND(C35/D35,0.001),"-") -> - | G35: =IF($E35=0,0,(IF($B35="travail", MROUND($C35/$E35,0.001),"-"))) -> 0
A36: trajectoire 6 | B36: rapide | C36: 10 | D36: =IF(B36="rapide",$I$2,"-") -> 12000 | E36: =IF(B36="travail", MROUND($I$27,0.001),"-") -> - | F36: =IF(B36="rapide", MROUND(C36/D36,0.001),"-") -> 0.001 | G36: =IF($E36=0,0,(IF($B36="travail", MROUND($C36/$E36,0.001),"-"))) -> -
A37: trajectoire 7 | B37: travail | C37: 93 | D37: =IF(B37="rapide",$I$2,"-") -> - | E37: =IF(B37="travail", MROUND($I$27,0.001),"-") -> 0 | F37: =IF(B37="rapide", MROUND(C37/D37,0.001),"-") -> - | G37: =IF($E37=0,0,(IF($B37="travail", MROUND($C37/$E37,0.001),"-"))) -> 0
A38: trajectoire 8 | B38: rapide | C38: 10 | D38: =IF(B38="rapide",$I$2,"-") -> 12000 | E38: =IF(B38="travail", MROUND($I$27,0.001),"-") -> - | F38: =IF(B38="rapide", MROUND(C38/D38,0.001),"-") -> 0.001 | G38: =IF($E38=0,0,(IF($B38="travail", MROUND($C38/$E38,0.001),"-"))) -> -
A39: Opération 2 | D39: Tt : | E39: =IF(G31=0," ",(SUM(F31:G38,($I$3/100)))) | F39: min
A42: Outils: | D42: Vc: | E42: =VLOOKUP($B42,'Conditions de coupe'!$D$14:$J$54,3,FALSE) -> 0 | F42: m/min | H42: avance: | I42: =VLOOKUP($B42,'Conditions de coupe'!$D$14:$J$54,4,FALSE) -> 0
G43: nombre de dents: | I43: =VLOOKUP($B42,'Conditions de coupe'!$D$14:$J$54,5,FALSE) -> 0
C44: Diamètre outil: | E44: =VLOOKUP($B42,'Conditions de coupe'!$D$14:$J$54,5,FALSE) -> 0 | F44: mm
H45: Vf: | I45: =VLOOKUP($B42,'Conditions de coupe'!$D$14:$J$54,7,FALSE) -> 0
D47: Vf en mm/min | F47: Temps technologique
B48: déplacement | C48: Longueur | D48: rapide | E48: travail | F48: T rapide | G48: T travail
A49: trajectoire 1 | B49: travail | C49: 90 | D49: =IF(B49="rapide",$I$2,"-") -> - | E49: =IF(B49="travail", MROUND($I$45,0.001),"-") -> 0 | F49: =IF(B49="rapide", MROUND(C49/D49,0.001),"-") -> - | G49: =IF($E49=0,0,(IF($B49="travail", MROUND($C49/$E49,0.001),"-"))) -> 0
A50: trajectoire 2 | B50: rapide | C50: 89 | D50: =IF(B50="rapide",$I$2,"-") -> 12000 | E50: =IF(B50="travail", MROUND($I$45,0.001),"-") -> - | F50: =IF(B50="rapide", MROUND(C50/D50,0.001),"-") -> 0.007 | G50: =IF($E50=0,0,(IF($B50="travail", MROUND($C50/$E50,0.001),"-"))) -> -
A51: trajectoire 3 | B51: travail | C51: 90 | D51: =IF(B51="rapide",$I$2,"-") -> - | E51: =IF(B51="travail", MROUND($I$45,0.001),"-") -> 0 | F51: =IF(B51="rapide", MROUND(C51/D51,0.001),"-") -> - | G51: =IF($E51=0,0,(IF($B51="travail", MROUND($C51/$E51,0.001),"-"))) -> 0
A52: trajectoire 4 | B52: rapide | C52: 30 | D52: =IF(B52="rapide",$I$2,"-") -> 12000 | E52: =IF(B52="travail", MROUND($I$45,0.001),"-") -> - | F52: =IF(B52="rapide", MROUND(C52/D52,0.001),"-") -> 0.003 | G52: =IF($E52=0,0,(IF($B52="travail", MROUND($C52/$E52,0.001),"-"))) -> -
A53: trajectoire 5 | B53: travail | C53: 93 | D53: =IF(B53="rapide",$I$2,"-") -> - | E53: =IF(B53="travail", MROUND($I$45,0.001),"-") -> 0 | F53: =IF(B53="rapide", MROUND(C53/D53,0.001),"-") -> - | G53: =IF($E53=0,0,(IF($B53="travail", MROUND($C53/$E53,0.001),"-"))) -> 0
A54: trajectoire 6 | B54: rapide | C54: 10 | D54: =IF(B54="rapide",$I$2,"-") -> 12000 | E54: =IF(B54="travail", MROUND($I$45,0.001),"-") -> - | F54: =IF(B54="rapide", MROUND(C54/D54,0.001),"-") -> 0.001 | G54: =IF($E54=0,0,(IF($B54="travail", MROUND($C54/$E54,0.001),"-"))) -> -
A55: trajectoire 7 | B55: travail | C55: 93 | D55: =IF(B55="rapide",$I$2,"-") -> - | E55: =IF(B55="travail", MROUND($I$45,0.001),"-") -> 0 | F55: =IF(B55="rapide", MROUND(C55/D55,0.001),"-") -> - | G55: =IF($E55=0,0,(IF($B55="travail", MROUND($C55/$E55,0.001),"-"))) -> 0
A56: trajectoire 8 | B56: rapide | C56: 10 | D56: =IF(B56="rapide",$I$2,"-") -> 12000 | E56: =IF(B56="travail", MROUND($I$45,0.001),"-") -> - | F56: =IF(B56="rapide", MROUND(C56/D56,0.001),"-") -> 0.001 | G56: =IF($E56=0,0,(IF($B56="travail", MROUND($C56/$E56,0.001),"-"))) -> -
A57: Opération 3 | D57: Tt : | E57: =IF(G49=0," ",(SUM(F49:G56,($I$3/100)))) | F57: min
A60: Outils: | D60: Vc: | E60: =VLOOKUP($B60,'Conditions de coupe'!$D$14:$J$54,3,FALSE) -> 0 | F60: m/min | H60: avance: | I60: =VLOOKUP($B60,'Conditions de coupe'!$D$14:$J$54,4,FALSE) -> 0
G61: nombre de dents: | I61: =VLOOKUP($B60,'Conditions de coupe'!$D$14:$J$54,5,FALSE) -> 0
C62: Diamètre outil: | E62: =VLOOKUP($B60,'Conditions de coupe'!$D$14:$J$54,5,FALSE) -> 0 | F62: mm
H63: Vf: | I63: =VLOOKUP($B60,'Conditions de coupe'!$D$14:$J$54,7,FALSE) -> 0
D65: Vf en mm/min | F65: Temps technologique
B66: déplacement | C66: Longueur | D66: rapide | E66: travail | F66: T rapide | G66: T travail
A67: trajectoire 1 | B67: travail | C67: 90 | D67: =IF(B67="rapide",$I$2,"-") -> - | E67: =IF(B67="travail", MROUND($I$63,0.001),"-") -> 0 | F67: =IF(B67="rapide", MROUND(C67/D67,0.001),"-") -> - | G67: =IF($E67=0,0,(IF($B67="travail", MROUND($C67/$E67,0.001),"-"))) -> 0
A68: trajectoire 2 | B68: rapide | C68: 89 | D68: =IF(B68="rapide",$I$2,"-") -> 12000 | E68: =IF(B68="travail", MROUND($I$63,0.001),"-") -> - | F68: =IF(B68="rapide", MROUND(C68/D68,0.001),"-") -> 0.007 | G68: =IF($E68=0,0,(IF($B68="travail", MROUND($C68/$E68,0.001),"-"))) -> -
A69: trajectoire 3 | B69: travail | C69: 90 | D69: =IF(B69="rapide",$I$2,"-") -> - | E69: =IF(B69="travail", MROUND($I$63,0.001),"-") -> 0 | F69: =IF(B69="rapide", MROUND(C69/D69,0.001),"-") -> - | G69: =IF($E69=0,0,(IF($B69="travail", MROUND($C69/$E69,0.001),"-"))) -> 0
A70: trajectoire 4 | B70: rapide | C70: 30 | D70: =IF(B70="rapide",$I$2,"-") -> 12000 | E70: =IF(B70="travail", MROUND($I$63,0.001),"-") -> - | F70: =IF(B70="rapide", MROUND(C70/D70,0.001),"-") -> 0.003 | G70: =IF($E70=0,0,(IF($B70="travail", MROUND($C70/$E70,0.001),"-"))) -> -
A71: trajectoire 5 | B71: travail | C71: 93 | D71: =IF(B71="rapide",$I$2,"-") -> - | E71: =IF(B71="travail", MROUND($I$63,0.001),"-") -> 0 | F71: =IF(B71="rapide", MROUND(C71/D71,0.001),"-") -> - | G71: =IF($E71=0,0,(IF($B71="travail", MROUND($C71/$E71,0.001),"-"))) -> 0
A72: trajectoire 6 | B72: rapide | C72: 10 | D72: =IF(B72="rapide",$I$2,"-") -> 12000 | E72: =IF(B72="travail", MROUND($I$63,0.001),"-") -> - | F72: =IF(B72="rapide", MROUND(C72/D72,0.001),"-") -> 0.001 | G72: =IF($E72=0,0,(IF($B72="travail", MROUND($C72/$E72,0.001),"-"))) -> -
A73: trajectoire 7 | B73: travail | C73: 93 | D73: =IF(B73="rapide",$I$2,"-") -> - | E73: =IF(B73="travail", MROUND($I$63,0.001),"-") -> 0 | F73: =IF(B73="rapide", MROUND(C73/D73,0.001),"-") -> - | G73: =IF($E73=0,0,(IF($B73="travail", MROUND($C73/$E73,0.001),"-"))) -> 0
A74: trajectoire 8 | B74: rapide | C74: 10 | D74: =IF(B74="rapide",$I$2,"-") -> 12000 | E74: =IF(B74="travail", MROUND($I$63,0.001),"-") -> - | F74: =IF(B74="rapide", MROUND(C74/D74,0.001),"-") -> 0.001 | G74: =IF($E74=0,0,(IF($B74="travail", MROUND($C74/$E74,0.001),"-"))) -> -
A75: Opération 4 | D75: Tt : | E75: =IF(G67=0," ",(SUM(F67:G74,($I$3/100)))) | F75: min
A78: Outils: | D78: Vc: | E78: =VLOOKUP($B78,'Conditions de coupe'!$D$14:$J$54,3,FALSE) -> 0 | F78: m/min | H78: avance: | I78: =VLOOKUP($B78,'Conditions de coupe'!$D$14:$J$54,4,FALSE) -> 0
G79: nombre de dents: | I79: =VLOOKUP($B78,'Conditions de coupe'!$D$14:$J$54,5,FALSE) -> 0
C80: Diamètre outil: | E80: =VLOOKUP($B78,'Conditions de coupe'!$D$14:$J$54,5,FALSE) -> 0 | F80: mm
H81: Vf: | I81: =VLOOKUP($B78,'Conditions de coupe'!$D$14:$J$54,7,FALSE) -> 0
D83: Vf en mm/min | F83: Temps technologique
B84: déplacement | C84: Longueur | D84: rapide | E84: travail | F84: T rapide | G84: T travail
A85: trajectoire 1 | B85: travail | C85: 90 | D85: =IF(B85="rapide",$I$2,"-") -> - | E85: =IF(B85="travail", MROUND($I$81,0.001),"-") -> 0 | F85: =IF(B85="rapide", MROUND(C85/D85,0.001),"-") -> - | G85: =IF($E85=0,0,(IF($B85="travail", MROUND($C85/$E85,0.001),"-"))) -> 0
A86: trajectoire 2 | B86: rapide | C86: 89 | D86: =IF(B86="rapide",$I$2,"-") -> 12000 | E86: =IF(B86="travail", MROUND($I$81,0.001),"-") -> - | F86: =IF(B86="rapide", MROUND(C86/D86,0.001),"-") -> 0.007 | G86: =IF($E86=0,0,(IF($B86="travail", MROUND($C86/$E86,0.001),"-"))) -> -
A87: trajectoire 3 | B87: travail | C87: 90 | D87: =IF(B87="rapide",$I$2,"-") -> - | E87: =IF(B87="travail", MROUND($I$81,0.001),"-") -> 0 | F87: =IF(B87="rapide", MROUND(C87/D87,0.001),"-") -> - | G87: =IF($E87=0,0,(IF($B87="travail", MROUND($C87/$E87,0.001),"-"))) -> 0
A88: trajectoire 4 | B88: rapide | C88: 30 | D88: =IF(B88="rapide",$I$2,"-") -> 12000 | E88: =IF(B88="travail", MROUND($I$81,0.001),"-") -> - | F88: =IF(B88="rapide", MROUND(C88/D88,0.001),"-") -> 0.003 | G88: =IF($E88=0,0,(IF($B88="travail", MROUND($C88/$E88,0.001),"-"))) -> -
A89: trajectoire 5 | B89: travail | C89: 93 | D89: =IF(B89="rapide",$I$2,"-") -> - | E89: =IF(B89="travail", MROUND($I$81,0.001),"-") -> 0 | F89: =IF(B89="rapide", MROUND(C89/D89,0.001),"-") -> - | G89: =IF($E89=0,0,(IF($B89="travail", MROUND($C89/$E89,0.001),"-"))) -> 0
A90: trajectoire 6 | B90: rapide | C90: 10 | D90: =IF(B90="rapide",$I$2,"-") -> 12000 | E90: =IF(B90="travail", MROUND($I$81,0.001),"-") -> - | F90: =IF(B90="rapide", MROUND(C90/D90,0.001),"-") -> 0.001 | G90: =IF($E90=0,0,(IF($B90="travail", MROUND($C90/$E90,0.001),"-"))) -> -
A91: trajectoire 7 | B91: travail | C91: 93 | D91: =IF(B91="rapide",$I$2,"-") -> - | E91: =IF(B91="travail", MROUND($I$81,0.001),"-") -> 0 | F91: =IF(B91="rapide", MROUND(C91/D91,0.001),"-") -> - | G91: =IF($E91=0,0,(IF($B91="travail", MROUND($C91/$E91,0.001),"-"))) -> 0
A92: trajectoire 8 | B92: rapide | C92: 10 | D92: =IF(B92="rapide",$I$2,"-") -> 12000 | E92: =IF(B92="travail", MROUND($I$81,0.001),"-") -> - | F92: =IF(B92="rapide", MROUND(C92/D92,0.001),"-") -> 0.001 | G92: =IF($E92=0,0,(IF($B92="travail", MROUND($C92/$E92,0.001),"-"))) -> -
A93: Opération 5 | D93: Tt : | E93: =IF(G85=0," ",(SUM(F85:G92,($I$3/100)))) | F93: min
A96: Outils: | D96: Vc: | E96: =VLOOKUP($B96,'Conditions de coupe'!$D$14:$J$54,3,FALSE) -> 0 | F96: m/min | H96: avance: | I96: =VLOOKUP($B96,'Conditions de coupe'!$D$14:$J$54,4,FALSE) -> 0
G97: nombre de dents: | I97: =VLOOKUP($B96,'Conditions de coupe'!$D$14:$J$54,5,FALSE) -> 0
C98: Diamètre outil: | E98: =VLOOKUP($B96,'Conditions de coupe'!$D$14:$J$54,5,FALSE) -> 0 | F98: mm
H99: Vf: | I99: =VLOOKUP($B96,'Conditions de coupe'!$D$14:$J$54,7,FALSE) -> 0
D101: Vf en mm/min | F101: Temps technologique
B102: déplacement | C102: Longueur | D102: rapide | E102: travail | F102: T rapide | G102: T travail
A103: trajectoire 1 | B103: travail | C103: 90 | D103: =IF(B103="rapide",$I$2,"-") -> - | E103: =IF(B103="travail", MROUND($I$99,0.001),"-") -> 0 | F103: =IF(B103="rapide", MROUND(C103/D103,0.001),"-") -> - | G103: =IF($E103=0,0,(IF($B103="travail", MROUND($C103/$E103,0.001),"-"))) -> 0
A104: trajectoire 2 | B104: rapide | C104: 89 | D104: =IF(B104="rapide",$I$2,"-") -> 12000 | E104: =IF(B104="travail", MROUND($I$99,0.001),"-") -> - | F104: =IF(B104="rapide", MROUND(C104/D104,0.001),"-") -> 0.007 | G104: =IF($E104=0,0,(IF($B104="travail", MROUND($C104/$E104,0.001),"-"))) -> -
A105: trajectoire 3 | B105: travail | C105: 90 | D105: =IF(B105="rapide",$I$2,"-") -> - | E105: =IF(B105="travail", MROUND($I$99,0.001),"-") -> 0 | F105: =IF(B105="rapide", MROUND(C105/D105,0.001),"-") -> - | G105: =IF($E105=0,0,(IF($B105="travail", MROUND($C105/$E105,0.001),"-"))) -> 0
A106: trajectoire 4 | B106: rapide | C106: 30 | D106: =IF(B106="rapide",$I$2,"-") -> 12000 | E106: =IF(B106="travail", MROUND($I$99,0.001),"-") -> - | F106: =IF(B106="rapide", MROUND(C106/D106,0.001),"-") -> 0.003 | G106: =IF($E106=0,0,(IF($B106="travail", MROUND($C106/$E106,0.001),"-"))) -> -
A107: trajectoire 5 | B107: travail | C107: 93 | D107: =IF(B107="rapide",$I$2,"-") -> - | E107: =IF(B107="travail", MROUND($I$99,0.001),"-") -> 0 | F107: =IF(B107="rapide", MROUND(C107/D107,0.001),"-") -> - | G107: =IF($E107=0,0,(IF($B107="travail", MROUND($C107/$E107,0.001),"-"))) -> 0
A108: trajectoire 6 | B108: rapide | C108: 10 | D108: =IF(B108="rapide",$I$2,"-") -> 12000 | E108: =IF(B108="travail", MROUND($I$99,0.001),"-") -> - | F108: =IF(B108="rapide", MROUND(C108/D108,0.001),"-") -> 0.001 | G108: =IF($E108=0,0,(IF($B108="travail", MROUND($C108/$E108,0.001),"-"))) -> -
A109: trajectoire 7 | B109: travail | C109: 93 | D109: =IF(B109="rapide",$I$2,"-") -> - | E109: =IF(B109="travail", MROUND($I$99,0.001),"-") -> 0 | F109: =IF(B109="rapide", MROUND(C109/D109,0.001),"-") -> - | G109: =IF($E109=0,0,(IF($B109="travail", MROUND($C109/$E109,0.001),"-"))) -> 0
A110: trajectoire 8 | B110: rapide | C110: 10 | D110: =IF(B110="rapide",$I$2,"-") -> 12000 | E110: =IF(B110="travail", MROUND($I$99,0.001),"-") -> - | F110: =IF(B110="rapide", MROUND(C110/D110,0.001),"-") -> 0.001 | G110: =IF($E110=0,0,(IF($B110="travail", MROUND($C110/$E110,0.001),"-"))) -> -
A111: Opération 6 | D111: Tt : | E111: =IF(G103=0," ",(SUM(F103:G110,($I$3/100)))) | F111: min
A113: Durée globale de la phase | D113: Tu : | E113: =SUM(E21,E39,E57,E75,E93,E111) -> 0 | F113: min

Sheet Fraisage Ph30
A1: PHASE | B1: FRAISAGE | H1: Machine : | I1: DMU
A2: Pièce | G2: avance rapide machine : | I2: =IF($I$1=Données!$D$7,Données!E$7,IF($I$1=Données!$D$8,Données!E$8,IF($I$1=Données!$D$9,Données!E$9,IF($I$1=Données!$D$10,Données!E$10,IF($I$1=Données!$D$11,Données!E$11,IF($I$1=Données!$D$12,Données!E$12,IF($I$1=Données!$D$13,Données!E$13,IF($I$1=Données!$D$14,Données!E$14,IF($I$1=Données!$D$15,Données!E$15,IF($I$1=Données!$D$16,Données!E$16,IF($I$1=Données!$D$17,Données!E$17,IF($I$1=Données!$D$18,Données!E$18,IF($I$1=Données!$D$19,Données!E$19,IF($I$1=Données!$D$20,Données!E$20,Données!E$21)))))))))))))) -> 12000 | J2: mm/min
G3: Changement d'outil : | I3: =IF($I$1=Données!$D$7,Données!F$7,IF($I$1=Données!$D$8,Données!F$8,IF($I$1=Données!$D$9,Données!F$9,IF($I$1=Données!$D$10,Données!F$10,IF($I$1=Données!$D$11,Données!F$11,IF($I$1=Données!$D$12,Données!F$12,IF($I$1=Données!$D$13,Données!F$13,IF($I$1=Données!$D$14,Données!F$14,IF($I$1=Données!$D$15,Données!F$15,IF($I$1=Données!$D$16,Données!F$16,IF($I$1=Données!$D$17,Données!F$17,IF($I$1=Données!$D$18,Données!F$18,IF($I$1=Données!$D$19,Données!F$19,IF($I$1=Données!$D$20,Données!F$20,Données!F$21)))))))))))))) -> 21 | J3: cmin.
A6: Outils: | D6: Vc: | E6: =VLOOKUP($B6,'Conditions de coupe'!$D$14:$J$54,3,FALSE) -> 0 | F6: m/min | H6: avance: | I6: =VLOOKUP($B6,'Conditions de coupe'!$D$14:$J$54,4,FALSE) -> 0
G7: nombre de dents: | I7: =VLOOKUP($B6,'Conditions de coupe'!$D$14:$J$54,5,FALSE) -> 0
C8: Diamètre outil: | E8: =VLOOKUP($B6,'Conditions de coupe'!$D$14:$J$54,5,FALSE) -> 0 | F8: mm
H9: Vf: | I9: =VLOOKUP($B6,'Conditions de coupe'!$D$14:$J$54,7,FALSE) -> 0
D11: Vf en mm/min | F11: Temps technologique
B12: déplacement | C12: Longueur | D12: rapide | E12: travail | F12: T rapide | G12: T travail
A13: trajectoire 1 | B13: travail | C13: 90 | D13: =IF(B13="rapide",$I$2,"-") -> - | E13: =IF(B13="travail", MROUND($I$9,0.001),"-") -> 0 | F13: =IF(B13="rapide", MROUND(C13/D13,0.001),"-") -> - | G13: =IF($E13=0,0,(IF($B13="travail", MROUND($C13/$E13,0.001),"-"))) -> 0
A14: trajectoire 2 | B14: rapide | C14: 89 | D14: =IF(B14="rapide",$I$2,"-") -> 12000 | E14: =IF(B14="travail", $I$9,"-") -> - | F14: =IF(B14="rapide", MROUND(C14/D14,0.001),"-") -> 0.007 | G14: =IF($E14=0,0,(IF($B14="travail", MROUND($C14/$E14,0.001),"-"))) -> -
A15: trajectoire 3 | B15: travail | C15: 90 | D15: =IF(B15="rapide",$I$2,"-") -> - | E15: =IF(B15="travail", $I$9,"-") -> 0 | F15: =IF(B15="rapide", MROUND(C15/D15,0.001),"-") -> - | G15: =IF($E15=0,0,(IF($B15="travail", MROUND($C15/$E15,0.001),"-"))) -> 0
A16: trajectoire 4 | B16: rapide | C16: 30 | D16: =IF(B16="rapide",$I$2,"-") -> 12000 | E16: =IF(B16="travail", $I$9,"-") -> - | F16: =IF(B16="rapide", MROUND(C16/D16,0.001),"-") -> 0.003 | G16: =IF($E16=0,0,(IF($B16="travail", MROUND($C16/$E16,0.001),"-"))) -> -
A17: trajectoire 5 | B17: travail | C17: 93 | D17: =IF(B17="rapide",$I$2,"-") -> - | E17: =IF(B17="travail", $I$9,"-") -> 0 | F17: =IF(B17="rapide", MROUND(C17/D17,0.001),"-") -> - | G17: =IF($E17=0,0,(IF($B17="travail", MROUND($C17/$E17,0.001),"-"))) -> 0
A18: trajectoire 6 | B18: rapide | C18: 10 | D18: =IF(B18="rapide",$I$2,"-") -> 12000 | E18: =IF(B18="travail", $I$9,"-") -> - | F18: =IF(B18="rapide", MROUND(C18/D18,0.001),"-") -> 0.001 | G18: =IF($E18=0,0,(IF($B18="travail", MROUND($C18/$E18,0.001),"-"))) -> -
A19: trajectoire 7 | B19: travail | C19: 93 | D19: =IF(B19="rapide",$I$2,"-") -> - | E19: =IF(B19="travail", $I$9,"-") -> 0 | F19: =IF(B19="rapide", MROUND(C19/D19,0.001),"-") -> - | G19: =IF($E19=0,0,(IF($B19="travail", MROUND($C19/$E19,0.001),"-"))) -> 0
A20: trajectoire 8 | B20: rapide | C20: 10 | D20: =IF(B20="rapide",$I$2,"-") -> 12000 | E20: =IF(B20="travail", $I$9,"-") -> - | F20: =IF(B20="rapide", MROUND(C20/D20,0.001),"-") -> 0.001 | G20: =IF($E20=0,0,(IF($B20="travail", MROUND($C20/$E20,0.001),"-"))) -> -
A21: Opération 1 | D21: Tt : | E21: =IF(G13=0," ",(SUM(F13:G20,($I$3/100)))) | F21: min
A24: Outils: | D24: Vc: | E24: =VLOOKUP($B24,'Conditions de coupe'!$D$14:$J$54,3,FALSE) -> 0 | F24: m/min | H24: avance: | I24: =VLOOKUP($B24,'Conditions de coupe'!$D$14:$J$54,4,FALSE) -> 0
G25: nombre de dents: | I25: =VLOOKUP($B24,'Conditions de coupe'!$D$14:$J$54,5,FALSE) -> 0
C26: Diamètre outil: | E26: =VLOOKUP($B24,'Conditions de coupe'!$D$14:$J$54,5,FALSE) -> 0 | F26: mm
H27: Vf: | I27: =VLOOKUP($B24,'Conditions de coupe'!$D$14:$J$54,7,FALSE) -> 0
D29: Vf en mm/min | F29: Temps technologique
B30: déplacement | C30: Longueur | D30: rapide | E30: travail | F30: T rapide | G30: T travail
A31: trajectoire 1 | B31: travail | C31: 90 | D31: =IF(B31="rapide",$I$2,"-") -> - | E31: =IF(B31="travail", MROUND($I$27,0.001),"-") -> 0 | F31: =IF(B31="rapide", MROUND(C31/D31,0.001),"-") -> - | G31: =IF($E31=0,0,(IF($B31="travail", MROUND($C31/$E31,0.001),"-"))) -> 0
A32: trajectoire 2 | B32: rapide | C32: 89 | D32: =IF(B32="rapide",$I$2,"-") -> 12000 | E32: =IF(B32="travail", MROUND($I$27,0.001),"-") -> - | F32: =IF(B32="rapide", MROUND(C32/D32,0.001),"-") -> 0.007 | G32: =IF($E32=0,0,(IF($B32="travail", MROUND($C32/$E32,0.001),"-"))) -> -
A33: trajectoire 3 | B33: travail | C33: 90 | D33: =IF(B33="rapide",$I$2,"-") -> - | E33: =IF(B33="travail", MROUND($I$27,0.001),"-") -> 0 | F33: =IF(B33="rapide", MROUND(C33/D33,0.001),"-") -> - | G33: =IF($E33=0,0,(IF($B33="travail", MROUND($C33/$E33,0.001),"-"))) -> 0
A34: trajectoire 4 | B34: rapide | C34: 30 | D34: =IF(B34="rapide",$I$2,"-") -> 12000 | E34: =IF(B34="travail", MROUND($I$27,0.001),"-") -> - | F34: =IF(B34="rapide", MROUND(C34/D34,0.001),"-") -> 0.003 | G34: =IF($E34=0,0,(IF($B34="travail", MROUND($C34/$E34,0.001),"-"))) -> -
A35: trajectoire 5 | B35: travail | C35: 93 | D35: =IF(B35="rapide",$I$2,"-") -> - | E35: =IF(B35="travail", MROUND($I$27,0.001),"-") -> 0 | F35: =IF(B35="rapide", MROUND(C35/D35,0.001),"-") -> - | G35: =IF($E35=0,0,(IF($B35="travail", MROUND($C35/$E35,0.001),"-"))) -> 0
A36: trajectoire 6 | B36: rapide | C36: 10 | D36: =IF(B36="rapide",$I$2,"-") -> 12000 | E36: =IF(B36="travail", MROUND($I$27,0.001),"-") -> - | F36: =IF(B36="rapide", MROUND(C36/D36,0.001),"-") -> 0.001 | G36: =IF($E36=0,0,(IF($B36="travail", MROUND($C36/$E36,0.001),"-"))) -> -
A37: trajectoire 7 | B37: travail | C37: 93 | D37: =IF(B37="rapide",$I$2,"-") -> - | E37: =IF(B37="travail", MROUND($I$27,0.001),"-") -> 0 | F37: =IF(B37="rapide", MROUND(C37/D37,0.001),"-") -> - | G37: =IF($E37=0,0,(IF($B37="travail", MROUND($C37/$E37,0.001),"-"))) -> 0
A38: trajectoire 8 | B38: rapide | C38: 10 | D38: =IF(B38="rapide",$I$2,"-") -> 12000 | E38: =IF(B38="travail", MROUND($I$27,0.001),"-") -> - | F38: =IF(B38="rapide", MROUND(C38/D38,0.001),"-") -> 0.001 | G38: =IF($E38=0,0,(IF($B38="travail", MROUND($C38/$E38,0.001),"-"))) -> -
A39: Opération 2 | D39: Tt : | E39: =IF(G31=0," ",(SUM(F31:G38,($I$3/100)))) | F39: min
A42: Outils: | D42: Vc: | E42: =VLOOKUP($B42,'Conditions de coupe'!$D$14:$J$54,3,FALSE) -> 0 | F42: m/min | H42: avance: | I42: =VLOOKUP($B42,'Conditions de coupe'!$D$14:$J$54,4,FALSE) -> 0
G43: nombre de dents: | I43: =VLOOKUP($B42,'Conditions de coupe'!$D$14:$J$54,5,FALSE) -> 0
C44: Diamètre outil: | E44: =VLOOKUP($B42,'Conditions de coupe'!$D$14:$J$54,5,FALSE) -> 0 | F44: mm
H45: Vf: | I45: =VLOOKUP($B42,'Conditions de coupe'!$D$14:$J$54,7,FALSE) -> 0
D47: Vf en mm/min | F47: Temps technologique
B48: déplacement | C48: Longueur | D48: rapide | E48: travail | F48: T rapide | G48: T travail
A49: trajectoire 1 | B49: travail | C49: 90 | D49: =IF(B49="rapide",$I$2,"-") -> - | E49: =IF(B49="travail", MROUND($I$45,0.001),"-") -> 0 | F49: =IF(B49="rapide", MROUND(C49/D49,0.001),"-") -> - | G49: =IF($E49=0,0,(IF($B49="travail", MROUND($C49/$E49,0.001),"-"))) -> 0
A50: trajectoire 2 | B50: rapide | C50: 89 | D50: =IF(B50="rapide",$I$2,"-") -> 12000 | E50: =IF(B50="travail", MROUND($I$45,0.001),"-") -> - | F50: =IF(B50="rapide", MROUND(C50/D50,0.001),"-") -> 0.007 | G50: =IF($E50=0,0,(IF($B50="travail", MROUND($C50/$E50,0.001),"-"))) -> -
A51: trajectoire 3 | B51: travail | C51: 90 | D51: =IF(B51="rapide",$I$2,"-") -> - | E51: =IF(B51="travail", MROUND($I$45,0.001),"-") -> 0 | F51: =IF(B51="rapide", MROUND(C51/D51,0.001),"-") -> - | G51: =IF($E51=0,0,(IF($B51="travail", MROUND($C51/$E51,0.001),"-"))) -> 0
A52: trajectoire 4 | B52: rapide | C52: 30 | D52: =IF(B52="rapide",$I$2,"-") -> 12000 | E52: =IF(B52="travail", MROUND($I$45,0.001),"-") -> - | F52: =IF(B52="rapide", MROUND(C52/D52,0.001),"-") -> 0.003 | G52: =IF($E52=0,0,(IF($B52="travail", MROUND($C52/$E52,0.001),"-"))) -> -
A53: trajectoire 5 | B53: travail | C53: 93 | D53: =IF(B53="rapide",$I$2,"-") -> - | E53: =IF(B53="travail", MROUND($I$45,0.001),"-") -> 0 | F53: =IF(B53="rapide", MROUND(C53/D53,0.001),"-") -> - | G53: =IF($E53=0,0,(IF($B53="travail", MROUND($C53/$E53,0.001),"-"))) -> 0
A54: trajectoire 6 | B54: rapide | C54: 10 | D54: =IF(B54="rapide",$I$2,"-") -> 12000 | E54: =IF(B54="travail", MROUND($I$45,0.001),"-") -> - | F54: =IF(B54="rapide", MROUND(C54/D54,0.001),"-") -> 0.001 | G54: =IF($E54=0,0,(IF($B54="travail", MROUND($C54/$E54,0.001),"-"))) -> -
A55: trajectoire 7 | B55: travail | C55: 93 | D55: =IF(B55="rapide",$I$2,"-") -> - | E55: =IF(B55="travail", MROUND($I$45,0.001),"-") -> 0 | F55: =IF(B55="rapide", MROUND(C55/D55,0.001),"-") -> - | G55: =IF($E55=0,0,(IF($B55="travail", MROUND($C55/$E55,0.001),"-"))) -> 0
A56: trajectoire 8 | B56: rapide | C56: 10 | D56: =IF(B56="rapide",$I$2,"-") -> 12000 | E56: =IF(B56="travail", MROUND($I$45,0.001),"-") -> - | F56: =IF(B56="rapide", MROUND(C56/D56,0.001),"-") -> 0.001 | G56: =IF($E56=0,0,(IF($B56="travail", MROUND($C56/$E56,0.001),"-"))) -> -
A57: Opération 3 | D57: Tt : | E57: =IF(G49=0," ",(SUM(F49:G56,($I$3/100)))) | F57: min
A60: Outils: | D60: Vc: | E60: =VLOOKUP($B60,'Conditions de coupe'!$D$14:$J$54,3,FALSE) -> 0 | F60: m/min | H60: avance: | I60: =VLOOKUP($B60,'Conditions de coupe'!$D$14:$J$54,4,FALSE) -> 0
G61: nombre de dents: | I61: =VLOOKUP($B60,'Conditions de coupe'!$D$14:$J$54,5,FALSE) -> 0
C62: Diamètre outil: | E62: =VLOOKUP($B60,'Conditions de coupe'!$D$14:$J$54,5,FALSE) -> 0 | F62: mm
H63: Vf: | I63: =VLOOKUP($B60,'Conditions de coupe'!$D$14:$J$54,7,FALSE) -> 0
D65: Vf en mm/min | F65: Temps technologique
B66: déplacement | C66: Longueur | D66: rapide | E66: travail | F66: T rapide | G66: T travail
A67: trajectoire 1 | B67: travail | C67: 90 | D67: =IF(B67="rapide",$I$2,"-") -> - | E67: =IF(B67="travail", MROUND($I$63,0.001),"-") -> 0 | F67: =IF(B67="rapide", MROUND(C67/D67,0.001),"-") -> - | G67: =IF($E67=0,0,(IF($B67="travail", MROUND($C67/$E67,0.001),"-"))) -> 0
A68: trajectoire 2 | B68: rapide | C68: 89 | D68: =IF(B68="rapide",$I$2,"-") -> 12000 | E68: =IF(B68="travail", MROUND($I$63,0.001),"-") -> - | F68: =IF(B68="rapide", MROUND(C68/D68,0.001),"-") -> 0.007 | G68: =IF($E68=0,0,(IF($B68="travail", MROUND($C68/$E68,0.001),"-"))) -> -
A69: trajectoire 3 | B69: travail | C69: 90 | D69: =IF(B69="rapide",$I$2,"-") -> - | E69: =IF(B69="travail", MROUND($I$63,0.001),"-") -> 0 | F69: =IF(B69="rapide", MROUND(C69/D69,0.001),"-") -> - | G69: =IF($E69=0,0,(IF($B69="travail", MROUND($C69/$E69,0.001),"-"))) -> 0
A70: trajectoire 4 | B70: rapide | C70: 30 | D70: =IF(B70="rapide",$I$2,"-") -> 12000 | E70: =IF(B70="travail", MROUND($I$63,0.001),"-") -> - | F70: =IF(B70="rapide", MROUND(C70/D70,0.001),"-") -> 0.003 | G70: =IF($E70=0,0,(IF($B70="travail", MROUND($C70/$E70,0.001),"-"))) -> -
A71: trajectoire 5 | B71: travail | C71: 93 | D71: =IF(B71="rapide",$I$2,"-") -> - | E71: =IF(B71="travail", MROUND($I$63,0.001),"-") -> 0 | F71: =IF(B71="rapide", MROUND(C71/D71,0.001),"-") -> - | G71: =IF($E71=0,0,(IF($B71="travail", MROUND($C71/$E71,0.001),"-"))) -> 0
A72: trajectoire 6 | B72: rapide | C72: 10 | D72: =IF(B72="rapide",$I$2,"-") -> 12000 | E72: =IF(B72="travail", MROUND($I$63,0.001),"-") -> - | F72: =IF(B72="rapide", MROUND(C72/D72,0.001),"-") -> 0.001 | G72: =IF($E72=0,0,(IF($B72="travail", MROUND($C72/$E72,0.001),"-"))) -> -
A73: trajectoire 7 | B73: travail | C73: 93 | D73: =IF(B73="rapide",$I$2,"-") -> - | E73: =IF(B73="travail", MROUND($I$63,0.001),"-") -> 0 | F73: =IF(B73="rapide", MROUND(C73/D73,0.001),"-") -> - | G73: =IF($E73=0,0,(IF($B73="travail", MROUND($C73/$E73,0.001),"-"))) -> 0
A74: trajectoire 8 | B74: rapide | C74: 10 | D74: =IF(B74="rapide",$I$2,"-") -> 12000 | E74: =IF(B74="travail", MROUND($I$63,0.001),"-") -> - | F74: =IF(B74="rapide", MROUND(C74/D74,0.001),"-") -> 0.001 | G74: =IF($E74=0,0,(IF($B74="travail", MROUND($C74/$E74,0.001),"-"))) -> -
A75: Opération 4 | D75: Tt : | E75: =IF(G67=0," ",(SUM(F67:G74,($I$3/100)))) | F75: min
A78: Outils: | D78: Vc: | E78: =VLOOKUP($B78,'Conditions de coupe'!$D$14:$J$54,3,FALSE) -> 0 | F78: m/min | H78: avance: | I78: =VLOOKUP($B78,'Conditions de coupe'!$D$14:$J$54,4,FALSE) -> 0
G79: nombre de dents: | I79: =VLOOKUP($B78,'Conditions de coupe'!$D$14:$J$54,5,FALSE) -> 0
C80: Diamètre outil: | E80: =VLOOKUP($B78,'Conditions de coupe'!$D$14:$J$54,5,FALSE) -> 0 | F80: mm
H81: Vf: | I81: =VLOOKUP($B78,'Conditions de coupe'!$D$14:$J$54,7,FALSE) -> 0
D83: Vf en mm/min | F83: Temps technologique
B84: déplacement | C84: Longueur | D84: rapide | E84: travail | F84: T rapide | G84: T travail
A85: trajectoire 1 | B85: travail | C85: 90 | D85: =IF(B85="rapide",$I$2,"-") -> - | E85: =IF(B85="travail", MROUND($I$81,0.001),"-") -> 0 | F85: =IF(B85="rapide", MROUND(C85/D85,0.001),"-") -> - | G85: =IF($E85=0,0,(IF($B85="travail", MROUND($C85/$E85,0.001),"-"))) -> 0
A86: trajectoire 2 | B86: rapide | C86: 89 | D86: =IF(B86="rapide",$I$2,"-") -> 12000 | E86: =IF(B86="travail", MROUND($I$81,0.001),"-") -> - | F86: =IF(B86="rapide", MROUND(C86/D86,0.001),"-") -> 0.007 | G86: =IF($E86=0,0,(IF($B86="travail", MROUND($C86/$E86,0.001),"-"))) -> -
A87: trajectoire 3 | B87: travail | C87: 90 | D87: =IF(B87="rapide",$I$2,"-") -> - | E87: =IF(B87="travail", MROUND($I$81,0.001),"-") -> 0 | F87: =IF(B87="rapide", MROUND(C87/D87,0.001),"-") -> - | G87: =IF($E87=0,0,(IF($B87="travail", MROUND($C87/$E87,0.001),"-"))) -> 0
A88: trajectoire 4 | B88: rapide | C88: 30 | D88: =IF(B88="rapide",$I$2,"-") -> 12000 | E88: =IF(B88="travail", MROUND($I$81,0.001),"-") -> - | F88: =IF(B88="rapide", MROUND(C88/D88,0.001),"-") -> 0.003 | G88: =IF($E88=0,0,(IF($B88="travail", MROUND($C88/$E88,0.001),"-"))) -> -
A89: trajectoire 5 | B89: travail | C89: 93 | D89: =IF(B89="rapide",$I$2,"-") -> - | E89: =IF(B89="travail", MROUND($I$81,0.001),"-") -> 0 | F89: =IF(B89="rapide", MROUND(C89/D89,0.001),"-") -> - | G89: =IF($E89=0,0,(IF($B89="travail", MROUND($C89/$E89,0.001),"-"))) -> 0
A90: trajectoire 6 | B90: rapide | C90: 10 | D90: =IF(B90="rapide",$I$2,"-") -> 12000 | E90: =IF(B90="travail", MROUND($I$81,0.001),"-") -> - | F90: =IF(B90="rapide", MROUND(C90/D90,0.001),"-") -> 0.001 | G90: =IF($E90=0,0,(IF($B90="travail", MROUND($C90/$E90,0.001),"-"))) -> -
A91: trajectoire 7 | B91: travail | C91: 93 | D91: =IF(B91="rapide",$I$2,"-") -> - | E91: =IF(B91="travail", MROUND($I$81,0.001),"-") -> 0 | F91: =IF(B91="rapide", MROUND(C91/D91,0.001),"-") -> - | G91: =IF($E91=0,0,(IF($B91="travail", MROUND($C91/$E91,0.001),"-"))) -> 0
A92: trajectoire 8 | B92: rapide | C92: 10 | D92: =IF(B92="rapide",$I$2,"-") -> 12000 | E92: =IF(B92="travail", MROUND($I$81,0.001),"-") -> - | F92: =IF(B92="rapide", MROUND(C92/D92,0.001),"-") -> 0.001 | G92: =IF($E92=0,0,(IF($B92="travail", MROUND($C92/$E92,0.001),"-"))) -> -
A93: Opération 5 | D93: Tt : | E93: =IF(G85=0," ",(SUM(F85:G92,($I$3/100)))) | F93: min
A96: Outils: | D96: Vc: | E96: =VLOOKUP($B96,'Conditions de coupe'!$D$14:$J$54,3,FALSE) -> 0 | F96: m/min | H96: avance: | I96: =VLOOKUP($B96,'Conditions de coupe'!$D$14:$J$54,4,FALSE) -> 0
G97: nombre de dents: | I97: =VLOOKUP($B96,'Conditions de coupe'!$D$14:$J$54,5,FALSE) -> 0
C98: Diamètre outil: | E98: =VLOOKUP($B96,'Conditions de coupe'!$D$14:$J$54,5,FALSE) -> 0 | F98: mm
H99: Vf: | I99: =VLOOKUP($B96,'Conditions de coupe'!$D$14:$J$54,7,FALSE) -> 0
D101: Vf en mm/min | F101: Temps technologique
B102: déplacement | C102: Longueur | D102: rapide | E102: travail | F102: T rapide | G102: T travail
A103: trajectoire 1 | B103: travail | C103: 90 | D103: =IF(B103="rapide",$I$2,"-") -> - | E103: =IF(B103="travail", MROUND($I$99,0.001),"-") -> 0 | F103: =IF(B103="rapide", MROUND(C103/D103,0.001),"-") -> - | G103: =IF($E103=0,0,(IF($B103="travail", MROUND($C103/$E103,0.001),"-"))) -> 0
A104: trajectoire 2 | B104: rapide | C104: 89 | D104: =IF(B104="rapide",$I$2,"-") -> 12000 | E104: =IF(B104="travail", MROUND($I$99,0.001),"-") -> - | F104: =IF(B104="rapide", MROUND(C104/D104,0.001),"-") -> 0.007 | G104: =IF($E104=0,0,(IF($B104="travail", MROUND($C104/$E104,0.001),"-"))) -> -
A105: trajectoire 3 | B105: travail | C105: 90 | D105: =IF(B105="rapide",$I$2,"-") -> - | E105: =IF(B105="travail", MROUND($I$99,0.001),"-") -> 0 | F105: =IF(B105="rapide", MROUND(C105/D105,0.001),"-") -> - | G105: =IF($E105=0,0,(IF($B105="travail", MROUND($C105/$E105,0.001),"-"))) -> 0
A106: trajectoire 4 | B106: rapide | C106: 30 | D106: =IF(B106="rapide",$I$2,"-") -> 12000 | E106: =IF(B106="travail", MROUND($I$99,0.001),"-") -> - | F106: =IF(B106="rapide", MROUND(C106/D106,0.001),"-") -> 0.003 | G106: =IF($E106=0,0,(IF($B106="travail", MROUND($C106/$E106,0.001),"-"))) -> -
A107: trajectoire 5 | B107: travail | C107: 93 | D107: =IF(B107="rapide",$I$2,"-") -> - | E107: =IF(B107="travail", MROUND($I$99,0.001),"-") -> 0 | F107: =IF(B107="rapide", MROUND(C107/D107,0.001),"-") -> - | G107: =IF($E107=0,0,(IF($B107="travail", MROUND($C107/$E107,0.001),"-"))) -> 0
A108: trajectoire 6 | B108: rapide | C108: 10 | D108: =IF(B108="rapide",$I$2,"-") -> 12000 | E108: =IF(B108="travail", MROUND($I$99,0.001),"-") -> - | F108: =IF(B108="rapide", MROUND(C108/D108,0.001),"-") -> 0.001 | G108: =IF($E108=0,0,(IF($B108="travail", MROUND($C108/$E108,0.001),"-"))) -> -
A109: trajectoire 7 | B109: travail | C109: 93 | D109: =IF(B109="rapide",$I$2,"-") -> - | E109: =IF(B109="travail", MROUND($I$99,0.001),"-") -> 0 | F109: =IF(B109="rapide", MROUND(C109/D109,0.001),"-") -> - | G109: =IF($E109=0,0,(IF($B109="travail", MROUND($C109/$E109,0.001),"-"))) -> 0
A110: trajectoire 8 | B110: rapide | C110: 10 | D110: =IF(B110="rapide",$I$2,"-") -> 12000 | E110: =IF(B110="travail", MROUND($I$99,0.001),"-") -> - | F110: =IF(B110="rapide", MROUND(C110/D110,0.001),"-") -> 0.001 | G110: =IF($E110=0,0,(IF($B110="travail", MROUND($C110/$E110,0.001),"-"))) -> -
A111: Opération 6 | D111: Tt : | E111: =IF(G103=0," ",(SUM(F103:G110,($I$3/100)))) | F111: min
A113: Durée globale de la phase | D113: Tu : | E113: =SUM(E21,E39,E57,E75,E93,E111) -> 0 | F113: min

Sheet Fraisage Ph40
A1: PHASE | B1: FRAISAGE | H1: Machine : | I1: DMU
A2: Pièce | G2: avance rapide machine : | I2: =IF($I$1=Données!$D$7,Données!E$7,IF($I$1=Données!$D$8,Données!E$8,IF($I$1=Données!$D$9,Données!E$9,IF($I$1=Données!$D$10,Données!E$10,IF($I$1=Données!$D$11,Données!E$11,IF($I$1=Données!$D$12,Données!E$12,IF($I$1=Données!$D$13,Données!E$13,IF($I$1=Données!$D$14,Données!E$14,IF($I$1=Données!$D$15,Données!E$15,IF($I$1=Données!$D$16,Données!E$16,IF($I$1=Données!$D$17,Données!E$17,IF($I$1=Données!$D$18,Données!E$18,IF($I$1=Données!$D$19,Données!E$19,IF($I$1=Données!$D$20,Données!E$20,Données!E$21)))))))))))))) -> 12000 | J2: mm/min
G3: Changement d'outil : | I3: =IF($I$1=Données!$D$7,Données!F$7,IF($I$1=Données!$D$8,Données!F$8,IF($I$1=Données!$D$9,Données!F$9,IF($I$1=Données!$D$10,Données!F$10,IF($I$1=Données!$D$11,Données!F$11,IF($I$1=Données!$D$12,Données!F$12,IF($I$1=Données!$D$13,Données!F$13,IF($I$1=Données!$D$14,Données!F$14,IF($I$1=Données!$D$15,Données!F$15,IF($I$1=Données!$D$16,Données!F$16,IF($I$1=Données!$D$17,Données!F$17,IF($I$1=Données!$D$18,Données!F$18,IF($I$1=Données!$D$19,Données!F$19,IF($I$1=Données!$D$20,Données!F$20,Données!F$21)))))))))))))) -> 21 | J3: cmin.
A6: Outils: | D6: Vc: | E6: =VLOOKUP($B6,'Conditions de coupe'!$D$14:$J$54,3,FALSE) -> 0 | F6: m/min | H6: avance: | I6: =VLOOKUP($B6,'Conditions de coupe'!$D$14:$J$54,4,FALSE) -> 0
G7: nombre de dents: | I7: =VLOOKUP($B6,'Conditions de coupe'!$D$14:$J$54,5,FALSE) -> 0
C8: Diamètre outil: | E8: =VLOOKUP($B6,'Conditions de coupe'!$D$14:$J$54,4,FALSE) -> 0 | F8: mm
H9: Vf: | I9: =VLOOKUP($B6,'Conditions de coupe'!$D$14:$J$54,7,FALSE) -> 0
D11: Vf en mm/min | F11: Temps technologique
B12: déplacement | C12: Longueur | D12: rapide | E12: travail | F12: T rapide | G12: T travail
A13: trajectoire 1 | B13: travail | C13: 90 | D13: =IF(B13="rapide",$I$2,"-") -> - | E13: =IF(B13="travail", MROUND($I$9,0.001),"-") -> 0 | F13: =IF(B13="rapide", MROUND(C13/D13,0.001),"-") -> - | G13: =IF($E13=0,0,(IF($B13="travail", MROUND($C13/$E13,0.001),"-"))) -> 0
A14: trajectoire 2 | B14: rapide | C14: 89 | D14: =IF(B14="rapide",$I$2,"-") -> 12000 | E14: =IF(B14="travail", $I$9,"-") -> - | F14: =IF(B14="rapide", MROUND(C14/D14,0.001),"-") -> 0.007 | G14: =IF($E14=0,0,(IF($B14="travail", MROUND($C14/$E14,0.001),"-"))) -> -
A15: trajectoire 3 | B15: travail | C15: 90 | D15: =IF(B15="rapide",$I$2,"-") -> - | E15: =IF(B15="travail", $I$9,"-") -> 0 | F15: =IF(B15="rapide", MROUND(C15/D15,0.001),"-") -> - | G15: =IF($E15=0,0,(IF($B15="travail", MROUND($C15/$E15,0.001),"-"))) -> 0
A16: trajectoire 4 | B16: rapide | C16: 30 | D16: =IF(B16="rapide",$I$2,"-") -> 12000 | E16: =IF(B16="travail", $I$9,"-") -> - | F16: =IF(B16="rapide", MROUND(C16/D16,0.001),"-") -> 0.003 | G16: =IF($E16=0,0,(IF($B16="travail", MROUND($C16/$E16,0.001),"-"))) -> -
A17: trajectoire 5 | B17: travail | C17: 93 | D17: =IF(B17="rapide",$I$2,"-") -> - | E17: =IF(B17="travail", $I$9,"-") -> 0 | F17: =IF(B17="rapide", MROUND(C17/D17,0.001),"-") -> - | G17: =IF($E17=0,0,(IF($B17="travail", MROUND($C17/$E17,0.001),"-"))) -> 0
A18: trajectoire 6 | B18: rapide | C18: 10 | D18: =IF(B18="rapide",$I$2,"-") -> 12000 | E18: =IF(B18="travail", $I$9,"-") -> - | F18: =IF(B18="rapide", MROUND(C18/D18,0.001),"-") -> 0.001 | G18: =IF($E18=0,0,(IF($B18="travail", MROUND($C18/$E18,0.001),"-"))) -> -
A19: trajectoire 7 | B19: travail | C19: 93 | D19: =IF(B19="rapide",$I$2,"-") -> - | E19: =IF(B19="travail", $I$9,"-") -> 0 | F19: =IF(B19="rapide", MROUND(C19/D19,0.001),"-") -> - | G19: =IF($E19=0,0,(IF($B19="travail", MROUND($C19/$E19,0.001),"-"))) -> 0
A20: trajectoire 8 | B20: rapide | C20: 10 | D20: =IF(B20="rapide",$I$2,"-") -> 12000 | E20: =IF(B20="travail", $I$9,"-") -> - | F20: =IF(B20="rapide", MROUND(C20/D20,0.001),"-") -> 0.001 | G20: =IF($E20=0,0,(IF($B20="travail", MROUND($C20/$E20,0.001),"-"))) -> -
A21: Opération 1 | D21: Tt : | E21: =IF(G13=0," ",(SUM(F13:G20,($I$3/100)))) | F21: min
A24: Outils: | D24: Vc: | E24: =VLOOKUP($B24,'Conditions de coupe'!$D$14:$J$54,3,FALSE) -> 0 | F24: m/min | H24: avance: | I24: =VLOOKUP($B24,'Conditions de coupe'!$D$14:$J$54,4,FALSE) -> 0
G25: nombre de dents: | I25: =VLOOKUP($B24,'Conditions de coupe'!$D$14:$J$54,5,FALSE) -> 0
C26: Diamètre outil: | E26: =VLOOKUP($B24,'Conditions de coupe'!$D$14:$J$54,4,FALSE) -> 0 | F26: mm
H27: Vf: | I27: =VLOOKUP($B24,'Conditions de coupe'!$D$14:$J$54,7,FALSE) -> 0
D29: Vf en mm/min | F29: Temps technologique
B30: déplacement | C30: Longueur | D30: rapide | E30: travail | F30: T rapide | G30: T travail
A31: trajectoire 1 | B31: travail | C31: 90 | D31: =IF(B31="rapide",$I$2,"-") -> - | E31: =IF(B31="travail", MROUND($I$27,0.001),"-") -> 0 | F31: =IF(B31="rapide", MROUND(C31/D31,0.001),"-") -> - | G31: =IF($E31=0,0,(IF($B31="travail", MROUND($C31/$E31,0.001),"-"))) -> 0
A32: trajectoire 2 | B32: rapide | C32: 89 | D32: =IF(B32="rapide",$I$2,"-") -> 12000 | E32: =IF(B32="travail", MROUND($I$27,0.001),"-") -> - | F32: =IF(B32="rapide", MROUND(C32/D32,0.001),"-") -> 0.007 | G32: =IF($E32=0,0,(IF($B32="travail", MROUND($C32/$E32,0.001),"-"))) -> -
A33: trajectoire 3 | B33: travail | C33: 90 | D33: =IF(B33="rapide",$I$2,"-") -> - | E33: =IF(B33="travail", MROUND($I$27,0.001),"-") -> 0 | F33: =IF(B33="rapide", MROUND(C33/D33,0.001),"-") -> - | G33: =IF($E33=0,0,(IF($B33="travail", MROUND($C33/$E33,0.001),"-"))) -> 0
A34: trajectoire 4 | B34: rapide | C34: 30 | D34: =IF(B34="rapide",$I$2,"-") -> 12000 | E34: =IF(B34="travail", MROUND($I$27,0.001),"-") -> - | F34: =IF(B34="rapide", MROUND(C34/D34,0.001),"-") -> 0.003 | G34: =IF($E34=0,0,(IF($B34="travail", MROUND($C34/$E34,0.001),"-"))) -> -
A35: trajectoire 5 | B35: travail | C35: 93 | D35: =IF(B35="rapide",$I$2,"-") -> - | E35: =IF(B35="travail", MROUND($I$27,0.001),"-") -> 0 | F35: =IF(B35="rapide", MROUND(C35/D35,0.001),"-") -> - | G35: =IF($E35=0,0,(IF($B35="travail", MROUND($C35/$E35,0.001),"-"))) -> 0
A36: trajectoire 6 | B36: rapide | C36: 10 | D36: =IF(B36="rapide",$I$2,"-") -> 12000 | E36: =IF(B36="travail", MROUND($I$27,0.001),"-") -> - | F36: =IF(B36="rapide", MROUND(C36/D36,0.001),"-") -> 0.001 | G36: =IF($E36=0,0,(IF($B36="travail", MROUND($C36/$E36,0.001),"-"))) -> -
A37: trajectoire 7 | B37: travail | C37: 93 | D37: =IF(B37="rapide",$I$2,"-") -> - | E37: =IF(B37="travail", MROUND($I$27,0.001),"-") -> 0 | F37: =IF(B37="rapide", MROUND(C37/D37,0.001),"-") -> - | G37: =IF($E37=0,0,(IF($B37="travail", MROUND($C37/$E37,0.001),"-"))) -> 0
A38: trajectoire 8 | B38: rapide | C38: 10 | D38: =IF(B38="rapide",$I$2,"-") -> 12000 | E38: =IF(B38="travail", MROUND($I$27,0.001),"-") -> - | F38: =IF(B38="rapide", MROUND(C38/D38,0.001),"-") -> 0.001 | G38: =IF($E38=0,0,(IF($B38="travail", MROUND($C38/$E38,0.001),"-"))) -> -
A39: Opération 2 | D39: Tt : | E39: =IF(G31=0," ",(SUM(F31:G38,($I$3/100)))) | F39: min
A42: Outils: | D42: Vc: | E42: =VLOOKUP($B42,'Conditions de coupe'!$D$14:$J$54,3,FALSE) -> 0 | F42: m/min | H42: avance: | I42: =VLOOKUP($B42,'Conditions de coupe'!$D$14:$J$54,4,FALSE) -> 0
G43: nombre de dents: | I43: =VLOOKUP($B42,'Conditions de coupe'!$D$14:$J$54,5,FALSE) -> 0
C44: Diamètre outil: | E44: =VLOOKUP($B42,'Conditions de coupe'!$D$14:$J$54,4,FALSE) -> 0 | F44: mm
H45: Vf: | I45: =VLOOKUP($B42,'Conditions de coupe'!$D$14:$J$54,7,FALSE) -> 0
D47: Vf en mm/min | F47: Temps technologique
B48: déplacement | C48: Longueur | D48: rapide | E48: travail | F48: T rapide | G48: T travail
A49: trajectoire 1 | B49: travail | C49: 90 | D49: =IF(B49="rapide",$I$2,"-") -> - | E49: =IF(B49="travail", MROUND($I$45,0.001),"-") -> 0 | F49: =IF(B49="rapide", MROUND(C49/D49,0.001),"-") -> - | G49: =IF($E49=0,0,(IF($B49="travail", MROUND($C49/$E49,0.001),"-"))) -> 0
A50: trajectoire 2 | B50: rapide | C50: 89 | D50: =IF(B50="rapide",$I$2,"-") -> 12000 | E50: =IF(B50="travail", MROUND($I$45,0.001),"-") -> - | F50: =IF(B50="rapide", MROUND(C50/D50,0.001),"-") -> 0.007 | G50: =IF($E50=0,0,(IF($B50="travail", MROUND($C50/$E50,0.001),"-"))) -> -
A51: trajectoire 3 | B51: travail | C51: 90 | D51: =IF(B51="rapide",$I$2,"-") -> - | E51: =IF(B51="travail", MROUND($I$45,0.001),"-") -> 0 | F51: =IF(B51="rapide", MROUND(C51/D51,0.001),"-") -> - | G51: =IF($E51=0,0,(IF($B51="travail", MROUND($C51/$E51,0.001),"-"))) -> 0
A52: trajectoire 4 | B52: rapide | C52: 30 | D52: =IF(B52="rapide",$I$2,"-") -> 12000 | E52: =IF(B52="travail", MROUND($I$45,0.001),"-") -> - | F52: =IF(B52="rapide", MROUND(C52/D52,0.001),"-") -> 0.003 | G52: =IF($E52=0,0,(IF($B52="travail", MROUND($C52/$E52,0.001),"-"))) -> -
A53: trajectoire 5 | B53: travail | C53: 93 | D53: =IF(B53="rapide",$I$2,"-") -> - | E53: =IF(B53="travail", MROUND($I$45,0.001),"-") -> 0 | F53: =IF(B53="rapide", MROUND(C53/D53,0.001),"-") -> - | G53: =IF($E53=0,0,(IF($B53="travail", MROUND($C53/$E53,0.001),"-"))) -> 0
A54: trajectoire 6 | B54: rapide | C54: 10 | D54: =IF(B54="rapide",$I$2,"-") -> 12000 | E54: =IF(B54="travail", MROUND($I$45,0.001),"-") -> - | F54: =IF(B54="rapide", MROUND(C54/D54,0.001),"-") -> 0.001 | G54: =IF($E54=0,0,(IF($B54="travail", MROUND($C54/$E54,0.001),"-"))) -> -
A55: trajectoire 7 | B55: travail | C55: 93 | D55: =IF(B55="rapide",$I$2,"-") -> - | E55: =IF(B55="travail", MROUND($I$45,0.001),"-") -> 0 | F55: =IF(B55="rapide", MROUND(C55/D55,0.001),"-") -> - | G55: =IF($E55=0,0,(IF($B55="travail", MROUND($C55/$E55,0.001),"-"))) -> 0
A56: trajectoire 8 | B56: rapide | C56: 10 | D56: =IF(B56="rapide",$I$2,"-") -> 12000 | E56: =IF(B56="travail", MROUND($I$45,0.001),"-") -> - | F56: =IF(B56="rapide", MROUND(C56/D56,0.001),"-") -> 0.001 | G56: =IF($E56=0,0,(IF($B56="travail", MROUND($C56/$E56,0.001),"-"))) -> -
A57: Opération 3 | D57: Tt : | E57: =IF(G49=0," ",(SUM(F49:G56,($I$3/100)))) | F57: min
A60: Outils: | D60: Vc: | E60: =VLOOKUP($B60,'Conditions de coupe'!$D$14:$J$54,3,FALSE) -> 0 | F60: m/min | H60: avance: | I60: =VLOOKUP($B60,'Conditions de coupe'!$D$14:$J$54,4,FALSE) -> 0
G61: nombre de dents: | I61: =VLOOKUP($B60,'Conditions de coupe'!$D$14:$J$54,5,FALSE) -> 0
C62: Diamètre outil: | E62: =VLOOKUP($B60,'Conditions de coupe'!$D$14:$J$54,4,FALSE) -> 0 | F62: mm
H63: Vf: | I63: =VLOOKUP($B60,'Conditions de coupe'!$D$14:$J$54,7,FALSE) -> 0
D65: Vf en mm/min | F65: Temps technologique
B66: déplacement | C66: Longueur | D66: rapide | E66: travail | F66: T rapide | G66: T travail
A67: trajectoire 1 | B67: travail | C67: 90 | D67: =IF(B67="rapide",$I$2,"-") -> - | E67: =IF(B67="travail", MROUND($I$63,0.001),"-") -> 0 | F67: =IF(B67="rapide", MROUND(C67/D67,0.001),"-") -> - | G67: =IF($E67=0,0,(IF($B67="travail", MROUND($C67/$E67,0.001),"-"))) -> 0
A68: trajectoire 2 | B68: rapide | C68: 89 | D68: =IF(B68="rapide",$I$2,"-") -> 12000 | E68: =IF(B68="travail", MROUND($I$63,0.001),"-") -> - | F68: =IF(B68="rapide", MROUND(C68/D68,0.001),"-") -> 0.007 | G68: =IF($E68=0,0,(IF($B68="travail", MROUND($C68/$E68,0.001),"-"))) -> -
A69: trajectoire 3 | B69: travail | C69: 90 | D69: =IF(B69="rapide",$I$2,"-") -> - | E69: =IF(B69="travail", MROUND($I$63,0.001),"-") -> 0 | F69: =IF(B69="rapide", MROUND(C69/D69,0.001),"-") -> - | G69: =IF($E69=0,0,(IF($B69="travail", MROUND($C69/$E69,0.001),"-"))) -> 0
A70: trajectoire 4 | B70: rapide | C70: 30 | D70: =IF(B70="rapide",$I$2,"-") -> 12000 | E70: =IF(B70="travail", MROUND($I$63,0.001),"-") -> - | F70: =IF(B70="rapide", MROUND(C70/D70,0.001),"-") -> 0.003 | G70: =IF($E70=0,0,(IF($B70="travail", MROUND($C70/$E70,0.001),"-"))) -> -
A71: trajectoire 5 | B71: travail | C71: 93 | D71: =IF(B71="rapide",$I$2,"-") -> - | E71: =IF(B71="travail", MROUND($I$63,0.001),"-") -> 0 | F71: =IF(B71="rapide", MROUND(C71/D71,0.001),"-") -> - | G71: =IF($E71=0,0,(IF($B71="travail", MROUND($C71/$E71,0.001),"-"))) -> 0
A72: trajectoire 6 | B72: rapide | C72: 10 | D72: =IF(B72="rapide",$I$2,"-") -> 12000 | E72: =IF(B72="travail", MROUND($I$63,0.001),"-") -> - | F72: =IF(B72="rapide", MROUND(C72/D72,0.001),"-") -> 0.001 | G72: =IF($E72=0,0,(IF($B72="travail", MROUND($C72/$E72,0.001),"-"))) -> -
A73: trajectoire 7 | B73: travail | C73: 93 | D73: =IF(B73="rapide",$I$2,"-") -> - | E73: =IF(B73="travail", MROUND($I$63,0.001),"-") -> 0 | F73: =IF(B73="rapide", MROUND(C73/D73,0.001),"-") -> - | G73: =IF($E73=0,0,(IF($B73="travail", MROUND($C73/$E73,0.001),"-"))) -> 0
A74: trajectoire 8 | B74: rapide | C74: 10 | D74: =IF(B74="rapide",$I$2,"-") -> 12000 | E74: =IF(B74="travail", MROUND($I$63,0.001),"-") -> - | F74: =IF(B74="rapide", MROUND(C74/D74,0.001),"-") -> 0.001 | G74: =IF($E74=0,0,(IF($B74="travail", MROUND($C74/$E74,0.001),"-"))) -> -
A75: Opération 4 | D75: Tt : | E75: =IF(G67=0," ",(SUM(F67:G74,($I$3/100)))) | F75: min
A78: Outils: | D78: Vc: | E78: =VLOOKUP($B78,'Conditions de coupe'!$D$14:$J$54,3,FALSE) -> 0 | F78: m/min | H78: avance: | I78: =VLOOKUP($B78,'Conditions de coupe'!$D$14:$J$54,4,FALSE) -> 0
G79: nombre de dents: | I79: =VLOOKUP($B78,'Conditions de coupe'!$D$14:$J$54,5,FALSE) -> 0
C80: Diamètre outil: | E80: =VLOOKUP($B78,'Conditions de coupe'!$D$14:$J$54,4,FALSE) -> 0 | F80: mm
H81: Vf: | I81: =VLOOKUP($B78,'Conditions de coupe'!$D$14:$J$54,7,FALSE) -> 0
D83: Vf en mm/min | F83: Temps technologique
B84: déplacement | C84: Longueur | D84: rapide | E84: travail | F84: T rapide | G84: T travail
A85: trajectoire 1 | B85: travail | C85: 90 | D85: =IF(B85="rapide",$I$2,"-") -> - | E85: =IF(B85="travail", MROUND($I$81,0.001),"-") -> 0 | F85: =IF(B85="rapide", MROUND(C85/D85,0.001),"-") -> - | G85: =IF($E85=0,0,(IF($B85="travail", MROUND($C85/$E85,0.001),"-"))) -> 0
A86: trajectoire 2 | B86: rapide | C86: 89 | D86: =IF(B86="rapide",$I$2,"-") -> 12000 | E86: =IF(B86="travail", MROUND($I$81,0.001),"-") -> - | F86: =IF(B86="rapide", MROUND(C86/D86,0.001),"-") -> 0.007 | G86: =IF($E86=0,0,(IF($B86="travail", MROUND($C86/$E86,0.001),"-"))) -> -
A87: trajectoire 3 | B87: travail | C87: 90 | D87: =IF(B87="rapide",$I$2,"-") -> - | E87: =IF(B87="travail", MROUND($I$81,0.001),"-") -> 0 | F87: =IF(B87="rapide", MROUND(C87/D87,0.001),"-") -> - | G87: =IF($E87=0,0,(IF($B87="travail", MROUND($C87/$E87,0.001),"-"))) -> 0
A88: trajectoire 4 | B88: rapide | C88: 30 | D88: =IF(B88="rapide",$I$2,"-") -> 12000 | E88: =IF(B88="travail", MROUND($I$81,0.001),"-") -> - | F88: =IF(B88="rapide", MROUND(C88/D88,0.001),"-") -> 0.003 | G88: =IF($E88=0,0,(IF($B88="travail", MROUND($C88/$E88,0.001),"-"))) -> -
A89: trajectoire 5 | B89: travail | C89: 93 | D89: =IF(B89="rapide",$I$2,"-") -> - | E89: =IF(B89="travail", MROUND($I$81,0.001),"-") -> 0 | F89: =IF(B89="rapide", MROUND(C89/D89,0.001),"-") -> - | G89: =IF($E89=0,0,(IF($B89="travail", MROUND($C89/$E89,0.001),"-"))) -> 0
A90: trajectoire 6 | B90: rapide | C90: 10 | D90: =IF(B90="rapide",$I$2,"-") -> 12000 | E90: =IF(B90="travail", MROUND($I$81,0.001),"-") -> - | F90: =IF(B90="rapide", MROUND(C90/D90,0.001),"-") -> 0.001 | G90: =IF($E90=0,0,(IF($B90="travail", MROUND($C90/$E90,0.001),"-"))) -> -
A91: trajectoire 7 | B91: travail | C91: 93 | D91: =IF(B91="rapide",$I$2,"-") -> - | E91: =IF(B91="travail", MROUND($I$81,0.001),"-") -> 0 | F91: =IF(B91="rapide", MROUND(C91/D91,0.001),"-") -> - | G91: =IF($E91=0,0,(IF($B91="travail", MROUND($C91/$E91,0.001),"-"))) -> 0
A92: trajectoire 8 | B92: rapide | C92: 10 | D92: =IF(B92="rapide",$I$2,"-") -> 12000 | E92: =IF(B92="travail", MROUND($I$81,0.001),"-") -> - | F92: =IF(B92="rapide", MROUND(C92/D92,0.001),"-") -> 0.001 | G92: =IF($E92=0,0,(IF($B92="travail", MROUND($C92/$E92,0.001),"-"))) -> -
A93: Opération 5 | D93: Tt : | E93: =IF(G85=0," ",(SUM(F85:G92,($I$3/100)))) | F93: min
A96: Outils: | D96: Vc: | E96: =VLOOKUP($B96,'Conditions de coupe'!$D$14:$J$54,4,FALSE) -> 0 | F96: m/min | H96: avance: | I96: =VLOOKUP($B96,'Conditions de coupe'!$D$14:$J$54,4,FALSE) -> 0
G97: nombre de dents: | I97: =VLOOKUP($B96,'Conditions de coupe'!$D$14:$J$54,5,FALSE) -> 0
C98: Diamètre outil: | E98: =VLOOKUP($B96,'Conditions de coupe'!$D$14:$J$54,4,FALSE) -> 0 | F98: mm
H99: Vf: | I99: =VLOOKUP($B96,'Conditions de coupe'!$D$14:$J$54,7,FALSE) -> 0
D101: Vf en mm/min | F101: Temps technologique
B102: déplacement | C102: Longueur | D102: rapide | E102: travail | F102: T rapide | G102: T travail
A103: trajectoire 1 | B103: travail | C103: 90 | D103: =IF(B103="rapide",$I$2,"-") -> - | E103: =IF(B103="travail", MROUND($I$99,0.001),"-") -> 0 | F103: =IF(B103="rapide", MROUND(C103/D103,0.001),"-") -> - | G103: =IF($E103=0,0,(IF($B103="travail", MROUND($C103/$E103,0.001),"-"))) -> 0
A104: trajectoire 2 | B104: rapide | C104: 89 | D104: =IF(B104="rapide",$I$2,"-") -> 12000 | E104: =IF(B104="travail", MROUND($I$99,0.001),"-") -> - | F104: =IF(B104="rapide", MROUND(C104/D104,0.001),"-") -> 0.007 | G104: =IF($E104=0,0,(IF($B104="travail", MROUND($C104/$E104,0.001),"-"))) -> -
A105: trajectoire 3 | B105: travail | C105: 90 | D105: =IF(B105="rapide",$I$2,"-") -> - | E105: =IF(B105="travail", MROUND($I$99,0.001),"-") -> 0 | F105: =IF(B105="rapide", MROUND(C105/D105,0.001),"-") -> - | G105: =IF($E105=0,0,(IF($B105="travail", MROUND($C105/$E105,0.001),"-"))) -> 0
A106: trajectoire 4 | B106: rapide | C106: 30 | D106: =IF(B106="rapide",$I$2,"-") -> 12000 | E106: =IF(B106="travail", MROUND($I$99,0.001),"-") -> - | F106: =IF(B106="rapide", MROUND(C106/D106,0.001),"-") -> 0.003 | G106: =IF($E106=0,0,(IF($B106="travail", MROUND($C106/$E106,0.001),"-"))) -> -
A107: trajectoire 5 | B107: travail | C107: 93 | D107: =IF(B107="rapide",$I$2,"-") -> - | E107: =IF(B107="travail", MROUND($I$99,0.001),"-") -> 0 | F107: =IF(B107="rapide", MROUND(C107/D107,0.001),"-") -> - | G107: =IF($E107=0,0,(IF($B107="travail", MROUND($C107/$E107,0.001),"-"))) -> 0
A108: trajectoire 6 | B108: rapide | C108: 10 | D108: =IF(B108="rapide",$I$2,"-") -> 12000 | E108: =IF(B108="travail", MROUND($I$99,0.001),"-") -> - | F108: =IF(B108="rapide", MROUND(C108/D108,0.001),"-") -> 0.001 | G108: =IF($E108=0,0,(IF($B108="travail", MROUND($C108/$E108,0.001),"-"))) -> -
A109: trajectoire 7 | B109: travail | C109: 93 | D109: =IF(B109="rapide",$I$2,"-") -> - | E109: =IF(B109="travail", MROUND($I$99,0.001),"-") -> 0 | F109: =IF(B109="rapide", MROUND(C109/D109,0.001),"-") -> - | G109: =IF($E109=0,0,(IF($B109="travail", MROUND($C109/$E109,0.001),"-"))) -> 0
A110: trajectoire 8 | B110: rapide | C110: 10 | D110: =IF(B110="rapide",$I$2,"-") -> 12000 | E110: =IF(B110="travail", MROUND($I$99,0.001),"-") -> - | F110: =IF(B110="rapide", MROUND(C110/D110,0.001),"-") -> 0.001 | G110: =IF($E110=0,0,(IF($B110="travail", MROUND($C110/$E110,0.001),"-"))) -> -
A111: Opération 6 | D111: Tt : | E111: =IF(G103=0," ",(SUM(F103:G110,($I$3/100)))) | F111: min
A113: Durée globale de la phase | D113: Tu : | E113: =SUM(E21,E39,E57,E75,E93,E111) -> 0 | F113: min

Sheet Tournage Ph10
A1: PHASE | B1: TOURNAGE | H1: Machine : | I1: Somab 400
A2: Pièce | G2: avance rapide machine : | I2: =IF($I$1=Données!$D$7,Données!E$7,IF($I$1=Données!$D$8,Données!E$8,IF($I$1=Données!$D$9,Données!E$9,IF($I$1=Données!$D$10,Données!E$10,IF($I$1=Données!$D$11,Données!E$11,IF($I$1=Données!$D$12,Données!E$12,IF($I$1=Données!$D$13,Données!E$13,IF($I$1=Données!$D$14,Données!E$14,IF($I$1=Données!$D$15,Données!E$15,IF($I$1=Données!$D$16,Données!E$16,IF($I$1=Données!$D$17,Données!E$17,IF($I$1=Données!$D$18,Données!E$18,IF($I$1=Données!$D$19,Données!E$19,IF($I$1=Données!$D$20,Données!E$20,Données!E$21)))))))))))))) -> 3000 | J2: mm/min
G3: Changement d'outil : | I3: =IF($I$1=Données!$D$7,Données!F$7,IF($I$1=Données!$D$8,Données!F$8,IF($I$1=Données!$D$9,Données!F$9,IF($I$1=Données!$D$10,Données!F$10,IF($I$1=Données!$D$11,Données!F$11,IF($I$1=Données!$D$12,Données!F$12,IF($I$1=Données!$D$13,Données!F$13,IF($I$1=Données!$D$14,Données!F$14,IF($I$1=Données!$D$15,Données!F$15,IF($I$1=Données!$D$16,Données!F$16,IF($I$1=Données!$D$17,Données!F$17,IF($I$1=Données!$D$18,Données!F$18,IF($I$1=Données!$D$19,Données!F$19,IF($I$1=Données!$D$20,Données!F$20,Données!F$21)))))))))))))) -> 15 | J3: cmin.
A6: Outils: | D6: Vc: | E6: =VLOOKUP($B6,'Conditions de coupe'!$D$14:$J$54,3,FALSE) -> 0 | F6: m/min | H6: avance: | I6: =VLOOKUP($B6,'Conditions de coupe'!$D$14:$J$54,2,FALSE) -> 0
C8: Diamètre pièce: | E8: =VLOOKUP($B6,'Conditions de coupe'!$D$14:$J$54,2,FALSE) -> 0 | F8: mm
H9: Vf: | I9: =VLOOKUP($B6,'Conditions de coupe'!$D$14:$J$54,7,FALSE) -> 0
D11: Vf en mm/min | F11: Temps technologique
B12: déplacement | C12: Longueur | D12: rapide | E12: travail | F12: T rapide | G12: T travail
A13: trajectoire 1 | B13: travail | C13: 90 | D13: =IF(B13="rapide",$I$2,"-") -> - | E13: =IF($B13="travail", MROUND($I$9,0.001),"-") -> 0 | F13: =IF(B13="rapide", MROUND(C13/D13,0.001),"-") -> - | G13: =IF($E13=0,0,(IF($B13="travail", MROUND($C13/$E13,0.001),"-"))) -> 0
A14: trajectoire 2 | B14: rapide | C14: 89 | D14: =IF(B14="rapide",$I$2,"-") -> 3000 | E14: =IF($B14="travail", MROUND($I$9,0.001),"-") -> - | F14: =IF(B14="rapide", MROUND(C14/D14,0.001),"-") -> 0.03 | G14: =IF($E14=0,0,(IF($B14="travail", MROUND($C14/$E14,0.001),"-"))) -> -
A15: trajectoire 3 | B15: travail | C15: 90 | D15: =IF(B15="rapide",$I$2,"-") -> - | E15: =IF($B15="travail", MROUND($I$9,0.001),"-") -> 0 | F15: =IF(B15="rapide", MROUND(C15/D15,0.001),"-") -> - | G15: =IF($E15=0,0,(IF($B15="travail", MROUND($C15/$E15,0.001),"-"))) -> 0
A16: trajectoire 4 | B16: rapide | C16: 30 | D16: =IF(B16="rapide",$I$2,"-") -> 3000 | E16: =IF($B16="travail", MROUND($I$9,0.001),"-") -> - | F16: =IF(B16="rapide", MROUND(C16/D16,0.001),"-") -> 0.01 | G16: =IF($E16=0,0,(IF($B16="travail", MROUND($C16/$E16,0.001),"-"))) -> -
A17: trajectoire 5 | B17: travail | C17: 93 | D17: =IF(B17="rapide",$I$2,"-") -> - | E17: =IF($B17="travail", MROUND($I$9,0.001),"-") -> 0 | F17: =IF(B17="rapide", MROUND(C17/D17,0.001),"-") -> - | G17: =IF($E17=0,0,(IF($B17="travail", MROUND($C17/$E17,0.001),"-"))) -> 0
A18: trajectoire 6 | B18: rapide | C18: 10 | D18: =IF(B18="rapide",$I$2,"-") -> 3000 | E18: =IF($B18="travail", MROUND($I$9,0.001),"-") -> - | F18: =IF(B18="rapide", MROUND(C18/D18,0.001),"-") -> 0.003 | G18: =IF($E18=0,0,(IF($B18="travail", MROUND($C18/$E18,0.001),"-"))) -> -
A19: trajectoire 7 | B19: travail | C19: 93 | D19: =IF(B19="rapide",$I$2,"-") -> - | E19: =IF($B19="travail", MROUND($I$9,0.001),"-") -> 0 | F19: =IF(B19="rapide", MROUND(C19/D19,0.001),"-") -> - | G19: =IF($E19=0,0,(IF($B19="travail", MROUND($C19/$E19,0.001),"-"))) -> 0
A20: trajectoire 8 | B20: rapide | C20: 10 | D20: =IF(B20="rapide",$I$2,"-") -> 3000 | E20: =IF($B20="travail", MROUND($I$9,0.001),"-") -> - | F20: =IF(B20="rapide", MROUND(C20/D20,0.001),"-") -> 0.003 | G20: =IF($E20=0,0,(IF($B20="travail", MROUND($C20/$E20,0.001),"-"))) -> -
A21: Opération 1 | D21: Tt : | E21: =IF(G13=0," ",(SUM(F13:G20,($I$3/100)))) | F21: min
A24: Outils: | D24: Vc: | E24: =VLOOKUP($B24,'Conditions de coupe'!$D$14:$J$54,3,FALSE) -> 0 | F24: m/min | H24: avance: | I24: =VLOOKUP($B24,'Conditions de coupe'!$D$14:$J$54,2,FALSE) -> 0
C26: Diamètre pièce: | E26: =VLOOKUP($B24,'Conditions de coupe'!$D$14:$J$54,2,FALSE) -> 0 | F26: mm
H27: Vf: | I27: =VLOOKUP($B24,'Conditions de coupe'!$D$14:$J$54,7,FALSE) -> 0
D29: Vf en mm/min | F29: Temps technologique
B30: déplacement | C30: Longueur | D30: rapide | E30: travail | F30: T rapide | G30: T travail
A31: trajectoire 1 | B31: travail | C31: 90 | D31: =IF(B31="rapide",$I$2,"-") -> - | E31: =IF($B31="travail", MROUND($I$27,0.001),"-") -> 0 | F31: =IF(B31="rapide", MROUND(C31/D31,0.001),"-") -> - | G31: =IF($E31=0,0,(IF($B31="travail", MROUND($C31/$E31,0.001),"-"))) -> 0
A32: trajectoire 2 | B32: rapide | C32: 89 | D32: =IF(B32="rapide",$I$2,"-") -> 3000 | E32: =IF($B32="travail", MROUND($I$27,0.001),"-") -> - | F32: =IF(B32="rapide", MROUND(C32/D32,0.001),"-") -> 0.03 | G32: =IF($E32=0,0,(IF($B32="travail", MROUND($C32/$E32,0.001),"-"))) -> -
A33: trajectoire 3 | B33: travail | C33: 90 | D33: =IF(B33="rapide",$I$2,"-") -> - | E33: =IF($B33="travail", MROUND($I$27,0.001),"-") -> 0 | F33: =IF(B33="rapide", MROUND(C33/D33,0.001),"-") -> - | G33: =IF($E33=0,0,(IF($B33="travail", MROUND($C33/$E33,0.001),"-"))) -> 0
A34: trajectoire 4 | B34: rapide | C34: 30 | D34: =IF(B34="rapide",$I$2,"-") -> 3000 | E34: =IF($B34="travail", MROUND($I$27,0.001),"-") -> - | F34: =IF(B34="rapide", MROUND(C34/D34,0.001),"-") -> 0.01 | G34: =IF($E34=0,0,(IF($B34="travail", MROUND($C34/$E34,0.001),"-"))) -> -
A35: trajectoire 5 | B35: travail | C35: 93 | D35: =IF(B35="rapide",$I$2,"-") -> - | E35: =IF($B35="travail", MROUND($I$27,0.001),"-") -> 0 | F35: =IF(B35="rapide", MROUND(C35/D35,0.001),"-") -> - | G35: =IF($E35=0,0,(IF($B35="travail", MROUND($C35/$E35,0.001),"-"))) -> 0
A36: trajectoire 6 | B36: rapide | C36: 10 | D36: =IF(B36="rapide",$I$2,"-") -> 3000 | E36: =IF($B36="travail", MROUND($I$27,0.001),"-") -> - | F36: =IF(B36="rapide", MROUND(C36/D36,0.001),"-") -> 0.003 | G36: =IF($E36=0,0,(IF($B36="travail", MROUND($C36/$E36,0.001),"-"))) -> -
A37: trajectoire 7 | B37: travail | C37: 93 | D37: =IF(B37="rapide",$I$2,"-") -> - | E37: =IF($B37="travail", MROUND($I$27,0.001),"-") -> 0 | F37: =IF(B37="rapide", MROUND(C37/D37,0.001),"-") -> - | G37: =IF($E37=0,0,(IF($B37="travail", MROUND($C37/$E37,0.001),"-"))) -> 0
A38: trajectoire 8 | B38: rapide | C38: 10 | D38: =IF(B38="rapide",$I$2,"-") -> 3000 | E38: =IF($B38="travail", MROUND($I$27,0.001),"-") -> - | F38: =IF(B38="rapide", MROUND(C38/D38,0.001),"-") -> 0.003 | G38: =IF($E38=0,0,(IF($B38="travail", MROUND($C38/$E38,0.001),"-"))) -> -
A39: Opération 2 | D39: Tt : | E39: =IF(G31=0," ",(SUM(F31:G38,($I$3/100)))) | F39: min
A42: Outils: | B42: 0 | D42: Vc: | E42: =VLOOKUP($B42,'Conditions de coupe'!$D$14:$J$54,3,FALSE) -> 0 | F42: m/min | H42: avance: | I42: =VLOOKUP($B42,'Conditions de coupe'!$D$14:$J$54,2,FALSE) -> 0
C44: Diamètre pièce: | E44: =VLOOKUP($B42,'Conditions de coupe'!$D$14:$J$54,2,FALSE) -> 0 | F44: mm
H45: Vf: | I45: =VLOOKUP($B42,'Conditions de coupe'!$D$14:$J$54,7,FALSE) -> 0
D47: Vf en mm/min | F47: Temps technologique
B48: déplacement | C48: Longueur | D48: rapide | E48: travail | F48: T rapide | G48: T travail
A49: trajectoire 1 | B49: travail | C49: 90 | D49: =IF(B49="rapide",$I$2,"-") -> - | E49: =IF($B49="travail", MROUND($I$45,0.001),"-") -> 0 | F49: =IF(B49="rapide", MROUND(C49/D49,0.001),"-") -> - | G49: =IF($E49=0,0,(IF($B49="travail", MROUND($C49/$E49,0.001),"-"))) -> 0
A50: trajectoire 2 | B50: rapide | C50: 89 | D50: =IF(B50="rapide",$I$2,"-") -> 3000 | E50: =IF($B50="travail", MROUND($I$45,0.001),"-") -> - | F50: =IF(B50="rapide", MROUND(C50/D50,0.001),"-") -> 0.03 | G50: =IF($E50=0,0,(IF($B50="travail", MROUND($C50/$E50,0.001),"-"))) -> -
A51: trajectoire 3 | B51: travail | C51: 90 | D51: =IF(B51="rapide",$I$2,"-") -> - | E51: =IF($B51="travail", MROUND($I$45,0.001),"-") -> 0 | F51: =IF(B51="rapide", MROUND(C51/D51,0.001),"-") -> - | G51: =IF($E51=0,0,(IF($B51="travail", MROUND($C51/$E51,0.001),"-"))) -> 0
A52: trajectoire 4 | B52: rapide | C52: 30 | D52: =IF(B52="rapide",$I$2,"-") -> 3000 | E52: =IF($B52="travail", MROUND($I$45,0.001),"-") -> - | F52: =IF(B52="rapide", MROUND(C52/D52,0.001),"-") -> 0.01 | G52: =IF($E52=0,0,(IF($B52="travail", MROUND($C52/$E52,0.001),"-"))) -> -
A53: trajectoire 5 | B53: travail | C53: 93 | D53: =IF(B53="rapide",$I$2,"-") -> - | E53: =IF($B53="travail", MROUND($I$45,0.001),"-") -> 0 | F53: =IF(B53="rapide", MROUND(C53/D53,0.001),"-") -> - | G53: =IF($E53=0,0,(IF($B53="travail", MROUND($C53/$E53,0.001),"-"))) -> 0
A54: trajectoire 6 | B54: rapide | C54: 10 | D54: =IF(B54="rapide",$I$2,"-") -> 3000 | E54: =IF($B54="travail", MROUND($I$45,0.001),"-") -> - | F54: =IF(B54="rapide", MROUND(C54/D54,0.001),"-") -> 0.003 | G54: =IF($E54=0,0,(IF($B54="travail", MROUND($C54/$E54,0.001),"-"))) -> -
A55: trajectoire 7 | B55: travail | C55: 93 | D55: =IF(B55="rapide",$I$2,"-") -> - | E55: =IF($B55="travail", MROUND($I$45,0.001),"-") -> 0 | F55: =IF(B55="rapide", MROUND(C55/D55,0.001),"-") -> - | G55: =IF($E55=0,0,(IF($B55="travail", MROUND($C55/$E55,0.001),"-"))) -> 0
A56: trajectoire 8 | B56: rapide | C56: 10 | D56: =IF(B56="rapide",$I$2,"-") -> 3000 | E56: =IF($B56="travail", MROUND($I$45,0.001),"-") -> - | F56: =IF(B56="rapide", MROUND(C56/D56,0.001),"-") -> 0.003 | G56: =IF($E56=0,0,(IF($B56="travail", MROUND($C56/$E56,0.001),"-"))) -> -
A57: Opération 3 | D57: Tt : | E57: =IF(G49=0," ",(SUM(F49:G56,($I$3/100)))) | F57: min
A60: Outils: | B60: 0 | D60: Vc: | E60: =VLOOKUP($B60,'Conditions de coupe'!$D$14:$J$54,3,FALSE) -> 0 | F60: m/min | H60: avance: | I60: =VLOOKUP($B60,'Conditions de coupe'!$D$14:$J$54,2,FALSE) -> 0
C62: Diamètre pièce: | E62: =VLOOKUP($B60,'Conditions de coupe'!$D$14:$J$54,2,FALSE) -> 0 | F62: mm
H63: Vf: | I63: =VLOOKUP($B60,'Conditions de coupe'!$D$14:$J$54,7,FALSE) -> 0
D65: Vf en mm/min | F65: Temps technologique
B66: déplacement | C66: Longueur | D66: rapide | E66: travail | F66: T rapide | G66: T travail
A67: trajectoire 1 | B67: travail | C67: 90 | D67: =IF(B67="rapide",$I$2,"-") -> - | E67: =IF($B67="travail", MROUND($I$63,0.001),"-") -> 0 | F67: =IF(B67="rapide", MROUND(C67/D67,0.001),"-") -> - | G67: =IF($E67=0,0,(IF($B67="travail", MROUND($C67/$E67,0.001),"-"))) -> 0
A68: trajectoire 2 | B68: rapide | C68: 89 | D68: =IF(B68="rapide",$I$2,"-") -> 3000 | E68: =IF($B68="travail", MROUND($I$63,0.001),"-") -> - | F68: =IF(B68="rapide", MROUND(C68/D68,0.001),"-") -> 0.03 | G68: =IF($E68=0,0,(IF($B68="travail", MROUND($C68/$E68,0.001),"-"))) -> -
A69: trajectoire 3 | B69: travail | C69: 90 | D69: =IF(B69="rapide",$I$2,"-") -> - | E69: =IF($B69="travail", MROUND($I$63,0.001),"-") -> 0 | F69: =IF(B69="rapide", MROUND(C69/D69,0.001),"-") -> - | G69: =IF($E69=0,0,(IF($B69="travail", MROUND($C69/$E69,0.001),"-"))) -> 0
A70: trajectoire 4 | B70: rapide | C70: 30 | D70: =IF(B70="rapide",$I$2,"-") -> 3000 | E70: =IF($B70="travail", MROUND($I$63,0.001),"-") -> - | F70: =IF(B70="rapide", MROUND(C70/D70,0.001),"-") -> 0.01 | G70: =IF($E70=0,0,(IF($B70="travail", MROUND($C70/$E70,0.001),"-"))) -> -
A71: trajectoire 5 | B71: travail | C71: 93 | D71: =IF(B71="rapide",$I$2,"-") -> - | E71: =IF($B71="travail", MROUND($I$63,0.001),"-") -> 0 | F71: =IF(B71="rapide", MROUND(C71/D71,0.001),"-") -> - | G71: =IF($E71=0,0,(IF($B71="travail", MROUND($C71/$E71,0.001),"-"))) -> 0
A72: trajectoire 6 | B72: rapide | C72: 10 | D72: =IF(B72="rapide",$I$2,"-") -> 3000 | E72: =IF($B72="travail", MROUND($I$63,0.001),"-") -> - | F72: =IF(B72="rapide", MROUND(C72/D72,0.001),"-") -> 0.003 | G72: =IF($E72=0,0,(IF($B72="travail", MROUND($C72/$E72,0.001),"-"))) -> -
A73: trajectoire 7 | B73: travail | C73: 93 | D73: =IF(B73="rapide",$I$2,"-") -> - | E73: =IF($B73="travail", MROUND($I$63,0.001),"-") -> 0 | F73: =IF(B73="rapide", MROUND(C73/D73,0.001),"-") -> - | G73: =IF($E73=0,0,(IF($B73="travail", MROUND($C73/$E73,0.001),"-"))) -> 0
A74: trajectoire 8 | B74: rapide | C74: 10 | D74: =IF(B74="rapide",$I$2,"-") -> 3000 | E74: =IF($B74="travail", MROUND($I$63,0.001),"-") -> - | F74: =IF(B74="rapide", MROUND(C74/D74,0.001),"-") -> 0.003 | G74: =IF($E74=0,0,(IF($B74="travail", MROUND($C74/$E74,0.001),"-"))) -> -
A75: Opération 4 | D75: Tt : | E75: =IF(G67=0," ",(SUM(F67:G74,($I$3/100)))) | F75: min
A78: Outils: | B78: 0 | D78: Vc: | E78: =VLOOKUP($B78,'Conditions de coupe'!$D$14:$J$54,3,FALSE) -> 0 | F78: m/min | H78: avance: | I78: =VLOOKUP($B78,'Conditions de coupe'!$D$14:$J$54,2,FALSE) -> 0
C80: Diamètre pièce: | E80: =VLOOKUP($B78,'Conditions de coupe'!$D$14:$J$54,2,FALSE) -> 0 | F80: mm
H81: Vf: | I81: =VLOOKUP($B78,'Conditions de coupe'!$D$14:$J$54,7,FALSE) -> 0
D83: Vf en mm/min | F83: Temps technologique
B84: déplacement | C84: Longueur | D84: rapide | E84: travail | F84: T rapide | G84: T travail
A85: trajectoire 1 | B85: travail | C85: 90 | D85: =IF(B85="rapide",$I$2,"-") -> - | E85: =IF($B85="travail", MROUND($I$81,0.001),"-") -> 0 | F85: =IF(B85="rapide", MROUND(C85/D85,0.001),"-") -> - | G85: =IF($E85=0,0,(IF($B85="travail", MROUND($C85/$E85,0.001),"-"))) -> 0
A86: trajectoire 2 | B86: rapide | C86: 89 | D86: =IF(B86="rapide",$I$2,"-") -> 3000 | E86: =IF($B86="travail", MROUND($I$81,0.001),"-") -> - | F86: =IF(B86="rapide", MROUND(C86/D86,0.001),"-") -> 0.03 | G86: =IF($E86=0,0,(IF($B86="travail", MROUND($C86/$E86,0.001),"-"))) -> -
A87: trajectoire 3 | B87: travail | C87: 90 | D87: =IF(B87="rapide",$I$2,"-") -> - | E87: =IF($B87="travail", MROUND($I$81,0.001),"-") -> 0 | F87: =IF(B87="rapide", MROUND(C87/D87,0.001),"-") -> - | G87: =IF($E87=0,0,(IF($B87="travail", MROUND($C87/$E87,0.001),"-"))) -> 0
A88: trajectoire 4 | B88: rapide | C88: 30 | D88: =IF(B88="rapide",$I$2,"-") -> 3000 | E88: =IF($B88="travail", MROUND($I$81,0.001),"-") -> - | F88: =IF(B88="rapide", MROUND(C88/D88,0.001),"-") -> 0.01 | G88: =IF($E88=0,0,(IF($B88="travail", MROUND($C88/$E88,0.001),"-"))) -> -
A89: trajectoire 5 | B89: travail | C89: 93 | D89: =IF(B89="rapide",$I$2,"-") -> - | E89: =IF($B89="travail", MROUND($I$81,0.001),"-") -> 0 | F89: =IF(B89="rapide", MROUND(C89/D89,0.001),"-") -> - | G89: =IF($E89=0,0,(IF($B89="travail", MROUND($C89/$E89,0.001),"-"))) -> 0
A90: trajectoire 6 | B90: rapide | C90: 10 | D90: =IF(B90="rapide",$I$2,"-") -> 3000 | E90: =IF($B90="travail", MROUND($I$81,0.001),"-") -> - | F90: =IF(B90="rapide", MROUND(C90/D90,0.001),"-") -> 0.003 | G90: =IF($E90=0,0,(IF($B90="travail", MROUND($C90/$E90,0.001),"-"))) -> -
A91: trajectoire 7 | B91: travail | C91: 93 | D91: =IF(B91="rapide",$I$2,"-") -> - | E91: =IF($B91="travail", MROUND($I$81,0.001),"-") -> 0 | F91: =IF(B91="rapide", MROUND(C91/D91,0.001),"-") -> - | G91: =IF($E91=0,0,(IF($B91="travail", MROUND($C91/$E91,0.001),"-"))) -> 0
A92: trajectoire 8 | B92: rapide | C92: 10 | D92: =IF(B92="rapide",$I$2,"-") -> 3000 | E92: =IF($B92="travail", MROUND($I$81,0.001),"-") -> - | F92: =IF(B92="rapide", MROUND(C92/D92,0.001),"-") -> 0.003 | G92: =IF($E92=0,0,(IF($B92="travail", MROUND($C92/$E92,0.001),"-"))) -> -
A93: Opération 5 | D93: Tt : | E93: =IF(G85=0," ",(SUM(F85:G92,($I$3/100)))) | F93: min
A96: Outils: | B96: 0 | D96: Vc: | E96: =VLOOKUP($B96,'Conditions de coupe'!$D$14:$J$54,3,FALSE) -> 0 | F96: m/min | H96: avance: | I96: =VLOOKUP($B96,'Conditions de coupe'!$D$14:$J$54,2,FALSE) -> 0
C98: Diamètre pièce: | E98: =VLOOKUP($B96,'Conditions de coupe'!$D$14:$J$54,2,FALSE) -> 0 | F98: mm
H99: Vf: | I99: =VLOOKUP($B96,'Conditions de coupe'!$D$14:$J$54,7,FALSE) -> 0
D101: Vf en mm/min | F101: Temps technologique
B102: déplacement | C102: Longueur | D102: rapide | E102: travail | F102: T rapide | G102: T travail
A103: trajectoire 1 | B103: travail | C103: 90 | D103: =IF(B103="rapide",$I$2,"-") -> - | E103: =IF($B103="travail", MROUND($I$99,0.001),"-") -> 0 | F103: =IF(B103="rapide", MROUND(C103/D103,0.001),"-") -> - | G103: =IF($E103=0,0,(IF($B103="travail", MROUND($C103/$E103,0.001),"-"))) -> 0
A104: trajectoire 2 | B104: rapide | C104: 89 | D104: =IF(B104="rapide",$I$2,"-") -> 3000 | E104: =IF($B104="travail", MROUND($I$99,0.001),"-") -> - | F104: =IF(B104="rapide", MROUND(C104/D104,0.001),"-") -> 0.03 | G104: =IF($E104=0,0,(IF($B104="travail", MROUND($C104/$E104,0.001),"-"))) -> -
A105: trajectoire 3 | B105: travail | C105: 90 | D105: =IF(B105="rapide",$I$2,"-") -> - | E105: =IF($B105="travail", MROUND($I$99,0.001),"-") -> 0 | F105: =IF(B105="rapide", MROUND(C105/D105,0.001),"-") -> - | G105: =IF($E105=0,0,(IF($B105="travail", MROUND($C105/$E105,0.001),"-"))) -> 0
A106: trajectoire 4 | B106: rapide | C106: 30 | D106: =IF(B106="rapide",$I$2,"-") -> 3000 | E106: =IF($B106="travail", MROUND($I$99,0.001),"-") -> - | F106: =IF(B106="rapide", MROUND(C106/D106,0.001),"-") -> 0.01 | G106: =IF($E106=0,0,(IF($B106="travail", MROUND($C106/$E106,0.001),"-"))) -> -
A107: trajectoire 5 | B107: travail | C107: 93 | D107: =IF(B107="rapide",$I$2,"-") -> - | E107: =IF($B107="travail", MROUND($I$99,0.001),"-") -> 0 | F107: =IF(B107="rapide", MROUND(C107/D107,0.001),"-") -> - | G107: =IF($E107=0,0,(IF($B107="travail", MROUND($C107/$E107,0.001),"-"))) -> 0
A108: trajectoire 6 | B108: rapide | C108: 10 | D108: =IF(B108="rapide",$I$2,"-") -> 3000 | E108: =IF($B108="travail", MROUND($I$99,0.001),"-") -> - | F108: =IF(B108="rapide", MROUND(C108/D108,0.001),"-") -> 0.003 | G108: =IF($E108=0,0,(IF($B108="travail", MROUND($C108/$E108,0.001),"-"))) -> -
A109: trajectoire 7 | B109: travail | C109: 93 | D109: =IF(B109="rapide",$I$2,"-") -> - | E109: =IF($B109="travail", MROUND($I$99,0.001),"-") -> 0 | F109: =IF(B109="rapide", MROUND(C109/D109,0.001),"-") -> - | G109: =IF($E109=0,0,(IF($B109="travail", MROUND($C109/$E109,0.001),"-"))) -> 0
A110: trajectoire 8 | B110: rapide | C110: 10 | D110: =IF(B110="rapide",$I$2,"-") -> 3000 | E110: =IF($B110="travail", MROUND($I$99,0.001),"-") -> - | F110: =IF(B110="rapide", MROUND(C110/D110,0.001),"-") -> 0.003 | G110: =IF($E110=0,0,(IF($B110="travail", MROUND($C110/$E110,0.001),"-"))) -> -
A111: Opération 6 | D111: Tt : | E111: =IF(G103=0," ",(SUM(F103:G110,($I$3/100)))) | F111: min
A113: Durée globale de la phase | D113: Tu : | E113: =SUM(E21,E39,E57,E75,E93,E111) -> 0 | F113: min

Sheet Tournage Ph20
A1: PHASE | B1: TOURNAGE | H1: Machine : | I1: Somab 400
A2: Pièce | G2: avance rapide machine : | I2: =IF($I$1=Données!$D$7,Données!E$7,IF($I$1=Données!$D$8,Données!E$8,IF($I$1=Données!$D$9,Données!E$9,IF($I$1=Données!$D$10,Données!E$10,IF($I$1=Données!$D$11,Données!E$11,IF($I$1=Données!$D$12,Données!E$12,IF($I$1=Données!$D$13,Données!E$13,IF($I$1=Données!$D$14,Données!E$14,IF($I$1=Données!$D$15,Données!E$15,IF($I$1=Données!$D$16,Données!E$16,IF($I$1=Données!$D$17,Données!E$17,IF($I$1=Données!$D$18,Données!E$18,IF($I$1=Données!$D$19,Données!E$19,IF($I$1=Données!$D$20,Données!E$20,Données!E$21)))))))))))))) -> 3000 | J2: mm/min
G3: Changement d'outil : | I3: =IF($I$1=Données!$D$7,Données!F$7,IF($I$1=Données!$D$8,Données!F$8,IF($I$1=Données!$D$9,Données!F$9,IF($I$1=Données!$D$10,Données!F$10,IF($I$1=Données!$D$11,Données!F$11,IF($I$1=Données!$D$12,Données!F$12,IF($I$1=Données!$D$13,Données!F$13,IF($I$1=Données!$D$14,Données!F$14,IF($I$1=Données!$D$15,Données!F$15,IF($I$1=Données!$D$16,Données!F$16,IF($I$1=Données!$D$17,Données!F$17,IF($I$1=Données!$D$18,Données!F$18,IF($I$1=Données!$D$19,Données!F$19,IF($I$1=Données!$D$20,Données!F$20,Données!F$21)))))))))))))) -> 15 | J3: cmin.
A6: Outils: | D6: Vc: | E6: =VLOOKUP($B6,'Conditions de coupe'!$D$14:$J$54,3,FALSE) -> 0 | F6: m/min | H6: avance: | I6: =VLOOKUP($B6,'Conditions de coupe'!$D$14:$J$54,2,FALSE) -> 0
C8: Diamètre pièce: | E8: =VLOOKUP($B6,'Conditions de coupe'!$D$14:$J$54,2,FALSE) -> 0 | F8: mm
H9: Vf: | I9: =VLOOKUP($B6,'Conditions de coupe'!$D$14:$J$54,7,FALSE) -> 0
D11: Vf en mm/min | F11: Temps technologique
B12: déplacement | C12: Longueur | D12: rapide | E12: travail | F12: T rapide | G12: T travail
A13: trajectoire 1 | B13: travail | C13: 90 | D13: =IF(B13="rapide",$I$2,"-") -> - | E13: =IF($B13="travail", MROUND($I$9,0.001),"-") -> 0 | F13: =IF(B13="rapide", MROUND(C13/D13,0.001),"-") -> - | G13: =IF($E13=0,0,(IF($B13="travail", MROUND($C13/$E13,0.001),"-"))) -> 0
A14: trajectoire 2 | B14: rapide | C14: 89 | D14: =IF(B14="rapide",$I$2,"-") -> 3000 | E14: =IF($B14="travail", MROUND($I$9,0.001),"-") -> - | F14: =IF(B14="rapide", MROUND(C14/D14,0.001),"-") -> 0.03 | G14: =IF($E14=0,0,(IF($B14="travail", MROUND($C14/$E14,0.001),"-"))) -> -
A15: trajectoire 3 | B15: travail | C15: 90 | D15: =IF(B15="rapide",$I$2,"-") -> - | E15: =IF($B15="travail", MROUND($I$9,0.001),"-") -> 0 | F15: =IF(B15="rapide", MROUND(C15/D15,0.001),"-") -> - | G15: =IF($E15=0,0,(IF($B15="travail", MROUND($C15/$E15,0.001),"-"))) -> 0
A16: trajectoire 4 | B16: rapide | C16: 30 | D16: =IF(B16="rapide",$I$2,"-") -> 3000 | E16: =IF($B16="travail", MROUND($I$9,0.001),"-") -> - | F16: =IF(B16="rapide", MROUND(C16/D16,0.001),"-") -> 0.01 | G16: =IF($E16=0,0,(IF($B16="travail", MROUND($C16/$E16,0.001),"-"))) -> -
A17: trajectoire 5 | B17: travail | C17: 93 | D17: =IF(B17="rapide",$I$2,"-") -> - | E17: =IF($B17="travail", MROUND($I$9,0.001),"-") -> 0 | F17: =IF(B17="rapide", MROUND(C17/D17,0.001),"-") -> - | G17: =IF($E17=0,0,(IF($B17="travail", MROUND($C17/$E17,0.001),"-"))) -> 0
A18: trajectoire 6 | B18: rapide | C18: 10 | D18: =IF(B18="rapide",$I$2,"-") -> 3000 | E18: =IF($B18="travail", MROUND($I$9,0.001),"-") -> - | F18: =IF(B18="rapide", MROUND(C18/D18,0.001),"-") -> 0.003 | G18: =IF($E18=0,0,(IF($B18="travail", MROUND($C18/$E18,0.001),"-"))) -> -
A19: trajectoire 7 | B19: travail | C19: 93 | D19: =IF(B19="rapide",$I$2,"-") -> - | E19: =IF($B19="travail", MROUND($I$9,0.001),"-") -> 0 | F19: =IF(B19="rapide", MROUND(C19/D19,0.001),"-") -> - | G19: =IF($E19=0,0,(IF($B19="travail", MROUND($C19/$E19,0.001),"-"))) -> 0
A20: trajectoire 8 | B20: rapide | C20: 10 | D20: =IF(B20="rapide",$I$2,"-") -> 3000 | E20: =IF($B20="travail", MROUND($I$9,0.001),"-") -> - | F20: =IF(B20="rapide", MROUND(C20/D20,0.001),"-") -> 0.003 | G20: =IF($E20=0,0,(IF($B20="travail", MROUND($C20/$E20,0.001),"-"))) -> -
A21: Opération 1 | D21: Tt : | E21: =IF(G13=0," ",(SUM(F13:G20,($I$3/100)))) | F21: min
A24: Outils: | D24: Vc: | E24: =VLOOKUP($B24,'Conditions de coupe'!$D$14:$J$54,3,FALSE) -> 0 | F24: m/min | H24: avance: | I24: =VLOOKUP($B24,'Conditions de coupe'!$D$14:$J$54,2,FALSE) -> 0
C26: Diamètre pièce: | E26: =VLOOKUP($B24,'Conditions de coupe'!$D$14:$J$54,2,FALSE) -> 0 | F26: mm
H27: Vf: | I27: =VLOOKUP($B24,'Conditions de coupe'!$D$14:$J$54,7,FALSE) -> 0
D29: Vf en mm/min | F29: Temps technologique
B30: déplacement | C30: Longueur | D30: rapide | E30: travail | F30: T rapide | G30: T travail
A31: trajectoire 1 | B31: travail | C31: 90 | D31: =IF(B31="rapide",$I$2,"-") -> - | E31: =IF($B31="travail", MROUND($I$27,0.001),"-") -> 0 | F31: =IF(B31="rapide", MROUND(C31/D31,0.001),"-") -> - | G31: =IF($E31=0,0,(IF($B31="travail", MROUND($C31/$E31,0.001),"-"))) -> 0
A32: trajectoire 2 | B32: rapide | C32: 89 | D32: =IF(B32="rapide",$I$2,"-") -> 3000 | E32: =IF($B32="travail", MROUND($I$27,0.001),"-") -> - | F32: =IF(B32="rapide", MROUND(C32/D32,0.001),"-") -> 0.03 | G32: =IF($E32=0,0,(IF($B32="travail", MROUND($C32/$E32,0.001),"-"))) -> -
A33: trajectoire 3 | B33: travail | C33: 90 | D33: =IF(B33="rapide",$I$2,"-") -> - | E33: =IF($B33="travail", MROUND($I$27,0.001),"-") -> 0 | F33: =IF(B33="rapide", MROUND(C33/D33,0.001),"-") -> - | G33: =IF($E33=0,0,(IF($B33="travail", MROUND($C33/$E33,0.001),"-"))) -> 0
A34: trajectoire 4 | B34: rapide | C34: 30 | D34: =IF(B34="rapide",$I$2,"-") -> 3000 | E34: =IF($B34="travail", MROUND($I$27,0.001),"-") -> - | F34: =IF(B34="rapide", MROUND(C34/D34,0.001),"-") -> 0.01 | G34: =IF($E34=0,0,(IF($B34="travail", MROUND($C34/$E34,0.001),"-"))) -> -
A35: trajectoire 5 | B35: travail | C35: 93 | D35: =IF(B35="rapide",$I$2,"-") -> - | E35: =IF($B35="travail", MROUND($I$27,0.001),"-") -> 0 | F35: =IF(B35="rapide", MROUND(C35/D35,0.001),"-") -> - | G35: =IF($E35=0,0,(IF($B35="travail", MROUND($C35/$E35,0.001),"-"))) -> 0
A36: trajectoire 6 | B36: rapide | C36: 10 | D36: =IF(B36="rapide",$I$2,"-") -> 3000 | E36: =IF($B36="travail", MROUND($I$27,0.001),"-") -> - | F36: =IF(B36="rapide", MROUND(C36/D36,0.001),"-") -> 0.003 | G36: =IF($E36=0,0,(IF($B36="travail", MROUND($C36/$E36,0.001),"-"))) -> -
A37: trajectoire 7 | B37: travail | C37: 93 | D37: =IF(B37="rapide",$I$2,"-") -> - | E37: =IF($B37="travail", MROUND($I$27,0.001),"-") -> 0 | F37: =IF(B37="rapide", MROUND(C37/D37,0.001),"-") -> - | G37: =IF($E37=0,0,(IF($B37="travail", MROUND($C37/$E37,0.001),"-"))) -> 0
A38: trajectoire 8 | B38: rapide | C38: 10 | D38: =IF(B38="rapide",$I$2,"-") -> 3000 | E38: =IF($B38="travail", MROUND($I$27,0.001),"-") -> - | F38: =IF(B38="rapide", MROUND(C38/D38,0.001),"-") -> 0.003 | G38: =IF($E38=0,0,(IF($B38="travail", MROUND($C38/$E38,0.001),"-"))) -> -
A39: Opération 2 | D39: Tt : | E39: =IF(G31=0," ",(SUM(F31:G38,($I$3/100)))) | F39: min
A42: Outils: | D42: Vc: | E42: =VLOOKUP($B42,'Conditions de coupe'!$D$14:$J$54,3,FALSE) -> 0 | F42: m/min | H42: avance: | I42: =VLOOKUP($B42,'Conditions de coupe'!$D$14:$J$54,2,FALSE) -> 0
C44: Diamètre pièce: | E44: =VLOOKUP($B42,'Conditions de coupe'!$D$14:$J$54,2,FALSE) -> 0 | F44: mm
H45: Vf: | I45: =VLOOKUP($B42,'Conditions de coupe'!$D$14:$J$54,7,FALSE) -> 0
D47: Vf en mm/min | F47: Temps technologique
B48: déplacement | C48: Longueur | D48: rapide | E48: travail | F48: T rapide | G48: T travail
A49: trajectoire 1 | B49: travail | C49: 90 | D49: =IF(B49="rapide",$I$2,"-") -> - | E49: =IF($B49="travail", MROUND($I$45,0.001),"-") -> 0 | F49: =IF(B49="rapide", MROUND(C49/D49,0.001),"-") -> - | G49: =IF($E49=0,0,(IF($B49="travail", MROUND($C49/$E49,0.001),"-"))) -> 0
A50: trajectoire 2 | B50: rapide | C50: 89 | D50: =IF(B50="rapide",$I$2,"-") -> 3000 | E50: =IF($B50="travail", MROUND($I$45,0.001),"-") -> - | F50: =IF(B50="rapide", MROUND(C50/D50,0.001),"-") -> 0.03 | G50: =IF($E50=0,0,(IF($B50="travail", MROUND($C50/$E50,0.001),"-"))) -> -
A51: trajectoire 3 | B51: travail | C51: 90 | D51: =IF(B51="rapide",$I$2,"-") -> - | E51: =IF($B51="travail", MROUND($I$45,0.001),"-") -> 0 | F51: =IF(B51="rapide", MROUND(C51/D51,0.001),"-") -> - | G51: =IF($E51=0,0,(IF($B51="travail", MROUND($C51/$E51,0.001),"-"))) -> 0
A52: trajectoire 4 | B52: rapide | C52: 30 | D52: =IF(B52="rapide",$I$2,"-") -> 3000 | E52: =IF($B52="travail", MROUND($I$45,0.001),"-") -> - | F52: =IF(B52="rapide", MROUND(C52/D52,0.001),"-") -> 0.01 | G52: =IF($E52=0,0,(IF($B52="travail", MROUND($C52/$E52,0.001),"-"))) -> -
A53: trajectoire 5 | B53: travail | C53: 93 | D53: =IF(B53="rapide",$I$2,"-") -> - | E53: =IF($B53="travail", MROUND($I$45,0.001),"-") -> 0 | F53: =IF(B53="rapide", MROUND(C53/D53,0.001),"-") -> - | G53: =IF($E53=0,0,(IF($B53="travail", MROUND($C53/$E53,0.001),"-"))) -> 0
A54: trajectoire 6 | B54: rapide | C54: 10 | D54: =IF(B54="rapide",$I$2,"-") -> 3000 | E54: =IF($B54="travail", MROUND($I$45,0.001),"-") -> - | F54: =IF(B54="rapide", MROUND(C54/D54,0.001),"-") -> 0.003 | G54: =IF($E54=0,0,(IF($B54="travail", MROUND($C54/$E54,0.001),"-"))) -> -
A55: trajectoire 7 | B55: travail | C55: 93 | D55: =IF(B55="rapide",$I$2,"-") -> - | E55: =IF($B55="travail", MROUND($I$45,0.001),"-") -> 0 | F55: =IF(B55="rapide", MROUND(C55/D55,0.001),"-") -> - | G55: =IF($E55=0,0,(IF($B55="travail", MROUND($C55/$E55,0.001),"-"))) -> 0
A56: trajectoire 8 | B56: rapide | C56: 10 | D56: =IF(B56="rapide",$I$2,"-") -> 3000 | E56: =IF($B56="travail", MROUND($I$45,0.001),"-") -> - | F56: =IF(B56="rapide", MROUND(C56/D56,0.001),"-") -> 0.003 | G56: =IF($E56=0,0,(IF($B56="travail", MROUND($C56/$E56,0.001),"-"))) -> -
A57: Opération 3 | D57: Tt : | E57: =IF(G49=0," ",(SUM(F49:G56,($I$3/100)))) | F57: min
A60: Outils: | D60: Vc: | E60: =VLOOKUP($B60,'Conditions de coupe'!$D$14:$J$54,3,FALSE) -> 0 | F60: m/min | H60: avance: | I60: =VLOOKUP($B60,'Conditions de coupe'!$D$14:$J$54,2,FALSE) -> 0
C62: Diamètre pièce: | E62: =VLOOKUP($B60,'Conditions de coupe'!$D$14:$J$54,2,FALSE) -> 0 | F62: mm
H63: Vf: | I63: =VLOOKUP($B60,'Conditions de coupe'!$D$14:$J$54,7,FALSE) -> 0
D65: Vf en mm/min | F65: Temps technologique
B66: déplacement | C66: Longueur | D66: rapide | E66: travail | F66: T rapide | G66: T travail
A67: trajectoire 1 | B67: travail | C67: 90 | D67: =IF(B67="rapide",$I$2,"-") -> - | E67: =IF($B67="travail", MROUND($I$63,0.001),"-") -> 0 | F67: =IF(B67="rapide", MROUND(C67/D67,0.001),"-") -> - | G67: =IF($E67=0,0,(IF($B67="travail", MROUND($C67/$E67,0.001),"-"))) -> 0
A68: trajectoire 2 | B68: rapide | C68: 89 | D68: =IF(B68="rapide",$I$2,"-") -> 3000 | E68: =IF($B68="travail", MROUND($I$63,0.001),"-") -> - | F68: =IF(B68="rapide", MROUND(C68/D68,0.001),"-") -> 0.03 | G68: =IF($E68=0,0,(IF($B68="travail", MROUND($C68/$E68,0.001),"-"))) -> -
A69: trajectoire 3 | B69: travail | C69: 90 | D69: =IF(B69="rapide",$I$2,"-") -> - | E69: =IF($B69="travail", MROUND($I$63,0.001),"-") -> 0 | F69: =IF(B69="rapide", MROUND(C69/D69,0.001),"-") -> - | G69: =IF($E69=0,0,(IF($B69="travail", MROUND($C69/$E69,0.001),"-"))) -> 0
A70: trajectoire 4 | B70: rapide | C70: 30 | D70: =IF(B70="rapide",$I$2,"-") -> 3000 | E70: =IF($B70="travail", MROUND($I$63,0.001),"-") -> - | F70: =IF(B70="rapide", MROUND(C70/D70,0.001),"-") -> 0.01 | G70: =IF($E70=0,0,(IF($B70="travail", MROUND($C70/$E70,0.001),"-"))) -> -
A71: trajectoire 5 | B71: travail | C71: 93 | D71: =IF(B71="rapide",$I$2,"-") -> - | E71: =IF($B71="travail", MROUND($I$63,0.001),"-") -> 0 | F71: =IF(B71="rapide", MROUND(C71/D71,0.001),"-") -> - | G71: =IF($E71=0,0,(IF($B71="travail", MROUND($C71/$E71,0.001),"-"))) -> 0
A72: trajectoire 6 | B72: rapide | C72: 10 | D72: =IF(B72="rapide",$I$2,"-") -> 3000 | E72: =IF($B72="travail", MROUND($I$63,0.001),"-") -> - | F72: =IF(B72="rapide", MROUND(C72/D72,0.001),"-") -> 0.003 | G72: =IF($E72=0,0,(IF($B72="travail", MROUND($C72/$E72,0.001),"-"))) -> -
A73: trajectoire 7 | B73: travail | C73: 93 | D73: =IF(B73="rapide",$I$2,"-") -> - | E73: =IF($B73="travail", MROUND($I$63,0.001),"-") -> 0 | F73: =IF(B73="rapide", MROUND(C73/D73,0.001),"-") -> - | G73: =IF($E73=0,0,(IF($B73="travail", MROUND($C73/$E73,0.001),"-"))) -> 0
A74: trajectoire 8 | B74: rapide | C74: 10 | D74: =IF(B74="rapide",$I$2,"-") -> 3000 | E74: =IF($B74="travail", MROUND($I$63,0.001),"-") -> - | F74: =IF(B74="rapide", MROUND(C74/D74,0.001),"-") -> 0.003 | G74: =IF($E74=0,0,(IF($B74="travail", MROUND($C74/$E74,0.001),"-"))) -> -
A75: Opération 4 | D75: Tt : | E75: =IF(G67=0," ",(SUM(F67:G74,($I$3/100)))) | F75: min
A78: Outils: | D78: Vc: | E78: =VLOOKUP($B78,'Conditions de coupe'!$D$14:$J$54,3,FALSE) -> 0 | F78: m/min | H78: avance: | I78: =VLOOKUP($B78,'Conditions de coupe'!$D$14:$J$54,2,FALSE) -> 0
C80: Diamètre pièce: | E80: =VLOOKUP($B78,'Conditions de coupe'!$D$14:$J$54,2,FALSE) -> 0 | F80: mm
H81: Vf: | I81: =VLOOKUP($B78,'Conditions de coupe'!$D$14:$J$54,7,FALSE) -> 0
D83: Vf en mm/min | F83: Temps technologique
B84: déplacement | C84: Longueur | D84: rapide | E84: travail | F84: T rapide | G84: T travail
A85: trajectoire 1 | B85: travail | C85: 90 | D85: =IF(B85="rapide",$I$2,"-") -> - | E85: =IF($B85="travail", MROUND($I$81,0.001),"-") -> 0 | F85: =IF(B85="rapide", MROUND(C85/D85,0.001),"-") -> - | G85: =IF($E85=0,0,(IF($B85="travail", MROUND($C85/$E85,0.001),"-"))) -> 0
A86: trajectoire 2 | B86: rapide | C86: 89 | D86: =IF(B86="rapide",$I$2,"-") -> 3000 | E86: =IF($B86="travail", MROUND($I$81,0.001),"-") -> - | F86: =IF(B86="rapide", MROUND(C86/D86,0.001),"-") -> 0.03 | G86: =IF($E86=0,0,(IF($B86="travail", MROUND($C86/$E86,0.001),"-"))) -> -
A87: trajectoire 3 | B87: travail | C87: 90 | D87: =IF(B87="rapide",$I$2,"-") -> - | E87: =IF($B87="travail", MROUND($I$81,0.001),"-") -> 0 | F87: =IF(B87="rapide", MROUND(C87/D87,0.001),"-") -> - | G87: =IF($E87=0,0,(IF($B87="travail", MROUND($C87/$E87,0.001),"-"))) -> 0
A88: trajectoire 4 | B88: rapide | C88: 30 | D88: =IF(B88="rapide",$I$2,"-") -> 3000 | E88: =IF($B88="travail", MROUND($I$81,0.001),"-") -> - | F88: =IF(B88="rapide", MROUND(C88/D88,0.001),"-") -> 0.01 | G88: =IF($E88=0,0,(IF($B88="travail", MROUND($C88/$E88,0.001),"-"))) -> -
A89: trajectoire 5 | B89: travail | C89: 93 | D89: =IF(B89="rapide",$I$2,"-") -> - | E89: =IF($B89="travail", MROUND($I$81,0.001),"-") -> 0 | F89: =IF(B89="rapide", MROUND(C89/D89,0.001),"-") -> - | G89: =IF($E89=0,0,(IF($B89="travail", MROUND($C89/$E89,0.001),"-"))) -> 0
A90: trajectoire 6 | B90: rapide | C90: 10 | D90: =IF(B90="rapide",$I$2,"-") -> 3000 | E90: =IF($B90="travail", MROUND($I$81,0.001),"-") -> - | F90: =IF(B90="rapide", MROUND(C90/D90,0.001),"-") -> 0.003 | G90: =IF($E90=0,0,(IF($B90="travail", MROUND($C90/$E90,0.001),"-"))) -> -
A91: trajectoire 7 | B91: travail | C91: 93 | D91: =IF(B91="rapide",$I$2,"-") -> - | E91: =IF($B91="travail", MROUND($I$81,0.001),"-") -> 0 | F91: =IF(B91="rapide", MROUND(C91/D91,0.001),"-") -> - | G91: =IF($E91=0,0,(IF($B91="travail", MROUND($C91/$E91,0.001),"-"))) -> 0
A92: trajectoire 8 | B92: rapide | C92: 10 | D92: =IF(B92="rapide",$I$2,"-") -> 3000 | E92: =IF($B92="travail", MROUND($I$81,0.001),"-") -> - | F92: =IF(B92="rapide", MROUND(C92/D92,0.001),"-") -> 0.003 | G92: =IF($E92=0,0,(IF($B92="travail", MROUND($C92/$E92,0.001),"-"))) -> -
A93: Opération 5 | D93: Tt : | E93: =IF(G85=0," ",(SUM(F85:G92,($I$3/100)))) | F93: min
A96: Outils: | D96: Vc: | E96: =VLOOKUP($B96,'Conditions de coupe'!$D$14:$J$54,3,FALSE) -> 0 | F96: m/min | H96: avance: | I96: =VLOOKUP($B96,'Conditions de coupe'!$D$14:$J$54,2,FALSE) -> 0
C98: Diamètre pièce: | E98: =VLOOKUP($B96,'Conditions de coupe'!$D$14:$J$54,2,FALSE) -> 0 | F98: mm
H99: Vf: | I99: =VLOOKUP($B96,'Conditions de coupe'!$D$14:$J$54,7,FALSE) -> 0
D101: Vf en mm/min | F101: Temps technologique
B102: déplacement | C102: Longueur | D102: rapide | E102: travail | F102: T rapide | G102: T travail
A103: trajectoire 1 | B103: travail | C103: 90 | D103: =IF(B103="rapide",$I$2,"-") -> - | E103: =IF($B103="travail", MROUND($I$99,0.001),"-") -> 0 | F103: =IF(B103="rapide", MROUND(C103/D103,0.001),"-") -> - | G103: =IF($E103=0,0,(IF($B103="travail", MROUND($C103/$E103,0.001),"-"))) -> 0
A104: trajectoire 2 | B104: rapide | C104: 89 | D104: =IF(B104="rapide",$I$2,"-") -> 3000 | E104: =IF($B104="travail", MROUND($I$99,0.001),"-") -> - | F104: =IF(B104="rapide", MROUND(C104/D104,0.001),"-") -> 0.03 | G104: =IF($E104=0,0,(IF($B104="travail", MROUND($C104/$E104,0.001),"-"))) -> -
A105: trajectoire 3 | B105: travail | C105: 90 | D105: =IF(B105="rapide",$I$2,"-") -> - | E105: =IF($B105="travail", MROUND($I$99,0.001),"-") -> 0 | F105: =IF(B105="rapide", MROUND(C105/D105,0.001),"-") -> - | G105: =IF($E105=0,0,(IF($B105="travail", MROUND($C105/$E105,0.001),"-"))) -> 0
A106: trajectoire 4 | B106: rapide | C106: 30 | D106: =IF(B106="rapide",$I$2,"-") -> 3000 | E106: =IF($B106="travail", MROUND($I$99,0.001),"-") -> - | F106: =IF(B106="rapide", MROUND(C106/D106,0.001),"-") -> 0.01 | G106: =IF($E106=0,0,(IF($B106="travail", MROUND($C106/$E106,0.001),"-"))) -> -
A107: trajectoire 5 | B107: travail | C107: 93 | D107: =IF(B107="rapide",$I$2,"-") -> - | E107: =IF($B107="travail", MROUND($I$99,0.001),"-") -> 0 | F107: =IF(B107="rapide", MROUND(C107/D107,0.001),"-") -> - | G107: =IF($E107=0,0,(IF($B107="travail", MROUND($C107/$E107,0.001),"-"))) -> 0
A108: trajectoire 6 | B108: rapide | C108: 10 | D108: =IF(B108="rapide",$I$2,"-") -> 3000 | E108: =IF($B108="travail", MROUND($I$99,0.001),"-") -> - | F108: =IF(B108="rapide", MROUND(C108/D108,0.001),"-") -> 0.003 | G108: =IF($E108=0,0,(IF($B108="travail", MROUND($C108/$E108,0.001),"-"))) -> -
A109: trajectoire 7 | B109: travail | C109: 93 | D109: =IF(B109="rapide",$I$2,"-") -> - | E109: =IF($B109="travail", MROUND($I$99,0.001),"-") -> 0 | F109: =IF(B109="rapide", MROUND(C109/D109,0.001),"-") -> - | G109: =IF($E109=0,0,(IF($B109="travail", MROUND($C109/$E109,0.001),"-"))) -> 0
A110: trajectoire 8 | B110: rapide | C110: 10 | D110: =IF(B110="rapide",$I$2,"-") -> 3000 | E110: =IF($B110="travail", MROUND($I$99,0.001),"-") -> - | F110: =IF(B110="rapide", MROUND(C110/D110,0.001),"-") -> 0.003 | G110: =IF($E110=0,0,(IF($B110="travail", MROUND($C110/$E110,0.001),"-"))) -> -
A111: Opération 6 | D111: Tt : | E111: =IF(G103=0," ",(SUM(F103:G110,($I$3/100)))) | F111: min
A113: Durée globale de la phase | D113: Tu : | E113: =SUM(E21,E39,E57,E75,E93,E111) -> 0 | F113: min

Sheet Tournage Ph30
A1: PHASE | B1: TOURNAGE | H1: Machine : | I1: Somab 400
A2: Pièce | G2: avance rapide machine : | I2: =IF($I$1=Données!$D$7,Données!E$7,IF($I$1=Données!$D$8,Données!E$8,IF($I$1=Données!$D$9,Données!E$9,IF($I$1=Données!$D$10,Données!E$10,IF($I$1=Données!$D$11,Données!E$11,IF($I$1=Données!$D$12,Données!E$12,IF($I$1=Données!$D$13,Données!E$13,IF($I$1=Données!$D$14,Données!E$14,IF($I$1=Données!$D$15,Données!E$15,IF($I$1=Données!$D$16,Données!E$16,IF($I$1=Données!$D$17,Données!E$17,IF($I$1=Données!$D$18,Données!E$18,IF($I$1=Données!$D$19,Données!E$19,IF($I$1=Données!$D$20,Données!E$20,Données!E$21)))))))))))))) -> 3000 | J2: mm/min
G3: Changement d'outil : | I3: =IF($I$1=Données!$D$7,Données!F$7,IF($I$1=Données!$D$8,Données!F$8,IF($I$1=Données!$D$9,Données!F$9,IF($I$1=Données!$D$10,Données!F$10,IF($I$1=Données!$D$11,Données!F$11,IF($I$1=Données!$D$12,Données!F$12,IF($I$1=Données!$D$13,Données!F$13,IF($I$1=Données!$D$14,Données!F$14,IF($I$1=Données!$D$15,Données!F$15,IF($I$1=Données!$D$16,Données!F$16,IF($I$1=Données!$D$17,Données!F$17,IF($I$1=Données!$D$18,Données!F$18,IF($I$1=Données!$D$19,Données!F$19,IF($I$1=Données!$D$20,Données!F$20,Données!F$21)))))))))))))) -> 15 | J3: cmin.
A6: Outils: | D6: Vc: | E6: =VLOOKUP($B6,'Conditions de coupe'!$D$14:$J$54,3,FALSE) -> 0 | F6: m/min | H6: avance: | I6: =VLOOKUP($B6,'Conditions de coupe'!$D$14:$J$54,2,FALSE) -> 0
C8: Diamètre pièce: | E8: =VLOOKUP($B6,'Conditions de coupe'!$D$14:$J$54,2,FALSE) -> 0 | F8: mm
H9: Vf: | I9: =VLOOKUP($B6,'Conditions de coupe'!$D$14:$J$54,7,FALSE) -> 0
D11: Vf en mm/min | F11: Temps technologique
B12: déplacement | C12: Longueur | D12: rapide | E12: travail | F12: T rapide | G12: T travail
A13: trajectoire 1 | B13: travail | C13: 90 | D13: =IF(B13="rapide",$I$2,"-") -> - | E13: =IF($B13="travail", MROUND($I$9,0.001),"-") -> 0 | F13: =IF(B13="rapide", MROUND(C13/D13,0.001),"-") -> - | G13: =IF($E13=0,0,(IF($B13="travail", MROUND($C13/$E13,0.001),"-"))) -> 0
A14: trajectoire 2 | B14: rapide | C14: 89 | D14: =IF(B14="rapide",$I$2,"-") -> 3000 | E14: =IF($B14="travail", MROUND($I$9,0.001),"-") -> - | F14: =IF(B14="rapide", MROUND(C14/D14,0.001),"-") -> 0.03 | G14: =IF($E14=0,0,(IF($B14="travail", MROUND($C14/$E14,0.001),"-"))) -> -
A15: trajectoire 3 | B15: travail | C15: 90 | D15: =IF(B15="rapide",$I$2,"-") -> - | E15: =IF($B15="travail", MROUND($I$9,0.001),"-") -> 0 | F15: =IF(B15="rapide", MROUND(C15/D15,0.001),"-") -> - | G15: =IF($E15=0,0,(IF($B15="travail", MROUND($C15/$E15,0.001),"-"))) -> 0
A16: trajectoire 4 | B16: rapide | C16: 30 | D16: =IF(B16="rapide",$I$2,"-") -> 3000 | E16: =IF($B16="travail", MROUND($I$9,0.001),"-") -> - | F16: =IF(B16="rapide", MROUND(C16/D16,0.001),"-") -> 0.01 | G16: =IF($E16=0,0,(IF($B16="travail", MROUND($C16/$E16,0.001),"-"))) -> -
A17: trajectoire 5 | B17: travail | C17: 93 | D17: =IF(B17="rapide",$I$2,"-") -> - | E17: =IF($B17="travail", MROUND($I$9,0.001),"-") -> 0 | F17: =IF(B17="rapide", MROUND(C17/D17,0.001),"-") -> - | G17: =IF($E17=0,0,(IF($B17="travail", MROUND($C17/$E17,0.001),"-"))) -> 0
A18: trajectoire 6 | B18: rapide | C18: 10 | D18: =IF(B18="rapide",$I$2,"-") -> 3000 | E18: =IF($B18="travail", MROUND($I$9,0.001),"-") -> - | F18: =IF(B18="rapide", MROUND(C18/D18,0.001),"-") -> 0.003 | G18: =IF($E18=0,0,(IF($B18="travail", MROUND($C18/$E18,0.001),"-"))) -> -
A19: trajectoire 7 | B19: travail | C19: 93 | D19: =IF(B19="rapide",$I$2,"-") -> - | E19: =IF($B19="travail", MROUND($I$9,0.001),"-") -> 0 | F19: =IF(B19="rapide", MROUND(C19/D19,0.001),"-") -> - | G19: =IF($E19=0,0,(IF($B19="travail", MROUND($C19/$E19,0.001),"-"))) -> 0
A20: trajectoire 8 | B20: rapide | C20: 10 | D20: =IF(B20="rapide",$I$2,"-") -> 3000 | E20: =IF($B20="travail", MROUND($I$9,0.001),"-") -> - | F20: =IF(B20="rapide", MROUND(C20/D20,0.001),"-") -> 0.003 | G20: =IF($E20=0,0,(IF($B20="travail", MROUND($C20/$E20,0.001),"-"))) -> -
A21: Opération 1 | D21: Tt : | E21: =IF(G13=0," ",(SUM(F13:G20,($I$3/100)))) | F21: min
A24: Outils: | D24: Vc: | E24: =VLOOKUP($B24,'Conditions de coupe'!$D$14:$J$54,3,FALSE) -> 0 | F24: m/min | H24: avance: | I24: =VLOOKUP($B24,'Conditions de coupe'!$D$14:$J$54,2,FALSE) -> 0
C26: Diamètre pièce: | E26: =VLOOKUP($B24,'Conditions de coupe'!$D$14:$J$54,2,FALSE) -> 0 | F26: mm
H27: Vf: | I27: =VLOOKUP($B24,'Conditions de coupe'!$D$14:$J$54,7,FALSE) -> 0
D29: Vf en mm/min | F29: Temps technologique
B30: déplacement | C30: Longueur | D30: rapide | E30: travail | F30: T rapide | G30: T travail
A31: trajectoire 1 | B31: travail | C31: 90 | D31: =IF(B31="rapide",$I$2,"-") -> - | E31: =IF($B31="travail", MROUND($I$27,0.001),"-") -> 0 | F31: =IF(B31="rapide", MROUND(C31/D31,0.001),"-") -> - | G31: =IF($E31=0,0,(IF($B31="travail", MROUND($C31/$E31,0.001),"-"))) -> 0
A32: trajectoire 2 | B32: rapide | C32: 89 | D32: =IF(B32="rapide",$I$2,"-") -> 3000 | E32: =IF($B32="travail", MROUND($I$27,0.001),"-") -> - | F32: =IF(B32="rapide", MROUND(C32/D32,0.001),"-") -> 0.03 | G32: =IF($E32=0,0,(IF($B32="travail", MROUND($C32/$E32,0.001),"-"))) -> -
A33: trajectoire 3 | B33: travail | C33: 90 | D33: =IF(B33="rapide",$I$2,"-") -> - | E33: =IF($B33="travail", MROUND($I$27,0.001),"-") -> 0 | F33: =IF(B33="rapide", MROUND(C33/D33,0.001),"-") -> - | G33: =IF($E33=0,0,(IF($B33="travail", MROUND($C33/$E33,0.001),"-"))) -> 0
A34: trajectoire 4 | B34: rapide | C34: 30 | D34: =IF(B34="rapide",$I$2,"-") -> 3000 | E34: =IF($B34="travail", MROUND($I$27,0.001),"-") -> - | F34: =IF(B34="rapide", MROUND(C34/D34,0.001),"-") -> 0.01 | G34: =IF($E34=0,0,(IF($B34="travail", MROUND($C34/$E34,0.001),"-"))) -> -
A35: trajectoire 5 | B35: travail | C35: 93 | D35: =IF(B35="rapide",$I$2,"-") -> - | E35: =IF($B35="travail", MROUND($I$27,0.001),"-") -> 0 | F35: =IF(B35="rapide", MROUND(C35/D35,0.001),"-") -> - | G35: =IF($E35=0,0,(IF($B35="travail", MROUND($C35/$E35,0.001),"-"))) -> 0
A36: trajectoire 6 | B36: rapide | C36: 10 | D36: =IF(B36="rapide",$I$2,"-") -> 3000 | E36: =IF($B36="travail", MROUND($I$27,0.001),"-") -> - | F36: =IF(B36="rapide", MROUND(C36/D36,0.001),"-") -> 0.003 | G36: =IF($E36=0,0,(IF($B36="travail", MROUND($C36/$E36,0.001),"-"))) -> -
A37: trajectoire 7 | B37: travail | C37: 93 | D37: =IF(B37="rapide",$I$2,"-") -> - | E37: =IF($B37="travail", MROUND($I$27,0.001),"-") -> 0 | F37: =IF(B37="rapide", MROUND(C37/D37,0.001),"-") -> - | G37: =IF($E37=0,0,(IF($B37="travail", MROUND($C37/$E37,0.001),"-"))) -> 0
A38: trajectoire 8 | B38: rapide | C38: 10 | D38: =IF(B38="rapide",$I$2,"-") -> 3000 | E38: =IF($B38="travail", MROUND($I$27,0.001),"-") -> - | F38: =IF(B38="rapide", MROUND(C38/D38,0.001),"-") -> 0.003 | G38: =IF($E38=0,0,(IF($B38="travail", MROUND($C38/$E38,0.001),"-"))) -> -
A39: Opération 2 | D39: Tt : | E39: =IF(G31=0," ",(SUM(F31:G38,($I$3/100)))) | F39: min
A42: Outils: | D42: Vc: | E42: =VLOOKUP($B42,'Conditions de coupe'!$D$14:$J$54,3,FALSE) -> 0 | F42: m/min | H42: avance: | I42: =VLOOKUP($B42,'Conditions de coupe'!$D$14:$J$54,2,FALSE) -> 0
C44: Diamètre pièce: | E44: =VLOOKUP($B42,'Conditions de coupe'!$D$14:$J$54,2,FALSE) -> 0 | F44: mm
H45: Vf: | I45: =VLOOKUP($B42,'Conditions de coupe'!$D$14:$J$54,7,FALSE) -> 0
D47: Vf en mm/min | F47: Temps technologique
B48: déplacement | C48: Longueur | D48: rapide | E48: travail | F48: T rapide | G48: T travail
A49: trajectoire 1 | B49: travail | C49: 90 | D49: =IF(B49="rapide",$I$2,"-") -> - | E49: =IF($B49="travail", MROUND($I$45,0.001),"-") -> 0 | F49: =IF(B49="rapide", MROUND(C49/D49,0.001),"-") -> - | G49: =IF($E49=0,0,(IF($B49="travail", MROUND($C49/$E49,0.001),"-"))) -> 0
A50: trajectoire 2 | B50: rapide | C50: 89 | D50: =IF(B50="rapide",$I$2,"-") -> 3000 | E50: =IF($B50="travail", MROUND($I$45,0.001),"-") -> - | F50: =IF(B50="rapide", MROUND(C50/D50,0.001),"-") -> 0.03 | G50: =IF($E50=0,0,(IF($B50="travail", MROUND($C50/$E50,0.001),"-"))) -> -
A51: trajectoire 3 | B51: travail | C51: 90 | D51: =IF(B51="rapide",$I$2,"-") -> - | E51: =IF($B51="travail", MROUND($I$45,0.001),"-") -> 0 | F51: =IF(B51="rapide", MROUND(C51/D51,0.001),"-") -> - | G51: =IF($E51=0,0,(IF($B51="travail", MROUND($C51/$E51,0.001),"-"))) -> 0
A52: trajectoire 4 | B52: rapide | C52: 30 | D52: =IF(B52="rapide",$I$2,"-") -> 3000 | E52: =IF($B52="travail", MROUND($I$45,0.001),"-") -> - | F52: =IF(B52="rapide", MROUND(C52/D52,0.001),"-") -> 0.01 | G52: =IF($E52=0,0,(IF($B52="travail", MROUND($C52/$E52,0.001),"-"))) -> -
A53: trajectoire 5 | B53: travail | C53: 93 | D53: =IF(B53="rapide",$I$2,"-") -> - | E53: =IF($B53="travail", MROUND($I$45,0.001),"-") -> 0 | F53: =IF(B53="rapide", MROUND(C53/D53,0.001),"-") -> - | G53: =IF($E53=0,0,(IF($B53="travail", MROUND($C53/$E53,0.001),"-"))) -> 0
A54: trajectoire 6 | B54: rapide | C54: 10 | D54: =IF(B54="rapide",$I$2,"-") -> 3000 | E54: =IF($B54="travail", MROUND($I$45,0.001),"-") -> - | F54: =IF(B54="rapide", MROUND(C54/D54,0.001),"-") -> 0.003 | G54: =IF($E54=0,0,(IF($B54="travail", MROUND($C54/$E54,0.001),"-"))) -> -
A55: trajectoire 7 | B55: travail | C55: 93 | D55: =IF(B55="rapide",$I$2,"-") -> - | E55: =IF($B55="travail", MROUND($I$45,0.001),"-") -> 0 | F55: =IF(B55="rapide", MROUND(C55/D55,0.001),"-") -> - | G55: =IF($E55=0,0,(IF($B55="travail", MROUND($C55/$E55,0.001),"-"))) -> 0
A56: trajectoire 8 | B56: rapide | C56: 10 | D56: =IF(B56="rapide",$I$2,"-") -> 3000 | E56: =IF($B56="travail", MROUND($I$45,0.001),"-") -> - | F56: =IF(B56="rapide", MROUND(C56/D56,0.001),"-") -> 0.003 | G56: =IF($E56=0,0,(IF($B56="travail", MROUND($C56/$E56,0.001),"-"))) -> -
A57: Opération 3 | D57: Tt : | E57: =IF(G49=0," ",(SUM(F49:G56,($I$3/100)))) | F57: min
A60: Outils: | D60: Vc: | E60: =VLOOKUP($B60,'Conditions de coupe'!$D$14:$J$54,3,FALSE) -> 0 | F60: m/min | H60: avance: | I60: =VLOOKUP($B60,'Conditions de coupe'!$D$14:$J$54,2,FALSE) -> 0
C62: Diamètre pièce: | E62: =VLOOKUP($B60,'Conditions de coupe'!$D$14:$J$54,2,FALSE) -> 0 | F62: mm
H63: Vf: | I63: =VLOOKUP($B60,'Conditions de coupe'!$D$14:$J$54,7,FALSE) -> 0
D65: Vf en mm/min | F65: Temps technologique
B66: déplacement | C66: Longueur | D66: rapide | E66: travail | F66: T rapide | G66: T travail
A67: trajectoire 1 | B67: travail | C67: 90 | D67: =IF(B67="rapide",$I$2,"-") -> - | E67: =IF($B67="travail", MROUND($I$63,0.001),"-") -> 0 | F67: =IF(B67="rapide", MROUND(C67/D67,0.001),"-") -> - | G67: =IF($E67=0,0,(IF($B67="travail", MROUND($C67/$E67,0.001),"-"))) -> 0
A68: trajectoire 2 | B68: rapide | C68: 89 | D68: =IF(B68="rapide",$I$2,"-") -> 3000 | E68: =IF($B68="travail", MROUND($I$63,0.001),"-") -> - | F68: =IF(B68="rapide", MROUND(C68/D68,0.001),"-") -> 0.03 | G68: =IF($E68=0,0,(IF($B68="travail", MROUND($C68/$E68,0.001),"-"))) -> -
A69: trajectoire 3 | B69: travail | C69: 90 | D69: =IF(B69="rapide",$I$2,"-") -> - | E69: =IF($B69="travail", MROUND($I$63,0.001),"-") -> 0 | F69: =IF(B69="rapide", MROUND(C69/D69,0.001),"-") -> - | G69: =IF($E69=0,0,(IF($B69="travail", MROUND($C69/$E69,0.001),"-"))) -> 0
A70: trajectoire 4 | B70: rapide | C70: 30 | D70: =IF(B70="rapide",$I$2,"-") -> 3000 | E70: =IF($B70="travail", MROUND($I$63,0.001),"-") -> - | F70: =IF(B70="rapide", MROUND(C70/D70,0.001),"-") -> 0.01 | G70: =IF($E70=0,0,(IF($B70="travail", MROUND($C70/$E70,0.001),"-"))) -> -
A71: trajectoire 5 | B71: travail | C71: 93 | D71: =IF(B71="rapide",$I$2,"-") -> - | E71: =IF($B71="travail", MROUND($I$63,0.001),"-") -> 0 | F71: =IF(B71="rapide", MROUND(C71/D71,0.001),"-") -> - | G71: =IF($E71=0,0,(IF($B71="travail", MROUND($C71/$E71,0.001),"-"))) -> 0
A72: trajectoire 6 | B72: rapide | C72: 10 | D72: =IF(B72="rapide",$I$2,"-") -> 3000 | E72: =IF($B72="travail", MROUND($I$63,0.001),"-") -> - | F72: =IF(B72="rapide", MROUND(C72/D72,0.001),"-") -> 0.003 | G72: =IF($E72=0,0,(IF($B72="travail", MROUND($C72/$E72,0.001),"-"))) -> -
A73: trajectoire 7 | B73: travail | C73: 93 | D73: =IF(B73="rapide",$I$2,"-") -> - | E73: =IF($B73="travail", MROUND($I$63,0.001),"-") -> 0 | F73: =IF(B73="rapide", MROUND(C73/D73,0.001),"-") -> - | G73: =IF($E73=0,0,(IF($B73="travail", MROUND($C73/$E73,0.001),"-"))) -> 0
A74: trajectoire 8 | B74: rapide | C74: 10 | D74: =IF(B74="rapide",$I$2,"-") -> 3000 | E74: =IF($B74="travail", MROUND($I$63,0.001),"-") -> - | F74: =IF(B74="rapide", MROUND(C74/D74,0.001),"-") -> 0.003 | G74: =IF($E74=0,0,(IF($B74="travail", MROUND($C74/$E74,0.001),"-"))) -> -
A75: Opération 4 | D75: Tt : | E75: =IF(G67=0," ",(SUM(F67:G74,($I$3/100)))) | F75: min
A78: Outils: | D78: Vc: | E78: =VLOOKUP($B78,'Conditions de coupe'!$D$14:$J$54,3,FALSE) -> 0 | F78: m/min | H78: avance: | I78: =VLOOKUP($B78,'Conditions de coupe'!$D$14:$J$54,2,FALSE) -> 0
C80: Diamètre pièce: | E80: =VLOOKUP($B78,'Conditions de coupe'!$D$14:$J$54,2,FALSE) -> 0 | F80: mm
H81: Vf: | I81: =VLOOKUP($B78,'Conditions de coupe'!$D$14:$J$54,7,FALSE) -> 0
D83: Vf en mm/min | F83: Temps technologique
B84: déplacement | C84: Longueur | D84: rapide | E84: travail | F84: T rapide | G84: T travail
A85: trajectoire 1 | B85: travail | C85: 90 | D85: =IF(B85="rapide",$I$2,"-") -> - | E85: =IF($B85="travail", MROUND($I$81,0.001),"-") -> 0 | F85: =IF(B85="rapide", MROUND(C85/D85,0.001),"-") -> - | G85: =IF($E85=0,0,(IF($B85="travail", MROUND($C85/$E85,0.001),"-"))) -> 0
A86: trajectoire 2 | B86: rapide | C86: 89 | D86: =IF(B86="rapide",$I$2,"-") -> 3000 | E86: =IF($B86="travail", MROUND($I$81,0.001),"-") -> - | F86: =IF(B86="rapide", MROUND(C86/D86,0.001),"-") -> 0.03 | G86: =IF($E86=0,0,(IF($B86="travail", MROUND($C86/$E86,0.001),"-"))) -> -
A87: trajectoire 3 | B87: travail | C87: 90 | D87: =IF(B87="rapide",$I$2,"-") -> - | E87: =IF($B87="travail", MROUND($I$81,0.001),"-") -> 0 | F87: =IF(B87="rapide", MROUND(C87/D87,0.001),"-") -> - | G87: =IF($E87=0,0,(IF($B87="travail", MROUND($C87/$E87,0.001),"-"))) -> 0
A88: trajectoire 4 | B88: rapide | C88: 30 | D88: =IF(B88="rapide",$I$2,"-") -> 3000 | E88: =IF($B88="travail", MROUND($I$81,0.001),"-") -> - | F88: =IF(B88="rapide", MROUND(C88/D88,0.001),"-") -> 0.01 | G88: =IF($E88=0,0,(IF($B88="travail", MROUND($C88/$E88,0.001),"-"))) -> -
A89: trajectoire 5 | B89: travail | C89: 93 | D89: =IF(B89="rapide",$I$2,"-") -> - | E89: =IF($B89="travail", MROUND($I$81,0.001),"-") -> 0 | F89: =IF(B89="rapide", MROUND(C89/D89,0.001),"-") -> - | G89: =IF($E89=0,0,(IF($B89="travail", MROUND($C89/$E89,0.001),"-"))) -> 0
A90: trajectoire 6 | B90: rapide | C90: 10 | D90: =IF(B90="rapide",$I$2,"-") -> 3000 | E90: =IF($B90="travail", MROUND($I$81,0.001),"-") -> - | F90: =IF(B90="rapide", MROUND(C90/D90,0.001),"-") -> 0.003 | G90: =IF($E90=0,0,(IF($B90="travail", MROUND($C90/$E90,0.001),"-"))) -> -
A91: trajectoire 7 | B91: travail | C91: 93 | D91: =IF(B91="rapide",$I$2,"-") -> - | E91: =IF($B91="travail", MROUND($I$81,0.001),"-") -> 0 | F91: =IF(B91="rapide", MROUND(C91/D91,0.001),"-") -> - | G91: =IF($E91=0,0,(IF($B91="travail", MROUND($C91/$E91,0.001),"-"))) -> 0
A92: trajectoire 8 | B92: rapide | C92: 10 | D92: =IF(B92="rapide",$I$2,"-") -> 3000 | E92: =IF($B92="travail", MROUND($I$81,0.001),"-") -> - | F92: =IF(B92="rapide", MROUND(C92/D92,0.001),"-") -> 0.003 | G92: =IF($E92=0,0,(IF($B92="travail", MROUND($C92/$E92,0.001),"-"))) -> -
A93: Opération 5 | D93: Tt : | E93: =IF(G85=0," ",(SUM(F85:G92,($I$3/100)))) | F93: min
A96: Outils: | D96: Vc: | E96: =VLOOKUP($B96,'Conditions de coupe'!$D$14:$J$54,3,FALSE) -> 0 | F96: m/min | H96: avance: | I96: =VLOOKUP($B96,'Conditions de coupe'!$D$14:$J$54,2,FALSE) -> 0
C98: Diamètre pièce: | E98: =VLOOKUP($B96,'Conditions de coupe'!$D$14:$J$54,2,FALSE) -> 0 | F98: mm
H99: Vf: | I99: =VLOOKUP($B96,'Conditions de coupe'!$D$14:$J$54,7,FALSE) -> 0
D101: Vf en mm/min | F101: Temps technologique
B102: déplacement | C102: Longueur | D102: rapide | E102: travail | F102: T rapide | G102: T travail
A103: trajectoire 1 | B103: travail | C103: 90 | D103: =IF(B103="rapide",$I$2,"-") -> - | E103: =IF($B103="travail", MROUND($I$99,0.001),"-") -> 0 | F103: =IF(B103="rapide", MROUND(C103/D103,0.001),"-") -> - | G103: =IF($E103=0,0,(IF($B103="travail", MROUND($C103/$E103,0.001),"-"))) -> 0
A104: trajectoire 2 | B104: rapide | C104: 89 | D104: =IF(B104="rapide",$I$2,"-") -> 3000 | E104: =IF($B104="travail", MROUND($I$99,0.001),"-") -> - | F104: =IF(B104="rapide", MROUND(C104/D104,0.001),"-") -> 0.03 | G104: =IF($E104=0,0,(IF($B104="travail", MROUND($C104/$E104,0.001),"-"))) -> -
A105: trajectoire 3 | B105: travail | C105: 90 | D105: =IF(B105="rapide",$I$2,"-") -> - | E105: =IF($B105="travail", MROUND($I$99,0.001),"-") -> 0 | F105: =IF(B105="rapide", MROUND(C105/D105,0.001),"-") -> - | G105: =IF($E105=0,0,(IF($B105="travail", MROUND($C105/$E105,0.001),"-"))) -> 0
A106: trajectoire 4 | B106: rapide | C106: 30 | D106: =IF(B106="rapide",$I$2,"-") -> 3000 | E106: =IF($B106="travail", MROUND($I$99,0.001),"-") -> - | F106: =IF(B106="rapide", MROUND(C106/D106,0.001),"-") -> 0.01 | G106: =IF($E106=0,0,(IF($B106="travail", MROUND($C106/$E106,0.001),"-"))) -> -
A107: trajectoire 5 | B107: travail | C107: 93 | D107: =IF(B107="rapide",$I$2,"-") -> - | E107: =IF($B107="travail", MROUND($I$99,0.001),"-") -> 0 | F107: =IF(B107="rapide", MROUND(C107/D107,0.001),"-") -> - | G107: =IF($E107=0,0,(IF($B107="travail", MROUND($C107/$E107,0.001),"-"))) -> 0
A108: trajectoire 6 | B108: rapide | C108: 10 | D108: =IF(B108="rapide",$I$2,"-") -> 3000 | E108: =IF($B108="travail", MROUND($I$99,0.001),"-") -> - | F108: =IF(B108="rapide", MROUND(C108/D108,0.001),"-") -> 0.003 | G108: =IF($E108=0,0,(IF($B108="travail", MROUND($C108/$E108,0.001),"-"))) -> -
A109: trajectoire 7 | B109: travail | C109: 93 | D109: =IF(B109="rapide",$I$2,"-") -> - | E109: =IF($B109="travail", MROUND($I$99,0.001),"-") -> 0 | F109: =IF(B109="rapide", MROUND(C109/D109,0.001),"-") -> - | G109: =IF($E109=0,0,(IF($B109="travail", MROUND($C109/$E109,0.001),"-"))) -> 0
A110: trajectoire 8 | B110: rapide | C110: 10 | D110: =IF(B110="rapide",$I$2,"-") -> 3000 | E110: =IF($B110="travail", MROUND($I$99,0.001),"-") -> - | F110: =IF(B110="rapide", MROUND(C110/D110,0.001),"-") -> 0.003 | G110: =IF($E110=0,0,(IF($B110="travail", MROUND($C110/$E110,0.001),"-"))) -> -
A111: Opération 6 | D111: Tt : | E111: =IF(G103=0," ",(SUM(F103:G110,($I$3/100)))) | F111: min
A113: Durée globale de la phase | D113: Tu : | E113: =SUM(E21,E39,E57,E75,E93,E111) -> 0 | F113: min

Sheet Tournage Ph40
A1: PHASE | B1: TOURNAGE | H1: Machine : | I1: Somab 400
A2: Pièce | G2: avance rapide machine : | I2: =IF($I$1=Données!$D$7,Données!E$7,IF($I$1=Données!$D$8,Données!E$8,IF($I$1=Données!$D$9,Données!E$9,IF($I$1=Données!$D$10,Données!E$10,IF($I$1=Données!$D$11,Données!E$11,IF($I$1=Données!$D$12,Données!E$12,IF($I$1=Données!$D$13,Données!E$13,IF($I$1=Données!$D$14,Données!E$14,IF($I$1=Données!$D$15,Données!E$15,IF($I$1=Données!$D$16,Données!E$16,IF($I$1=Données!$D$17,Données!E$17,IF($I$1=Données!$D$18,Données!E$18,IF($I$1=Données!$D$19,Données!E$19,IF($I$1=Données!$D$20,Données!E$20,Données!E$21)))))))))))))) -> 3000 | J2: mm/min
G3: Changement d'outil : | I3: =IF($I$1=Données!$D$7,Données!F$7,IF($I$1=Données!$D$8,Données!F$8,IF($I$1=Données!$D$9,Données!F$9,IF($I$1=Données!$D$10,Données!F$10,IF($I$1=Données!$D$11,Données!F$11,IF($I$1=Données!$D$12,Données!F$12,IF($I$1=Données!$D$13,Données!F$13,IF($I$1=Données!$D$14,Données!F$14,IF($I$1=Données!$D$15,Données!F$15,IF($I$1=Données!$D$16,Données!F$16,IF($I$1=Données!$D$17,Données!F$17,IF($I$1=Données!$D$18,Données!F$18,IF($I$1=Données!$D$19,Données!F$19,IF($I$1=Données!$D$20,Données!F$20,Données!F$21)))))))))))))) -> 15 | J3: cmin.
A6: Outils: | D6: Vc: | E6: =VLOOKUP($B6,'Conditions de coupe'!$D$14:$J$54,3,FALSE) -> 0 | F6: m/min | H6: avance: | I6: =VLOOKUP($B6,'Conditions de coupe'!$D$14:$J$54,2,FALSE) -> 0
C8: Diamètre pièce: | E8: =VLOOKUP($B6,'Conditions de coupe'!$D$14:$J$54,2,FALSE) -> 0 | F8: mm
H9: Vf: | I9: =VLOOKUP($B6,'Conditions de coupe'!$D$14:$J$54,7,FALSE) -> 0
D11: Vf en mm/min | F11: Temps technologique
B12: déplacement | C12: Longueur | D12: rapide | E12: travail | F12: T rapide | G12: T travail
A13: trajectoire 1 | B13: travail | C13: 90 | D13: =IF(B13="rapide",$I$2,"-") -> - | E13: =IF($B13="travail", MROUND($I$9,0.001),"-") -> 0 | F13: =IF(B13="rapide", MROUND(C13/D13,0.001),"-") -> - | G13: =IF($E13=0,0,(IF($B13="travail", MROUND($C13/$E13,0.001),"-"))) -> 0
A14: trajectoire 2 | B14: rapide | C14: 89 | D14: =IF(B14="rapide",$I$2,"-") -> 3000 | E14: =IF($B14="travail", MROUND($I$9,0.001),"-") -> - | F14: =IF(B14="rapide", MROUND(C14/D14,0.001),"-") -> 0.03 | G14: =IF($E14=0,0,(IF($B14="travail", MROUND($C14/$E14,0.001),"-"))) -> -
A15: trajectoire 3 | B15: travail | C15: 90 | D15: =IF(B15="rapide",$I$2,"-") -> - | E15: =IF($B15="travail", MROUND($I$9,0.001),"-") -> 0 | F15: =IF(B15="rapide", MROUND(C15/D15,0.001),"-") -> - | G15: =IF($E15=0,0,(IF($B15="travail", MROUND($C15/$E15,0.001),"-"))) -> 0
A16: trajectoire 4 | B16: rapide | C16: 30 | D16: =IF(B16="rapide",$I$2,"-") -> 3000 | E16: =IF($B16="travail", MROUND($I$9,0.001),"-") -> - | F16: =IF(B16="rapide", MROUND(C16/D16,0.001),"-") -> 0.01 | G16: =IF($E16=0,0,(IF($B16="travail", MROUND($C16/$E16,0.001),"-"))) -> -
A17: trajectoire 5 | B17: travail | C17: 93 | D17: =IF(B17="rapide",$I$2,"-") -> - | E17: =IF($B17="travail", MROUND($I$9,0.001),"-") -> 0 | F17: =IF(B17="rapide", MROUND(C17/D17,0.001),"-") -> - | G17: =IF($E17=0,0,(IF($B17="travail", MROUND($C17/$E17,0.001),"-"))) -> 0
A18: trajectoire 6 | B18: rapide | C18: 10 | D18: =IF(B18="rapide",$I$2,"-") -> 3000 | E18: =IF($B18="travail", MROUND($I$9,0.001),"-") -> - | F18: =IF(B18="rapide", MROUND(C18/D18,0.001),"-") -> 0.003 | G18: =IF($E18=0,0,(IF($B18="travail", MROUND($C18/$E18,0.001),"-"))) -> -
A19: trajectoire 7 | B19: travail | C19: 93 | D19: =IF(B19="rapide",$I$2,"-") -> - | E19: =IF($B19="travail", MROUND($I$9,0.001),"-") -> 0 | F19: =IF(B19="rapide", MROUND(C19/D19,0.001),"-") -> - | G19: =IF($E19=0,0,(IF($B19="travail", MROUND($C19/$E19,0.001),"-"))) -> 0
A20: trajectoire 8 | B20: rapide | C20: 10 | D20: =IF(B20="rapide",$I$2,"-") -> 3000 | E20: =IF($B20="travail", MROUND($I$9,0.001),"-") -> - | F20: =IF(B20="rapide", MROUND(C20/D20,0.001),"-") -> 0.003 | G20: =IF($E20=0,0,(IF($B20="travail", MROUND($C20/$E20,0.001),"-"))) -> -
A21: Opération 1 | D21: Tt : | E21: =IF(G13=0," ",(SUM(F13:G20,($I$3/100)))) | F21: min
A24: Outils: | D24: Vc: | E24: =VLOOKUP($B24,'Conditions de coupe'!$D$14:$J$54,3,FALSE) -> 0 | F24: m/min | H24: avance: | I24: =VLOOKUP($B24,'Conditions de coupe'!$D$14:$J$54,2,FALSE) -> 0
C26: Diamètre pièce: | E26: =VLOOKUP($B24,'Conditions de coupe'!$D$14:$J$54,2,FALSE) -> 0 | F26: mm
H27: Vf: | I27: =VLOOKUP($B24,'Conditions de coupe'!$D$14:$J$54,7,FALSE) -> 0
D29: Vf en mm/min | F29: Temps technologique
B30: déplacement | C30: Longueur | D30: rapide | E30: travail | F30: T rapide | G30: T travail
A31: trajectoire 1 | B31: travail | C31: 90 | D31: =IF(B31="rapide",$I$2,"-") -> - | E31: =IF($B31="travail", MROUND($I$27,0.001),"-") -> 0 | F31: =IF(B31="rapide", MROUND(C31/D31,0.001),"-") -> - | G31: =IF($E31=0,0,(IF($B31="travail", MROUND($C31/$E31,0.001),"-"))) -> 0
A32: trajectoire 2 | B32: rapide | C32: 89 | D32: =IF(B32="rapide",$I$2,"-") -> 3000 | E32: =IF($B32="travail", MROUND($I$27,0.001),"-") -> - | F32: =IF(B32="rapide", MROUND(C32/D32,0.001),"-") -> 0.03 | G32: =IF($E32=0,0,(IF($B32="travail", MROUND($C32/$E32,0.001),"-"))) -> -
A33: trajectoire 3 | B33: travail | C33: 90 | D33: =IF(B33="rapide",$I$2,"-") -> - | E33: =IF($B33="travail", MROUND($I$27,0.001),"-") -> 0 | F33: =IF(B33="rapide", MROUND(C33/D33,0.001),"-") -> - | G33: =IF($E33=0,0,(IF($B33="travail", MROUND($C33/$E33,0.001),"-"))) -> 0
A34: trajectoire 4 | B34: rapide | C34: 30 | D34: =IF(B34="rapide",$I$2,"-") -> 3000 | E34: =IF($B34="travail", MROUND($I$27,0.001),"-") -> - | F34: =IF(B34="rapide", MROUND(C34/D34,0.001),"-") -> 0.01 | G34: =IF($E34=0,0,(IF($B34="travail", MROUND($C34/$E34,0.001),"-"))) -> -
A35: trajectoire 5 | B35: travail | C35: 93 | D35: =IF(B35="rapide",$I$2,"-") -> - | E35: =IF($B35="travail", MROUND($I$27,0.001),"-") -> 0 | F35: =IF(B35="rapide", MROUND(C35/D35,0.001),"-") -> - | G35: =IF($E35=0,0,(IF($B35="travail", MROUND($C35/$E35,0.001),"-"))) -> 0
A36: trajectoire 6 | B36: rapide | C36: 10 | D36: =IF(B36="rapide",$I$2,"-") -> 3000 | E36: =IF($B36="travail", MROUND($I$27,0.001),"-") -> - | F36: =IF(B36="rapide", MROUND(C36/D36,0.001),"-") -> 0.003 | G36: =IF($E36=0,0,(IF($B36="travail", MROUND($C36/$E36,0.001),"-"))) -> -
A37: trajectoire 7 | B37: travail | C37: 93 | D37: =IF(B37="rapide",$I$2,"-") -> - | E37: =IF($B37="travail", MROUND($I$27,0.001),"-") -> 0 | F37: =IF(B37="rapide", MROUND(C37/D37,0.001),"-") -> - | G37: =IF($E37=0,0,(IF($B37="travail", MROUND($C37/$E37,0.001),"-"))) -> 0
A38: trajectoire 8 | B38: rapide | C38: 10 | D38: =IF(B38="rapide",$I$2,"-") -> 3000 | E38: =IF($B38="travail", MROUND($I$27,0.001),"-") -> - | F38: =IF(B38="rapide", MROUND(C38/D38,0.001),"-") -> 0.003 | G38: =IF($E38=0,0,(IF($B38="travail", MROUND($C38/$E38,0.001),"-"))) -> -
A39: Opération 2 | D39: Tt : | E39: =IF(G31=0," ",(SUM(F31:G38,($I$3/100)))) | F39: min
A42: Outils: | D42: Vc: | E42: =VLOOKUP($B42,'Conditions de coupe'!$D$14:$J$54,3,FALSE) -> 0 | F42: m/min | H42: avance: | I42: =VLOOKUP($B42,'Conditions de coupe'!$D$14:$J$54,2,FALSE) -> 0
C44: Diamètre pièce: | E44: =VLOOKUP($B42,'Conditions de coupe'!$D$14:$J$54,2,FALSE) -> 0 | F44: mm
H45: Vf: | I45: =VLOOKUP($B42,'Conditions de coupe'!$D$14:$J$54,7,FALSE) -> 0
D47: Vf en mm/min | F47: Temps technologique
B48: déplacement | C48: Longueur | D48: rapide | E48: travail | F48: T rapide | G48: T travail
A49: trajectoire 1 | B49: travail | C49: 90 | D49: =IF(B49="rapide",$I$2,"-") -> - | E49: =IF($B49="travail", MROUND($I$45,0.001),"-") -> 0 | F49: =IF(B49="rapide", MROUND(C49/D49,0.001),"-") -> - | G49: =IF($E49=0,0,(IF($B49="travail", MROUND($C49/$E49,0.001),"-"))) -> 0
A50: trajectoire 2 | B50: rapide | C50: 89 | D50: =IF(B50="rapide",$I$2,"-") -> 3000 | E50: =IF($B50="travail", MROUND($I$45,0.001),"-") -> - | F50: =IF(B50="rapide", MROUND(C50/D50,0.001),"-") -> 0.03 | G50: =IF($E50=0,0,(IF($B50="travail", MROUND($C50/$E50,0.001),"-"))) -> -
A51: trajectoire 3 | B51: travail | C51: 90 | D51: =IF(B51="rapide",$I$2,"-") -> - | E51: =IF($B51="travail", MROUND($I$45,0.001),"-") -> 0 | F51: =IF(B51="rapide", MROUND(C51/D51,0.001),"-") -> - | G51: =IF($E51=0,0,(IF($B51="travail", MROUND($C51/$E51,0.001),"-"))) -> 0
A52: trajectoire 4 | B52: rapide | C52: 30 | D52: =IF(B52="rapide",$I$2,"-") -> 3000 | E52: =IF($B52="travail", MROUND($I$45,0.001),"-") -> - | F52: =IF(B52="rapide", MROUND(C52/D52,0.001),"-") -> 0.01 | G52: =IF($E52=0,0,(IF($B52="travail", MROUND($C52/$E52,0.001),"-"))) -> -
A53: trajectoire 5 | B53: travail | C53: 93 | D53: =IF(B53="rapide",$I$2,"-") -> - | E53: =IF($B53="travail", MROUND($I$45,0.001),"-") -> 0 | F53: =IF(B53="rapide", MROUND(C53/D53,0.001),"-") -> - | G53: =IF($E53=0,0,(IF($B53="travail", MROUND($C53/$E53,0.001),"-"))) -> 0
A54: trajectoire 6 | B54: rapide | C54: 10 | D54: =IF(B54="rapide",$I$2,"-") -> 3000 | E54: =IF($B54="travail", MROUND($I$45,0.001),"-") -> - | F54: =IF(B54="rapide", MROUND(C54/D54,0.001),"-") -> 0.003 | G54: =IF($E54=0,0,(IF($B54="travail", MROUND($C54/$E54,0.001),"-"))) -> -
A55: trajectoire 7 | B55: travail | C55: 93 | D55: =IF(B55="rapide",$I$2,"-") -> - | E55: =IF($B55="travail", MROUND($I$45,0.001),"-") -> 0 | F55: =IF(B55="rapide", MROUND(C55/D55,0.001),"-") -> - | G55: =IF($E55=0,0,(IF($B55="travail", MROUND($C55/$E55,0.001),"-"))) -> 0
A56: trajectoire 8 | B56: rapide | C56: 10 | D56: =IF(B56="rapide",$I$2,"-") -> 3000 | E56: =IF($B56="travail", MROUND($I$45,0.001),"-") -> - | F56: =IF(B56="rapide", MROUND(C56/D56,0.001),"-") -> 0.003 | G56: =IF($E56=0,0,(IF($B56="travail", MROUND($C56/$E56,0.001),"-"))) -> -
A57: Opération 3 | D57: Tt : | E57: =IF(G49=0," ",(SUM(F49:G56,($I$3/100)))) | F57: min
A60: Outils: | D60: Vc: | E60: =VLOOKUP($B60,'Conditions de coupe'!$D$14:$J$54,3,FALSE) -> 0 | F60: m/min | H60: avance: | I60: =VLOOKUP($B60,'Conditions de coupe'!$D$14:$J$54,2,FALSE) -> 0
C62: Diamètre pièce: | E62: =VLOOKUP($B60,'Conditions de coupe'!$D$14:$J$54,2,FALSE) -> 0 | F62: mm
H63: Vf: | I63: =VLOOKUP($B60,'Conditions de coupe'!$D$14:$J$54,7,FALSE) -> 0
D65: Vf en mm/min | F65: Temps technologique
B66: déplacement | C66: Longueur | D66: rapide | E66: travail | F66: T rapide | G66: T travail
A67: trajectoire 1 | B67: travail | C67: 90 | D67: =IF(B67="rapide",$I$2,"-") -> - | E67: =IF($B67="travail", MROUND($I$63,0.001),"-") -> 0 | F67: =IF(B67="rapide", MROUND(C67/D67,0.001),"-") -> - | G67: =IF($E67=0,0,(IF($B67="travail", MROUND($C67/$E67,0.001),"-"))) -> 0
A68: trajectoire 2 | B68: rapide | C68: 89 | D68: =IF(B68="rapide",$I$2,"-") -> 3000 | E68: =IF($B68="travail", MROUND($I$63,0.001),"-") -> - | F68: =IF(B68="rapide", MROUND(C68/D68,0.001),"-") -> 0.03 | G68: =IF($E68=0,0,(IF($B68="travail", MROUND($C68/$E68,0.001),"-"))) -> -
A69: trajectoire 3 | B69: travail | C69: 90 | D69: =IF(B69="rapide",$I$2,"-") -> - | E69: =IF($B69="travail", MROUND($I$63,0.001),"-") -> 0 | F69: =IF(B69="rapide", MROUND(C69/D69,0.001),"-") -> - | G69: =IF($E69=0,0,(IF($B69="travail", MROUND($C69/$E69,0.001),"-"))) -> 0
A70: trajectoire 4 | B70: rapide | C70: 30 | D70: =IF(B70="rapide",$I$2,"-") -> 3000 | E70: =IF($B70="travail", MROUND($I$63,0.001),"-") -> - | F70: =IF(B70="rapide", MROUND(C70/D70,0.001),"-") -> 0.01 | G70: =IF($E70=0,0,(IF($B70="travail", MROUND($C70/$E70,0.001),"-"))) -> -
A71: trajectoire 5 | B71: travail | C71: 93 | D71: =IF(B71="rapide",$I$2,"-") -> - | E71: =IF($B71="travail", MROUND($I$63,0.001),"-") -> 0 | F71: =IF(B71="rapide", MROUND(C71/D71,0.001),"-") -> - | G71: =IF($E71=0,0,(IF($B71="travail", MROUND($C71/$E71,0.001),"-"))) -> 0
A72: trajectoire 6 | B72: rapide | C72: 10 | D72: =IF(B72="rapide",$I$2,"-") -> 3000 | E72: =IF($B72="travail", MROUND($I$63,0.001),"-") -> - | F72: =IF(B72="rapide", MROUND(C72/D72,0.001),"-") -> 0.003 | G72: =IF($E72=0,0,(IF($B72="travail", MROUND($C72/$E72,0.001),"-"))) -> -
A73: trajectoire 7 | B73: travail | C73: 93 | D73: =IF(B73="rapide",$I$2,"-") -> - | E73: =IF($B73="travail", MROUND($I$63,0.001),"-") -> 0 | F73: =IF(B73="rapide", MROUND(C73/D73,0.001),"-") -> - | G73: =IF($E73=0,0,(IF($B73="travail", MROUND($C73/$E73,0.001),"-"))) -> 0
A74: trajectoire 8 | B74: rapide | C74: 10 | D74: =IF(B74="rapide",$I$2,"-") -> 3000 | E74: =IF($B74="travail", MROUND($I$63,0.001),"-") -> - | F74: =IF(B74="rapide", MROUND(C74/D74,0.001),"-") -> 0.003 | G74: =IF($E74=0,0,(IF($B74="travail", MROUND($C74/$E74,0.001),"-"))) -> -
A75: Opération 4 | D75: Tt : | E75: =IF(G67=0," ",(SUM(F67:G74,($I$3/100)))) | F75: min
A78: Outils: | D78: Vc: | E78: =VLOOKUP($B78,'Conditions de coupe'!$D$14:$J$54,3,FALSE) -> 0 | F78: m/min | H78: avance: | I78: =VLOOKUP($B78,'Conditions de coupe'!$D$14:$J$54,2,FALSE) -> 0
C80: Diamètre pièce: | E80: =VLOOKUP($B78,'Conditions de coupe'!$D$14:$J$54,2,FALSE) -> 0 | F80: mm
H81: Vf: | I81: =VLOOKUP($B78,'Conditions de coupe'!$D$14:$J$54,7,FALSE) -> 0
D83: Vf en mm/min | F83: Temps technologique
B84: déplacement | C84: Longueur | D84: rapide | E84: travail | F84: T rapide | G84: T travail
A85: trajectoire 1 | B85: travail | C85: 90 | D85: =IF(B85="rapide",$I$2,"-") -> - | E85: =IF($B85="travail", MROUND($I$81,0.001),"-") -> 0 | F85: =IF(B85="rapide", MROUND(C85/D85,0.001),"-") -> - | G85: =IF($E85=0,0,(IF($B85="travail", MROUND($C85/$E85,0.001),"-"))) -> 0
A86: trajectoire 2 | B86: rapide | C86: 89 | D86: =IF(B86="rapide",$I$2,"-") -> 3000 | E86: =IF($B86="travail", MROUND($I$81,0.001),"-") -> - | F86: =IF(B86="rapide", MROUND(C86/D86,0.001),"-") -> 0.03 | G86: =IF($E86=0,0,(IF($B86="travail", MROUND($C86/$E86,0.001),"-"))) -> -
A87: trajectoire 3 | B87: travail | C87: 90 | D87: =IF(B87="rapide",$I$2,"-") -> - | E87: =IF($B87="travail", MROUND($I$81,0.001),"-") -> 0 | F87: =IF(B87="rapide", MROUND(C87/D87,0.001),"-") -> - | G87: =IF($E87=0,0,(IF($B87="travail", MROUND($C87/$E87,0.001),"-"))) -> 0
A88: trajectoire 4 | B88: rapide | C88: 30 | D88: =IF(B88="rapide",$I$2,"-") -> 3000 | E88: =IF($B88="travail", MROUND($I$81,0.001),"-") -> - | F88: =IF(B88="rapide", MROUND(C88/D88,0.001),"-") -> 0.01 | G88: =IF($E88=0,0,(IF($B88="travail", MROUND($C88/$E88,0.001),"-"))) -> -
A89: trajectoire 5 | B89: travail | C89: 93 | D89: =IF(B89="rapide",$I$2,"-") -> - | E89: =IF($B89="travail", MROUND($I$81,0.001),"-") -> 0 | F89: =IF(B89="rapide", MROUND(C89/D89,0.001),"-") -> - | G89: =IF($E89=0,0,(IF($B89="travail", MROUND($C89/$E89,0.001),"-"))) -> 0
A90: trajectoire 6 | B90: rapide | C90: 10 | D90: =IF(B90="rapide",$I$2,"-") -> 3000 | E90: =IF($B90="travail", MROUND($I$81,0.001),"-") -> - | F90: =IF(B90="rapide", MROUND(C90/D90,0.001),"-") -> 0.003 | G90: =IF($E90=0,0,(IF($B90="travail", MROUND($C90/$E90,0.001),"-"))) -> -
A91: trajectoire 7 | B91: travail | C91: 93 | D91: =IF(B91="rapide",$I$2,"-") -> - | E91: =IF($B91="travail", MROUND($I$81,0.001),"-") -> 0 | F91: =IF(B91="rapide", MROUND(C91/D91,0.001),"-") -> - | G91: =IF($E91=0,0,(IF($B91="travail", MROUND($C91/$E91,0.001),"-"))) -> 0
A92: trajectoire 8 | B92: rapide | C92: 10 | D92: =IF(B92="rapide",$I$2,"-") -> 3000 | E92: =IF($B92="travail", MROUND($I$81,0.001),"-") -> - | F92: =IF(B92="rapide", MROUND(C92/D92,0.001),"-") -> 0.003 | G92: =IF($E92=0,0,(IF($B92="travail", MROUND($C92/$E92,0.001),"-"))) -> -
A93: Opération 5 | D93: Tt : | E93: =IF(G85=0," ",(SUM(F85:G92,($I$3/100)))) | F93: min
A96: Outils: | D96: Vc: | E96: =VLOOKUP($B96,'Conditions de coupe'!$D$14:$J$54,3,FALSE) -> 0 | F96: m/min | H96: avance: | I96: =VLOOKUP($B96,'Conditions de coupe'!$D$14:$J$54,2,FALSE) -> 0
C98: Diamètre pièce: | E98: =VLOOKUP($B96,'Conditions de coupe'!$D$14:$J$54,2,FALSE) -> 0 | F98: mm
H99: Vf: | I99: =VLOOKUP($B96,'Conditions de coupe'!$D$14:$J$54,7,FALSE) -> 0
D101: Vf en mm/min | F101: Temps technologique
B102: déplacement | C102: Longueur | D102: rapide | E102: travail | F102: T rapide | G102: T travail
A103: trajectoire 1 | B103: travail | C103: 90 | D103: =IF(B103="rapide",$I$2,"-") -> - | E103: =IF($B103="travail", MROUND($I$99,0.001),"-") -> 0 | F103: =IF(B103="rapide", MROUND(C103/D103,0.001),"-") -> - | G103: =IF($E103=0,0,(IF($B103="travail", MROUND($C103/$E103,0.001),"-"))) -> 0
A104: trajectoire 2 | B104: rapide | C104: 89 | D104: =IF(B104="rapide",$I$2,"-") -> 3000 | E104: =IF($B104="travail", MROUND($I$99,0.001),"-") -> - | F104: =IF(B104="rapide", MROUND(C104/D104,0.001),"-") -> 0.03 | G104: =IF($E104=0,0,(IF($B104="travail", MROUND($C104/$E104,0.001),"-"))) -> -
A105: trajectoire 3 | B105: travail | C105: 90 | D105: =IF(B105="rapide",$I$2,"-") -> - | E105: =IF($B105="travail", MROUND($I$99,0.001),"-") -> 0 | F105: =IF(B105="rapide", MROUND(C105/D105,0.001),"-") -> - | G105: =IF($E105=0,0,(IF($B105="travail", MROUND($C105/$E105,0.001),"-"))) -> 0
A106: trajectoire 4 | B106: rapide | C106: 30 | D106: =IF(B106="rapide",$I$2,"-") -> 3000 | E106: =IF($B106="travail", MROUND($I$99,0.001),"-") -> - | F106: =IF(B106="rapide", MROUND(C106/D106,0.001),"-") -> 0.01 | G106: =IF($E106=0,0,(IF($B106="travail", MROUND($C106/$E106,0.001),"-"))) -> -
A107: trajectoire 5 | B107: travail | C107: 93 | D107: =IF(B107="rapide",$I$2,"-") -> - | E107: =IF($B107="travail", MROUND($I$99,0.001),"-") -> 0 | F107: =IF(B107="rapide", MROUND(C107/D107,0.001),"-") -> - | G107: =IF($E107=0,0,(IF($B107="travail", MROUND($C107/$E107,0.001),"-"))) -> 0
A108: trajectoire 6 | B108: rapide | C108: 10 | D108: =IF(B108="rapide",$I$2,"-") -> 3000 | E108: =IF($B108="travail", MROUND($I$99,0.001),"-") -> - | F108: =IF(B108="rapide", MROUND(C108/D108,0.001),"-") -> 0.003 | G108: =IF($E108=0,0,(IF($B108="travail", MROUND($C108/$E108,0.001),"-"))) -> -
A109: trajectoire 7 | B109: travail | C109: 93 | D109: =IF(B109="rapide",$I$2,"-") -> - | E109: =IF($B109="travail", MROUND($I$99,0.001),"-") -> 0 | F109: =IF(B109="rapide", MROUND(C109/D109,0.001),"-") -> - | G109: =IF($E109=0,0,(IF($B109="travail", MROUND($C109/$E109,0.001),"-"))) -> 0
A110: trajectoire 8 | B110: rapide | C110: 10 | D110: =IF(B110="rapide",$I$2,"-") -> 3000 | E110: =IF($B110="travail", MROUND($I$99,0.001),"-") -> - | F110: =IF(B110="rapide", MROUND(C110/D110,0.001),"-") -> 0.003 | G110: =IF($E110=0,0,(IF($B110="travail", MROUND($C110/$E110,0.001),"-"))) -> -
A111: Opération 6 | D111: Tt : | E111: =IF(G103=0," ",(SUM(F103:G110,($I$3/100)))) | F111: min
A113: Durée globale de la phase | D113: Tu : | E113: =SUM(E21,E39,E57,E75,E93,E111) -> 0 | F113: min

Sheet Données
D2: travail
D3: rapide
E5: Vf rapide | F5: Chang. Outil | G5: Taux
E6: mm/min. | F6: cmin. | G6: horaire
D7: DMU | E7: 12000 | F7: 21 | G7: 120
D8: Mikron | E8: 10000 | F8: 21 | G8: 106
D9: CUV Saphir | E9: 8000 | F9: 12 | G9: 106
D10: Sabre 400 | E10: 850 | F10: 21 | G10: 145
D11: CUH Real | E11: 7500 | F11: 17 | G11: 114
D12: Somab 400 | E12: 3000 | F12: 15 | G12: 107
D13: Somab 400C | E13: 3000 | F13: 15 | G13: 121
D14: Somab 250 | E14: 800 | F14: 10 | G14: 89
D15: Sonim T10 | E15: 3000 | F15: 10 | G15: 103
D16: Scie | G16: 10

Sheet Conditions de coupe
C9: Conditions de coupe
C13: Numéro | D13: Outils | E13: Diamètre outil | F13: Vc (m/min) | G13: fz (mm/dt/tr) | H13: z (dents) | I13: n (tr/min) | J13: Vf (mm/min)
B14: FRAISAGE | C14: 1 | D14: 0 | E14: 0 | F14: 0 | G14: 0 | H14: 0 | I14: =IF(E14=0,0,((1000*$F14)/(PI()*$E14))) -> 0 | J14: =G14*H14*I14 -> 0
C15: 2 | D15: 0 | E15: 0 | F15: 0 | G15: 0 | H15: 0 | I15: =IF(E15=0,0,((1000*$F15)/(PI()*$E15))) -> 0 | J15: =G15*H15*I15 -> 0
C16: 3 | D16: 0 | E16: 0 | F16: 0 | G16: 0 | H16: 0 | I16: =IF(E16=0,0,((1000*$F16)/(PI()*$E16))) -> 0 | J16: =G16*H16*I16 -> 0
C17: 4 | D17: 0 | E17: 0 | F17: 0 | G17: 0 | H17: 0 | I17: =IF(E17=0,0,((1000*$F17)/(PI()*$E17))) -> 0 | J17: =G17*H17*I17 -> 0
C18: 5 | D18: 0 | E18: 0 | F18: 0 | G18: 0 | H18: 0 | I18: =IF(E18=0,0,((1000*$F18)/(PI()*$E18))) -> 0 | J18: =G18*H18*I18 -> 0
C19: 6 | D19: 0 | E19: 0 | F19: 0 | G19: 0 | H19: 0 | I19: =IF(E19=0,0,((1000*$F19)/(PI()*$E19))) -> 0 | J19: =G19*H19*I19 -> 0
C20: 7 | D20: 0 | E20: 0 | F20: 0 | G20: 0 | H20: 0 | I20: =IF(E20=0,0,((1000*$F20)/(PI()*$E20))) -> 0 | J20: =G20*H20*I20 -> 0
C21: 8 | D21: 0 | E21: 0 | F21: 0 | G21: 0 | H21: 0 | I21: =IF(E21=0,0,((1000*$F21)/(PI()*$E21))) -> 0 | J21: =G21*H21*I21 -> 0
C22: 9 | D22: 0 | E22: 0 | F22: 0 | G22: 0 | H22: 0 | I22: =IF(E22=0,0,((1000*$F22)/(PI()*$E22))) -> 0 | J22: =G22*H22*I22 -> 0
C23: 10 | D23: 0 | E23: 0 | F23: 0 | G23: 0 | H23: 0 | I23: =IF(E23=0,0,((1000*$F23)/(PI()*$E23))) -> 0 | J23: =G23*H23*I23 -> 0
C24: 11 | D24: Fraise | E24: 30 | F24: 500 | G24: 0.05 | H24: 5 | I24: =IF(E24=0,0,((1000*$F24)/(PI()*$E24))) -> 5305.1648 | J24: =G24*H24*I24 -> 1326.2912
C25: 12 | D25: 0 | E25: 0 | F25: 0 | G25: 0 | H25: 0 | I25: =IF(E25=0,0,((1000*$F25)/(PI()*$E25))) -> 0 | J25: =G25*H25*I25 -> 0
C26: 13 | D26: 0 | E26: 0 | F26: 0 | G26: 0 | H26: 0 | I26: =IF(E26=0,0,((1000*$F26)/(PI()*$E26))) -> 0 | J26: =G26*H26*I26 -> 0
C27: 14 | D27: 0 | E27: 0 | F27: 0 | G27: 0 | H27: 0 | I27: =IF(E27=0,0,((1000*$F27)/(PI()*$E27))) -> 0 | J27: =G27*H27*I27 -> 0
C28: 15 | D28: 0 | E28: 0 | F28: 0 | G28: 0 | H28: 0 | I28: =IF(E28=0,0,((1000*$F28)/(PI()*$E28))) -> 0 | J28: =G28*H28*I28 -> 0
C29: 16 | D29: 0 | E29: 0 | F29: 0 | G29: 0 | H29: 0 | I29: =IF(E29=0,0,((1000*$F29)/(PI()*$E29))) -> 0 | J29: =G29*H29*I29 -> 0
C30: 17 | D30: 0 | E30: 0 | F30: 0 | G30: 0 | H30: 0 | I30: =IF(E30=0,0,((1000*$F30)/(PI()*$E30))) -> 0 | J30: =G30*H30*I30 -> 0
C31: 18 | D31: 0 | E31: 0 | F31: 0 | G31: 0 | H31: 0 | I31: =IF(E31=0,0,((1000*$F31)/(PI()*$E31))) -> 0 | J31: =G31*H31*I31 -> 0
C32: 19 | D32: 0 | E32: 0 | F32: 0 | G32: 0 | H32: 0 | I32: =IF(E32=0,0,((1000*$F32)/(PI()*$E32))) -> 0 | J32: =G32*H32*I32 -> 0
C33: 20 | D33: 0 | E33: 0 | F33: 0 | G33: 0 | H33: 0 | I33: =IF(E33=0,0,((1000*$F33)/(PI()*$E33))) -> 0 | J33: =G33*H33*I33 -> 0
C34: Numéro | E34: Diamètre pièce | G34: f (mm/tr) | I34: n (tr/min) | J34: Vf (mm/min)
B35: TOURNAGE | C35: 1 | D35: 0 | E35: 0 | F35: 0 | G35: 0 | I35: =IF(E35=0,0,((1000*$F35)/(PI()*$E35))) -> 0 | J35: =G35*I35 -> 0
C36: 2 | D36: 0 | E36: 0 | F36: 0 | G36: 0 | I36: =IF(E36=0,0,((1000*$F36)/(PI()*$E36))) -> 0 | J36: =G36*I36 -> 0
C37: 3 | D37: 0 | E37: 0 | F37: 0 | G37: 0 | I37: =IF(E37=0,0,((1000*$F37)/(PI()*$E37))) -> 0 | J37: =G37*I37 -> 0
C38: 4 | D38: 0 | E38: 0 | F38: 0 | G38: 0 | I38: =IF(E38=0,0,((1000*$F38)/(PI()*$E38))) -> 0 | J38: =G38*I38 -> 0
C39: 5 | D39: 0 | E39: 0 | F39: 0 | G39: 0 | I39: =IF(E39=0,0,((1000*$F39)/(PI()*$E39))) -> 0 | J39: =G39*I39 -> 0
C40: 6 | D40: 0 | E40: 0 | F40: 0 | G40: 0 | I40: =IF(E40=0,0,((1000*$F40)/(PI()*$E40))) -> 0 | J40: =G40*I40 -> 0
C41: 7 | D41: pointeur | E41: 8 | F41: 100 | G41: 0.5 | I41: =IF(E41=0,0,((1000*$F41)/(PI()*$E41))) -> 3978.8736 | J41: =G41*I41 -> 1989.4368
C42: 8 | D42: 0 | E42: 0 | F42: 0 | G42: 0 | I42: =IF(E42=0,0,((1000*$F42)/(PI()*$E42))) -> 0 | J42: =G42*I42 -> 0
C43: 9 | D43: 0 | E43: 0 | F43: 0 | G43: 0 | I43: =IF(E43=0,0,((1000*$F43)/(PI()*$E43))) -> 0 | J43: =G43*I43 -> 0
C44: 10 | D44: 0 | E44: 0 | F44: 0 | G44: 0 | I44: =IF(E44=0,0,((1000*$F44)/(PI()*$E44))) -> 0 | J44: =G44*I44 -> 0
C45: 11 | D45: 0 | E45: 0 | F45: 0 | G45: 0 | I45: =IF(E45=0,0,((1000*$F45)/(PI()*$E45))) -> 0 | J45: =G45*I45 -> 0
C46: 12 | D46: 0 | E46: 0 | F46: 0 | G46: 0 | I46: =IF(E46=0,0,((1000*$F46)/(PI()*$E46))) -> 0 | J46: =G46*I46 -> 0
C47: 13 | D47: 0 | E47: 0 | F47: 0 | G47: 0 | I47: =IF(E47=0,0,((1000*$F47)/(PI()*$E47))) -> 0 | J47: =G47*I47 -> 0
C48: 14 | D48: 0 | E48: 0 | F48: 0 | G48: 0 | I48: =IF(E48=0,0,((1000*$F48)/(PI()*$E48))) -> 0 | J48: =G48*I48 -> 0
C49: 15 | D49: 0 | E49: 0 | F49: 0 | G49: 0 | I49: =IF(E49=0,0,((1000*$F49)/(PI()*$E49))) -> 0 | J49: =G49*I49 -> 0
C50: 16 | D50: 0 | E50: 0 | F50: 0 | G50: 0 | I50: =IF(E50=0,0,((1000*$F50)/(PI()*$E50))) -> 0 | J50: =G50*I50 -> 0
C51: 17 | D51: 0 | E51: 0 | F51: 0 | G51: 0 | I51: =IF(E51=0,0,((1000*$F51)/(PI()*$E51))) -> 0 | J51: =G51*I51 -> 0
C52: 18 | D52: 0 | E52: 0 | F52: 0 | G52: 0 | I52: =IF(E52=0,0,((1000*$F52)/(PI()*$E52))) -> 0 | J52: =G52*I52 -> 0
C53: 19 | D53: 0 | E53: 0 | F53: 0 | G53: 0 | I53: =IF(E53=0,0,((1000*$F53)/(PI()*$E53))) -> 0 | J53: =G53*I53 -> 0
C54: 20 | D54: 0 | E54: 0 | F54: 0 | G54: 0 | I54: =IF(E54=0,0,((1000*$F54)/(PI()*$E54))) -> 0 | J54: =F54*G54*I54 -> 0

Sheet Coût
A1: Calcul du coût d'une pièce
A2: Référence de la pièce: | D2: Date:
A3: Matière: | D3: Etabli par:
A5: Coût unitaire matière ou brut : PMat | F5: =E5 -> 0
A7: Coût unitaire de stockage:CS
A8: Quantité de pièces sur un an: C
A9: Taux d'intérêt: T | B9: 5%= 0,05
A10: Coût de passation d'une commande :A | B10: euros
A11: Quantité économique de commande:Q0 | B11: Nbre bruts | E11: =IF(ISBLANK(E8),"",SQRT((2*E10*E8)/(F5*E9)))
A13: Coût du débit:Cd
A14: Temps d'exécution du lot en heure:
A15: Taux horaire du débit: | E15: =Données!G16 -> 10
A16: Nombre de pièces débitées par lot:
A18: Coût d'usinage total: Cu | B18: Phase 10 | C18: Phase 20 | D18: Phase 30 | E18: Phase 40 | F18: =(B25+C25+D25+E25) -> #DIV/0!
A19: Phase: | B19: FRAISAGE | C19: FRAISAGE | D19: FRAISAGE | E19: FRAISAGE
A20: Machine utilisée: | B20: CUV Saphir | C20: Somab 400 | D20: CUV Saphir | E20: CUH Real
A21: Temps de préparation du poste:Ts | F21: en heure
A22: Taux horaire machine :Tm | B22: =IF(B$20=Données!$D$7,Données!$G$7,IF(B$20=Données!$D$8,Données!$G$8,IF(B$20=Données!$D$9,Données!$G$9,IF(B$20=Données!$D$10,Données!$G$10,IF(B$20=Données!$D$11,Données!$G$11,IF(B$20=Données!$D$12,Données!$G$12,IF(B$20=Données!$D$13,Données!$G$13,IF(B$20=Données!$D$14,Données!$G$14,IF(B$20=Données!$D$15,Données!$G$15,IF(B$20=Données!$D$16,Données!$G$16,IF(B$20=Données!$D$17,Données!$G$17,IF(B$20=Données!$D$18,Données!$G$18,IF(B$20=Données!$D$19,Données!$G$19,IF(B$20=Données!$D$20,Données!$G$20,IF(B$20=Données!$D$21,Données!$G$21))))))))))))))) -> 106 | C22: =IF(C$20=Données!$D$7,Données!$G$7,IF(C$20=Données!$D$8,Données!$G$8,IF(C$20=Données!$D$9,Données!$G$9,IF(C$20=Données!$D$10,Données!$G$10,IF(C$20=Données!$D$11,Données!$G$11,IF(C$20=Données!$D$12,Données!$G$12,IF(C$20=Données!$D$13,Données!$G$13,IF(C$20=Données!$D$14,Données!$G$14,IF(C$20=Données!$D$15,Données!$G$15,IF(C$20=Données!$D$16,Données!$G$16,IF(C$20=Données!$D$17,Données!$G$17,IF(C$20=Données!$D$18,Données!$G$18,IF(C$20=Données!$D$19,Données!$G$19,IF(C$20=Données!$D$20,Données!$G$20,IF(C$20=Données!$D$21,Données!$G$21))))))))))))))) -> 107 | D22: =IF(D$20=Données!$D$7,Données!$G$7,IF(D$20=Données!$D$8,Données!$G$8,IF(D$20=Données!$D$9,Données!$G$9,IF(D$20=Données!$D$10,Données!$G$10,IF(D$20=Données!$D$11,Données!$G$11,IF(D$20=Données!$D$12,Données!$G$12,IF(D$20=Données!$D$13,Données!$G$13,IF(D$20=Données!$D$14,Données!$G$14,IF(D$20=Données!$D$15,Données!$G$15,IF(D$20=Données!$D$16,Données!$G$16,IF(D$20=Données!$D$17,Données!$G$17,IF(D$20=Données!$D$18,Données!$G$18,IF(D$20=Données!$D$19,Données!$G$19,IF(D$20=Données!$D$20,Données!$G$20,IF(D$20=Données!$D$21,Données!$G$21))))))))))))))) -> 106 | E22: =IF(E$20=Données!$D$7,Données!$G$7,IF(E$20=Données!$D$8,Données!$G$8,IF(E$20=Données!$D$9,Données!$G$9,IF(E$20=Données!$D$10,Données!$G$10,IF(E$20=Données!$D$11,Données!$G$11,IF(E$20=Données!$D$12,Données!$G$12,IF(E$20=Données!$D$13,Données!$G$13,IF(E$20=Données!$D$14,Données!$G$14,IF(E$20=Données!$D$15,Données!$G$15,IF(E$20=Données!$D$16,Données!$G$16,IF(E$20=Données!$D$17,Données!$G$17,IF(E$20=Données!$D$18,Données!$G$18,IF(E$20=Données!$D$19,Données!$G$19,IF(E$20=Données!$D$20,Données!$G$20,IF(E$20=Données!$D$21,Données!$G$21))))))))))))))) -> 114 | F22: euros/heure
A23: Temps d'exécution d'une pièce: tu | B23: =IF(B$19="Fraisage",'Fraisage Ph10'!$E$113,'Tournage Ph10'!$E$113) -> 0.498 | C23: =IF(C$19="Fraisage",'Fraisage Ph20'!$E$113,'Tournage Ph20'!$E$113) -> 0 | D23: =IF(D$19="Fraisage",'Fraisage Ph30'!$E$113,'Tournage Ph30'!$E$113) -> 0 | E23: =IF(E$19="Fraisage",'Fraisage Ph40'!$E$113,'Tournage Ph40'!$E$113) -> 0 | F23: en heure
A24: Nombre de pièces usinées par lot:n
A25: Cu par phase | B25: =IF(ISBLANK(B24),"0",(((B21+(B23*B24))*B22)/B24)) -> 0 | C25: =IF(ISBLANK(C22),"0",(((C21+(C23*C24))*C22)/C24)) -> #DIV/0! | D25: =IF(ISBLANK(D22),"0",(((D21+(D23*D24))*D22)/D24)) -> #DIV/0! | E25: =IF(ISBLANK(E22),"0",(((E21+(E23*E24))*E22)/E24)) -> #DIV/0!
A27: Coût d'outils coupants total : Coc | B27: Phase 10 | C27: Phase 20 | D27: Phase 30 | E27: Phase 40 | F27: =SUM(B52:E52) -> 0
A28: Nombre Pièces /outil-plaquette:nu
A29: Prix de l'outil ou plaquette:Po | F29: euros
A30: Temps de changement d'outil:tcha | F30: en heure
A31: Coc1 | B31: =IF(ISBLANK(B28),"0",(B29/B28)+((B22*B30)/B28)) -> 0 | C31: =IF(ISBLANK(C28),"0",(C29/C28)+((C22*C30)/C28)) -> 0 | D31: =IF(ISBLANK(D28),"0",(D29/D28)+((D22*D30)/D28)) -> 0 | E31: =IF(ISBLANK(E28),"0",(E29/E28)+((E22*E30)/E28)) -> 0
A32: Nombre Pièces /outil-plaquette:nu
A33: Prix de l'outil ou plaquette:Po | F33: euros
A34: Temps de changement d'outil:tcha | F34: en heure
A35: Coc2 | B35: =IF(ISBLANK(B32),"0",(B33/B32)+((B22*B34)/B32)) -> 0 | C35: =IF(ISBLANK(C32),"0",(C33/C32)+((C22*C34)/C32)) -> 0 | D35: =IF(ISBLANK(D32),"0",(D33/D32)+((D22*D34)/D32)) -> 0 | E35: =IF(ISBLANK(E32),"0",(E33/E32)+((E22*E34)/E32)) -> 0
A36: Nombre Pièces /outil-plaquette:nu
A37: Prix de l'outil ou plaquette:Po | F37: euros
A38: Temps de changement d'outil:tcha | F38: en heure
A39: Coc3 | B39: =IF(ISBLANK(B36),"0",(B37/B36)+((B22*B38)/B36)) -> 0 | C39: =IF(ISBLANK(C36),"0",(C37/C36)+((C22*C38)/C36)) -> 0 | D39: =IF(ISBLANK(D36),"0",(D37/D36)+((D22*D38)/D36)) -> 0 | E39: =IF(ISBLANK(E36),"0",(E37/E36)+((E22*E38)/E36)) -> 0
A40: Nombre Pièces /outil-plaquette:nu
A41: Prix de l'outil ou plaquette:Po | F41: euros
A42: Temps de changement d'outil:tcha | F42: en heure
A43: Coc4 | B43: =IF(ISBLANK(B40),"0",(B41/B40)+((B22*B42)/B40)) -> 0 | C43: =IF(ISBLANK(C40),"0",(C41/C40)+((C22*C42)/C40)) -> 0 | D43: =IF(ISBLANK(D40),"0",(D41/D40)+((D22*D42)/D40)) -> 0 | E43: =IF(ISBLANK(E40),"0",(E41/E40)+((E22*E42)/E40)) -> 0
A44: Nombre Pièces /outil-plaquette:nu
A45: Prix de l'outil ou plaquette:Po | F45: euros
A46: Temps de changement d'outil:tcha | F46: en heure
A47: Coc5 | B47: =IF(ISBLANK(B44),"0",(B45/B44)+((B22*B46)/B44)) -> 0 | C47: =IF(ISBLANK(C44),"0",(C45/C44)+((C22*C46)/C44)) -> 0 | D47: =IF(ISBLANK(D44),"0",(D45/D44)+((D22*D46)/D44)) -> 0 | E47: =IF(ISBLANK(E44),"0",(E45/E44)+((E22*E46)/E44)) -> 0
A48: Nombre Pièces /outil-plaquette:nu
A49: Prix de l'outil ou plaquette:Po | F49: euros
A50: Temps de changement d'outil:tcha | F50: en heure
A51: Coc6 | B51: =IF(ISBLANK(B48),"0",(B49/B48)+((B22*B50)/B48)) -> 0 | C51: =IF(ISBLANK(C48),"0",(C49/C48)+((C22*C50)/C48)) -> 0 | D51: =IF(ISBLANK(D48),"0",(D49/D48)+((D22*D50)/D48)) -> 0 | E51: =IF(ISBLANK(E48),"0",(E49/E48)+((E22*E50)/E48)) -> 0
A52: Coc par phase | B52: =SUM(B31,B35,B39,B43,B47,B51) -> 0 | C52: =SUM(C31,C35,C39,C43,C47,C51) -> 0 | D52: =SUM(D31,D35,D39,D43,D47,D51) -> 0 | E52: =SUM(E31,E35,E39,E43,E47,E51) -> 0
A53: Coût de l'outillage total:Cout | B53: Phase 10 | C53: Phase 20 | D53: Phase 30 | E53: Phase 40 | F53: =SUM(B56:E56) -> 0
A54: Prix global de l'outillage :Pout | F54: euros
A55: Nombre de pièces avec l'outillage: N
A56: Cout par phase | B56: =IF(ISBLANK(B54),"0",B54/B55) -> 0 | C56: =IF(ISBLANK(C54),"0",C54/C55) -> 0 | D56: =IF(ISBLANK(D54),"0",D54/D55) -> 0 | E56: =IF(ISBLANK(E54),"0",E54/E55) -> 0
A57: COÛT UNITAIRE PIECE | F57: =F53+F27+F18+F13+F7+F5 -> #DIV/0!
