Workbook
Name angle: Feuil1!$B$9
Name liste_serie: db_base!$M$7:$M$9
Name resultat_serie: Feuil1!$C$9
Name start: db_base!$P$7
Name table_db: db_base!$B$8:$I$27
Name table_serie: db_base!$U$7:$W$9

Sheet Feuil1
B8: ∠ De coupe | C8: Série | D8: Profil | E8: ∠ Complet | F8: Référence Equerre | G8: Diamètre perçage | H8: Distance
B9: 50 | C9: Espace 70 | D9: 410040 | E9: =2*angle -> 100 | F9: =VLOOKUP(Feuil1!$D$9,table_db,3,1) -> #N/A | G9: =VLOOKUP(Feuil1!$D$9,table_db,6,1) -> #N/A | H9: =VLOOKUP(Feuil1!$D$9,table_db,7,1) -> #N/A
D14: DECALER(start;0;RECHERCHEV(resultat_serie;table_serie;2)-1;RECHERCHEV(resultat_serie;table_serie;3;1))

Sheet db_base
A5: serie | B5: profil | C5: Type | D5: equerre | E5: Donnee1 | F5: Donnee2 | G5: diametre percage | H5: calcul | I5: calcul negatif
M6: Liste série | P6: Espace 70 | Q6: Espace 70OC | R6: Espace 50TH | U6: Série | V6: nbr colones | W6: nbr profil
M7: Espace 50TH | P7: 510004 | R7: 5401TH | U7: Espace 50TH | V7: 3 | W7: 9
A8: 50 | B8: 5401TH | C8: Dormant | D8: 5269 | E8: 7.9 | F8: 37 | G8: 11.5 | H8: =(db_base!E8/(TAN(angle*PI()/180))+db_base!F8) -> 43.628887 | M8: Espace 70 | P8: 510005 | R8: 5405TH | U8: Espace 70 | V8: 1 | W8: 11
A9: 50 | B9: 5405TH | C9: Dormant | D9: 5269 | E9: 7.9 | F9: 37 | G9: 11.5 | H9: =(db_base!E9/(TAN(angle*PI()/180))+db_base!F9) -> 43.628887 | M9: Espace 70OC | P9: 410040 | R9: 5406TH | U9: Espace 70OC | V9: 2 | W9: 0
A10: 50 | B10: 5406TH | C10: Dormant | D10: 5269 | E10: 7.9 | F10: 37 | G10: 11.5 | H10: =(db_base!E10/(TAN(angle*PI()/180))+db_base!F10) -> 43.628887 | P10: 410042 | R10: 5402TH
A11: 50 | B11: 5402TH | C11: Dormant | D11: 5269 | E11: 7.9 | F11: 37 | G11: 11.5 | H11: =(db_base!E11/(TAN(angle*PI()/180))+db_base!F11) -> 43.628887 | P11: 410000 | R11: 5404TH
A12: 50 | B12: 5404TH | C12: Dormant | D12: 5268 | E12: 14.8 | F12: 37 | G12: 11.5 | H12: =(db_base!E12/(TAN(angle*PI()/180))+db_base!F12) -> 49.418675 | P12: 410001 | R12: 5421TH
A13: 50 | B13: 5421TH | C13: Ouvrant | D13: 5266 | E13: 7.9 | F13: 37 | G13: 11.5 | H13: =(db_base!E13/(TAN(angle*PI()/180))+db_base!F13) -> 43.628887 | P13: 410002 | R13: 5422TH
A14: 50 | B14: 5422TH | C14: Ouvrant | D14: 5267 | E14: 14.8 | F14: 37 | G14: 11.5 | H14: =(db_base!E14/(TAN(angle*PI()/180))+db_base!F14) -> 49.418675 | P14: 410049 | R14: 9357TH
A15: 50 | B15: 9357TH | C15: Dormant | D15: 5269 | E15: 7.9 | F15: 37 | G15: 11.5 | H15: =(db_base!E15/(TAN(angle*PI()/180))+db_base!F15) -> 43.628887 | P15: 410066 | R15: 9356TH
A16: 50 | B16: 9356TH | C16: Dormant | D16: 5269 | E16: 7.9 | F16: 37 | G16: 11.5 | H16: =(db_base!E16/(TAN(angle*PI()/180))+db_base!F16) -> 43.628887 | P16: 410031
A17: Espace 70 | B17: 510004 | D17: 460014 | E17: 15.1 | F17: 35.5 | G17: 8 | H17: =(db_base!E17/(TAN(angle*PI()/180))+db_base!F17) -> 48.170404 | P17: 410033
A18: Espace 70 | B18: 510005 | D18: 460014 | E18: 15.1 | F18: 35.5 | G18: 8 | H18: =(db_base!E18/(TAN(angle*PI()/180))+db_base!F18) -> 48.170404
A19: Espace 70 | B19: 410040 | D19: 460016 | E19: 9.2 | F19: 35.5 | G19: 8 | H19: =(db_base!E19/(TAN(angle*PI()/180))+db_base!F19) -> 43.219717
A20: Espace 70 | B20: 410042 | D20: 460017 | E20: 9.2 | F20: 35.5 | G20: 8 | H20: =(db_base!E20/(TAN(angle*PI()/180))+db_base!F20) -> 43.219717
A21: Espace 70 | B21: 410000 | D21: 460017 | E21: 9.2 | F21: 35.5 | G21: 8 | H21: =(db_base!E21/(TAN(angle*PI()/180))+db_base!F21) -> 43.219717
A22: Espace 70 | B22: 410001 | D22: 460017 | E22: 9.2 | F22: 35.5 | G22: 8 | H22: =(db_base!E22/(TAN(angle*PI()/180))+db_base!F22) -> 43.219717
A23: Espace 70 | B23: 410002 | D23: 460018 | E23: 9.2 | F23: 35.5 | G23: 8 | H23: =(db_base!E23/(TAN(angle*PI()/180))+db_base!F23) -> 43.219717
A24: Espace 70 | B24: 410049 | D24: 460018 | E24: 9.2 | F24: 35.5 | G24: 8 | H24: =(db_base!E24/(TAN(angle*PI()/180))+db_base!F24) -> 43.219717
A25: Espace 70 | B25: 410066 | D25: 460018 | E25: 9.2 | F25: 35.5 | G25: 8 | H25: =(db_base!E25/(TAN(angle*PI()/180))+db_base!F25) -> 43.219717
A26: Espace 70 | B26: 410031 | C26: Dormant | D26: 460035 | E26: 9 | F26: 9.25 | G26: 8 | H26: =(E26/SIN(angle*PI()/180))+(F26/TAN(angle*PI()/180))+35 -> 54.510337 | I26: =(E26/SIN(angle*PI()/180))-(F26/TAN(angle*PI()/180))+35 -> 38.986994
A27: Espace 70 | B27: 410033 | D27: 460035 | E27: 9 | F27: 32 | G27: 8 | H27: =(E27/SIN(angle*PI()/180))+(F27/TAN(angle*PI()/180))+35 -> 73.599854 | I27: =(E27/SIN(angle*PI()/180))-(F27/TAN(angle*PI()/180))+35 -> 19.897477
