Workbook
Name départ: noms!$F$1:$F$2
Name tranchepoids: noms!$C$1:$C$22

Sheet data
C1: Benito Georgelin | D1: Dachser Georgelin | E1: DBS Georgelin | F1: K+N Georgelin
A2: 33/01 | B2: 1 à 9
A3: 33/01 | B3: 10 à 19
A4: 33/01 | B4: 20 à 29
A5: 33/01 | B5: 30 à 39
A6: 33/01 | B6: 40 à 49
A7: 33/01 | B7: 50 à 59
A8: 33/01 | B8: 60 à 69
A9: 33/01 | B9: 70 à 79
A10: 33/01 | B10: 80 à 89
A11: 33/01 | B11: 90 à 100
A12: 33/01 | B12: 101 à 199
A13: 33/01 | B13: 200 à 299
... A2209: 33/98 | B2209: 2501 à 3000
A2210: 47/01 | B2210: 1 à 9 | C2210: 16.3086 | D2210: 34.2 | E2210: 12.33 | F2210: 18.78
A2211: 47/01 | B2211: 10 à 19 | C2211: 18.6879 | D2211: 34.9 | E2211: 14.06 | F2211: 21.86
A2212: 47/01 | B2212: 20 à 29 | C2212: 20.89395 | D2212: 35.7 | E2212: 15.79 | F2212: 24.93
A2213: 47/01 | B2213: 30 à 39 | C2213: 22.5687 | D2213: 36.5 | E2213: 17.51 | F2213: 28.03
A2214: 47/01 | B2214: 40 à 49 | C2214: 24.47445 | D2214: 38.5 | E2214: 18.99 | F2214: 29.13
A2215: 47/01 | B2215: 50 à 59 | C2215: 26.76135 | D2215: 39.4 | E2215: 20.47 | F2215: 30.26
A2216: 47/01 | B2216: 60 à 69 | C2216: 28.9443 | D2216: 41.5 | E2216: 21.95 | F2216: 32.91
A2217: 47/01 | B2217: 70 à 79 | C2217: 30.4227 | D2217: 43.1 | E2217: 23.43 | F2217: 34.1
A2218: 47/01 | B2218: 80 à 89 | C2218: 32.2707 | D2218: 43.9 | E2218: 25.9 | F2218: 35.27
A2219: 47/01 | B2219: 90 à 100 | C2219: 33.9339 | D2219: 45.9 | E2219: 25.9 | F2219: 36.44
A2220: 47/01 | B2220: 101 à 199 | C2220: 30.64215 | D2220: 31.2 | E2220: 24.67 | F2220: 30.11
A2221: 47/01 | B2221: 200 à 299 | C2221: 30.64215 | D2221: 31.2 | E2221: 24.67 | F2221: 30.11
... A2228: 47/01 | B2228: 900 à 999 | C2228: 26.53035 | D2228: 15.6 | E2228: 19.73 | F2228: 20.29
A2229: 47/01 | B2229: 1000 à 1500 | C2229: 22.550798 | D2229: 14.2 | F2229: 18.7
A2230: 47/01 | B2230: 1501 à 2000 | C2230: 22.550798 | D2230: 14.2 | F2230: 18.7
A2231: 47/01 | B2231: 2001 à 2500 | C2231: 22.550798 | D2231: 14.2 | F2231: 18.7
A2232: 47/01 | B2232: 2501 à 3000 | C2232: 22.550798 | D2232: 14.2 | F2232: 18.7
A2233: 47/02 | B2233: 1 à 9 | C2233: 20.1894 | D2233: 32.8 | E2233: 15.26225 | F2233: 20.42
A2234: 47/02 | B2234: 10 à 19 | C2234: 23.38875 | D2234: 33.8 | E2234: 17.39425 | F2234: 23.78
A2235: 47/02 | B2235: 20 à 29 | C2235: 26.0337 | D2235: 34.9 | E2235: 19.5365 | F2235: 27.14
A2236: 47/02 | B2236: 30 à 39 | C2236: 28.49385 | D2236: 36 | E2236: 21.6685 | F2236: 30.49
A2237: 47/02 | B2237: 40 à 49 | C2237: 31.6932 | D2237: 37.9 | E2237: 23.493 | F2237: 31.71
A2238: 47/02 | B2238: 50 à 59 | C2238: 34.63845 | D2238: 39 | E2238: 25.32775 | F2238: 32.94
A2239: 47/02 | B2239: 60 à 69 | C2239: 35.6895 | D2239: 41 | E2239: 27.1625 | F2239: 36.31
A2240: 47/02 | B2240: 70 à 79 | C2240: 37.45665 | D2240: 42.5 | E2240: 28.987 | F2240: 37.59
A2241: 47/02 | B2241: 80 à 89 | C2241: 39.5703 | D2241: 43.3 | E2241: 32.0415 | F2241: 38.89
...

Sheet recherche
B4: 2 | C4: choix direction | D4: 19/02
B5: 1 | C5: choix tranche poids | D5: 80 à 100
C6: Min | D6: =MIN(INDEX(OFFSET(data!#REF!,MATCH(recherche!D4,data!A2:A116,0)-1,),MATCH(recherche!D5,data!#REF!),)) -> #REF!
C7: frs/client | D7: =INDEX(data!#REF!,,MATCH(recherche!D6,INDEX(OFFSET(data!#REF!,MATCH(recherche!D4,data!A2:A116,0)-1,),MATCH(recherche!D5,data!#REF!),),0)) -> #REF!
C8: 2ième
C9: 3ième

Sheet Bench
D2: 47
D3: DBS Georgelin
B8: 1 à 9 | F8: 10 à 19 | H8: 20 à 29 | K8: 30 à 39 | N8: 40 à 49 | Q8: 50 à 59 | T8: 60 à 69 | W8: 70 à 79 | Z8: 80 à 100 | AC8: 101 à 199 | AF8: 200 à 299 | AI8: 300 à 399 | AL8: 400 à 499 | AO8: 500 à 599 | AR8: 600 à 699 | AU8: 700 à 799 | AX8: 800 à 899 | BA8: 900 à 999 | BD8: 1000 à 1500 | BG8: 1501 à 2000 | BJ8: 2001 à 2500 | BM8: 2501 à 3000
B9: base | C9: bench | D9: écarts | E9: base | F9: bench | G9: écarts | H9: base | I9: bench | J9: écarts | K9: base | L9: bench | M9: écarts | N9: base | O9: bench | P9: écarts | Q9: base | R9: bench | S9: écarts | T9: base | U9: bench | V9: écarts | W9: base | X9: bench | Y9: écarts | Z9: base | AA9: bench | AB9: écarts | AC9: base | AD9: bench | AE9: écarts | AF9: base | AG9: bench | AH9: écarts | AI9: base | AJ9: bench | AK9: écarts | AL9: base | AM9: bench | AN9: écarts | AO9: base | AP9: bench | AQ9: écarts | AR9: base | AS9: bench | AT9: écarts | AU9: base | AV9: bench | AW9: écarts | AX9: base | AY9: bench | AZ9: écarts | BA9: base | BB9: bench | BC9: écarts | BD9: base | BE9: bench | BF9: écarts | BG9: base | BH9: bench | BI9: écarts | BJ9: base | BK9: bench | BL9: écarts | BM9: base | BN9: bench | BO9: écarts
A10: =CONCATENATE($D$2,"/","01") -> 47/01 | C10: =INDEX(data!$C$2:$F$4417,MATCH(Bench!A10,data!$A$2:$A$4417,0),MATCH(Bench!$D$3,data!$C$1:$F$1,0)) -> 12.33 | D10: =(B10-C10)/C10 -> -1 | F10: =INDEX(data!$C$2:$F$4417,MATCH(Bench!$F$8,data!$B$2:$B$4417,0),MATCH(Bench!$D$3,data!$C$1:$F$1,0)+MATCH(Bench!A10,data!$A$2:$A$4417,0)-1) -> #REF!
A11: =CONCATENATE($D$2,"/","02") -> 47/02 | C11: =INDEX(data!$C$2:$F$4417,MATCH(Bench!A11,data!$A$2:$A$4417,0),MATCH(Bench!$D$3,data!$C$1:$F$1,0)) -> 15.26225 | D11: =(B11-C11)/C11 -> -1
A12: =CONCATENATE($D$2,"/","03") -> 47/03 | C12: =INDEX(data!$C$2:$F$4417,MATCH(Bench!A12,data!$A$2:$A$4417,0),MATCH(Bench!$D$3,data!$C$1:$F$1,0)) -> 13.02 | D12: =(B12-C12)/C12 -> -1
A13: =CONCATENATE($D$2,"/","04") -> 47/04 | C13: =INDEX(data!$C$2:$F$4417,MATCH(Bench!A13,data!$A$2:$A$4417,0),MATCH(Bench!$D$3,data!$C$1:$F$1,0)) -> 14.60625 | D13: =(B13-C13)/C13 -> -1
A14: =CONCATENATE($D$2,"/","05") -> 47/05 | C14: =INDEX(data!$C$2:$F$4417,MATCH(Bench!A14,data!$A$2:$A$4417,0),MATCH(Bench!$D$3,data!$C$1:$F$1,0)) -> 14.97525 | D14: =(B14-C14)/C14 -> -1
A15: =CONCATENATE($D$2,"/","06") -> 47/06 | C15: =INDEX(data!$C$2:$F$4417,MATCH(Bench!A15,data!$A$2:$A$4417,0),MATCH(Bench!$D$3,data!$C$1:$F$1,0)) -> 14.9855 | D15: =(B15-C15)/C15 -> -1
A16: =CONCATENATE($D$2,"/","07") -> 47/07 | C16: =INDEX(data!$C$2:$F$4417,MATCH(Bench!A16,data!$A$2:$A$4417,0),MATCH(Bench!$D$3,data!$C$1:$F$1,0)) -> 12.65 | D16: =(B16-C16)/C16 -> -1
A17: =CONCATENATE($D$2,"/","08") -> 47/08 | C17: =INDEX(data!$C$2:$F$4417,MATCH(Bench!A17,data!$A$2:$A$4417,0),MATCH(Bench!$D$3,data!$C$1:$F$1,0)) -> 18.23475 | D17: =(B17-C17)/C17 -> -1
A18: =CONCATENATE($D$2,"/","09") -> 47/09 | C18: =INDEX(data!$C$2:$F$4417,MATCH(Bench!A18,data!$A$2:$A$4417,0),MATCH(Bench!$D$3,data!$C$1:$F$1,0)) -> 11.13 | D18: =(B18-C18)/C18 -> -1
A19: =CONCATENATE($D$2,"/","10") -> 47/10 | C19: =INDEX(data!$C$2:$F$4417,MATCH(Bench!A19,data!$A$2:$A$4417,0),MATCH(Bench!$D$3,data!$C$1:$F$1,0)) -> 15.539 | D19: =(B19-C19)/C19 -> -1
A20: =CONCATENATE($D$2,"/","11") -> 47/11 | C20: =INDEX(data!$C$2:$F$4417,MATCH(Bench!A20,data!$A$2:$A$4417,0),MATCH(Bench!$D$3,data!$C$1:$F$1,0)) -> 10.71 | D20: =(B20-C20)/C20 -> -1
A21: =CONCATENATE($D$2,"/","12") -> 47/12 | C21: =INDEX(data!$C$2:$F$4417,MATCH(Bench!A21,data!$A$2:$A$4417,0),MATCH(Bench!$D$3,data!$C$1:$F$1,0)) -> 9.11 | D21: =(B21-C21)/C21 -> -1
A22: =CONCATENATE($D$2,"/","13") -> 47/13 | C22: =INDEX(data!$C$2:$F$4417,MATCH(Bench!A22,data!$A$2:$A$4417,0),MATCH(Bench!$D$3,data!$C$1:$F$1,0)) -> 13.5915 | D22: =(B22-C22)/C22 -> -1
A23: =CONCATENATE($D$2,"/","14") -> 47/14 | C23: =INDEX(data!$C$2:$F$4417,MATCH(Bench!A23,data!$A$2:$A$4417,0),MATCH(Bench!$D$3,data!$C$1:$F$1,0)) -> 13.51 | D23: =(B23-C23)/C23 -> -1
A24: =CONCATENATE($D$2,"/","15") -> 47/15 | C24: =INDEX(data!$C$2:$F$4417,MATCH(Bench!A24,data!$A$2:$A$4417,0),MATCH(Bench!$D$3,data!$C$1:$F$1,0)) -> 11.31 | D24: =(B24-C24)/C24 -> -1
A25: =CONCATENATE($D$2,"/","16") -> 47/16 | C25: =INDEX(data!$C$2:$F$4417,MATCH(Bench!A25,data!$A$2:$A$4417,0),MATCH(Bench!$D$3,data!$C$1:$F$1,0)) -> 9.17 | D25: =(B25-C25)/C25 -> -1
A26: =CONCATENATE($D$2,"/","17") -> 47/17 | C26: =INDEX(data!$C$2:$F$4417,MATCH(Bench!A26,data!$A$2:$A$4417,0),MATCH(Bench!$D$3,data!$C$1:$F$1,0)) -> 10.5 | D26: =(B26-C26)/C26 -> -1
A27: =CONCATENATE($D$2,"/","18") -> 47/18 | C27: =INDEX(data!$C$2:$F$4417,MATCH(Bench!A27,data!$A$2:$A$4417,0),MATCH(Bench!$D$3,data!$C$1:$F$1,0)) -> 12.42 | D27: =(B27-C27)/C27 -> -1
A28: =CONCATENATE($D$2,"/","19") -> 47/19 | C28: =INDEX(data!$C$2:$F$4417,MATCH(Bench!A28,data!$A$2:$A$4417,0),MATCH(Bench!$D$3,data!$C$1:$F$1,0)) -> 11.31 | D28: =(B28-C28)/C28 -> -1
A29: =CONCATENATE($D$2,"/","20") -> 47/20 | C29: =INDEX(data!$C$2:$F$4417,MATCH(Bench!A29,data!$A$2:$A$4417,0),MATCH(Bench!$D$3,data!$C$1:$F$1,0)) -> 22.2015 | D29: =(B29-C29)/C29 -> -1
A30: =CONCATENATE($D$2,"/","21") -> 47/21 | C30: =INDEX(data!$C$2:$F$4417,MATCH(Bench!A30,data!$A$2:$A$4417,0),MATCH(Bench!$D$3,data!$C$1:$F$1,0)) -> 13.39675 | D30: =(B30-C30)/C30 -> -1
A31: =CONCATENATE($D$2,"/","22") -> 47/22 | C31: =INDEX(data!$C$2:$F$4417,MATCH(Bench!A31,data!$A$2:$A$4417,0),MATCH(Bench!$D$3,data!$C$1:$F$1,0)) -> 13.85 | D31: =(B31-C31)/C31 -> -1
A32: =CONCATENATE($D$2,"/","23") -> 47/23 | C32: =INDEX(data!$C$2:$F$4417,MATCH(Bench!A32,data!$A$2:$A$4417,0),MATCH(Bench!$D$3,data!$C$1:$F$1,0)) -> 12.42 | D32: =(B32-C32)/C32 -> -1
A33: =CONCATENATE($D$2,"/","24") -> 47/24 | C33: =INDEX(data!$C$2:$F$4417,MATCH(Bench!A33,data!$A$2:$A$4417,0),MATCH(Bench!$D$3,data!$C$1:$F$1,0)) -> 8.46 | D33: =(B33-C33)/C33 -> -1
A34: =CONCATENATE($D$2,"/","25") -> 47/25 | C34: =INDEX(data!$C$2:$F$4417,MATCH(Bench!A34,data!$A$2:$A$4417,0),MATCH(Bench!$D$3,data!$C$1:$F$1,0)) -> 15.539 | D34: =(B34-C34)/C34 -> -1
A35: =CONCATENATE($D$2,"/","26") -> 47/26 | C35: =INDEX(data!$C$2:$F$4417,MATCH(Bench!A35,data!$A$2:$A$4417,0),MATCH(Bench!$D$3,data!$C$1:$F$1,0)) -> 12.33 | D35: =(B35-C35)/C35 -> -1
A36: =CONCATENATE($D$2,"/","27") -> 47/27 | C36: =INDEX(data!$C$2:$F$4417,MATCH(Bench!A36,data!$A$2:$A$4417,0),MATCH(Bench!$D$3,data!$C$1:$F$1,0)) -> 12.51 | D36: =(B36-C36)/C36 -> -1
A37: =CONCATENATE($D$2,"/","28") -> 47/28 | C37: =INDEX(data!$C$2:$F$4417,MATCH(Bench!A37,data!$A$2:$A$4417,0),MATCH(Bench!$D$3,data!$C$1:$F$1,0)) -> 12.18 | D37: =(B37-C37)/C37 -> -1
A38: =CONCATENATE($D$2,"/","29") -> 47/29 | C38: =INDEX(data!$C$2:$F$4417,MATCH(Bench!A38,data!$A$2:$A$4417,0),MATCH(Bench!$D$3,data!$C$1:$F$1,0)) -> 13.51 | D38: =(B38-C38)/C38 -> -1
A39: =CONCATENATE($D$2,"/","30") -> 47/30 | C39: =INDEX(data!$C$2:$F$4417,MATCH(Bench!A39,data!$A$2:$A$4417,0),MATCH(Bench!$D$3,data!$C$1:$F$1,0)) -> 12.39225 | D39: =(B39-C39)/C39 -> -1
A40: =CONCATENATE($D$2,"/","31") -> 47/31 | C40: =INDEX(data!$C$2:$F$4417,MATCH(Bench!A40,data!$A$2:$A$4417,0),MATCH(Bench!$D$3,data!$C$1:$F$1,0)) -> 7.57 | D40: =(B40-C40)/C40 -> -1
A41: =CONCATENATE($D$2,"/","32") -> 47/32 | C41: =INDEX(data!$C$2:$F$4417,MATCH(Bench!A41,data!$A$2:$A$4417,0),MATCH(Bench!$D$3,data!$C$1:$F$1,0)) -> 9.34 | D41: =(B41-C41)/C41 -> -1
A42: =CONCATENATE($D$2,"/","33") -> 47/33 | C42: =INDEX(data!$C$2:$F$4417,MATCH(Bench!A42,data!$A$2:$A$4417,0),MATCH(Bench!$D$3,data!$C$1:$F$1,0)) -> 7.2 | D42: =(B42-C42)/C42 -> -1
A43: =CONCATENATE($D$2,"/","34") -> 47/34 | C43: =INDEX(data!$C$2:$F$4417,MATCH(Bench!A43,data!$A$2:$A$4417,0),MATCH(Bench!$D$3,data!$C$1:$F$1,0)) -> 11.152 | D43: =(B43-C43)/C43 -> -1
A44: =CONCATENATE($D$2,"/","35") -> 47/35 | C44: =INDEX(data!$C$2:$F$4417,MATCH(Bench!A44,data!$A$2:$A$4417,0),MATCH(Bench!$D$3,data!$C$1:$F$1,0)) -> 12.08 | D44: =(B44-C44)/C44 -> -1
A45: =CONCATENATE($D$2,"/","36") -> 47/36 | C45: =INDEX(data!$C$2:$F$4417,MATCH(Bench!A45,data!$A$2:$A$4417,0),MATCH(Bench!$D$3,data!$C$1:$F$1,0)) -> 15.56 | D45: =(B45-C45)/C45 -> -1
...

Sheet noms
A1: 33/01 | C1: 1 à 9 | F1: 33
A2: 33/02 | C2: 10 à 19 | F2: 47
A3: 33/03 | C3: 20 à 29
A4: 33/04 | C4: 30 à 39
A5: 33/05 | C5: 40 à 49
A6: 33/06 | C6: 50 à 59 | F6: Benito Georgelin | G6: Dachser Georgelin | H6: DBS Georgelin | I6: K+N Georgelin
A7: 33/07 | C7: 60 à 69
A8: 33/08 | C8: 70 à 79
A9: 33/09 | C9: 80 à 100
A10: 33/10 | C10: 101 à 199
A11: 33/11 | C11: 200 à 299
A12: 33/12 | C12: 300 à 399
A13: 33/13 | C13: 400 à 499
A14: 33/14 | C14: 500 à 599
A15: 33/15 | C15: 600 à 699
A16: 33/16 | C16: 700 à 799
A17: 33/17 | C17: 800 à 899
A18: 33/18 | C18: 900 à 999
... A22: 33/22 | C22: 2501 à 3000
A23: 33/23
A24: 33/24
A25: 33/25
A26: 33/26
A27: 33/27
A28: 33/28
A29: 33/29
A30: 33/30
A31: 33/31
A32: 33/32
A33: 33/33
A34: 33/34
... A192: 47/98
