Workbook
Name départ: noms!$F$1:$F$2
Name tranchepoids: noms!$C$1:$C$22

Sheet data
C1: Benito Georgelin | D1: Dachser Georgelin | E1: DBS Georgelin | F1: K+N Georgelin
A2: 33/01 | B2: 1 à 9
A3: 33/01 | B3: 10 à 19
A4: 33/01 | B4: 20 à 29
A5: 33/01 | B5: 30 à 39
A6: 33/01 | B6: 40 à 49
A7: 33/01 | B7: 50 à 59
A8: 33/01 | B8: 60 à 69
A9: 33/01 | B9: 70 à 79
A10: 33/01 | B10: 80 à 89
A11: 33/01 | B11: 90 à 100
A12: 33/01 | B12: 101 à 199
A13: 33/01 | B13: 200 à 299
... A2209: 33/98 | B2209: 2501 à 3000
A2210: 47/01 | B2210: 1 à 9 | C2210: 16.3086 | D2210: 34.2 | E2210: 12.33 | F2210: 18.78
A2211: 47/01 | B2211: 10 à 19 | C2211: 18.6879 | D2211: 34.9 | E2211: 14.06 | F2211: 21.86
A2212: 47/01 | B2212: 20 à 29 | C2212: 20.89395 | D2212: 35.7 | E2212: 15.79 | F2212: 24.93
A2213: 47/01 | B2213: 30 à 39 | C2213: 22.5687 | D2213: 36.5 | E2213: 17.51 | F2213: 28.03
A2214: 47/01 | B2214: 40 à 49 | C2214: 24.47445 | D2214: 38.5 | E2214: 18.99 | F2214: 29.13
A2215: 47/01 | B2215: 50 à 59 | C2215: 26.76135 | D2215: 39.4 | E2215: 20.47 | F2215: 30.26
A2216: 47/01 | B2216: 60 à 69 | C2216: 28.9443 | D2216: 41.5 | E2216: 21.95 | F2216: 32.91
A2217: 47/01 | B2217: 70 à 79 | C2217: 30.4227 | D2217: 43.1 | E2217: 23.43 | F2217: 34.1
A2218: 47/01 | B2218: 80 à 89 | C2218: 32.2707 | D2218: 43.9 | E2218: 25.9 | F2218: 35.27
A2219: 47/01 | B2219: 90 à 100 | C2219: 33.9339 | D2219: 45.9 | E2219: 25.9 | F2219: 36.44
A2220: 47/01 | B2220: 101 à 199 | C2220: 30.64215 | D2220: 31.2 | E2220: 24.67 | F2220: 30.11
A2221: 47/01 | B2221: 200 à 299 | C2221: 30.64215 | D2221: 31.2 | E2221: 24.67 | F2221: 30.11
... A2228: 47/01 | B2228: 900 à 999 | C2228: 26.53035 | D2228: 15.6 | E2228: 19.73 | F2228: 20.29
A2229: 47/01 | B2229: 1000 à 1500 | C2229: 22.550798 | D2229: 14.2 | F2229: 18.7
A2230: 47/01 | B2230: 1501 à 2000 | C2230: 22.550798 | D2230: 14.2 | F2230: 18.7
A2231: 47/01 | B2231: 2001 à 2500 | C2231: 22.550798 | D2231: 14.2 | F2231: 18.7
A2232: 47/01 | B2232: 2501 à 3000 | C2232: 22.550798 | D2232: 14.2 | F2232: 18.7
A2233: 47/02 | B2233: 1 à 9 | C2233: 20.1894 | D2233: 32.8 | E2233: 15.26225 | F2233: 20.42
A2234: 47/02 | B2234: 10 à 19 | C2234: 23.38875 | D2234: 33.8 | E2234: 17.39425 | F2234: 23.78
A2235: 47/02 | B2235: 20 à 29 | C2235: 26.0337 | D2235: 34.9 | E2235: 19.5365 | F2235: 27.14
A2236: 47/02 | B2236: 30 à 39 | C2236: 28.49385 | D2236: 36 | E2236: 21.6685 | F2236: 30.49
A2237: 47/02 | B2237: 40 à 49 | C2237: 31.6932 | D2237: 37.9 | E2237: 23.493 | F2237: 31.71
A2238: 47/02 | B2238: 50 à 59 | C2238: 34.63845 | D2238: 39 | E2238: 25.32775 | F2238: 32.94
A2239: 47/02 | B2239: 60 à 69 | C2239: 35.6895 | D2239: 41 | E2239: 27.1625 | F2239: 36.31
A2240: 47/02 | B2240: 70 à 79 | C2240: 37.45665 | D2240: 42.5 | E2240: 28.987 | F2240: 37.59
A2241: 47/02 | B2241: 80 à 89 | C2241: 39.5703 | D2241: 43.3 | E2241: 32.0415 | F2241: 38.89
A2242: 47/02 | B2242: 90 à 100 | C2242: 41.8341 | D2242: 45.2 | E2242: 32.0415 | F2242: 40.19
A2243: 47/02 | B2243: 101 à 199 | C2243: 39.51255 | D2243: 31.7 | E2243: 30.51425 | F2243: 33.2
A2244: 47/02 | B2244: 200 à 299 | C2244: 39.51255 | D2244: 31.7 | E2244: 30.51425 | F2244: 33.2
... A2251: 47/02 | B2251: 900 à 999 | C2251: 34.0956 | D2251: 17.7 | E2251: 24.4155 | F2251: 22.37
A2252: 47/02 | B2252: 1000 à 1500 | C2252: 28.98126 | D2252: 16.3 | F2252: 20.62
A2253: 47/02 | B2253: 1501 à 2000 | C2253: 28.98126 | D2253: 16.3 | F2253: 20.62
A2254: 47/02 | B2254: 2001 à 2500 | C2254: 28.98126 | D2254: 16.3 | F2254: 20.62
A2255: 47/02 | B2255: 2501 à 3000 | C2255: 28.98126 | D2255: 16.3 | F2255: 20.62
A2256: 47/03 | B2256: 1 à 9 | C2256: 15.76575 | D2256: 33.7 | E2256: 13.02 | F2256: 18.76
A2257: 47/03 | B2257: 10 à 19 | C2257: 17.3481 | D2257: 34.2 | E2257: 14.85 | F2257: 21.84
A2258: 47/03 | B2258: 20 à 29 | C2258: 20.1432 | D2258: 34.7 | E2258: 16.67 | F2258: 24.9
A2259: 47/03 | B2259: 30 à 39 | C2259: 21.2982 | D2259: 35.3 | E2259: 18.49 | F2259: 27.98
A2260: 47/03 | B2260: 40 à 49 | C2260: 24.54375 | D2260: 37 | E2260: 20.06 | F2260: 29.11
A2261: 47/03 | B2261: 50 à 59 | C2261: 26.11455 | D2261: 37.7 | E2261: 21.62 | F2261: 30.22
A2262: 47/03 | B2262: 60 à 69 | C2262: 28.2051 | D2262: 39.5 | E2262: 23.18 | F2262: 32.63
A2263: 47/03 | B2263: 70 à 79 | C2263: 29.4756 | D2263: 40.9 | E2263: 24.74 | F2263: 33.79
A2264: 47/03 | B2264: 80 à 89 | C2264: 30.41115 | D2264: 41.4 | E2264: 27.35 | F2264: 34.95
A2265: 47/03 | B2265: 90 à 100 | C2265: 31.28895 | D2265: 43.1 | E2265: 27.35 | F2265: 36.12
A2266: 47/03 | B2266: 101 à 199 | C2266: 29.23305 | D2266: 28.5 | E2266: 26.05 | F2266: 29.84
A2267: 47/03 | B2267: 200 à 299 | C2267: 29.23305 | D2267: 28.5 | E2267: 26.05 | F2267: 29.84
... A2274: 47/03 | B2274: 900 à 999 | C2274: 26.23005 | D2274: 13 | E2274: 20.84 | F2274: 20.1
A2275: 47/03 | B2275: 1000 à 1500 | C2275: 22.295542 | D2275: 11.6 | F2275: 18.54
A2276: 47/03 | B2276: 1501 à 2000 | C2276: 22.295542 | D2276: 11.6 | F2276: 18.54
A2277: 47/03 | B2277: 2001 à 2500 | C2277: 22.295542 | D2277: 11.6 | F2277: 18.54
A2278: 47/03 | B2278: 2501 à 3000 | C2278: 22.295542 | D2278: 11.6 | F2278: 18.54
A2279: 47/04 | B2279: 1 à 9 | C2279: 24.717 | D2279: 33.6 | E2279: 14.60625 | F2279: 28.72
A2280: 47/04 | B2280: 10 à 19 | C2280: 28.017 | D2280: 34.2 | E2280: 16.65625 | F2280: 33.43
A2281: 47/04 | B2281: 20 à 29 | C2281: 31.372 | D2281: 34.9 | E2281: 18.696 | F2281: 38.15
A2282: 47/04 | B2282: 30 à 39 | C2282: 36.091 | D2282: 35.7 | E2282: 20.746 | F2282: 42.87
A2283: 47/04 | B2283: 40 à 49 | C2283: 38.588 | D2283: 39 | E2283: 22.49875 | F2283: 44.57
A2284: 47/04 | B2284: 50 à 59 | C2284: 41.096 | D2284: 40.7 | E2284: 24.2515 | F2284: 46.29
A2285: 47/04 | B2285: 60 à 69 | C2285: 44.407 | D2285: 43.9 | E2285: 26.00425 | F2285: 50.26
A2286: 47/04 | B2286: 70 à 79 | C2286: 45.727 | D2286: 46.8 | E2286: 27.757 | F2286: 52.05
A2287: 47/04 | B2287: 80 à 89 | C2287: 48.587 | D2287: 48.8 | E2287: 30.67825 | F2287: 53.84
A2288: 47/04 | B2288: 90 à 100 | C2288: 51.81 | D2288: 52.1 | E2288: 30.67825 | F2288: 55.64
A2289: 47/04 | B2289: 101 à 199 | C2289: 49.324 | D2289: 37.5 | E2289: 29.22275 | F2289: 45.97
A2290: 47/04 | B2290: 200 à 299 | C2290: 49.324 | D2290: 37.5 | E2290: 29.22275 | F2290: 45.97
... A2297: 47/04 | B2297: 900 à 999 | C2297: 47.168 | D2297: 18.2 | E2297: 23.37 | F2297: 30.96
A2298: 47/04 | B2298: 1000 à 1500 | C2298: 40.0928 | D2298: 17.2 | F2298: 28.54
A2299: 47/04 | B2299: 1501 à 2000 | C2299: 40.0928 | D2299: 17.2 | F2299: 28.54
A2300: 47/04 | B2300: 2001 à 2500 | C2300: 40.0928 | D2300: 17.2 | F2300: 28.54
A2301: 47/04 | B2301: 2501 à 3000 | C2301: 40.0928 | D2301: 17.2 | F2301: 28.54
A2302: 47/05 | B2302: 1 à 9 | C2302: 24.717 | D2302: 31.6 | E2302: 14.97525 | F2302: 27.8
A2303: 47/05 | B2303: 10 à 19 | C2303: 28.017 | D2303: 32.2 | E2303: 17.06625 | F2303: 32.36
A2304: 47/05 | B2304: 20 à 29 | C2304: 31.372 | D2304: 32.8 | E2304: 19.15725 | F2304: 36.93
A2305: 47/05 | B2305: 30 à 39 | C2305: 36.091 | D2305: 33.3 | E2305: 21.2585 | F2305: 41.5
A2306: 47/05 | B2306: 40 à 49 | C2306: 38.588 | D2306: 35.9 | E2306: 23.05225 | F2306: 43.15
A2307: 47/05 | B2307: 50 à 59 | C2307: 41.096 | D2307: 37.3 | E2307: 24.846 | F2307: 44.8
A2308: 47/05 | B2308: 60 à 69 | C2308: 44.407 | D2308: 39.9 | E2308: 26.65 | F2308: 49.09
A2309: 47/05 | B2309: 70 à 79 | C2309: 45.727 | D2309: 42.1 | E2309: 28.44375 | F2309: 50.84
A2310: 47/05 | B2310: 80 à 89 | C2310: 48.587 | D2310: 43.5 | E2310: 31.43675 | F2310: 52.6
A2311: 47/05 | B2311: 90 à 100 | C2311: 51.81 | D2311: 46.2 | E2311: 31.43675 | F2311: 54.34
A2312: 47/05 | B2312: 101 à 199 | C2312: 49.324 | D2312: 33 | E2312: 29.94025 | F2312: 44.9
A2313: 47/05 | B2313: 200 à 299 | C2313: 49.324 | D2313: 33 | E2313: 29.94025 | F2313: 44.9
... A2320: 47/05 | B2320: 900 à 999 | C2320: 47.168 | D2320: 16 | E2320: 23.95425 | F2320: 30.24
A2321: 47/05 | B2321: 1000 à 1500 | C2321: 40.0928 | D2321: 14.9 | F2321: 27.88
A2322: 47/05 | B2322: 1501 à 2000 | C2322: 40.0928 | D2322: 14.9 | F2322: 27.88
A2323: 47/05 | B2323: 2001 à 2500 | C2323: 40.0928 | D2323: 14.9 | F2323: 27.88
A2324: 47/05 | B2324: 2501 à 3000 | C2324: 40.0928 | D2324: 14.9 | F2324: 27.88
A2325: 47/06 | B2325: 1 à 9 | C2325: 23.793 | D2325: 33.8 | E2325: 14.9855 | F2325: 19.1
...

Sheet recherche
B4: 2 | C4: choix direction | D4: 19/02
B5: 1 | C5: choix tranche poids | D5: 80 à 100
C6: Min | D6: =MIN(INDEX(OFFSET(data!#REF!,MATCH(recherche!D4,data!A2:A116,0)-1,),MATCH(recherche!D5,data!#REF!),)) -> #REF!
C7: frs/client | D7: =INDEX(data!#REF!,,MATCH(recherche!D6,INDEX(OFFSET(data!#REF!,MATCH(recherche!D4,data!A2:A116,0)-1,),MATCH(recherche!D5,data!#REF!),),0)) -> #REF!
C8: 2ième
C9: 3ième

Sheet Bench
D2: 47
D3: DBS Georgelin
B8: 1 à 9 | F8: 10 à 19 | H8: 20 à 29 | K8: 30 à 39 | N8: 40 à 49 | Q8: 50 à 59 | T8: 60 à 69 | W8: 70 à 79 | Z8: 80 à 100 | AC8: 101 à 199 | AF8: 200 à 299 | AI8: 300 à 399 | AL8: 400 à 499 | AO8: 500 à 599 | AR8: 600 à 699 | AU8: 700 à 799 | AX8: 800 à 899 | BA8: 900 à 999 | BD8: 1000 à 1500 | BG8: 1501 à 2000 | BJ8: 2001 à 2500 | BM8: 2501 à 3000
B9: base | C9: bench | D9: écarts | E9: base | F9: bench | G9: écarts | H9: base | I9: bench | J9: écarts | K9: base | L9: bench | M9: écarts | N9: base | O9: bench | P9: écarts | Q9: base | R9: bench | S9: écarts | T9: base | U9: bench | V9: écarts | W9: base | X9: bench | Y9: écarts | Z9: base | AA9: bench | AB9: écarts | AC9: base | AD9: bench | AE9: écarts | AF9: base | AG9: bench | AH9: écarts | AI9: base | AJ9: bench | AK9: écarts | AL9: base | AM9: bench | AN9: écarts | AO9: base | AP9: bench | AQ9: écarts | AR9: base | AS9: bench | AT9: écarts | AU9: base | AV9: bench | AW9: écarts | AX9: base | AY9: bench | AZ9: écarts | BA9: base | BB9: bench | BC9: écarts | BD9: base | BE9: bench | BF9: écarts | BG9: base | BH9: bench | BI9: écarts | BJ9: base | BK9: bench | BL9: écarts | BM9: base | BN9: bench | BO9: écarts
A10: =CONCATENATE($D$2,"/","01") -> 47/01 | C10: =INDEX(data!$C$2:$F$4417,MATCH(Bench!A10,data!$A$2:$A$4417,0),MATCH(Bench!$D$3,data!$C$1:$F$1,0)) -> 12.33 | D10: =(B10-C10)/C10 -> -1 | F10: =INDEX(data!$C$2:$F$4417,MATCH(Bench!$F$8,data!$B$2:$B$4417,0),MATCH(Bench!$D$3,data!$C$1:$F$1,0)+MATCH(Bench!A10,data!$A$2:$A$4417,0)-1) -> #REF!
A11: =CONCATENATE($D$2,"/","02") -> 47/02 | C11: =INDEX(data!$C$2:$F$4417,MATCH(Bench!A11,data!$A$2:$A$4417,0),MATCH(Bench!$D$3,data!$C$1:$F$1,0)) -> 15.26225 | D11: =(B11-C11)/C11 -> -1
A12: =CONCATENATE($D$2,"/","03") -> 47/03 | C12: =INDEX(data!$C$2:$F$4417,MATCH(Bench!A12,data!$A$2:$A$4417,0),MATCH(Bench!$D$3,data!$C$1:$F$1,0)) -> 13.02 | D12: =(B12-C12)/C12 -> -1
A13: =CONCATENATE($D$2,"/","04") -> 47/04 | C13: =INDEX(data!$C$2:$F$4417,MATCH(Bench!A13,data!$A$2:$A$4417,0),MATCH(Bench!$D$3,data!$C$1:$F$1,0)) -> 14.60625 | D13: =(B13-C13)/C13 -> -1
A14: =CONCATENATE($D$2,"/","05") -> 47/05 | C14: =INDEX(data!$C$2:$F$4417,MATCH(Bench!A14,data!$A$2:$A$4417,0),MATCH(Bench!$D$3,data!$C$1:$F$1,0)) -> 14.97525 | D14: =(B14-C14)/C14 -> -1
A15: =CONCATENATE($D$2,"/","06") -> 47/06 | C15: =INDEX(data!$C$2:$F$4417,MATCH(Bench!A15,data!$A$2:$A$4417,0),MATCH(Bench!$D$3,data!$C$1:$F$1,0)) -> 14.9855 | D15: =(B15-C15)/C15 -> -1
A16: =CONCATENATE($D$2,"/","07") -> 47/07 | C16: =INDEX(data!$C$2:$F$4417,MATCH(Bench!A16,data!$A$2:$A$4417,0),MATCH(Bench!$D$3,data!$C$1:$F$1,0)) -> 12.65 | D16: =(B16-C16)/C16 -> -1
A17: =CONCATENATE($D$2,"/","08") -> 47/08 | C17: =INDEX(data!$C$2:$F$4417,MATCH(Bench!A17,data!$A$2:$A$4417,0),MATCH(Bench!$D$3,data!$C$1:$F$1,0)) -> 18.23475 | D17: =(B17-C17)/C17 -> -1
A18: =CONCATENATE($D$2,"/","09") -> 47/09 | C18: =INDEX(data!$C$2:$F$4417,MATCH(Bench!A18,data!$A$2:$A$4417,0),MATCH(Bench!$D$3,data!$C$1:$F$1,0)) -> 11.13 | D18: =(B18-C18)/C18 -> -1
A19: =CONCATENATE($D$2,"/","10") -> 47/10 | C19: =INDEX(data!$C$2:$F$4417,MATCH(Bench!A19,data!$A$2:$A$4417,0),MATCH(Bench!$D$3,data!$C$1:$F$1,0)) -> 15.539 | D19: =(B19-C19)/C19 -> -1
A20: =CONCATENATE($D$2,"/","11") -> 47/11 | C20: =INDEX(data!$C$2:$F$4417,MATCH(Bench!A20,data!$A$2:$A$4417,0),MATCH(Bench!$D$3,data!$C$1:$F$1,0)) -> 10.71 | D20: =(B20-C20)/C20 -> -1
A21: =CONCATENATE($D$2,"/","12") -> 47/12 | C21: =INDEX(data!$C$2:$F$4417,MATCH(Bench!A21,data!$A$2:$A$4417,0),MATCH(Bench!$D$3,data!$C$1:$F$1,0)) -> 9.11 | D21: =(B21-C21)/C21 -> -1
A22: =CONCATENATE($D$2,"/","13") -> 47/13 | C22: =INDEX(data!$C$2:$F$4417,MATCH(Bench!A22,data!$A$2:$A$4417,0),MATCH(Bench!$D$3,data!$C$1:$F$1,0)) -> 13.5915 | D22: =(B22-C22)/C22 -> -1
A23: =CONCATENATE($D$2,"/","14") -> 47/14 | C23: =INDEX(data!$C$2:$F$4417,MATCH(Bench!A23,data!$A$2:$A$4417,0),MATCH(Bench!$D$3,data!$C$1:$F$1,0)) -> 13.51 | D23: =(B23-C23)/C23 -> -1
A24: =CONCATENATE($D$2,"/","15") -> 47/15 | C24: =INDEX(data!$C$2:$F$4417,MATCH(Bench!A24,data!$A$2:$A$4417,0),MATCH(Bench!$D$3,data!$C$1:$F$1,0)) -> 11.31 | D24: =(B24-C24)/C24 -> -1
A25: =CONCATENATE($D$2,"/","16") -> 47/16 | C25: =INDEX(data!$C$2:$F$4417,MATCH(Bench!A25,data!$A$2:$A$4417,0),MATCH(Bench!$D$3,data!$C$1:$F$1,0)) -> 9.17 | D25: =(B25-C25)/C25 -> -1
A26: =CONCATENATE($D$2,"/","17") -> 47/17 | C26: =INDEX(data!$C$2:$F$4417,MATCH(Bench!A26,data!$A$2:$A$4417,0),MATCH(Bench!$D$3,data!$C$1:$F$1,0)) -> 10.5 | D26: =(B26-C26)/C26 -> -1
A27: =CONCATENATE($D$2,"/","18") -> 47/18 | C27: =INDEX(data!$C$2:$F$4417,MATCH(Bench!A27,data!$A$2:$A$4417,0),MATCH(Bench!$D$3,data!$C$1:$F$1,0)) -> 12.42 | D27: =(B27-C27)/C27 -> -1
A28: =CONCATENATE($D$2,"/","19") -> 47/19 | C28: =INDEX(data!$C$2:$F$4417,MATCH(Bench!A28,data!$A$2:$A$4417,0),MATCH(Bench!$D$3,data!$C$1:$F$1,0)) -> 11.31 | D28: =(B28-C28)/C28 -> -1
A29: =CONCATENATE($D$2,"/","20") -> 47/20 | C29: =INDEX(data!$C$2:$F$4417,MATCH(Bench!A29,data!$A$2:$A$4417,0),MATCH(Bench!$D$3,data!$C$1:$F$1,0)) -> 22.2015 | D29: =(B29-C29)/C29 -> -1
A30: =CONCATENATE($D$2,"/","21") -> 47/21 | C30: =INDEX(data!$C$2:$F$4417,MATCH(Bench!A30,data!$A$2:$A$4417,0),MATCH(Bench!$D$3,data!$C$1:$F$1,0)) -> 13.39675 | D30: =(B30-C30)/C30 -> -1
A31: =CONCATENATE($D$2,"/","22") -> 47/22 | C31: =INDEX(data!$C$2:$F$4417,MATCH(Bench!A31,data!$A$2:$A$4417,0),MATCH(Bench!$D$3,data!$C$1:$F$1,0)) -> 13.85 | D31: =(B31-C31)/C31 -> -1
A32: =CONCATENATE($D$2,"/","23") -> 47/23 | C32: =INDEX(data!$C$2:$F$4417,MATCH(Bench!A32,data!$A$2:$A$4417,0),MATCH(Bench!$D$3,data!$C$1:$F$1,0)) -> 12.42 | D32: =(B32-C32)/C32 -> -1
A33: =CONCATENATE($D$2,"/","24") -> 47/24 | C33: =INDEX(data!$C$2:$F$4417,MATCH(Bench!A33,data!$A$2:$A$4417,0),MATCH(Bench!$D$3,data!$C$1:$F$1,0)) -> 8.46 | D33: =(B33-C33)/C33 -> -1
A34: =CONCATENATE($D$2,"/","25") -> 47/25 | C34: =INDEX(data!$C$2:$F$4417,MATCH(Bench!A34,data!$A$2:$A$4417,0),MATCH(Bench!$D$3,data!$C$1:$F$1,0)) -> 15.539 | D34: =(B34-C34)/C34 -> -1
A35: =CONCATENATE($D$2,"/","26") -> 47/26 | C35: =INDEX(data!$C$2:$F$4417,MATCH(Bench!A35,data!$A$2:$A$4417,0),MATCH(Bench!$D$3,data!$C$1:$F$1,0)) -> 12.33 | D35: =(B35-C35)/C35 -> -1
A36: =CONCATENATE($D$2,"/","27") -> 47/27 | C36: =INDEX(data!$C$2:$F$4417,MATCH(Bench!A36,data!$A$2:$A$4417,0),MATCH(Bench!$D$3,data!$C$1:$F$1,0)) -> 12.51 | D36: =(B36-C36)/C36 -> -1
A37: =CONCATENATE($D$2,"/","28") -> 47/28 | C37: =INDEX(data!$C$2:$F$4417,MATCH(Bench!A37,data!$A$2:$A$4417,0),MATCH(Bench!$D$3,data!$C$1:$F$1,0)) -> 12.18 | D37: =(B37-C37)/C37 -> -1
A38: =CONCATENATE($D$2,"/","29") -> 47/29 | C38: =INDEX(data!$C$2:$F$4417,MATCH(Bench!A38,data!$A$2:$A$4417,0),MATCH(Bench!$D$3,data!$C$1:$F$1,0)) -> 13.51 | D38: =(B38-C38)/C38 -> -1
A39: =CONCATENATE($D$2,"/","30") -> 47/30 | C39: =INDEX(data!$C$2:$F$4417,MATCH(Bench!A39,data!$A$2:$A$4417,0),MATCH(Bench!$D$3,data!$C$1:$F$1,0)) -> 12.39225 | D39: =(B39-C39)/C39 -> -1
A40: =CONCATENATE($D$2,"/","31") -> 47/31 | C40: =INDEX(data!$C$2:$F$4417,MATCH(Bench!A40,data!$A$2:$A$4417,0),MATCH(Bench!$D$3,data!$C$1:$F$1,0)) -> 7.57 | D40: =(B40-C40)/C40 -> -1
A41: =CONCATENATE($D$2,"/","32") -> 47/32 | C41: =INDEX(data!$C$2:$F$4417,MATCH(Bench!A41,data!$A$2:$A$4417,0),MATCH(Bench!$D$3,data!$C$1:$F$1,0)) -> 9.34 | D41: =(B41-C41)/C41 -> -1
A42: =CONCATENATE($D$2,"/","33") -> 47/33 | C42: =INDEX(data!$C$2:$F$4417,MATCH(Bench!A42,data!$A$2:$A$4417,0),MATCH(Bench!$D$3,data!$C$1:$F$1,0)) -> 7.2 | D42: =(B42-C42)/C42 -> -1
A43: =CONCATENATE($D$2,"/","34") -> 47/34 | C43: =INDEX(data!$C$2:$F$4417,MATCH(Bench!A43,data!$A$2:$A$4417,0),MATCH(Bench!$D$3,data!$C$1:$F$1,0)) -> 11.152 | D43: =(B43-C43)/C43 -> -1
A44: =CONCATENATE($D$2,"/","35") -> 47/35 | C44: =INDEX(data!$C$2:$F$4417,MATCH(Bench!A44,data!$A$2:$A$4417,0),MATCH(Bench!$D$3,data!$C$1:$F$1,0)) -> 12.08 | D44: =(B44-C44)/C44 -> -1
A45: =CONCATENATE($D$2,"/","36") -> 47/36 | C45: =INDEX(data!$C$2:$F$4417,MATCH(Bench!A45,data!$A$2:$A$4417,0),MATCH(Bench!$D$3,data!$C$1:$F$1,0)) -> 15.56 | D45: =(B45-C45)/C45 -> -1
A46: =CONCATENATE($D$2,"/","37") -> 47/37 | C46: =INDEX(data!$C$2:$F$4417,MATCH(Bench!A46,data!$A$2:$A$4417,0),MATCH(Bench!$D$3,data!$C$1:$F$1,0)) -> 10.5 | D46: =(B46-C46)/C46 -> -1
A47: =CONCATENATE($D$2,"/","38") -> 47/38 | C47: =INDEX(data!$C$2:$F$4417,MATCH(Bench!A47,data!$A$2:$A$4417,0),MATCH(Bench!$D$3,data!$C$1:$F$1,0)) -> 13.44 | D47: =(B47-C47)/C47 -> -1
A48: =CONCATENATE($D$2,"/","39") -> 47/39 | C48: =INDEX(data!$C$2:$F$4417,MATCH(Bench!A48,data!$A$2:$A$4417,0),MATCH(Bench!$D$3,data!$C$1:$F$1,0)) -> 16.30775 | D48: =(B48-C48)/C48 -> -1
A49: =CONCATENATE($D$2,"/","40") -> 47/40 | C49: =INDEX(data!$C$2:$F$4417,MATCH(Bench!A49,data!$A$2:$A$4417,0),MATCH(Bench!$D$3,data!$C$1:$F$1,0)) -> 10.78 | D49: =(B49-C49)/C49 -> -1
A50: =CONCATENATE($D$2,"/","41") -> 47/41 | C50: =INDEX(data!$C$2:$F$4417,MATCH(Bench!A50,data!$A$2:$A$4417,0),MATCH(Bench!$D$3,data!$C$1:$F$1,0)) -> 12.79 | D50: =(B50-C50)/C50 -> -1
A51: =CONCATENATE($D$2,"/","42") -> 47/42 | C51: =INDEX(data!$C$2:$F$4417,MATCH(Bench!A51,data!$A$2:$A$4417,0),MATCH(Bench!$D$3,data!$C$1:$F$1,0)) -> 12.01 | D51: =(B51-C51)/C51 -> -1
A52: =CONCATENATE($D$2,"/","43") -> 47/43 | C52: =INDEX(data!$C$2:$F$4417,MATCH(Bench!A52,data!$A$2:$A$4417,0),MATCH(Bench!$D$3,data!$C$1:$F$1,0)) -> 13.54 | D52: =(B52-C52)/C52 -> -1
A53: =CONCATENATE($D$2,"/","44") -> 47/44 | C53: =INDEX(data!$C$2:$F$4417,MATCH(Bench!A53,data!$A$2:$A$4417,0),MATCH(Bench!$D$3,data!$C$1:$F$1,0)) -> 10.83 | D53: =(B53-C53)/C53 -> -1
A54: =CONCATENATE($D$2,"/","45") -> 47/45 | C54: =INDEX(data!$C$2:$F$4417,MATCH(Bench!A54,data!$A$2:$A$4417,0),MATCH(Bench!$D$3,data!$C$1:$F$1,0)) -> 13.33 | D54: =(B54-C54)/C54 -> -1
A55: =CONCATENATE($D$2,"/","46") -> 47/46 | C55: =INDEX(data!$C$2:$F$4417,MATCH(Bench!A55,data!$A$2:$A$4417,0),MATCH(Bench!$D$3,data!$C$1:$F$1,0)) -> 8.56 | D55: =(B55-C55)/C55 -> -1
A56: =CONCATENATE($D$2,"/","47") -> 47/47 | C56: =INDEX(data!$C$2:$F$4417,MATCH(Bench!A56,data!$A$2:$A$4417,0),MATCH(Bench!$D$3,data!$C$1:$F$1,0)) -> 5.65 | D56: =(B56-C56)/C56 -> -1
A57: =CONCATENATE($D$2,"/","48") -> 47/48 | C57: =INDEX(data!$C$2:$F$4417,MATCH(Bench!A57,data!$A$2:$A$4417,0),MATCH(Bench!$D$3,data!$C$1:$F$1,0)) -> 12.80225 | D57: =(B57-C57)/C57 -> -1
A58: =CONCATENATE($D$2,"/","49") -> 47/49 | C58: =INDEX(data!$C$2:$F$4417,MATCH(Bench!A58,data!$A$2:$A$4417,0),MATCH(Bench!$D$3,data!$C$1:$F$1,0)) -> 8.62 | D58: =(B58-C58)/C58 -> -1
A59: =CONCATENATE($D$2,"/","50") -> 47/50 | C59: =INDEX(data!$C$2:$F$4417,MATCH(Bench!A59,data!$A$2:$A$4417,0),MATCH(Bench!$D$3,data!$C$1:$F$1,0)) -> 14.52 | D59: =(B59-C59)/C59 -> -1
A60: =CONCATENATE($D$2,"/","51") -> 47/51 | C60: =INDEX(data!$C$2:$F$4417,MATCH(Bench!A60,data!$A$2:$A$4417,0),MATCH(Bench!$D$3,data!$C$1:$F$1,0)) -> 18.5115 | D60: =(B60-C60)/C60 -> -1
A61: =CONCATENATE($D$2,"/","52") -> 47/52 | C61: =INDEX(data!$C$2:$F$4417,MATCH(Bench!A61,data!$A$2:$A$4417,0),MATCH(Bench!$D$3,data!$C$1:$F$1,0)) -> 15.539 | D61: =(B61-C61)/C61 -> -1
A62: =CONCATENATE($D$2,"/","53") -> 47/53 | C62: =INDEX(data!$C$2:$F$4417,MATCH(Bench!A62,data!$A$2:$A$4417,0),MATCH(Bench!$D$3,data!$C$1:$F$1,0)) -> 13.18 | D62: =(B62-C62)/C62 -> -1
A63: =CONCATENATE($D$2,"/","54") -> 47/54 | C63: =INDEX(data!$C$2:$F$4417,MATCH(Bench!A63,data!$A$2:$A$4417,0),MATCH(Bench!$D$3,data!$C$1:$F$1,0)) -> 17.45575 | D63: =(B63-C63)/C63 -> -1
A64: =CONCATENATE($D$2,"/","55") -> 47/55 | C64: =INDEX(data!$C$2:$F$4417,MATCH(Bench!A64,data!$A$2:$A$4417,0),MATCH(Bench!$D$3,data!$C$1:$F$1,0)) -> 16.45125 | D64: =(B64-C64)/C64 -> -1
A65: =CONCATENATE($D$2,"/","56") -> 47/56 | C65: =INDEX(data!$C$2:$F$4417,MATCH(Bench!A65,data!$A$2:$A$4417,0),MATCH(Bench!$D$3,data!$C$1:$F$1,0)) -> 13.18 | D65: =(B65-C65)/C65 -> -1
A66: =CONCATENATE($D$2,"/","57") -> 47/57 | C66: =INDEX(data!$C$2:$F$4417,MATCH(Bench!A66,data!$A$2:$A$4417,0),MATCH(Bench!$D$3,data!$C$1:$F$1,0)) -> 12.874 | D66: =(B66-C66)/C66 -> -1
A67: =CONCATENATE($D$2,"/","58") -> 47/58 | C67: =INDEX(data!$C$2:$F$4417,MATCH(Bench!A67,data!$A$2:$A$4417,0),MATCH(Bench!$D$3,data!$C$1:$F$1,0)) -> 16.66 | D67: =(B67-C67)/C67 -> -1
A68: =CONCATENATE($D$2,"/","59") -> 47/59 | C68: =INDEX(data!$C$2:$F$4417,MATCH(Bench!A68,data!$A$2:$A$4417,0),MATCH(Bench!$D$3,data!$C$1:$F$1,0)) -> 15.54925 | D68: =(B68-C68)/C68 -> -1
A69: =CONCATENATE($D$2,"/","60") -> 47/60 | C69: =INDEX(data!$C$2:$F$4417,MATCH(Bench!A69,data!$A$2:$A$4417,0),MATCH(Bench!$D$3,data!$C$1:$F$1,0)) -> 11.57225 | D69: =(B69-C69)/C69 -> -1
A70: =CONCATENATE($D$2,"/","61") -> 47/61 | C70: =INDEX(data!$C$2:$F$4417,MATCH(Bench!A70,data!$A$2:$A$4417,0),MATCH(Bench!$D$3,data!$C$1:$F$1,0)) -> 12.18 | D70: =(B70-C70)/C70 -> -1
A71: =CONCATENATE($D$2,"/","62") -> 47/62 | C71: =INDEX(data!$C$2:$F$4417,MATCH(Bench!A71,data!$A$2:$A$4417,0),MATCH(Bench!$D$3,data!$C$1:$F$1,0)) -> 17.41475 | D71: =(B71-C71)/C71 -> -1
A72: =CONCATENATE($D$2,"/","63") -> 47/63 | C72: =INDEX(data!$C$2:$F$4417,MATCH(Bench!A72,data!$A$2:$A$4417,0),MATCH(Bench!$D$3,data!$C$1:$F$1,0)) -> 10.61 | D72: =(B72-C72)/C72 -> -1
A73: =CONCATENATE($D$2,"/","64") -> 47/64 | C73: =INDEX(data!$C$2:$F$4417,MATCH(Bench!A73,data!$A$2:$A$4417,0),MATCH(Bench!$D$3,data!$C$1:$F$1,0)) -> 9.58 | D73: =(B73-C73)/C73 -> -1
A74: =CONCATENATE($D$2,"/","64") -> 47/64 | C74: =INDEX(data!$C$2:$F$4417,MATCH(Bench!A74,data!$A$2:$A$4417,0),MATCH(Bench!$D$3,data!$C$1:$F$1,0)) -> 9.58 | D74: =(B74-C74)/C74 -> -1
A75: =CONCATENATE($D$2,"/","65") -> 47/65 | C75: =INDEX(data!$C$2:$F$4417,MATCH(Bench!A75,data!$A$2:$A$4417,0),MATCH(Bench!$D$3,data!$C$1:$F$1,0)) -> 8.21 | D75: =(B75-C75)/C75 -> -1
A76: =CONCATENATE($D$2,"/","66") -> 47/66 | C76: =INDEX(data!$C$2:$F$4417,MATCH(Bench!A76,data!$A$2:$A$4417,0),MATCH(Bench!$D$3,data!$C$1:$F$1,0)) -> 10.51 | D76: =(B76-C76)/C76 -> -1
A77: =CONCATENATE($D$2,"/","67") -> 47/67 | C77: =INDEX(data!$C$2:$F$4417,MATCH(Bench!A77,data!$A$2:$A$4417,0),MATCH(Bench!$D$3,data!$C$1:$F$1,0)) -> 13.448 | D77: =(B77-C77)/C77 -> -1
A78: =CONCATENATE($D$2,"/","68") -> 47/68 | C78: =INDEX(data!$C$2:$F$4417,MATCH(Bench!A78,data!$A$2:$A$4417,0),MATCH(Bench!$D$3,data!$C$1:$F$1,0)) -> 16.06175 | D78: =(B78-C78)/C78 -> -1
A79: =CONCATENATE($D$2,"/","69") -> 47/69 | C79: =INDEX(data!$C$2:$F$4417,MATCH(Bench!A79,data!$A$2:$A$4417,0),MATCH(Bench!$D$3,data!$C$1:$F$1,0)) -> 11.59 | D79: =(B79-C79)/C79 -> -1
A80: =CONCATENATE($D$2,"/","70") -> 47/70 | C80: =INDEX(data!$C$2:$F$4417,MATCH(Bench!A80,data!$A$2:$A$4417,0),MATCH(Bench!$D$3,data!$C$1:$F$1,0)) -> 17.0765 | D80: =(B80-C80)/C80 -> -1
A81: =CONCATENATE($D$2,"/","71") -> 47/71 | C81: =INDEX(data!$C$2:$F$4417,MATCH(Bench!A81,data!$A$2:$A$4417,0),MATCH(Bench!$D$3,data!$C$1:$F$1,0)) -> 17.548 | D81: =(B81-C81)/C81 -> -1
A82: =CONCATENATE($D$2,"/","72") -> 47/72 | C82: =INDEX(data!$C$2:$F$4417,MATCH(Bench!A82,data!$A$2:$A$4417,0),MATCH(Bench!$D$3,data!$C$1:$F$1,0)) -> 11.88 | D82: =(B82-C82)/C82 -> -1
A83: =CONCATENATE($D$2,"/","73") -> 47/73 | C83: =INDEX(data!$C$2:$F$4417,MATCH(Bench!A83,data!$A$2:$A$4417,0),MATCH(Bench!$D$3,data!$C$1:$F$1,0)) -> 15.67 | D83: =(B83-C83)/C83 -> -1
A84: =CONCATENATE($D$2,"/","74") -> 47/74 | C84: =INDEX(data!$C$2:$F$4417,MATCH(Bench!A84,data!$A$2:$A$4417,0),MATCH(Bench!$D$3,data!$C$1:$F$1,0)) -> 11.76 | D84: =(B84-C84)/C84 -> -1
A85: =CONCATENATE($D$2,"/","75") -> 47/75 | C85: =INDEX(data!$C$2:$F$4417,MATCH(Bench!A85,data!$A$2:$A$4417,0),MATCH(Bench!$D$3,data!$C$1:$F$1,0)) -> 15.57 | D85: =(B85-C85)/C85 -> -1
A86: =CONCATENATE($D$2,"/","76") -> 47/76 | C86: =INDEX(data!$C$2:$F$4417,MATCH(Bench!A86,data!$A$2:$A$4417,0),MATCH(Bench!$D$3,data!$C$1:$F$1,0)) -> 13.18 | D86: =(B86-C86)/C86 -> -1
A87: =CONCATENATE($D$2,"/","77") -> 47/77 | C87: =INDEX(data!$C$2:$F$4417,MATCH(Bench!A87,data!$A$2:$A$4417,0),MATCH(Bench!$D$3,data!$C$1:$F$1,0)) -> 15.09 | D87: =(B87-C87)/C87 -> -1
A88: =CONCATENATE($D$2,"/","78") -> 47/78 | C88: =INDEX(data!$C$2:$F$4417,MATCH(Bench!A88,data!$A$2:$A$4417,0),MATCH(Bench!$D$3,data!$C$1:$F$1,0)) -> 15.18 | D88: =(B88-C88)/C88 -> -1
A89: =CONCATENATE($D$2,"/","79") -> 47/79 | C89: =INDEX(data!$C$2:$F$4417,MATCH(Bench!A89,data!$A$2:$A$4417,0),MATCH(Bench!$D$3,data!$C$1:$F$1,0)) -> 10.5 | D89: =(B89-C89)/C89 -> -1
A90: =CONCATENATE($D$2,"/","80") -> 47/80 | C90: =INDEX(data!$C$2:$F$4417,MATCH(Bench!A90,data!$A$2:$A$4417,0),MATCH(Bench!$D$3,data!$C$1:$F$1,0)) -> 15.1905 | D90: =(B90-C90)/C90 -> -1
A91: =CONCATENATE($D$2,"/","81") -> 47/81 | C91: =INDEX(data!$C$2:$F$4417,MATCH(Bench!A91,data!$A$2:$A$4417,0),MATCH(Bench!$D$3,data!$C$1:$F$1,0)) -> 11.31 | D91: =(B91-C91)/C91 -> -1
A92: =CONCATENATE($D$2,"/","82") -> 47/82 | C92: =INDEX(data!$C$2:$F$4417,MATCH(Bench!A92,data!$A$2:$A$4417,0),MATCH(Bench!$D$3,data!$C$1:$F$1,0)) -> 7.46 | D92: =(B92-C92)/C92 -> -1
A93: =CONCATENATE($D$2,"/","83") -> 47/83 | C93: =INDEX(data!$C$2:$F$4417,MATCH(Bench!A93,data!$A$2:$A$4417,0),MATCH(Bench!$D$3,data!$C$1:$F$1,0)) -> 14.97525 | D93: =(B93-C93)/C93 -> -1
A94: =CONCATENATE($D$2,"/","84") -> 47/84 | C94: =INDEX(data!$C$2:$F$4417,MATCH(Bench!A94,data!$A$2:$A$4417,0),MATCH(Bench!$D$3,data!$C$1:$F$1,0)) -> 10.77275 | D94: =(B94-C94)/C94 -> -1
A95: =CONCATENATE($D$2,"/","85") -> 47/85 | C95: =INDEX(data!$C$2:$F$4417,MATCH(Bench!A95,data!$A$2:$A$4417,0),MATCH(Bench!$D$3,data!$C$1:$F$1,0)) -> 10.83 | D95: =(B95-C95)/C95 -> -1
A96: =CONCATENATE($D$2,"/","86") -> 47/86 | C96: =INDEX(data!$C$2:$F$4417,MATCH(Bench!A96,data!$A$2:$A$4417,0),MATCH(Bench!$D$3,data!$C$1:$F$1,0)) -> 10.71 | D96: =(B96-C96)/C96 -> -1
A97: =CONCATENATE($D$2,"/","87") -> 47/87 | C97: =INDEX(data!$C$2:$F$4417,MATCH(Bench!A97,data!$A$2:$A$4417,0),MATCH(Bench!$D$3,data!$C$1:$F$1,0)) -> 10.93 | D97: =(B97-C97)/C97 -> -1
A98: =CONCATENATE($D$2,"/","88") -> 47/88 | C98: =INDEX(data!$C$2:$F$4417,MATCH(Bench!A98,data!$A$2:$A$4417,0),MATCH(Bench!$D$3,data!$C$1:$F$1,0)) -> 17.45575 | D98: =(B98-C98)/C98 -> -1
A99: =CONCATENATE($D$2,"/","89") -> 47/89 | C99: =INDEX(data!$C$2:$F$4417,MATCH(Bench!A99,data!$A$2:$A$4417,0),MATCH(Bench!$D$3,data!$C$1:$F$1,0)) -> 14.77025 | D99: =(B99-C99)/C99 -> -1
A100: =CONCATENATE($D$2,"/","90") -> 47/90 | C100: =INDEX(data!$C$2:$F$4417,MATCH(Bench!A100,data!$A$2:$A$4417,0),MATCH(Bench!$D$3,data!$C$1:$F$1,0)) -> 17.0765 | D100: =(B100-C100)/C100 -> -1
A101: =CONCATENATE($D$2,"/","91") -> 47/91 | C101: =INDEX(data!$C$2:$F$4417,MATCH(Bench!A101,data!$A$2:$A$4417,0),MATCH(Bench!$D$3,data!$C$1:$F$1,0)) -> 15.56 | D101: =(B101-C101)/C101 -> -1
A102: =CONCATENATE($D$2,"/","92") -> 47/92 | C102: =INDEX(data!$C$2:$F$4417,MATCH(Bench!A102,data!$A$2:$A$4417,0),MATCH(Bench!$D$3,data!$C$1:$F$1,0)) -> 14.75 | D102: =(B102-C102)/C102 -> -1
A103: =CONCATENATE($D$2,"/","93") -> 47/93 | C103: =INDEX(data!$C$2:$F$4417,MATCH(Bench!A103,data!$A$2:$A$4417,0),MATCH(Bench!$D$3,data!$C$1:$F$1,0)) -> 14.1 | D103: =(B103-C103)/C103 -> -1
A104: =CONCATENATE($D$2,"/","94") -> 47/94 | C104: =INDEX(data!$C$2:$F$4417,MATCH(Bench!A104,data!$A$2:$A$4417,0),MATCH(Bench!$D$3,data!$C$1:$F$1,0)) -> 14.26 | D104: =(B104-C104)/C104 -> -1
A105: =CONCATENATE($D$2,"/","95") -> 47/95 | C105: =INDEX(data!$C$2:$F$4417,MATCH(Bench!A105,data!$A$2:$A$4417,0),MATCH(Bench!$D$3,data!$C$1:$F$1,0)) -> 16.06 | D105: =(B105-C105)/C105 -> -1
...

Sheet noms
A1: 33/01 | C1: 1 à 9 | F1: 33
A2: 33/02 | C2: 10 à 19 | F2: 47
A3: 33/03 | C3: 20 à 29
A4: 33/04 | C4: 30 à 39
A5: 33/05 | C5: 40 à 49
A6: 33/06 | C6: 50 à 59 | F6: Benito Georgelin | G6: Dachser Georgelin | H6: DBS Georgelin | I6: K+N Georgelin
A7: 33/07 | C7: 60 à 69
A8: 33/08 | C8: 70 à 79
A9: 33/09 | C9: 80 à 100
A10: 33/10 | C10: 101 à 199
A11: 33/11 | C11: 200 à 299
A12: 33/12 | C12: 300 à 399
A13: 33/13 | C13: 400 à 499
A14: 33/14 | C14: 500 à 599
A15: 33/15 | C15: 600 à 699
A16: 33/16 | C16: 700 à 799
A17: 33/17 | C17: 800 à 899
A18: 33/18 | C18: 900 à 999
... A22: 33/22 | C22: 2501 à 3000
A23: 33/23
A24: 33/24
A25: 33/25
A26: 33/26
A27: 33/27
A28: 33/28
A29: 33/29
A30: 33/30
A31: 33/31
A32: 33/32
A33: 33/33
A34: 33/34
... A192: 47/98
