Workbook

Sheet Nombre Maisons Vendues
A1: Date | B1: Vendeur | C1: Montant HTVA | D1: Province | E1: Nombre | F1: Mois (Nom) | G1: Année | H1: Mois (Numéro)
A2: 41285 | B2: J.-F. Latine | C2: 144067.93 | D2: Namur | E2: =IF(C2>0,1,0) -> 1 | F2: =CHOOSE(MONTH(A2),"Janvier","Février","Mars","Avril","Mai","Juin","Juillet","Aout","Septembre","Octobre","Novembre","Décembre") -> Janvier | G2: =YEAR(A2) -> 2013 | H2: =MONTH(A2) -> 1
A3: 41291 | B3: V. Detrembleur | C3: 156759.93 | D3: Liege | E3: =IF(C3>0,1,0) -> 1 | F3: =CHOOSE(MONTH(A3),"Janvier","Février","Mars","Avril","Mai","Juin","Juillet","Aout","Septembre","Octobre","Novembre","Décembre") -> Janvier | G3: =YEAR(A3) -> 2013 | H3: =MONTH(A3) -> 1
A4: 41302 | B4: J.-F. Latine | C4: 127103.27 | D4: Namur | E4: =IF(C4>0,1,0) -> 1 | F4: =CHOOSE(MONTH(A4),"Janvier","Février","Mars","Avril","Mai","Juin","Juillet","Aout","Septembre","Octobre","Novembre","Décembre") -> Janvier | G4: =YEAR(A4) -> 2013 | H4: =MONTH(A4) -> 1
A5: 41312 | B5: V. Detrembleur | C5: 215704.87 | D5: Brabant Wallon | E5: =IF(C5>0,1,0) -> 1 | F5: =CHOOSE(MONTH(A5),"Janvier","Février","Mars","Avril","Mai","Juin","Juillet","Aout","Septembre","Octobre","Novembre","Décembre") -> Février | G5: =YEAR(A5) -> 2013 | H5: =MONTH(A5) -> 2
A6: 41327 | B6: V. Detrembleur | C6: 147641.7 | D6: Brabant Wallon | E6: =IF(C6>0,1,0) -> 1 | F6: =CHOOSE(MONTH(A6),"Janvier","Février","Mars","Avril","Mai","Juin","Juillet","Aout","Septembre","Octobre","Novembre","Décembre") -> Février | G6: =YEAR(A6) -> 2013 | H6: =MONTH(A6) -> 2
A7: 41334 | B7: V. Detrembleur | C7: 135609.91 | D7: Brabant Wallon | E7: =IF(C7>0,1,0) -> 1 | F7: =CHOOSE(MONTH(A7),"Janvier","Février","Mars","Avril","Mai","Juin","Juillet","Aout","Septembre","Octobre","Novembre","Décembre") -> Mars | G7: =YEAR(A7) -> 2013 | H7: =MONTH(A7) -> 3
A8: 41339 | B8: M. Klein | C8: 111886.2 | D8: Liege | E8: =IF(C8>0,1,0) -> 1 | F8: =CHOOSE(MONTH(A8),"Janvier","Février","Mars","Avril","Mai","Juin","Juillet","Aout","Septembre","Octobre","Novembre","Décembre") -> Mars | G8: =YEAR(A8) -> 2013 | H8: =MONTH(A8) -> 3
A9: 41344 | B9: Ph. Steutelings | C9: 126949.07 | D9: Liege | E9: =IF(C9>0,1,0) -> 1 | F9: =CHOOSE(MONTH(A9),"Janvier","Février","Mars","Avril","Mai","Juin","Juillet","Aout","Septembre","Octobre","Novembre","Décembre") -> Mars | G9: =YEAR(A9) -> 2013 | H9: =MONTH(A9) -> 3
A10: 41346 | B10: V. Detrembleur | C10: 155000.45 | D10: Hainaut | E10: =IF(C10>0,1,0) -> 1 | F10: =CHOOSE(MONTH(A10),"Janvier","Février","Mars","Avril","Mai","Juin","Juillet","Aout","Septembre","Octobre","Novembre","Décembre") -> Mars | G10: =YEAR(A10) -> 2013 | H10: =MONTH(A10) -> 3
A11: 41352 | B11: Ch. Germain | C11: 168336.83 | D11: Brabant Wallon | E11: =IF(C11>0,1,0) -> 1 | F11: =CHOOSE(MONTH(A11),"Janvier","Février","Mars","Avril","Mai","Juin","Juillet","Aout","Septembre","Octobre","Novembre","Décembre") -> Mars | G11: =YEAR(A11) -> 2013 | H11: =MONTH(A11) -> 3
A12: 41360 | B12: V. Detrembleur | C12: 150546.98 | D12: Brabant Wallon | E12: =IF(C12>0,1,0) -> 1 | F12: =CHOOSE(MONTH(A12),"Janvier","Février","Mars","Avril","Mai","Juin","Juillet","Aout","Septembre","Octobre","Novembre","Décembre") -> Mars | G12: =YEAR(A12) -> 2013 | H12: =MONTH(A12) -> 3
A13: 41362 | B13: M. Klein | C13: 158232.45 | D13: Liege | E13: =IF(C13>0,1,0) -> 1 | F13: =CHOOSE(MONTH(A13),"Janvier","Février","Mars","Avril","Mai","Juin","Juillet","Aout","Septembre","Octobre","Novembre","Décembre") -> Mars | G13: =YEAR(A13) -> 2013 | H13: =MONTH(A13) -> 3
... A22: 41394 | B22: Ch. Gloire | C22: 148849.53 | D22: Hainaut | E22: =IF(C22>0,1,0) -> 1 | F22: =CHOOSE(MONTH(A22),"Janvier","Février","Mars","Avril","Mai","Juin","Juillet","Aout","Septembre","Octobre","Novembre","Décembre") -> Avril | G22: =YEAR(A22) -> 2013 | H22: =MONTH(A22) -> 4
A23: 41396 | B23: Jumatt | C23: =72980.43+72980.43 -> 145960.86 | D23: Namur | E23: =IF(C23>0,1,0) -> 1 | F23: =CHOOSE(MONTH(A23),"Janvier","Février","Mars","Avril","Mai","Juin","Juillet","Aout","Septembre","Octobre","Novembre","Décembre") -> Mai | G23: =YEAR(A23) -> 2013 | H23: =MONTH(A23) -> 5
A24: 41396 | B24: Jumatt | C24: =72712*2 -> 145424 | D24: Namur | E24: =IF(C24>0,1,0) -> 1 | F24: =CHOOSE(MONTH(A24),"Janvier","Février","Mars","Avril","Mai","Juin","Juillet","Aout","Septembre","Octobre","Novembre","Décembre") -> Mai | G24: =YEAR(A24) -> 2013 | H24: =MONTH(A24) -> 5
A25: 41397 | B25: V. Detrembleur | C25: 153106.19 | D25: Liege | E25: =IF(C25>0,1,0) -> 1 | F25: =CHOOSE(MONTH(A25),"Janvier","Février","Mars","Avril","Mai","Juin","Juillet","Aout","Septembre","Octobre","Novembre","Décembre") -> Mai | G25: =YEAR(A25) -> 2013 | H25: =MONTH(A25) -> 5
A26: 41402 | B26: Ph. Steutelings | C26: 102040.64 | D26: Liege | E26: =IF(C26>0,1,0) -> 1 | F26: =CHOOSE(MONTH(A26),"Janvier","Février","Mars","Avril","Mai","Juin","Juillet","Aout","Septembre","Octobre","Novembre","Décembre") -> Mai | G26: =YEAR(A26) -> 2013 | H26: =MONTH(A26) -> 5
A27: 41407 | B27: V. Detrembleur | C27: 179774.23 | D27: Namur | E27: =IF(C27>0,1,0) -> 1 | F27: =CHOOSE(MONTH(A27),"Janvier","Février","Mars","Avril","Mai","Juin","Juillet","Aout","Septembre","Octobre","Novembre","Décembre") -> Mai | G27: =YEAR(A27) -> 2013 | H27: =MONTH(A27) -> 5
A28: 41410 | B28: V. Detrembleur | C28: 203327.49 | D28: Namur | E28: =IF(C28>0,1,0) -> 1 | F28: =CHOOSE(MONTH(A28),"Janvier","Février","Mars","Avril","Mai","Juin","Juillet","Aout","Septembre","Octobre","Novembre","Décembre") -> Mai | G28: =YEAR(A28) -> 2013 | H28: =MONTH(A28) -> 5
A29: 41416 | B29: Ch. Gloire | C29: 137705.99 | D29: Luxembourg | E29: =IF(C29>0,1,0) -> 1 | F29: =CHOOSE(MONTH(A29),"Janvier","Février","Mars","Avril","Mai","Juin","Juillet","Aout","Septembre","Octobre","Novembre","Décembre") -> Mai | G29: =YEAR(A29) -> 2013 | H29: =MONTH(A29) -> 5
A30: 41417 | B30: V. Detrembleur | C30: 180324.31 | D30: Namur | E30: =IF(C30>0,1,0) -> 1 | F30: =CHOOSE(MONTH(A30),"Janvier","Février","Mars","Avril","Mai","Juin","Juillet","Aout","Septembre","Octobre","Novembre","Décembre") -> Mai | G30: =YEAR(A30) -> 2013 | H30: =MONTH(A30) -> 5
A31: 41422 | B31: V. Detrembleur | C31: 114381.18 | D31: Brabant Wallon | E31: =IF(C31>0,1,0) -> 1 | F31: =CHOOSE(MONTH(A31),"Janvier","Février","Mars","Avril","Mai","Juin","Juillet","Aout","Septembre","Octobre","Novembre","Décembre") -> Mai | G31: =YEAR(A31) -> 2013 | H31: =MONTH(A31) -> 5
A32: 41423 | B32: V. Detrembleur | C32: 157062.33 | D32: Brabant Wallon | E32: =IF(C32>0,1,0) -> 1 | F32: =CHOOSE(MONTH(A32),"Janvier","Février","Mars","Avril","Mai","Juin","Juillet","Aout","Septembre","Octobre","Novembre","Décembre") -> Mai | G32: =YEAR(A32) -> 2013 | H32: =MONTH(A32) -> 5
A33: 41424 | B33: J.-F. Latine | C33: 147924.25 | D33: Liege | E33: =IF(C33>0,1,0) -> 1 | F33: =CHOOSE(MONTH(A33),"Janvier","Février","Mars","Avril","Mai","Juin","Juillet","Aout","Septembre","Octobre","Novembre","Décembre") -> Mai | G33: =YEAR(A33) -> 2013 | H33: =MONTH(A33) -> 5
A34: 41432 | B34: Ch. Gloire | C34: 147683.81 | D34: Luxembourg | E34: =IF(C34>0,1,0) -> 1 | F34: =CHOOSE(MONTH(A34),"Janvier","Février","Mars","Avril","Mai","Juin","Juillet","Aout","Septembre","Octobre","Novembre","Décembre") -> Juin | G34: =YEAR(A34) -> 2013 | H34: =MONTH(A34) -> 6
A35: 41432 | B35: M. Meunier | C35: 145086.22 | D35: Namur | E35: =IF(C35>0,1,0) -> 1 | F35: =CHOOSE(MONTH(A35),"Janvier","Février","Mars","Avril","Mai","Juin","Juillet","Aout","Septembre","Octobre","Novembre","Décembre") -> Juin | G35: =YEAR(A35) -> 2013 | H35: =MONTH(A35) -> 6
A36: 41438 | B36: Jumatt | C36: 204765.53 | D36: Liege | E36: =IF(C36>0,1,0) -> 1 | F36: =CHOOSE(MONTH(A36),"Janvier","Février","Mars","Avril","Mai","Juin","Juillet","Aout","Septembre","Octobre","Novembre","Décembre") -> Juin | G36: =YEAR(A36) -> 2013 | H36: =MONTH(A36) -> 6
... A141: 41838 | B141: Ph. Steutelings | C141: 121273.8 | D141: Liege | E141: =IF(C141>0,1,0) -> 1 | F141: =CHOOSE(MONTH(A141),"Janvier","Février","Mars","Avril","Mai","Juin","Juillet","Aout","Septembre","Octobre","Novembre","Décembre") -> Juillet | G141: =YEAR(A141) -> 2014 | H141: =MONTH(A141) -> 7
A142: 41876 | B142: V. Detrembleur | C142: =227185+15950 -> 243135 | D142: Brabant Wallon | E142: =IF(C142>0,1,0) -> 1 | F142: =CHOOSE(MONTH(A142),"Janvier","Février","Mars","Avril","Mai","Juin","Juillet","Aout","Septembre","Octobre","Novembre","Décembre") -> Aout | G142: =YEAR(A142) -> 2014 | H142: =MONTH(A142) -> 8
A143: 41876 | B143: V. Detrembleur | C143: 144545 | D143: Hainaut | E143: =IF(C143>0,1,0) -> 1 | F143: =CHOOSE(MONTH(A143),"Janvier","Février","Mars","Avril","Mai","Juin","Juillet","Aout","Septembre","Octobre","Novembre","Décembre") -> Aout | G143: =YEAR(A143) -> 2014 | H143: =MONTH(A143) -> 8
A144: 41879 | B144: V. Detrembleur | C144: 116588.31 | D144: Brabant Wallon | E144: =IF(C144>0,1,0) -> 1 | F144: =CHOOSE(MONTH(A144),"Janvier","Février","Mars","Avril","Mai","Juin","Juillet","Aout","Septembre","Octobre","Novembre","Décembre") -> Aout | G144: =YEAR(A144) -> 2014 | H144: =MONTH(A144) -> 8
A145: 41880 | B145: Ch. Gloire | C145: 161668.61 | D145: Hainaut | E145: =IF(C145>0,1,0) -> 1 | F145: =CHOOSE(MONTH(A145),"Janvier","Février","Mars","Avril","Mai","Juin","Juillet","Aout","Septembre","Octobre","Novembre","Décembre") -> Aout | G145: =YEAR(A145) -> 2014 | H145: =MONTH(A145) -> 8
A146: 41880 | B146: V. Detrembleur | C146: =223142+16675 -> 239817 | D146: Brabant Wallon | E146: =IF(C146>0,1,0) -> 1 | F146: =CHOOSE(MONTH(A146),"Janvier","Février","Mars","Avril","Mai","Juin","Juillet","Aout","Septembre","Octobre","Novembre","Décembre") -> Aout | G146: =YEAR(A146) -> 2014 | H146: =MONTH(A146) -> 8
A147: 41884 | B147: Ch. Germain | C147: 96854.43 | D147: Brabant Wallon | E147: =IF(C147>0,1,0) -> 1 | F147: =CHOOSE(MONTH(A147),"Janvier","Février","Mars","Avril","Mai","Juin","Juillet","Aout","Septembre","Octobre","Novembre","Décembre") -> Septembre | G147: =YEAR(A147) -> 2014 | H147: =MONTH(A147) -> 9
A148: 41894 | B148: V. Detrembleur | C148: 153427.32 | D148: Brabant Wallon | E148: =IF(C148>0,1,0) -> 1 | F148: =CHOOSE(MONTH(A148),"Janvier","Février","Mars","Avril","Mai","Juin","Juillet","Aout","Septembre","Octobre","Novembre","Décembre") -> Septembre | G148: =YEAR(A148) -> 2014 | H148: =MONTH(A148) -> 9
A149: 41894 | B149: J.-F. Latine | C149: 133724.44 | D149: Liege | E149: =IF(C149>0,1,0) -> 1 | F149: =CHOOSE(MONTH(A149),"Janvier","Février","Mars","Avril","Mai","Juin","Juillet","Aout","Septembre","Octobre","Novembre","Décembre") -> Septembre | G149: =YEAR(A149) -> 2014 | H149: =MONTH(A149) -> 9
A150: 41897 | B150: Ch. Gloire | C150: 165830.05 | D150: Luxembourg | E150: =IF(C150>0,1,0) -> 1 | F150: =CHOOSE(MONTH(A150),"Janvier","Février","Mars","Avril","Mai","Juin","Juillet","Aout","Septembre","Octobre","Novembre","Décembre") -> Septembre | G150: =YEAR(A150) -> 2014 | H150: =MONTH(A150) -> 9
A151: 41898 | B151: Ch. Gloire | C151: 131989.19 | D151: Hainaut | E151: =IF(C151>0,1,0) -> 1 | F151: =CHOOSE(MONTH(A151),"Janvier","Février","Mars","Avril","Mai","Juin","Juillet","Aout","Septembre","Octobre","Novembre","Décembre") -> Septembre | G151: =YEAR(A151) -> 2014 | H151: =MONTH(A151) -> 9
A152: 41898 | B152: Ch. Gloire | C152: 137046.55 | D152: Hainaut | E152: =IF(C152>0,1,0) -> 1 | F152: =CHOOSE(MONTH(A152),"Janvier","Février","Mars","Avril","Mai","Juin","Juillet","Aout","Septembre","Octobre","Novembre","Décembre") -> Septembre | G152: =YEAR(A152) -> 2014 | H152: =MONTH(A152) -> 9
A153: 41904 | B153: J.-F. Latine | C153: 227793.44 | D153: Brabant Wallon | E153: =IF(C153>0,1,0) -> 1 | F153: =CHOOSE(MONTH(A153),"Janvier","Février","Mars","Avril","Mai","Juin","Juillet","Aout","Septembre","Octobre","Novembre","Décembre") -> Septembre | G153: =YEAR(A153) -> 2014 | H153: =MONTH(A153) -> 9
A154: 41905 | B154: J.-F. Latine | C154: 170691.41 | D154: Namur | E154: =IF(C154>0,1,0) -> 1 | F154: =CHOOSE(MONTH(A154),"Janvier","Février","Mars","Avril","Mai","Juin","Juillet","Aout","Septembre","Octobre","Novembre","Décembre") -> Septembre | G154: =YEAR(A154) -> 2014 | H154: =MONTH(A154) -> 9
A155: 41906 | B155: V. Detrembleur | C155: 201220.6 | D155: Namur | E155: =IF(C155>0,1,0) -> 1 | F155: =CHOOSE(MONTH(A155),"Janvier","Février","Mars","Avril","Mai","Juin","Juillet","Aout","Septembre","Octobre","Novembre","Décembre") -> Septembre | G155: =YEAR(A155) -> 2014 | H155: =MONTH(A155) -> 9
A156: 41913 | B156: V. Detrembleur | C156: 179735.48 | D156: Liege | E156: =IF(C156>0,1,0) -> 1 | F156: =CHOOSE(MONTH(A156),"Janvier","Février","Mars","Avril","Mai","Juin","Juillet","Aout","Septembre","Octobre","Novembre","Décembre") -> Octobre | G156: =YEAR(A156) -> 2014 | H156: =MONTH(A156) -> 10
A157: 41914 | B157: Ph. Steutelings | C157: 116554.73 | D157: Luxembourg | E157: =IF(C157>0,1,0) -> 1 | F157: =CHOOSE(MONTH(A157),"Janvier","Février","Mars","Avril","Mai","Juin","Juillet","Aout","Septembre","Octobre","Novembre","Décembre") -> Octobre | G157: =YEAR(A157) -> 2014 | H157: =MONTH(A157) -> 10
A158: 41927 | B158: Jumatt | C158: 179041.26 | D158: Namur | E158: =IF(C158>0,1,0) -> 1 | F158: =CHOOSE(MONTH(A158),"Janvier","Février","Mars","Avril","Mai","Juin","Juillet","Aout","Septembre","Octobre","Novembre","Décembre") -> Octobre | G158: =YEAR(A158) -> 2014 | H158: =MONTH(A158) -> 10
... A161: 41932 | B161: J.-F. Latine | C161: 193382.47 | D161: Namur | E161: =IF(C161>0,1,0) -> 1 | F161: =CHOOSE(MONTH(A161),"Janvier","Février","Mars","Avril","Mai","Juin","Juillet","Aout","Septembre","Octobre","Novembre","Décembre") -> Octobre | G161: =YEAR(A161) -> 2014 | H161: =MONTH(A161) -> 10
A162: 41934 | B162: V. Detrembleur | C162: =240180.95+5812.5 -> 245993.45 | D162: Brabant Wallon | E162: =IF(C162>0,1,0) -> 1 | F162: =CHOOSE(MONTH(A162),"Janvier","Février","Mars","Avril","Mai","Juin","Juillet","Aout","Septembre","Octobre","Novembre","Décembre") -> Octobre | G162: =YEAR(A162) -> 2014 | H162: =MONTH(A162) -> 10
A163: 41934 | B163: M. Meunier | C163: 96723.93 | D163: Namur | E163: =IF(C163>0,1,0) -> 1 | F163: =CHOOSE(MONTH(A163),"Janvier","Février","Mars","Avril","Mai","Juin","Juillet","Aout","Septembre","Octobre","Novembre","Décembre") -> Octobre | G163: =YEAR(A163) -> 2014 | H163: =MONTH(A163) -> 10
A164: 41936 | B164: J.-F. Latine | C164: 135403.54 | D164: Namur | E164: =IF(C164>0,1,0) -> 1 | F164: =CHOOSE(MONTH(A164),"Janvier","Février","Mars","Avril","Mai","Juin","Juillet","Aout","Septembre","Octobre","Novembre","Décembre") -> Octobre | G164: =YEAR(A164) -> 2014 | H164: =MONTH(A164) -> 10
A165: 41939 | B165: V. Detrembleur | C165: 132760.82 | D165: Luxembourg | E165: =IF(C165>0,1,0) -> 1 | F165: =CHOOSE(MONTH(A165),"Janvier","Février","Mars","Avril","Mai","Juin","Juillet","Aout","Septembre","Octobre","Novembre","Décembre") -> Octobre | G165: =YEAR(A165) -> 2014 | H165: =MONTH(A165) -> 10
A166: 41946 | B166: Jumatt | C166: 146305.97 | D166: Namur | E166: =IF(C166>0,1,0) -> 1 | F166: =CHOOSE(MONTH(A166),"Janvier","Février","Mars","Avril","Mai","Juin","Juillet","Aout","Septembre","Octobre","Novembre","Décembre") -> Novembre | G166: =YEAR(A166) -> 2014 | H166: =MONTH(A166) -> 11
A167: 41947 | B167: V. Detrembleur | C167: 276901.35 | D167: Brabant Wallon | E167: =IF(C167>0,1,0) -> 1 | F167: =CHOOSE(MONTH(A167),"Janvier","Février","Mars","Avril","Mai","Juin","Juillet","Aout","Septembre","Octobre","Novembre","Décembre") -> Novembre | G167: =YEAR(A167) -> 2014 | H167: =MONTH(A167) -> 11
A168: 41949 | B168: O. Danvoye | C168: 124509.12 | D168: Hainaut | E168: =IF(C168>0,1,0) -> 1 | F168: =CHOOSE(MONTH(A168),"Janvier","Février","Mars","Avril","Mai","Juin","Juillet","Aout","Septembre","Octobre","Novembre","Décembre") -> Novembre | G168: =YEAR(A168) -> 2014 | H168: =MONTH(A168) -> 11
A169: 41955 | B169: V. Detrembleur | C169: 182020.19 | D169: Brabant Wallon | E169: =IF(C169>0,1,0) -> 1 | F169: =CHOOSE(MONTH(A169),"Janvier","Février","Mars","Avril","Mai","Juin","Juillet","Aout","Septembre","Octobre","Novembre","Décembre") -> Novembre | G169: =YEAR(A169) -> 2014 | H169: =MONTH(A169) -> 11
A170: 41960 | B170: V. Detrembleur | C170: 153647.78 | D170: Brabant Wallon | E170: =IF(C170>0,1,0) -> 1 | F170: =CHOOSE(MONTH(A170),"Janvier","Février","Mars","Avril","Mai","Juin","Juillet","Aout","Septembre","Octobre","Novembre","Décembre") -> Novembre | G170: =YEAR(A170) -> 2014 | H170: =MONTH(A170) -> 11
A171: 41961 | B171: O. Danvoye | C171: 149958.97 | D171: Liege | E171: =IF(C171>0,1,0) -> 1 | F171: =CHOOSE(MONTH(A171),"Janvier","Février","Mars","Avril","Mai","Juin","Juillet","Aout","Septembre","Octobre","Novembre","Décembre") -> Novembre | G171: =YEAR(A171) -> 2014 | H171: =MONTH(A171) -> 11
A172: 41963 | B172: Jumatt | C172: 234000 | D172: Liege | E172: =IF(C172>0,1,0) -> 1 | F172: =CHOOSE(MONTH(A172),"Janvier","Février","Mars","Avril","Mai","Juin","Juillet","Aout","Septembre","Octobre","Novembre","Décembre") -> Novembre | G172: =YEAR(A172) -> 2014 | H172: =MONTH(A172) -> 11
A173: 41968 | B173: M-C Jamaigne | C173: 128802.75 | D173: Namur | E173: =IF(C173>0,1,0) -> 1 | F173: =CHOOSE(MONTH(A173),"Janvier","Février","Mars","Avril","Mai","Juin","Juillet","Aout","Septembre","Octobre","Novembre","Décembre") -> Novembre | G173: =YEAR(A173) -> 2014 | H173: =MONTH(A173) -> 11
A174: 41968 | B174: V. Detrembleur | C174: 164080.72 | D174: Liege | E174: =IF(C174>0,1,0) -> 1 | F174: =CHOOSE(MONTH(A174),"Janvier","Février","Mars","Avril","Mai","Juin","Juillet","Aout","Septembre","Octobre","Novembre","Décembre") -> Novembre | G174: =YEAR(A174) -> 2014 | H174: =MONTH(A174) -> 11
... A180: 41988 | B180: M. Meunier | C180: 145739.56 | D180: Luxembourg | E180: =IF(C180>0,1,0) -> 1 | F180: =CHOOSE(MONTH(A180),"Janvier","Février","Mars","Avril","Mai","Juin","Juillet","Aout","Septembre","Octobre","Novembre","Décembre") -> Décembre | G180: =YEAR(A180) -> 2014 | H180: =MONTH(A180) -> 12
A181: 42004 | B181: V. Detrembleur | C181: =211908+17989 -> 229897 | D181: Brabant Wallon | E181: =IF(C181>0,1,0) -> 1 | F181: =CHOOSE(MONTH(A181),"Janvier","Février","Mars","Avril","Mai","Juin","Juillet","Aout","Septembre","Octobre","Novembre","Décembre") -> Décembre | G181: =YEAR(A181) -> 2014 | H181: =MONTH(A181) -> 12

Sheet Comparaison Budget et Budget Ré
B1: Month/Year | C1: Mois | D1: Année | E1: Maisons (B) | F1: Maisons (B)(pourcentages annualisé) | G1: Maisons (B)(cumul) | H1: Maisons (F) | I1: Maisons (F) (pourcentages annualisé) | J1: Maisons (F)(cumul) | K1: Maisons (A) | L1: Maisons (A)(pourcentages annualisé) | M1: Maisons (A)(cumul)
B2: 40179 | C2: =CHOOSE(MONTH(B2),"Janvier","Février","Mars","Avril","Mai","Juin","Juillet","Aout","Septembre","Octobre","Novembre","Décembre") -> Janvier | D2: =YEAR(B2) -> 2010 | E2: 1 | F2: =+E2/(SUM(E$2:E$13)) -> 0.0099009901 | G2: =+E2 -> 1 | H2: 1 | I2: =+H2/(SUM(E$2:E$13)) -> 0.0099009901 | J2: =+H2 -> 1 | K2: 1 | L2: =+K2/(SUM(E$2:E$13)) -> 0.0099009901 | M2: =+K2 -> 1
B3: 40210 | C3: =CHOOSE(MONTH(B3),"Janvier","Février","Mars","Avril","Mai","Juin","Juillet","Aout","Septembre","Octobre","Novembre","Décembre") -> Février | D3: =YEAR(B3) -> 2010 | E3: 8 | F3: =+E3/(SUM(E$2:E$13)) -> 0.079207921 | G3: =+E3+E2 -> 9 | H3: 8 | I3: =+H3/(SUM(E$2:E$13)) -> 0.079207921 | J3: =+H3+H2 -> 9 | K3: 8 | L3: =+K3/(SUM(E$2:E$13)) -> 0.079207921 | M3: =+K3+K2 -> 9
B4: 40238 | C4: =CHOOSE(MONTH(B4),"Janvier","Février","Mars","Avril","Mai","Juin","Juillet","Aout","Septembre","Octobre","Novembre","Décembre") -> Mars | D4: =YEAR(B4) -> 2010 | E4: 8 | F4: =+E4/(SUM(E$2:E$13)) -> 0.079207921 | G4: =+E4+G3 -> 17 | H4: 8 | I4: =+H4/(SUM(E$2:E$13)) -> 0.079207921 | J4: =+H4+J3 -> 17 | K4: 8 | L4: =+K4/(SUM(E$2:E$13)) -> 0.079207921 | M4: =+K4+M3 -> 17
B5: 40269 | C5: =CHOOSE(MONTH(B5),"Janvier","Février","Mars","Avril","Mai","Juin","Juillet","Aout","Septembre","Octobre","Novembre","Décembre") -> Avril | D5: =YEAR(B5) -> 2010 | E5: 8 | F5: =+E5/(SUM(E$2:E$13)) -> 0.079207921 | G5: =+E5+G4 -> 25 | H5: 8 | I5: =+H5/(SUM(E$2:E$13)) -> 0.079207921 | J5: =+H5+J4 -> 25 | K5: 8 | L5: =+K5/(SUM(E$2:E$13)) -> 0.079207921 | M5: =+K5+M4 -> 25
B6: 40299 | C6: =CHOOSE(MONTH(B6),"Janvier","Février","Mars","Avril","Mai","Juin","Juillet","Aout","Septembre","Octobre","Novembre","Décembre") -> Mai | D6: =YEAR(B6) -> 2010 | E6: 11 | F6: =+E6/(SUM(E$2:E$13)) -> 0.10891089 | G6: =+E6+G5 -> 36 | H6: 11 | I6: =+H6/(SUM(E$2:E$13)) -> 0.10891089 | J6: =+H6+J5 -> 36 | K6: 11 | L6: =+K6/(SUM(E$2:E$13)) -> 0.10891089 | M6: =+K6+M5 -> 36
B7: 40330 | C7: =CHOOSE(MONTH(B7),"Janvier","Février","Mars","Avril","Mai","Juin","Juillet","Aout","Septembre","Octobre","Novembre","Décembre") -> Juin | D7: =YEAR(B7) -> 2010 | E7: 9 | F7: =+E7/(SUM(E$2:E$13)) -> 0.089108911 | G7: =+E7+G6 -> 45 | H7: 9 | I7: =+H7/(SUM(E$2:E$13)) -> 0.089108911 | J7: =+H7+J6 -> 45 | K7: 9 | L7: =+K7/(SUM(E$2:E$13)) -> 0.089108911 | M7: =+K7+M6 -> 45
B8: 40360 | C8: =CHOOSE(MONTH(B8),"Janvier","Février","Mars","Avril","Mai","Juin","Juillet","Aout","Septembre","Octobre","Novembre","Décembre") -> Juillet | D8: =YEAR(B8) -> 2010 | E8: 7 | F8: =+E8/(SUM(E$2:E$13)) -> 0.069306931 | G8: =+E8+G7 -> 52 | H8: 7 | I8: =+H8/(SUM(E$2:E$13)) -> 0.069306931 | J8: =+H8+J7 -> 52 | K8: 7 | L8: =+K8/(SUM(E$2:E$13)) -> 0.069306931 | M8: =+K8+M7 -> 52
B9: 40391 | C9: =CHOOSE(MONTH(B9),"Janvier","Février","Mars","Avril","Mai","Juin","Juillet","Aout","Septembre","Octobre","Novembre","Décembre") -> Aout | D9: =YEAR(B9) -> 2010 | E9: 5 | F9: =+E9/(SUM(E$2:E$13)) -> 0.04950495 | G9: =+E9+G8 -> 57 | H9: 5 | I9: =+H9/(SUM(E$2:E$13)) -> 0.04950495 | J9: =+H9+J8 -> 57 | K9: 5 | L9: =+K9/(SUM(E$2:E$13)) -> 0.04950495 | M9: =+K9+M8 -> 57
B10: 40422 | C10: =CHOOSE(MONTH(B10),"Janvier","Février","Mars","Avril","Mai","Juin","Juillet","Aout","Septembre","Octobre","Novembre","Décembre") -> Septembre | D10: =YEAR(B10) -> 2010 | E10: 7 | F10: =+E10/(SUM(E$2:E$13)) -> 0.069306931 | G10: =+E10+G9 -> 64 | H10: 7 | I10: =+H10/(SUM(E$2:E$13)) -> 0.069306931 | J10: =+H10+J9 -> 64 | K10: 7 | L10: =+K10/(SUM(E$2:E$13)) -> 0.069306931 | M10: =+K10+M9 -> 64
B11: 40452 | C11: =CHOOSE(MONTH(B11),"Janvier","Février","Mars","Avril","Mai","Juin","Juillet","Aout","Septembre","Octobre","Novembre","Décembre") -> Octobre | D11: =YEAR(B11) -> 2010 | E11: 15 | F11: =+E11/(SUM(E$2:E$13)) -> 0.14851485 | G11: =+E11+G10 -> 79 | H11: 15 | I11: =+H11/(SUM(E$2:E$13)) -> 0.14851485 | J11: =+H11+J10 -> 79 | K11: 15 | L11: =+K11/(SUM(E$2:E$13)) -> 0.14851485 | M11: =+K11+M10 -> 79
B12: 40483 | C12: =CHOOSE(MONTH(B12),"Janvier","Février","Mars","Avril","Mai","Juin","Juillet","Aout","Septembre","Octobre","Novembre","Décembre") -> Novembre | D12: =YEAR(B12) -> 2010 | E12: 11 | F12: =+E12/(SUM(E$2:E$13)) -> 0.10891089 | G12: =+E12+G11 -> 90 | H12: 11 | I12: =+H12/(SUM(E$2:E$13)) -> 0.10891089 | J12: =+H12+J11 -> 90 | K12: 11 | L12: =+K12/(SUM(E$2:E$13)) -> 0.10891089 | M12: =+K12+M11 -> 90
B13: 40513 | C13: =CHOOSE(MONTH(B13),"Janvier","Février","Mars","Avril","Mai","Juin","Juillet","Aout","Septembre","Octobre","Novembre","Décembre") -> Décembre | D13: =YEAR(B13) -> 2010 | E13: 11 | F13: =+E13/(SUM(E$2:E$13)) -> 0.10891089 | G13: =+E13+G12 -> 101 | H13: 11 | I13: =+H13/(SUM(E$2:E$13)) -> 0.10891089 | J13: =+H13+J12 -> 101 | K13: 11 | L13: =+K13/(SUM(E$2:E$13)) -> 0.10891089 | M13: =+K13+M12 -> 101
B14: 40544 | C14: =CHOOSE(MONTH(B14),"Janvier","Février","Mars","Avril","Mai","Juin","Juillet","Aout","Septembre","Octobre","Novembre","Décembre") -> Janvier | D14: =YEAR(B14) -> 2011 | E14: 1 | F14: =+E14/(SUM(E$14:E$25)) -> 0.0098039216 | G14: =+E14 -> 1 | H14: 1 | I14: =+H14/(SUM(E$14:E$25)) -> 0.0098039216 | J14: =+H14 -> 1 | K14: 1 | L14: =+K14/(SUM(E$14:E$25)) -> 0.0098039216 | M14: =+K14 -> 1
B15: 40575 | C15: =CHOOSE(MONTH(B15),"Janvier","Février","Mars","Avril","Mai","Juin","Juillet","Aout","Septembre","Octobre","Novembre","Décembre") -> Février | D15: =YEAR(B15) -> 2011 | E15: 7 | F15: =+E15/(SUM(E$14:E$25)) -> 0.068627451 | G15: =+E15+G14 -> 8 | H15: 7 | I15: =+H15/(SUM(E$14:E$25)) -> 0.068627451 | J15: =+H15+J14 -> 8 | K15: 7 | L15: =+K15/(SUM(E$14:E$25)) -> 0.068627451 | M15: =+K15+M14 -> 8
B16: 40603 | C16: =CHOOSE(MONTH(B16),"Janvier","Février","Mars","Avril","Mai","Juin","Juillet","Aout","Septembre","Octobre","Novembre","Décembre") -> Mars | D16: =YEAR(B16) -> 2011 | E16: 12 | F16: =+E16/(SUM(E$14:E$25)) -> 0.11764706 | G16: =+E16+G15 -> 20 | H16: 12 | I16: =+H16/(SUM(E$14:E$25)) -> 0.11764706 | J16: =+H16+J15 -> 20 | K16: 12 | L16: =+K16/(SUM(E$14:E$25)) -> 0.11764706 | M16: =+K16+M15 -> 20
B17: 40634 | C17: =CHOOSE(MONTH(B17),"Janvier","Février","Mars","Avril","Mai","Juin","Juillet","Aout","Septembre","Octobre","Novembre","Décembre") -> Avril | D17: =YEAR(B17) -> 2011 | E17: 9 | F17: =+E17/(SUM(E$14:E$25)) -> 0.088235294 | G17: =+E17+G16 -> 29 | H17: 9 | I17: =+H17/(SUM(E$14:E$25)) -> 0.088235294 | J17: =+H17+J16 -> 29 | K17: 9 | L17: =+K17/(SUM(E$14:E$25)) -> 0.088235294 | M17: =+K17+M16 -> 29
B18: 40664 | C18: =CHOOSE(MONTH(B18),"Janvier","Février","Mars","Avril","Mai","Juin","Juillet","Aout","Septembre","Octobre","Novembre","Décembre") -> Mai | D18: =YEAR(B18) -> 2011 | E18: 11 | F18: =+E18/(SUM(E$14:E$25)) -> 0.10784314 | G18: =+E18+G17 -> 40 | H18: 11 | I18: =+H18/(SUM(E$14:E$25)) -> 0.10784314 | J18: =+H18+J17 -> 40 | K18: 11 | L18: =+K18/(SUM(E$14:E$25)) -> 0.10784314 | M18: =+K18+M17 -> 40
B19: 40695 | C19: =CHOOSE(MONTH(B19),"Janvier","Février","Mars","Avril","Mai","Juin","Juillet","Aout","Septembre","Octobre","Novembre","Décembre") -> Juin | D19: =YEAR(B19) -> 2011 | E19: 9 | F19: =+E19/(SUM(E$14:E$25)) -> 0.088235294 | G19: =+E19+G18 -> 49 | H19: 9 | I19: =+H19/(SUM(E$14:E$25)) -> 0.088235294 | J19: =+H19+J18 -> 49 | K19: 9 | L19: =+K19/(SUM(E$14:E$25)) -> 0.088235294 | M19: =+K19+M18 -> 49
B20: 40725 | C20: =CHOOSE(MONTH(B20),"Janvier","Février","Mars","Avril","Mai","Juin","Juillet","Aout","Septembre","Octobre","Novembre","Décembre") -> Juillet | D20: =YEAR(B20) -> 2011 | E20: 10 | F20: =+E20/(SUM(E$14:E$25)) -> 0.098039216 | G20: =+E20+G19 -> 59 | H20: 10 | I20: =+H20/(SUM(E$14:E$25)) -> 0.098039216 | J20: =+H20+J19 -> 59 | K20: 10 | L20: =+K20/(SUM(E$14:E$25)) -> 0.098039216 | M20: =+K20+M19 -> 59
B21: 40756 | C21: =CHOOSE(MONTH(B21),"Janvier","Février","Mars","Avril","Mai","Juin","Juillet","Aout","Septembre","Octobre","Novembre","Décembre") -> Aout | D21: =YEAR(B21) -> 2011 | E21: 3 | F21: =+E21/(SUM(E$14:E$25)) -> 0.029411765 | G21: =+E21+G20 -> 62 | H21: 3 | I21: =+H21/(SUM(E$14:E$25)) -> 0.029411765 | J21: =+H21+J20 -> 62 | K21: 3 | L21: =+K21/(SUM(E$14:E$25)) -> 0.029411765 | M21: =+K21+M20 -> 62
B22: 40787 | C22: =CHOOSE(MONTH(B22),"Janvier","Février","Mars","Avril","Mai","Juin","Juillet","Aout","Septembre","Octobre","Novembre","Décembre") -> Septembre | D22: =YEAR(B22) -> 2011 | E22: 7 | F22: =+E22/(SUM(E$14:E$25)) -> 0.068627451 | G22: =+E22+G21 -> 69 | H22: 7 | I22: =+H22/(SUM(E$14:E$25)) -> 0.068627451 | J22: =+H22+J21 -> 69 | K22: 7 | L22: =+K22/(SUM(E$14:E$25)) -> 0.068627451 | M22: =+K22+M21 -> 69
B23: 40817 | C23: =CHOOSE(MONTH(B23),"Janvier","Février","Mars","Avril","Mai","Juin","Juillet","Aout","Septembre","Octobre","Novembre","Décembre") -> Octobre | D23: =YEAR(B23) -> 2011 | E23: 9 | F23: =+E23/(SUM(E$14:E$25)) -> 0.088235294 | G23: =+E23+G22 -> 78 | H23: 9 | I23: =+H23/(SUM(E$14:E$25)) -> 0.088235294 | J23: =+H23+J22 -> 78 | K23: 9 | L23: =+K23/(SUM(E$14:E$25)) -> 0.088235294 | M23: =+K23+M22 -> 78
B24: 40848 | C24: =CHOOSE(MONTH(B24),"Janvier","Février","Mars","Avril","Mai","Juin","Juillet","Aout","Septembre","Octobre","Novembre","Décembre") -> Novembre | D24: =YEAR(B24) -> 2011 | E24: 13 | F24: =+E24/(SUM(E$14:E$25)) -> 0.12745098 | G24: =+E24+G23 -> 91 | H24: 13 | I24: =+H24/(SUM(E$14:E$25)) -> 0.12745098 | J24: =+H24+J23 -> 91 | K24: 13 | L24: =+K24/(SUM(E$14:E$25)) -> 0.12745098 | M24: =+K24+M23 -> 91
B25: 40878 | C25: =CHOOSE(MONTH(B25),"Janvier","Février","Mars","Avril","Mai","Juin","Juillet","Aout","Septembre","Octobre","Novembre","Décembre") -> Décembre | D25: =YEAR(B25) -> 2011 | E25: 11 | F25: =+E25/(SUM(E$14:E$25)) -> 0.10784314 | G25: =+E25+G24 -> 102 | H25: 11 | I25: =+H25/(SUM(E$14:E$25)) -> 0.10784314 | J25: =+H25+J24 -> 102 | K25: 11 | L25: =+K25/(SUM(E$14:E$25)) -> 0.10784314 | M25: =+K25+M24 -> 102
B26: 40909 | C26: =CHOOSE(MONTH(B26),"Janvier","Février","Mars","Avril","Mai","Juin","Juillet","Aout","Septembre","Octobre","Novembre","Décembre") -> Janvier | D26: =YEAR(B26) -> 2012 | E26: 4 | F26: =+E26/(SUM(E$26:E$37)) -> 0.042553191 | G26: =+E26 -> 4 | H26: 4 | I26: =+H26/(SUM(E$26:E$37)) -> 0.042553191 | J26: =+H26 -> 4 | K26: 4 | L26: =+K26/(SUM(E$26:E$37)) -> 0.042553191 | M26: =+K26 -> 4
B27: 40940 | C27: =CHOOSE(MONTH(B27),"Janvier","Février","Mars","Avril","Mai","Juin","Juillet","Aout","Septembre","Octobre","Novembre","Décembre") -> Février | D27: =YEAR(B27) -> 2012 | E27: 4 | F27: =+E27/(SUM(E$26:E$37)) -> 0.042553191 | G27: =+E27+G26 -> 8 | H27: 4 | I27: =+H27/(SUM(E$26:E$37)) -> 0.042553191 | J27: =+H27+J26 -> 8 | K27: 4 | L27: =+K27/(SUM(E$26:E$37)) -> 0.042553191 | M27: =+K27+M26 -> 8
B28: 40969 | C28: =CHOOSE(MONTH(B28),"Janvier","Février","Mars","Avril","Mai","Juin","Juillet","Aout","Septembre","Octobre","Novembre","Décembre") -> Mars | D28: =YEAR(B28) -> 2012 | E28: 7 | F28: =+E28/(SUM(E$26:E$37)) -> 0.074468085 | G28: =+E28+G27 -> 15 | H28: 7 | I28: =+H28/(SUM(E$26:E$37)) -> 0.074468085 | J28: =+H28+J27 -> 15 | K28: 7 | L28: =+K28/(SUM(E$26:E$37)) -> 0.074468085 | M28: =+K28+M27 -> 15
B29: 41000 | C29: =CHOOSE(MONTH(B29),"Janvier","Février","Mars","Avril","Mai","Juin","Juillet","Aout","Septembre","Octobre","Novembre","Décembre") -> Avril | D29: =YEAR(B29) -> 2012 | E29: 6 | F29: =+E29/(SUM(E$26:E$37)) -> 0.063829787 | G29: =+E29+G28 -> 21 | H29: 6 | I29: =+H29/(SUM(E$26:E$37)) -> 0.063829787 | J29: =+H29+J28 -> 21 | K29: 6 | L29: =+K29/(SUM(E$26:E$37)) -> 0.063829787 | M29: =+K29+M28 -> 21
B30: 41030 | C30: =CHOOSE(MONTH(B30),"Janvier","Février","Mars","Avril","Mai","Juin","Juillet","Aout","Septembre","Octobre","Novembre","Décembre") -> Mai | D30: =YEAR(B30) -> 2012 | E30: 7 | F30: =+E30/(SUM(E$26:E$37)) -> 0.074468085 | G30: =+E30+G29 -> 28 | H30: 7 | I30: =+H30/(SUM(E$26:E$37)) -> 0.074468085 | J30: =+H30+J29 -> 28 | K30: 7 | L30: =+K30/(SUM(E$26:E$37)) -> 0.074468085 | M30: =+K30+M29 -> 28
B31: 41061 | C31: =CHOOSE(MONTH(B31),"Janvier","Février","Mars","Avril","Mai","Juin","Juillet","Aout","Septembre","Octobre","Novembre","Décembre") -> Juin | D31: =YEAR(B31) -> 2012 | E31: 10 | F31: =+E31/(SUM(E$26:E$37)) -> 0.10638298 | G31: =+E31+G30 -> 38 | H31: 10 | I31: =+H31/(SUM(E$26:E$37)) -> 0.10638298 | J31: =+H31+J30 -> 38 | K31: 10 | L31: =+K31/(SUM(E$26:E$37)) -> 0.10638298 | M31: =+K31+M30 -> 38
B32: 41091 | C32: =CHOOSE(MONTH(B32),"Janvier","Février","Mars","Avril","Mai","Juin","Juillet","Aout","Septembre","Octobre","Novembre","Décembre") -> Juillet | D32: =YEAR(B32) -> 2012 | E32: 8 | F32: =+E32/(SUM(E$26:E$37)) -> 0.085106383 | G32: =+E32+G31 -> 46 | H32: 8 | I32: =+H32/(SUM(E$26:E$37)) -> 0.085106383 | J32: =+H32+J31 -> 46 | K32: 8 | L32: =+K32/(SUM(E$26:E$37)) -> 0.085106383 | M32: =+K32+M31 -> 46
B33: 41122 | C33: =CHOOSE(MONTH(B33),"Janvier","Février","Mars","Avril","Mai","Juin","Juillet","Aout","Septembre","Octobre","Novembre","Décembre") -> Aout | D33: =YEAR(B33) -> 2012 | E33: 4 | F33: =+E33/(SUM(E$26:E$37)) -> 0.042553191 | G33: =+E33+G32 -> 50 | H33: 4 | I33: =+H33/(SUM(E$26:E$37)) -> 0.042553191 | J33: =+H33+J32 -> 50 | K33: 4 | L33: =+K33/(SUM(E$26:E$37)) -> 0.042553191 | M33: =+K33+M32 -> 50
B34: 41153 | C34: =CHOOSE(MONTH(B34),"Janvier","Février","Mars","Avril","Mai","Juin","Juillet","Aout","Septembre","Octobre","Novembre","Décembre") -> Septembre | D34: =YEAR(B34) -> 2012 | E34: 6 | F34: =+E34/(SUM(E$26:E$37)) -> 0.063829787 | G34: =+E34+G33 -> 56 | H34: 6 | I34: =+H34/(SUM(E$26:E$37)) -> 0.063829787 | J34: =+H34+J33 -> 56 | K34: 6 | L34: =+K34/(SUM(E$26:E$37)) -> 0.063829787 | M34: =+K34+M33 -> 56
B35: 41183 | C35: =CHOOSE(MONTH(B35),"Janvier","Février","Mars","Avril","Mai","Juin","Juillet","Aout","Septembre","Octobre","Novembre","Décembre") -> Octobre | D35: =YEAR(B35) -> 2012 | E35: 10 | F35: =+E35/(SUM(E$26:E$37)) -> 0.10638298 | G35: =+E35+G34 -> 66 | H35: 10 | I35: =+H35/(SUM(E$26:E$37)) -> 0.10638298 | J35: =+H35+J34 -> 66 | K35: 10 | L35: =+K35/(SUM(E$26:E$37)) -> 0.10638298 | M35: =+K35+M34 -> 66
B36: 41214 | C36: =CHOOSE(MONTH(B36),"Janvier","Février","Mars","Avril","Mai","Juin","Juillet","Aout","Septembre","Octobre","Novembre","Décembre") -> Novembre | D36: =YEAR(B36) -> 2012 | E36: 10 | F36: =+E36/(SUM(E$26:E$37)) -> 0.10638298 | G36: =+E36+G35 -> 76 | H36: 10 | I36: =+H36/(SUM(E$26:E$37)) -> 0.10638298 | J36: =+H36+J35 -> 76 | K36: 10 | L36: =+K36/(SUM(E$26:E$37)) -> 0.10638298 | M36: =+K36+M35 -> 76
B37: 41244 | C37: =CHOOSE(MONTH(B37),"Janvier","Février","Mars","Avril","Mai","Juin","Juillet","Aout","Septembre","Octobre","Novembre","Décembre") -> Décembre | D37: =YEAR(B37) -> 2012 | E37: 18 | F37: =+E37/(SUM(E$26:E$37)) -> 0.19148936 | G37: =+E37+G36 -> 94 | H37: 18 | I37: =+H37/(SUM(E$26:E$37)) -> 0.19148936 | J37: =+H37+J36 -> 94 | K37: 18 | L37: =+K37/(SUM(E$26:E$37)) -> 0.19148936 | M37: =+K37+M36 -> 94
B38: 41275 | C38: =CHOOSE(MONTH(B38),"Janvier","Février","Mars","Avril","Mai","Juin","Juillet","Aout","Septembre","Octobre","Novembre","Décembre") -> Janvier | D38: =YEAR(B38) -> 2013 | E38: 2 | F38: =+E38/(SUM(E$38:E$49)) -> 0.02 | G38: =+E38 -> 2 | H38: 2 | I38: =+H38/(SUM(E$38:E$49)) -> 0.02 | J38: =+H38 -> 2 | K38: 2 | L38: =+K38/(SUM(E$38:E$49)) -> 0.02 | M38: =+K38 -> 2
B39: 41306 | C39: =CHOOSE(MONTH(B39),"Janvier","Février","Mars","Avril","Mai","Juin","Juillet","Aout","Septembre","Octobre","Novembre","Décembre") -> Février | D39: =YEAR(B39) -> 2013 | E39: 2 | F39: =+E39/(SUM(E$38:E$49)) -> 0.02 | G39: =+E39+G38 -> 4 | H39: 2 | I39: =+H39/(SUM(E$38:E$49)) -> 0.02 | J39: =+H39+J38 -> 4 | K39: 2 | L39: =+K39/(SUM(E$38:E$49)) -> 0.02 | M39: =+K39+M38 -> 4
B40: 41334 | C40: =CHOOSE(MONTH(B40),"Janvier","Février","Mars","Avril","Mai","Juin","Juillet","Aout","Septembre","Octobre","Novembre","Décembre") -> Mars | D40: =YEAR(B40) -> 2013 | E40: 6 | F40: =+E40/(SUM(E$38:E$49)) -> 0.06 | G40: =+E40+G39 -> 10 | H40: 6 | I40: =+H40/(SUM(E$38:E$49)) -> 0.06 | J40: =+H40+J39 -> 10 | K40: 6 | L40: =+K40/(SUM(E$38:E$49)) -> 0.06 | M40: =+K40+M39 -> 10
B41: 41365 | C41: =CHOOSE(MONTH(B41),"Janvier","Février","Mars","Avril","Mai","Juin","Juillet","Aout","Septembre","Octobre","Novembre","Décembre") -> Avril | D41: =YEAR(B41) -> 2013 | E41: 9 | F41: =+E41/(SUM(E$38:E$49)) -> 0.09 | G41: =+E41+G40 -> 19 | H41: 9 | I41: =+H41/(SUM(E$38:E$49)) -> 0.09 | J41: =+H41+J40 -> 19 | K41: 9 | L41: =+K41/(SUM(E$38:E$49)) -> 0.09 | M41: =+K41+M40 -> 19
B42: 41395 | C42: =CHOOSE(MONTH(B42),"Janvier","Février","Mars","Avril","Mai","Juin","Juillet","Aout","Septembre","Octobre","Novembre","Décembre") -> Mai | D42: =YEAR(B42) -> 2013 | E42: 11 | F42: =+E42/(SUM(E$38:E$49)) -> 0.11 | G42: =+E42+G41 -> 30 | H42: 11 | I42: =+H42/(SUM(E$38:E$49)) -> 0.11 | J42: =+H42+J41 -> 30 | K42: 11 | L42: =+K42/(SUM(E$38:E$49)) -> 0.11 | M42: =+K42+M41 -> 30
B43: 41426 | C43: =CHOOSE(MONTH(B43),"Janvier","Février","Mars","Avril","Mai","Juin","Juillet","Aout","Septembre","Octobre","Novembre","Décembre") -> Juin | D43: =YEAR(B43) -> 2013 | E43: 13 | F43: =+E43/(SUM(E$38:E$49)) -> 0.13 | G43: =+E43+G42 -> 43 | H43: 13 | I43: =+H43/(SUM(E$38:E$49)) -> 0.13 | J43: =+H43+J42 -> 43 | K43: 13 | L43: =+K43/(SUM(E$38:E$49)) -> 0.13 | M43: =+K43+M42 -> 43
B44: 41456 | C44: =CHOOSE(MONTH(B44),"Janvier","Février","Mars","Avril","Mai","Juin","Juillet","Aout","Septembre","Octobre","Novembre","Décembre") -> Juillet | D44: =YEAR(B44) -> 2013 | E44: 13 | F44: =+E44/(SUM(E$38:E$49)) -> 0.13 | G44: =+E44+G43 -> 56 | H44: 13 | I44: =+H44/(SUM(E$38:E$49)) -> 0.13 | J44: =+H44+J43 -> 56 | K44: 13 | L44: =+K44/(SUM(E$38:E$49)) -> 0.13 | M44: =+K44+M43 -> 56
B45: 41487 | C45: =CHOOSE(MONTH(B45),"Janvier","Février","Mars","Avril","Mai","Juin","Juillet","Aout","Septembre","Octobre","Novembre","Décembre") -> Aout | D45: =YEAR(B45) -> 2013 | E45: 5 | F45: =+E45/(SUM(E$38:E$49)) -> 0.05 | G45: =+E45+G44 -> 61 | H45: 5 | I45: =+H45/(SUM(E$38:E$49)) -> 0.05 | J45: =+H45+J44 -> 61 | K45: 5 | L45: =+K45/(SUM(E$38:E$49)) -> 0.05 | M45: =+K45+M44 -> 61
B46: 41518 | C46: =CHOOSE(MONTH(B46),"Janvier","Février","Mars","Avril","Mai","Juin","Juillet","Aout","Septembre","Octobre","Novembre","Décembre") -> Septembre | D46: =YEAR(B46) -> 2013 | E46: 5 | F46: =+E46/(SUM(E$38:E$49)) -> 0.05 | G46: =+E46+G45 -> 66 | H46: 5 | I46: =+H46/(SUM(E$38:E$49)) -> 0.05 | J46: =+H46+J45 -> 66 | K46: 5 | L46: =+K46/(SUM(E$38:E$49)) -> 0.05 | M46: =+K46+M45 -> 66
B47: 41548 | C47: =CHOOSE(MONTH(B47),"Janvier","Février","Mars","Avril","Mai","Juin","Juillet","Aout","Septembre","Octobre","Novembre","Décembre") -> Octobre | D47: =YEAR(B47) -> 2013 | E47: 9 | F47: =+E47/(SUM(E$38:E$49)) -> 0.09 | G47: =+E47+G46 -> 75 | H47: 9 | I47: =+H47/(SUM(E$38:E$49)) -> 0.09 | J47: =+H47+J46 -> 75 | K47: 9 | L47: =+K47/(SUM(E$38:E$49)) -> 0.09 | M47: =+K47+M46 -> 75
B48: 41579 | C48: =CHOOSE(MONTH(B48),"Janvier","Février","Mars","Avril","Mai","Juin","Juillet","Aout","Septembre","Octobre","Novembre","Décembre") -> Novembre | D48: =YEAR(B48) -> 2013 | E48: 8 | F48: =+E48/(SUM(E$38:E$49)) -> 0.08 | G48: =+E48+G47 -> 83 | H48: 8 | I48: =+H48/(SUM(E$38:E$49)) -> 0.08 | J48: =+H48+J47 -> 83 | K48: 8 | L48: =+K48/(SUM(E$38:E$49)) -> 0.08 | M48: =+K48+M47 -> 83
B49: 41609 | C49: =CHOOSE(MONTH(B49),"Janvier","Février","Mars","Avril","Mai","Juin","Juillet","Aout","Septembre","Octobre","Novembre","Décembre") -> Décembre | D49: =YEAR(B49) -> 2013 | E49: 17 | F49: =+E49/(SUM(E$38:E$49)) -> 0.17 | G49: =+G48+E49 -> 100 | H49: 11 | I49: =+H49/(SUM(E$38:E$49)) -> 0.11 | J49: =+J48+H49 -> 94 | K49: 10 | L49: =+K49/(SUM(E$38:E$49)) -> 0.1 | M49: =+M48+K49 -> 93
A50: 80 | B50: 41640 | C50: =CHOOSE(MONTH(B50),"Janvier","Février","Mars","Avril","Mai","Juin","Juillet","Aout","Septembre","Octobre","Novembre","Décembre") -> Janvier | D50: =YEAR(B50) -> 2014 | E50: 2 | F50: =+(F2+F14+F26+F38)/4 -> 0.020564526 | G50: =+E50 -> 2 | H50: 2 | I50: =+(I2+I14+I26+I38)/4 -> 0.020564526 | J50: =+H50 -> 2 | K50: 3 | L50: =+(L2+L14+L26+L38)/4 -> 0.020564526 | M50: =+K50 -> 3
B51: 41671 | C51: =CHOOSE(MONTH(B51),"Janvier","Février","Mars","Avril","Mai","Juin","Juillet","Aout","Septembre","Octobre","Novembre","Décembre") -> Février | D51: =YEAR(B51) -> 2014 | E51: 4 | F51: =+(F3+F15+F27+F39)/4 -> 0.052597141 | G51: =+E51+G50 -> 6 | H51: 4 | I51: =+(I3+I15+I27+I39)/4 -> 0.052597141 | J51: =+H51+J50 -> 6 | K51: 9 | L51: =+(L3+L15+L27+L39)/4 -> 0.052597141 | M51: =+K51+M50 -> 12
B52: 41699 | C52: =CHOOSE(MONTH(B52),"Janvier","Février","Mars","Avril","Mai","Juin","Juillet","Aout","Septembre","Octobre","Novembre","Décembre") -> Mars | D52: =YEAR(B52) -> 2014 | E52: 7 | F52: =+(F4+F16+F28+F40)/4 -> 0.082830766 | G52: =+E52+G51 -> 13 | H52: 7 | I52: =+(I4+I16+I28+I40)/4 -> 0.082830766 | J52: =+H52+J51 -> 13 | K52: 4 | L52: =+(L4+L16+L28+L40)/4 -> 0.082830766 | M52: =+K52+M51 -> 16
B53: 41730 | C53: =CHOOSE(MONTH(B53),"Janvier","Février","Mars","Avril","Mai","Juin","Juillet","Aout","Septembre","Octobre","Novembre","Décembre") -> Avril | D53: =YEAR(B53) -> 2014 | E53: 7 | F53: =+(F5+F17+F29+F41)/4 -> 0.080318251 | G53: =+E53+G52 -> 20 | H53: 7 | I53: =+(I5+I17+I29+I41)/4 -> 0.080318251 | J53: =+H53+J52 -> 20 | K53: 4 | L53: =+(L5+L17+L29+L41)/4 -> 0.080318251 | M53: =+K53+M52 -> 20
B54: 41760 | C54: =CHOOSE(MONTH(B54),"Janvier","Février","Mars","Avril","Mai","Juin","Juillet","Aout","Septembre","Octobre","Novembre","Décembre") -> Mai | D54: =YEAR(B54) -> 2014 | E54: 8 | F54: =+(F6+F18+F30+F42)/4 -> 0.10030553 | G54: =+E54+G53 -> 28 | H54: 9 | I54: =+(I6+I18+I30+I42)/4 -> 0.10030553 | J54: =+H54+J53 -> 29 | K54: 6 | L54: =+(L6+L18+L30+L42)/4 -> 0.10030553 | M54: =+K54+M53 -> 26
B55: 41791 | C55: =CHOOSE(MONTH(B55),"Janvier","Février","Mars","Avril","Mai","Juin","Juillet","Aout","Septembre","Octobre","Novembre","Décembre") -> Juin | D55: =YEAR(B55) -> 2014 | E55: 9 | F55: =+(F7+F19+F31+F43)/4 -> 0.1034318 | G55: =+E55+G54 -> 37 | H55: 10 | I55: =+(I7+I19+I31+I43)/4 -> 0.1034318 | J55: =+H55+J54 -> 39 | K55: 7 | L55: =+(L7+L19+L31+L43)/4 -> 0.1034318 | M55: =+K55+M54 -> 33
B56: 41821 | C56: =CHOOSE(MONTH(B56),"Janvier","Février","Mars","Avril","Mai","Juin","Juillet","Aout","Septembre","Octobre","Novembre","Décembre") -> Juillet | D56: =YEAR(B56) -> 2014 | E56: 8 | F56: =+(F8+F20+F32+F44)/4 -> 0.095613132 | G56: =+E56+G55 -> 45 | H56: 9 | I56: =+(I8+I20+I32+I44)/4 -> 0.095613132 | J56: =+H56+J55 -> 48 | K56: 11 | L56: =+(L8+L20+L32+L44)/4 -> 0.095613132 | M56: =+K56+M55 -> 44
B57: 41852 | C57: =CHOOSE(MONTH(B57),"Janvier","Février","Mars","Avril","Mai","Juin","Juillet","Aout","Septembre","Octobre","Novembre","Décembre") -> Aout | D57: =YEAR(B57) -> 2014 | E57: 3 | F57: =+(F9+F21+F33+F45)/4 -> 0.042867477 | G57: =+E57+G56 -> 48 | H57: 3 | I57: =+(I9+I21+I33+I45)/4 -> 0.042867477 | J57: =+H57+J56 -> 51 | K57: 5 | L57: =+(L9+L21+L33+L45)/4 -> 0.042867477 | M57: =+K57+M56 -> 49
B58: 41883 | C58: =CHOOSE(MONTH(B58),"Janvier","Février","Mars","Avril","Mai","Juin","Juillet","Aout","Septembre","Octobre","Novembre","Décembre") -> Septembre | D58: =YEAR(B58) -> 2014 | E58: 5 | F58: =+(F10+F22+F34+F46)/4 -> 0.062941042 | G58: =+E58+G57 -> 53 | H58: 5 | I58: =+(I10+I22+I34+I46)/4 -> 0.062941042 | J58: =+H58+J57 -> 56 | K58: 9 | L58: =+(L10+L22+L34+L46)/4 -> 0.062941042 | M58: =+K58+M57 -> 58
B59: 41913 | C59: =CHOOSE(MONTH(B59),"Janvier","Février","Mars","Avril","Mai","Juin","Juillet","Aout","Septembre","Octobre","Novembre","Décembre") -> Octobre | D59: =YEAR(B59) -> 2014 | E59: 9 | F59: =+(F11+F23+F35+F47)/4 -> 0.10828328 | G59: =+E59+G58 -> 62 | H59: 10 | I59: =+(I11+I23+I35+I47)/4 -> 0.10828328 | J59: =+H59+J58 -> 66 | K59: 10 | L59: =+(L11+L23+L35+L47)/4 -> 0.10828328 | M59: =+K59+M58 -> 68
B60: 41944 | C60: =CHOOSE(MONTH(B60),"Janvier","Février","Mars","Avril","Mai","Juin","Juillet","Aout","Septembre","Octobre","Novembre","Décembre") -> Novembre | D60: =YEAR(B60) -> 2014 | E60: 8 | F60: =+(F12+F24+F36+F48)/4 -> 0.10568621 | G60: =+E60+G59 -> 70 | H60: 9 | I60: =+(I12+I24+I36+I48)/4 -> 0.10568621 | J60: =+H60+J59 -> 75 | K60: 9 | L60: =+(L12+L24+L36+L48)/4 -> 0.10568621 | M60: =+K60+M59 -> 77
B61: 41974 | C61: =CHOOSE(MONTH(B61),"Janvier","Février","Mars","Avril","Mai","Juin","Juillet","Aout","Septembre","Octobre","Novembre","Décembre") -> Décembre | D61: =YEAR(B61) -> 2014 | E61: 10 | F61: =+(F13+F25+F37+F49)/4 -> 0.14456085 | G61: =+E61+G60 -> 80 | H61: 11 | I61: =+(I13+I25+I37+I49)/4 -> 0.12956085 | J61: =+H61+J60 -> 86 | K61: 8 | L61: =+(L13+L25+L37+L49)/4 -> 0.12706085 | M61: =+K61+M60 -> 85
A62: 85 | B62: 42005 | C62: =CHOOSE(MONTH(B62),"Janvier","Février","Mars","Avril","Mai","Juin","Juillet","Aout","Septembre","Octobre","Novembre","Décembre") -> Janvier | D62: =YEAR(B62) -> 2015 | E62: 2 | F62: =(+F26+F38+F50)/3 -> 0.027705906 | G62: =+E62 -> 2 | H62: =+E62 -> 2 | I62: =+F62 -> 0.027705906 | J62: =+H62 -> 2 | K62: 1 | L62: =+K62/SUM(K$62:K$73) -> 0.2 | M62: =+K62 -> 1
B63: 42036 | C63: =CHOOSE(MONTH(B63),"Janvier","Février","Mars","Avril","Mai","Juin","Juillet","Aout","Septembre","Octobre","Novembre","Décembre") -> Février | D63: =YEAR(B63) -> 2015 | E63: 3 | F63: =(+F27+F39+F51)/3 -> 0.038383444 | G63: =+E63+G62 -> 5 | H63: =+E63 -> 3 | I63: =+F63 -> 0.038383444 | J63: =+H63+J62 -> 5 | K63: 4 | L63: =+K63/SUM(K$62:K$73) -> 0.8 | M63: =+K63+M62 -> 5
B64: 42064 | C64: =CHOOSE(MONTH(B64),"Janvier","Février","Mars","Avril","Mai","Juin","Juillet","Aout","Septembre","Octobre","Novembre","Décembre") -> Mars | D64: =YEAR(B64) -> 2015 | E64: 6 | F64: =(+F28+F40+F52)/3 -> 0.07243295 | G64: =+E64+G63 -> 11 | H64: =+E64 -> 6 | I64: =+F64 -> 0.07243295 | J64: =+H64+J63 -> 11 | K64: 0 | L64: =+K64/SUM(K$62:K$73) -> 0 | M64: =+K64+M63 -> 5
B65: 42095 | C65: =CHOOSE(MONTH(B65),"Janvier","Février","Mars","Avril","Mai","Juin","Juillet","Aout","Septembre","Octobre","Novembre","Décembre") -> Avril | D65: =YEAR(B65) -> 2015 | E65: 7 | F65: =(+F29+F41+F53)/3 -> 0.078049346 | G65: =+E65+G64 -> 18 | H65: =+E65 -> 7 | I65: =+F65 -> 0.078049346 | J65: =+H65+J64 -> 18 | K65: 0 | L65: =+K65/SUM(K$62:K$73) -> 0 | M65: =+K65+M64 -> 5
B66: 42125 | C66: =CHOOSE(MONTH(B66),"Janvier","Février","Mars","Avril","Mai","Juin","Juillet","Aout","Septembre","Octobre","Novembre","Décembre") -> Mai | D66: =YEAR(B66) -> 2015 | E66: 8 | F66: =(+F30+F42+F54)/3 -> 0.094924538 | G66: =+E66+G65 -> 26 | H66: =+E66 -> 8 | I66: =+F66 -> 0.094924538 | J66: =+H66+J65 -> 26 | K66: 0 | L66: =+K66/SUM(K$62:K$73) -> 0 | M66: =+K66+M65 -> 5
B67: 42156 | C67: =CHOOSE(MONTH(B67),"Janvier","Février","Mars","Avril","Mai","Juin","Juillet","Aout","Septembre","Octobre","Novembre","Décembre") -> Juin | D67: =YEAR(B67) -> 2015 | E67: 10 | F67: =(+F31+F43+F55)/3 -> 0.11327159 | G67: =+E67+G66 -> 36 | H67: =+E67 -> 10 | I67: =+F67 -> 0.11327159 | J67: =+H67+J66 -> 36 | K67: 0 | L67: =+K67/SUM(K$62:K$73) -> 0 | M67: =+K67+M66 -> 5
B68: 42186 | C68: =CHOOSE(MONTH(B68),"Janvier","Février","Mars","Avril","Mai","Juin","Juillet","Aout","Septembre","Octobre","Novembre","Décembre") -> Juillet | D68: =YEAR(B68) -> 2015 | E68: 9 | F68: =(+F32+F44+F56)/3 -> 0.10357317 | G68: =+E68+G67 -> 45 | H68: =+E68 -> 9 | I68: =+F68 -> 0.10357317 | J68: =+H68+J67 -> 45 | K68: 0 | L68: =+K68/SUM(K$62:K$73) -> 0 | M68: =+K68+M67 -> 5
B69: 42217 | C69: =CHOOSE(MONTH(B69),"Janvier","Février","Mars","Avril","Mai","Juin","Juillet","Aout","Septembre","Octobre","Novembre","Décembre") -> Aout | D69: =YEAR(B69) -> 2015 | E69: 4 | F69: =(+F33+F45+F57)/3 -> 0.045140223 | G69: =+E69+G68 -> 49 | H69: =+E69 -> 4 | I69: =+F69 -> 0.045140223 | J69: =+H69+J68 -> 49 | K69: 0 | L69: =+K69/SUM(K$62:K$73) -> 0 | M69: =+K69+M68 -> 5
B70: 42248 | C70: =CHOOSE(MONTH(B70),"Janvier","Février","Mars","Avril","Mai","Juin","Juillet","Aout","Septembre","Octobre","Novembre","Décembre") -> Septembre | D70: =YEAR(B70) -> 2015 | E70: 5 | F70: =(+F34+F46+F58)/3 -> 0.05892361 | G70: =+E70+G69 -> 54 | H70: =+E70 -> 5 | I70: =+F70 -> 0.05892361 | J70: =+H70+J69 -> 54 | K70: 0 | L70: =+K70/SUM(K$62:K$73) -> 0 | M70: =+K70+M69 -> 5
B71: 42278 | C71: =CHOOSE(MONTH(B71),"Janvier","Février","Mars","Avril","Mai","Juin","Juillet","Aout","Septembre","Octobre","Novembre","Décembre") -> Octobre | D71: =YEAR(B71) -> 2015 | E71: 9 | F71: =(+F35+F47+F59)/3 -> 0.10155542 | G71: =+E71+G70 -> 63 | H71: =+E71 -> 9 | I71: =+F71 -> 0.10155542 | J71: =+H71+J70 -> 63 | K71: 0 | L71: =+K71/SUM(K$62:K$73) -> 0 | M71: =+K71+M70 -> 5
B72: 42309 | C72: =CHOOSE(MONTH(B72),"Janvier","Février","Mars","Avril","Mai","Juin","Juillet","Aout","Septembre","Octobre","Novembre","Décembre") -> Novembre | D72: =YEAR(B72) -> 2015 | E72: 8 | F72: =(+F36+F48+F60)/3 -> 0.097356397 | G72: =+E72+G71 -> 71 | H72: =+E72 -> 8 | I72: =+F72 -> 0.097356397 | J72: =+H72+J71 -> 71 | K72: 0 | L72: =+K72/SUM(K$62:K$73) -> 0 | M72: =+K72+M71 -> 5
B73: 42339 | C73: =CHOOSE(MONTH(B73),"Janvier","Février","Mars","Avril","Mai","Juin","Juillet","Aout","Septembre","Octobre","Novembre","Décembre") -> Décembre | D73: =YEAR(B73) -> 2015 | E73: 14 | F73: =(+F37+F49+F61)/3 -> 0.1686834 | G73: =+E73+G72 -> 85 | H73: =+E73 -> 14 | I73: =+F73 -> 0.1686834 | J73: =+H73+J72 -> 85 | K73: 0 | L73: =+K73/SUM(K$62:K$73) -> 0 | M73: =+K73+M72 -> 5

Sheet 2014
A1: Month/Year | B1: Mois | C1: Année | D1: Maisons (A) | E1: Maisons (B) | F1: Maisons (F) | I1: Mois | J1: Année | K1: Maison( A) | L1: Maison (B) | M1: Maison ©
A2: 41640 | B2: =CHOOSE(MONTH(A2),"Janvier","Février","Mars","Avril","Mai","Juin","Juillet","Aout","Septembre","Octobre","Novembre","Décembre") -> Janvier | C2: =YEAR(A2) -> 2014 | D2: 3 | E2: 2 | F2: 2 | I2: Janvier | J2: 2014 | K2: 1 | L2: 1 | M2: 1
A3: 41671 | B3: =CHOOSE(MONTH(A3),"Janvier","Février","Mars","Avril","Mai","Juin","Juillet","Aout","Septembre","Octobre","Novembre","Décembre") -> Février | C3: =YEAR(A3) -> 2014 | D3: 9 | E3: 4 | F3: 4 | I3: Janvier | J3: 2014 | K3: 1 | L3: 1 | M3: 1
A4: 41699 | B4: =CHOOSE(MONTH(A4),"Janvier","Février","Mars","Avril","Mai","Juin","Juillet","Aout","Septembre","Octobre","Novembre","Décembre") -> Mars | C4: =YEAR(A4) -> 2014 | D4: 4 | E4: 7 | F4: 7 | I4: Janvier | J4: 2014 | K4: 1 | L4: 0 | M4: 0
A5: 41730 | B5: =CHOOSE(MONTH(A5),"Janvier","Février","Mars","Avril","Mai","Juin","Juillet","Aout","Septembre","Octobre","Novembre","Décembre") -> Avril | C5: =YEAR(A5) -> 2014 | D5: 4 | E5: 7 | F5: 7
A6: 41760 | B6: =CHOOSE(MONTH(A6),"Janvier","Février","Mars","Avril","Mai","Juin","Juillet","Aout","Septembre","Octobre","Novembre","Décembre") -> Mai | C6: =YEAR(A6) -> 2014 | D6: 6 | E6: 8 | F6: 9
A7: 41791 | B7: =CHOOSE(MONTH(A7),"Janvier","Février","Mars","Avril","Mai","Juin","Juillet","Aout","Septembre","Octobre","Novembre","Décembre") -> Juin | C7: =YEAR(A7) -> 2014 | D7: 7 | E7: 9 | F7: 10
A8: 41821 | B8: =CHOOSE(MONTH(A8),"Janvier","Février","Mars","Avril","Mai","Juin","Juillet","Aout","Septembre","Octobre","Novembre","Décembre") -> Juillet | C8: =YEAR(A8) -> 2014 | D8: 11 | E8: 8 | F8: 9
A9: 41852 | B9: =CHOOSE(MONTH(A9),"Janvier","Février","Mars","Avril","Mai","Juin","Juillet","Aout","Septembre","Octobre","Novembre","Décembre") -> Aout | C9: =YEAR(A9) -> 2014 | D9: 5 | E9: 3 | F9: 3
A10: 41883 | B10: =CHOOSE(MONTH(A10),"Janvier","Février","Mars","Avril","Mai","Juin","Juillet","Aout","Septembre","Octobre","Novembre","Décembre") -> Septembre | C10: =YEAR(A10) -> 2014 | D10: 9 | E10: 5 | F10: 5
A11: 41913 | B11: =CHOOSE(MONTH(A11),"Janvier","Février","Mars","Avril","Mai","Juin","Juillet","Aout","Septembre","Octobre","Novembre","Décembre") -> Octobre | C11: =YEAR(A11) -> 2014 | D11: 10 | E11: 9 | F11: 10
A12: 41944 | B12: =CHOOSE(MONTH(A12),"Janvier","Février","Mars","Avril","Mai","Juin","Juillet","Aout","Septembre","Octobre","Novembre","Décembre") -> Novembre | C12: =YEAR(A12) -> 2014 | D12: 9 | E12: 8 | F12: 9
A13: 41974 | B13: =CHOOSE(MONTH(A13),"Janvier","Février","Mars","Avril","Mai","Juin","Juillet","Aout","Septembre","Octobre","Novembre","Décembre") -> Décembre | C13: =YEAR(A13) -> 2014 | D13: 8 | E13: 10 | F13: 11
A14: 42005 | B14: =CHOOSE(MONTH(A14),"Janvier","Février","Mars","Avril","Mai","Juin","Juillet","Aout","Septembre","Octobre","Novembre","Décembre") -> Janvier | C14: =YEAR(A14) -> 2015 | D14: 1 | E14: 2 | F14: 2
A15: 42036 | B15: =CHOOSE(MONTH(A15),"Janvier","Février","Mars","Avril","Mai","Juin","Juillet","Aout","Septembre","Octobre","Novembre","Décembre") -> Février | C15: =YEAR(A15) -> 2015 | D15: 4 | E15: 3 | F15: 3
A16: 42064 | B16: =CHOOSE(MONTH(A16),"Janvier","Février","Mars","Avril","Mai","Juin","Juillet","Aout","Septembre","Octobre","Novembre","Décembre") -> Mars | C16: =YEAR(A16) -> 2015 | D16: 0 | E16: 6 | F16: 6
... A25: 42339 | B25: =CHOOSE(MONTH(A25),"Janvier","Février","Mars","Avril","Mai","Juin","Juillet","Aout","Septembre","Octobre","Novembre","Décembre") -> Décembre | C25: =YEAR(A25) -> 2015 | D25: 0 | E25: 14 | F25: 14

Sheet QlikView
A1: Mois | B1: Année | C1: Maisons A | D1: Maisons B | E1: Maisons F
A2: ='2014'!B$2 -> Janvier | B2: ='2014'!C$2 -> 2014 | C2: 1 | D2: 1 | E2: 1
A3: ='2014'!B$2 -> Janvier | B3: ='2014'!C$2 -> 2014 | C3: 1 | D3: 1 | E3: 1
A4: ='2014'!B$2 -> Janvier | B4: ='2014'!C$2 -> 2014 | C4: 1 | D4: 0 | E4: 0
A5: ='2014'!B$2 -> Janvier | B5: ='2014'!C$2 -> 2014 | C5: 0 | D5: 0 | E5: 0
A6: ='2014'!B$2 -> Janvier | B6: ='2014'!C$2 -> 2014 | C6: 0 | D6: 0 | E6: 0
A7: ='2014'!B$2 -> Janvier | B7: ='2014'!C$2 -> 2014 | C7: 0 | D7: 0 | E7: 0
A8: ='2014'!B$2 -> Janvier | B8: ='2014'!C$2 -> 2014 | C8: 0 | D8: 0 | E8: 0
A9: ='2014'!B$2 -> Janvier | B9: ='2014'!C$2 -> 2014 | C9: 0 | D9: 0 | E9: 0
A10: ='2014'!B$2 -> Janvier | B10: ='2014'!C$2 -> 2014 | C10: 0 | D10: 0 | E10: 0
A11: ='2014'!B$2 -> Janvier | B11: ='2014'!C$2 -> 2014 | C11: 0 | D11: 0 | E11: 0
A12: ='2014'!B$3 -> Février | B12: ='2014'!C$2 -> 2014 | C12: 1 | D12: 1 | E12: 1
A13: ='2014'!B$3 -> Février | B13: ='2014'!C$2 -> 2014 | C13: 1 | D13: 1 | E13: 1
A14: ='2014'!B$3 -> Février | B14: ='2014'!C$2 -> 2014 | C14: 1 | D14: 1 | E14: 1
A15: ='2014'!B$3 -> Février | B15: ='2014'!C$2 -> 2014 | C15: 1 | D15: 1 | E15: 1
A16: ='2014'!B$3 -> Février | B16: ='2014'!C$2 -> 2014 | C16: 1 | D16: 0 | E16: 0
A17: ='2014'!B$3 -> Février | B17: ='2014'!C$2 -> 2014 | C17: 1 | D17: 0 | E17: 0
A18: ='2014'!B$3 -> Février | B18: ='2014'!C$2 -> 2014 | C18: 1 | D18: 0 | E18: 0
A19: ='2014'!B$3 -> Février | B19: ='2014'!C$2 -> 2014 | C19: 1 | D19: 0 | E19: 0
A20: ='2014'!B$3 -> Février | B20: ='2014'!C$2 -> 2014 | C20: 1 | D20: 0 | E20: 0
A21: ='2014'!B$3 -> Février | B21: ='2014'!C$2 -> 2014 | C21: 0 | D21: 0 | E21: 0
A22: ='2014'!B$4 -> Mars | B22: ='2014'!C$2 -> 2014 | C22: 1 | D22: 1 | E22: 1
A23: ='2014'!B$4 -> Mars | B23: ='2014'!C$2 -> 2014 | C23: 1 | D23: 1 | E23: 1
A24: ='2014'!B$4 -> Mars | B24: ='2014'!C$2 -> 2014 | C24: 1 | D24: 1 | E24: 1
A25: ='2014'!B$4 -> Mars | B25: ='2014'!C$2 -> 2014 | C25: 1 | D25: 1 | E25: 1
A26: ='2014'!B$4 -> Mars | B26: ='2014'!C$2 -> 2014 | C26: 0 | D26: 1 | E26: 1
A27: ='2014'!B$4 -> Mars | B27: ='2014'!C$2 -> 2014 | C27: 0 | D27: 1 | E27: 1
A28: ='2014'!B$4 -> Mars | B28: ='2014'!C$2 -> 2014 | C28: 0 | D28: 1 | E28: 1
A29: ='2014'!B$4 -> Mars | B29: ='2014'!C$2 -> 2014 | C29: 0 | D29: 0 | E29: 0
A30: ='2014'!B$4 -> Mars | B30: ='2014'!C$2 -> 2014 | C30: 0 | D30: 0 | E30: 0
A31: ='2014'!B$4 -> Mars | B31: ='2014'!C$2 -> 2014 | C31: 0 | D31: 0 | E31: 0
A32: ='2014'!B$5 -> Avril | B32: ='2014'!C$2 -> 2014 | C32: 1 | D32: 1 | E32: 1
A33: ='2014'!B$5 -> Avril | B33: ='2014'!C$2 -> 2014 | C33: 1 | D33: 1 | E33: 1
A34: ='2014'!B$5 -> Avril | B34: ='2014'!C$2 -> 2014 | C34: 1 | D34: 1 | E34: 1
A35: ='2014'!B$5 -> Avril | B35: ='2014'!C$2 -> 2014 | C35: 1 | D35: 1 | E35: 1
A36: ='2014'!B$5 -> Avril | B36: ='2014'!C$2 -> 2014 | C36: 0 | D36: 1 | E36: 1
A37: ='2014'!B$5 -> Avril | B37: ='2014'!C$2 -> 2014 | C37: 0 | D37: 1 | E37: 1
A38: ='2014'!B$5 -> Avril | B38: ='2014'!C$2 -> 2014 | C38: 0 | D38: 1 | E38: 1
A39: ='2014'!B$5 -> Avril | B39: ='2014'!C$2 -> 2014 | C39: 0 | D39: 0 | E39: 0
A40: ='2014'!B$5 -> Avril | B40: ='2014'!C$2 -> 2014 | C40: 0 | D40: 0 | E40: 0
A41: ='2014'!B$5 -> Avril | B41: ='2014'!C$2 -> 2014 | C41: 0 | D41: 0 | E41: 0
A42: ='2014'!B$6 -> Mai | B42: ='2014'!C$2 -> 2014 | C42: 1 | D42: 1 | E42: 1
A43: ='2014'!B$6 -> Mai | B43: ='2014'!C$2 -> 2014 | C43: 1 | D43: 1 | E43: 1
A44: ='2014'!B$6 -> Mai | B44: ='2014'!C$2 -> 2014 | C44: 1 | D44: 1 | E44: 1
A45: ='2014'!B$6 -> Mai | B45: ='2014'!C$2 -> 2014 | C45: 1 | D45: 1 | E45: 1
A46: ='2014'!B$6 -> Mai | B46: ='2014'!C$2 -> 2014 | C46: 1 | D46: 1 | E46: 1
A47: ='2014'!B$6 -> Mai | B47: ='2014'!C$2 -> 2014 | C47: 1 | D47: 1 | E47: 1
A48: ='2014'!B$6 -> Mai | B48: ='2014'!C$2 -> 2014 | C48: 0 | D48: 1 | E48: 1
A49: ='2014'!B$6 -> Mai | B49: ='2014'!C$2 -> 2014 | C49: 0 | D49: 1 | E49: 1
A50: ='2014'!B$6 -> Mai | B50: ='2014'!C$2 -> 2014 | C50: 0 | D50: 0 | E50: 1
A51: ='2014'!B$6 -> Mai | B51: ='2014'!C$2 -> 2014 | C51: 0 | D51: 0 | E51: 0
A52: ='2014'!B$7 -> Juin | B52: ='2014'!C$2 -> 2014 | C52: 1 | D52: 1 | E52: 1
A53: ='2014'!B$7 -> Juin | B53: ='2014'!C$2 -> 2014 | C53: 1 | D53: 1 | E53: 1
A54: ='2014'!B$7 -> Juin | B54: ='2014'!C$2 -> 2014 | C54: 1 | D54: 1 | E54: 1
A55: ='2014'!B$7 -> Juin | B55: ='2014'!C$2 -> 2014 | C55: 1 | D55: 1 | E55: 1
A56: ='2014'!B$7 -> Juin | B56: ='2014'!C$2 -> 2014 | C56: 1 | D56: 1 | E56: 1
A57: ='2014'!B$7 -> Juin | B57: ='2014'!C$2 -> 2014 | C57: 1 | D57: 1 | E57: 1
A58: ='2014'!B$7 -> Juin | B58: ='2014'!C$2 -> 2014 | C58: 1 | D58: 1 | E58: 1
A59: ='2014'!B$7 -> Juin | B59: ='2014'!C$2 -> 2014 | C59: 0 | D59: 1 | E59: 1
A60: ='2014'!B$7 -> Juin | B60: ='2014'!C$2 -> 2014 | C60: 0 | D60: 1 | E60: 1
A61: ='2014'!B$7 -> Juin | B61: ='2014'!C$2 -> 2014 | C61: 0 | D61: 0 | E61: 1
A62: ='2014'!B$8 -> Juillet | B62: ='2014'!C$2 -> 2014 | C62: 1 | D62: 1 | E62: 1
A63: ='2014'!B$8 -> Juillet | B63: ='2014'!C$2 -> 2014 | C63: 1 | D63: 1 | E63: 1
A64: ='2014'!B$8 -> Juillet | B64: ='2014'!C$2 -> 2014 | C64: 1 | D64: 1 | E64: 1
A65: ='2014'!B$8 -> Juillet | B65: ='2014'!C$2 -> 2014 | C65: 1 | D65: 1 | E65: 1
A66: ='2014'!B$8 -> Juillet | B66: ='2014'!C$2 -> 2014 | C66: 1 | D66: 1 | E66: 1
A67: ='2014'!B$8 -> Juillet | B67: ='2014'!C$2 -> 2014 | C67: 1 | D67: 1 | E67: 1
A68: ='2014'!B$8 -> Juillet | B68: ='2014'!C$2 -> 2014 | C68: 1 | D68: 1 | E68: 1
A69: ='2014'!B$8 -> Juillet | B69: ='2014'!C$2 -> 2014 | C69: 1 | D69: 1 | E69: 1
A70: ='2014'!B$8 -> Juillet | B70: ='2014'!C$2 -> 2014 | C70: 1 | D70: 0 | E70: 1
A71: ='2014'!B$8 -> Juillet | B71: ='2014'!C$2 -> 2014 | C71: 1 | D71: 0 | E71: 0
A72: ='2014'!B$8 -> Juillet | B72: ='2014'!C$2 -> 2014 | C72: 1 | D72: 0 | E72: 0
A73: ='2014'!B$9 -> Aout | B73: ='2014'!C$2 -> 2014 | C73: 1 | D73: 1 | E73: 1
A74: ='2014'!B$9 -> Aout | B74: ='2014'!C$2 -> 2014 | C74: 1 | D74: 1 | E74: 1
A75: ='2014'!B$9 -> Aout | B75: ='2014'!C$2 -> 2014 | C75: 1 | D75: 1 | E75: 1
A76: ='2014'!B$9 -> Aout | B76: ='2014'!C$2 -> 2014 | C76: 1 | D76: 0 | E76: 0
A77: ='2014'!B$9 -> Aout | B77: ='2014'!C$2 -> 2014 | C77: 1 | D77: 0 | E77: 0
A78: ='2014'!B$9 -> Aout | B78: ='2014'!C$2 -> 2014 | C78: 0 | D78: 0 | E78: 0
A79: ='2014'!B$9 -> Aout | B79: ='2014'!C$2 -> 2014 | C79: 0 | D79: 0 | E79: 0
A80: ='2014'!B$9 -> Aout | B80: ='2014'!C$2 -> 2014 | C80: 0 | D80: 0 | E80: 0
A81: ='2014'!B$9 -> Aout | B81: ='2014'!C$2 -> 2014 | C81: 0 | D81: 0 | E81: 0
A82: ='2014'!B$9 -> Aout | B82: ='2014'!C$2 -> 2014 | C82: 0 | D82: 0 | E82: 0
A83: ='2014'!B$10 -> Septembre | B83: ='2014'!C$2 -> 2014 | C83: 1 | D83: 1 | E83: 1
A84: ='2014'!B$10 -> Septembre | B84: ='2014'!C$2 -> 2014 | C84: 1 | D84: 1 | E84: 1
A85: ='2014'!B$10 -> Septembre | B85: ='2014'!C$2 -> 2014 | C85: 1 | D85: 1 | E85: 1
A86: ='2014'!B$10 -> Septembre | B86: ='2014'!C$2 -> 2014 | C86: 1 | D86: 1 | E86: 1
A87: ='2014'!B$10 -> Septembre | B87: ='2014'!C$2 -> 2014 | C87: 1 | D87: 1 | E87: 1
A88: ='2014'!B$10 -> Septembre | B88: ='2014'!C$2 -> 2014 | C88: 1 | D88: 0 | E88: 0
A89: ='2014'!B$10 -> Septembre | B89: ='2014'!C$2 -> 2014 | C89: 1 | D89: 0 | E89: 0
A90: ='2014'!B$10 -> Septembre | B90: ='2014'!C$2 -> 2014 | C90: 1 | D90: 0 | E90: 0
A91: ='2014'!B$10 -> Septembre | B91: ='2014'!C$2 -> 2014 | C91: 1 | D91: 0 | E91: 0
A92: ='2014'!B$10 -> Septembre | B92: ='2014'!C$2 -> 2014 | C92: 0 | D92: 0 | E92: 0
A93: ='2014'!B$11 -> Octobre | B93: ='2014'!C$2 -> 2014 | C93: 1 | D93: 1 | E93: 1
A94: ='2014'!B$11 -> Octobre | B94: ='2014'!C$2 -> 2014 | C94: 1 | D94: 1 | E94: 1
A95: ='2014'!B$11 -> Octobre | B95: ='2014'!C$2 -> 2014 | C95: 1 | D95: 1 | E95: 1
A96: ='2014'!B$11 -> Octobre | B96: ='2014'!C$2 -> 2014 | C96: 1 | D96: 1 | E96: 1
A97: ='2014'!B$11 -> Octobre | B97: ='2014'!C$2 -> 2014 | C97: 1 | D97: 1 | E97: 1
A98: ='2014'!B$11 -> Octobre | B98: ='2014'!C$2 -> 2014 | C98: 1 | D98: 1 | E98: 1
A99: ='2014'!B$11 -> Octobre | B99: ='2014'!C$2 -> 2014 | C99: 1 | D99: 1 | E99: 1
A100: ='2014'!B$11 -> Octobre | B100: ='2014'!C$2 -> 2014 | C100: 1 | D100: 1 | E100: 1
...
