Workbook

Sheet A
A1: A
A3: =IF(ISNA(VLOOKUP($A$1,Data!$A$3:$B$11,2,FALSE)),"",VLOOKUP($A$1,Data!$A$3:$B$11,2,FALSE)) -> a1 | B3: 1ère formule différente
A4: =IF(ISNA(VLOOKUP($A$1,OFFSET(Data!$A$3:$B$11,MATCH(A3,Data!$B$3:$B$11,0),),2,FALSE)),"",VLOOKUP($A$1,OFFSET(Data!$A$3:$B$11,MATCH(A3,Data!$B$3:$B$11,0),),2,FALSE)) -> a2
A5: =IF(ISNA(VLOOKUP($A$1,OFFSET(Data!$A$3:$B$11,MATCH(A4,Data!$B$3:$B$11,0),),2,FALSE)),"",VLOOKUP($A$1,OFFSET(Data!$A$3:$B$11,MATCH(A4,Data!$B$3:$B$11,0),),2,FALSE)) -> a3
A6: =IF(ISNA(VLOOKUP($A$1,OFFSET(Data!$A$3:$B$11,MATCH(A5,Data!$B$3:$B$11,0),),2,FALSE)),"",VLOOKUP($A$1,OFFSET(Data!$A$3:$B$11,MATCH(A5,Data!$B$3:$B$11,0),),2,FALSE)) -> a4
A7: =IF(ISNA(VLOOKUP($A$1,OFFSET(Data!$A$3:$B$11,MATCH(A6,Data!$B$3:$B$11,0),),2,FALSE)),"",VLOOKUP($A$1,OFFSET(Data!$A$3:$B$11,MATCH(A6,Data!$B$3:$B$11,0),),2,FALSE))
A8: =IF(ISNA(VLOOKUP($A$1,OFFSET(Data!$A$3:$B$11,MATCH(A7,Data!$B$3:$B$11,0),),2,FALSE)),"",VLOOKUP($A$1,OFFSET(Data!$A$3:$B$11,MATCH(A7,Data!$B$3:$B$11,0),),2,FALSE))
A9: =IF(ISNA(VLOOKUP($A$1,OFFSET(Data!$A$3:$B$11,MATCH(A8,Data!$B$3:$B$11,0),),2,FALSE)),"",VLOOKUP($A$1,OFFSET(Data!$A$3:$B$11,MATCH(A8,Data!$B$3:$B$11,0),),2,FALSE))
A10: =IF(ISNA(VLOOKUP($A$1,OFFSET(Data!$A$3:$B$11,MATCH(A9,Data!$B$3:$B$11,0),),2,FALSE)),"",VLOOKUP($A$1,OFFSET(Data!$A$3:$B$11,MATCH(A9,Data!$B$3:$B$11,0),),2,FALSE))
A11: =IF(ISNA(VLOOKUP($A$1,OFFSET(Data!$A$3:$B$11,MATCH(A10,Data!$B$3:$B$11,0),),2,FALSE)),"",VLOOKUP($A$1,OFFSET(Data!$A$3:$B$11,MATCH(A10,Data!$B$3:$B$11,0),),2,FALSE))
A12: =IF(ISNA(VLOOKUP($A$1,OFFSET(Data!$A$3:$B$11,MATCH(A11,Data!$B$3:$B$11,0),),2,FALSE)),"",VLOOKUP($A$1,OFFSET(Data!$A$3:$B$11,MATCH(A11,Data!$B$3:$B$11,0),),2,FALSE))
A13: =IF(ISNA(VLOOKUP($A$1,OFFSET(Data!$A$3:$B$11,MATCH(A12,Data!$B$3:$B$11,0),),2,FALSE)),"",VLOOKUP($A$1,OFFSET(Data!$A$3:$B$11,MATCH(A12,Data!$B$3:$B$11,0),),2,FALSE))
A14: =IF(ISNA(VLOOKUP($A$1,OFFSET(Data!$A$3:$B$11,MATCH(A13,Data!$B$3:$B$11,0),),2,FALSE)),"",VLOOKUP($A$1,OFFSET(Data!$A$3:$B$11,MATCH(A13,Data!$B$3:$B$11,0),),2,FALSE))
A15: =IF(ISNA(VLOOKUP($A$1,OFFSET(Data!$A$3:$B$11,MATCH(A14,Data!$B$3:$B$11,0),),2,FALSE)),"",VLOOKUP($A$1,OFFSET(Data!$A$3:$B$11,MATCH(A14,Data!$B$3:$B$11,0),),2,FALSE))
... A17: =IF(ISNA(VLOOKUP($A$1,OFFSET(Data!$A$3:$B$11,MATCH(A16,Data!$B$3:$B$11,0),),2,FALSE)),"",VLOOKUP($A$1,OFFSET(Data!$A$3:$B$11,MATCH(A16,Data!$B$3:$B$11,0),),2,FALSE))

Sheet B
A1: B
A3: =IF(ISNA(VLOOKUP($A$1,Data!$A$3:$B$11,2,FALSE)),"",VLOOKUP($A$1,Data!$A$3:$B$11,2,FALSE)) -> b1
A4: =IF(ISNA(VLOOKUP($A$1,OFFSET(Data!$A$3:$B$11,MATCH(A3,Data!$B$3:$B$11,0),),2,FALSE)),"",VLOOKUP($A$1,OFFSET(Data!$A$3:$B$11,MATCH(A3,Data!$B$3:$B$11,0),),2,FALSE)) -> b2
A5: =IF(ISNA(VLOOKUP($A$1,OFFSET(Data!$A$3:$B$11,MATCH(A4,Data!$B$3:$B$11,0),),2,FALSE)),"",VLOOKUP($A$1,OFFSET(Data!$A$3:$B$11,MATCH(A4,Data!$B$3:$B$11,0),),2,FALSE))
A6: =IF(ISNA(VLOOKUP($A$1,OFFSET(Data!$A$3:$B$11,MATCH(A5,Data!$B$3:$B$11,0),),2,FALSE)),"",VLOOKUP($A$1,OFFSET(Data!$A$3:$B$11,MATCH(A5,Data!$B$3:$B$11,0),),2,FALSE))
A7: =IF(ISNA(VLOOKUP($A$1,OFFSET(Data!$A$3:$B$11,MATCH(A6,Data!$B$3:$B$11,0),),2,FALSE)),"",VLOOKUP($A$1,OFFSET(Data!$A$3:$B$11,MATCH(A6,Data!$B$3:$B$11,0),),2,FALSE))
A8: =IF(ISNA(VLOOKUP($A$1,OFFSET(Data!$A$3:$B$11,MATCH(A7,Data!$B$3:$B$11,0),),2,FALSE)),"",VLOOKUP($A$1,OFFSET(Data!$A$3:$B$11,MATCH(A7,Data!$B$3:$B$11,0),),2,FALSE))
A9: =IF(ISNA(VLOOKUP($A$1,OFFSET(Data!$A$3:$B$11,MATCH(A8,Data!$B$3:$B$11,0),),2,FALSE)),"",VLOOKUP($A$1,OFFSET(Data!$A$3:$B$11,MATCH(A8,Data!$B$3:$B$11,0),),2,FALSE))
A10: =IF(ISNA(VLOOKUP($A$1,OFFSET(Data!$A$3:$B$11,MATCH(A9,Data!$B$3:$B$11,0),),2,FALSE)),"",VLOOKUP($A$1,OFFSET(Data!$A$3:$B$11,MATCH(A9,Data!$B$3:$B$11,0),),2,FALSE))
A11: =IF(ISNA(VLOOKUP($A$1,OFFSET(Data!$A$3:$B$11,MATCH(A10,Data!$B$3:$B$11,0),),2,FALSE)),"",VLOOKUP($A$1,OFFSET(Data!$A$3:$B$11,MATCH(A10,Data!$B$3:$B$11,0),),2,FALSE))
A12: =IF(ISNA(VLOOKUP($A$1,OFFSET(Data!$A$3:$B$11,MATCH(A11,Data!$B$3:$B$11,0),),2,FALSE)),"",VLOOKUP($A$1,OFFSET(Data!$A$3:$B$11,MATCH(A11,Data!$B$3:$B$11,0),),2,FALSE))
A13: =IF(ISNA(VLOOKUP($A$1,OFFSET(Data!$A$3:$B$11,MATCH(A12,Data!$B$3:$B$11,0),),2,FALSE)),"",VLOOKUP($A$1,OFFSET(Data!$A$3:$B$11,MATCH(A12,Data!$B$3:$B$11,0),),2,FALSE))
A14: =IF(ISNA(VLOOKUP($A$1,OFFSET(Data!$A$3:$B$11,MATCH(A13,Data!$B$3:$B$11,0),),2,FALSE)),"",VLOOKUP($A$1,OFFSET(Data!$A$3:$B$11,MATCH(A13,Data!$B$3:$B$11,0),),2,FALSE))
A15: =IF(ISNA(VLOOKUP($A$1,OFFSET(Data!$A$3:$B$11,MATCH(A14,Data!$B$3:$B$11,0),),2,FALSE)),"",VLOOKUP($A$1,OFFSET(Data!$A$3:$B$11,MATCH(A14,Data!$B$3:$B$11,0),),2,FALSE))
... A17: =IF(ISNA(VLOOKUP($A$1,OFFSET(Data!$A$3:$B$11,MATCH(A16,Data!$B$3:$B$11,0),),2,FALSE)),"",VLOOKUP($A$1,OFFSET(Data!$A$3:$B$11,MATCH(A16,Data!$B$3:$B$11,0),),2,FALSE))

Sheet C
A1: C
A3: =IF(ISNA(VLOOKUP($A$1,Data!$A$3:$B$11,2,FALSE)),"",VLOOKUP($A$1,Data!$A$3:$B$11,2,FALSE)) -> c1
A4: =IF(ISNA(VLOOKUP($A$1,OFFSET(Data!$A$3:$B$11,MATCH(A3,Data!$B$3:$B$11,0),),2,FALSE)),"",VLOOKUP($A$1,OFFSET(Data!$A$3:$B$11,MATCH(A3,Data!$B$3:$B$11,0),),2,FALSE)) -> c2
A5: =IF(ISNA(VLOOKUP($A$1,OFFSET(Data!$A$3:$B$11,MATCH(A4,Data!$B$3:$B$11,0),),2,FALSE)),"",VLOOKUP($A$1,OFFSET(Data!$A$3:$B$11,MATCH(A4,Data!$B$3:$B$11,0),),2,FALSE)) -> c3
A6: =IF(ISNA(VLOOKUP($A$1,OFFSET(Data!$A$3:$B$11,MATCH(A5,Data!$B$3:$B$11,0),),2,FALSE)),"",VLOOKUP($A$1,OFFSET(Data!$A$3:$B$11,MATCH(A5,Data!$B$3:$B$11,0),),2,FALSE))
A7: =IF(ISNA(VLOOKUP($A$1,OFFSET(Data!$A$3:$B$11,MATCH(A6,Data!$B$3:$B$11,0),),2,FALSE)),"",VLOOKUP($A$1,OFFSET(Data!$A$3:$B$11,MATCH(A6,Data!$B$3:$B$11,0),),2,FALSE))
A8: =IF(ISNA(VLOOKUP($A$1,OFFSET(Data!$A$3:$B$11,MATCH(A7,Data!$B$3:$B$11,0),),2,FALSE)),"",VLOOKUP($A$1,OFFSET(Data!$A$3:$B$11,MATCH(A7,Data!$B$3:$B$11,0),),2,FALSE))
A9: =IF(ISNA(VLOOKUP($A$1,OFFSET(Data!$A$3:$B$11,MATCH(A8,Data!$B$3:$B$11,0),),2,FALSE)),"",VLOOKUP($A$1,OFFSET(Data!$A$3:$B$11,MATCH(A8,Data!$B$3:$B$11,0),),2,FALSE))
A10: =IF(ISNA(VLOOKUP($A$1,OFFSET(Data!$A$3:$B$11,MATCH(A9,Data!$B$3:$B$11,0),),2,FALSE)),"",VLOOKUP($A$1,OFFSET(Data!$A$3:$B$11,MATCH(A9,Data!$B$3:$B$11,0),),2,FALSE))
A11: =IF(ISNA(VLOOKUP($A$1,OFFSET(Data!$A$3:$B$11,MATCH(A10,Data!$B$3:$B$11,0),),2,FALSE)),"",VLOOKUP($A$1,OFFSET(Data!$A$3:$B$11,MATCH(A10,Data!$B$3:$B$11,0),),2,FALSE))
A12: =IF(ISNA(VLOOKUP($A$1,OFFSET(Data!$A$3:$B$11,MATCH(A11,Data!$B$3:$B$11,0),),2,FALSE)),"",VLOOKUP($A$1,OFFSET(Data!$A$3:$B$11,MATCH(A11,Data!$B$3:$B$11,0),),2,FALSE))
A13: =IF(ISNA(VLOOKUP($A$1,OFFSET(Data!$A$3:$B$11,MATCH(A12,Data!$B$3:$B$11,0),),2,FALSE)),"",VLOOKUP($A$1,OFFSET(Data!$A$3:$B$11,MATCH(A12,Data!$B$3:$B$11,0),),2,FALSE))
A14: =IF(ISNA(VLOOKUP($A$1,OFFSET(Data!$A$3:$B$11,MATCH(A13,Data!$B$3:$B$11,0),),2,FALSE)),"",VLOOKUP($A$1,OFFSET(Data!$A$3:$B$11,MATCH(A13,Data!$B$3:$B$11,0),),2,FALSE))
A15: =IF(ISNA(VLOOKUP($A$1,OFFSET(Data!$A$3:$B$11,MATCH(A14,Data!$B$3:$B$11,0),),2,FALSE)),"",VLOOKUP($A$1,OFFSET(Data!$A$3:$B$11,MATCH(A14,Data!$B$3:$B$11,0),),2,FALSE))
... A17: =IF(ISNA(VLOOKUP($A$1,OFFSET(Data!$A$3:$B$11,MATCH(A16,Data!$B$3:$B$11,0),),2,FALSE)),"",VLOOKUP($A$1,OFFSET(Data!$A$3:$B$11,MATCH(A16,Data!$B$3:$B$11,0),),2,FALSE))

Sheet Data
A3: A | B3: a1
A4: A | B4: a2
A5: A | B5: a3
A6: A | B6: a4
A7: B | B7: b1
A8: B | B8: b2
A9: C | B9: c1
A10: C | B10: c2
A11: C | B11: c3
