Workbook

Sheet LISTING MENSUEL
A1: Matric Info | B1: Date | C1: Heure | E1: Nom Elève | F1: Prénom Elève
A2: =INDEX(OFFSET(DB!$D$1,MATCH('LISTING MENSUEL'!E2,DB!A:A,0)-1,0,COUNTIF(DB!A:A,'LISTING MENSUEL'!E2),1),MATCH(F2,OFFSET(DB!$B$1,MATCH('[1]LISTING MENSUEL'!E2,[1]DB!A$1:A$65536,0)-1,0,COUNTIF([1]DB!A$1:A$65536,'[1]LISTING MENSUEL'!E2),1),0),1) -> #VALUE! | B2: 41673 | C2: 0.31597222 | E2: Dupond | F2: Margaux
A3: =INDEX(OFFSET(DB!$D$1,MATCH('LISTING MENSUEL'!E3,DB!A:A,0)-1,0,COUNTIF(DB!A:A,'LISTING MENSUEL'!E3),1),MATCH(F3,OFFSET(DB!$B$1,MATCH('[1]LISTING MENSUEL'!E3,[1]DB!A$1:A$65536,0)-1,0,COUNTIF([1]DB!A$1:A$65536,'[1]LISTING MENSUEL'!E3),1),0),1) -> #VALUE! | B3: 41675 | C3: 0.31597222 | E3: Dupond | F3: Margaux
A4: =INDEX(OFFSET(DB!$D$1,MATCH('LISTING MENSUEL'!E4,DB!A:A,0)-1,0,COUNTIF(DB!A:A,'LISTING MENSUEL'!E4),1),MATCH(F4,OFFSET(DB!$B$1,MATCH('[1]LISTING MENSUEL'!E4,[1]DB!A$1:A$65536,0)-1,0,COUNTIF([1]DB!A$1:A$65536,'[1]LISTING MENSUEL'!E4),1),0),1) -> #VALUE! | B4: 41675 | C4: 0.52777778 | E4: Dupond | F4: Margaux
A5: =INDEX(OFFSET(DB!$D$1,MATCH('LISTING MENSUEL'!E5,DB!A:A,0)-1,0,COUNTIF(DB!A:A,'LISTING MENSUEL'!E5),1),MATCH(F5,OFFSET(DB!$B$1,MATCH('[1]LISTING MENSUEL'!E5,[1]DB!A$1:A$65536,0)-1,0,COUNTIF([1]DB!A$1:A$65536,'[1]LISTING MENSUEL'!E5),1),0),1) -> #VALUE! | B5: 41676 | C5: 0.31597222 | E5: Dupond | F5: Margaux
A6: =INDEX(OFFSET(DB!$D$1,MATCH('LISTING MENSUEL'!E6,DB!A:A,0)-1,0,COUNTIF(DB!A:A,'LISTING MENSUEL'!E6),1),MATCH(F6,OFFSET(DB!$B$1,MATCH('[1]LISTING MENSUEL'!E6,[1]DB!A$1:A$65536,0)-1,0,COUNTIF([1]DB!A$1:A$65536,'[1]LISTING MENSUEL'!E6),1),0),1) -> #VALUE! | B6: 41673 | C6: 0.31597222 | E6: Dupond | F6: Louise
A7: =INDEX(OFFSET(DB!$D$1,MATCH('LISTING MENSUEL'!E7,DB!A:A,0)-1,0,COUNTIF(DB!A:A,'LISTING MENSUEL'!E7),1),MATCH(F7,OFFSET(DB!$B$1,MATCH('[1]LISTING MENSUEL'!E7,[1]DB!A$1:A$65536,0)-1,0,COUNTIF([1]DB!A$1:A$65536,'[1]LISTING MENSUEL'!E7),1),0),1) -> #VALUE! | B7: 41675 | C7: 0.31597222 | E7: Dupond | F7: Louise

Sheet DB
A1: Nom Elève | B1: Prénom Elève | C1: Matric Registre | D1: Matric Info | E1: Année | F1: Classe
A2: Dupond | B2: Ridoine | C2: 4106 | D2: 1093 | E2: P6 | F2: SK
A3: Dupond | B3: Lisa | C3: 9001 | D3: 1634 | E3: P2 | F3: AM
A4: Dupond | B4: Louise | C4: 9082 | D4: 1715 | E4: P1 | F4: NG
A5: Dupond | B5: Margaux | C5: 11068 | D5: 1944 | E5: M2 | F5: SV

Sheet DATA
A1: Matric info: | B1: Date: | C1: Heure: | D1: Jour: | E1: DET UNITE MATIN | F1: LIMITE MATIN | G1: UNITE MATIN
A2: =IF('LISTING MENSUEL'!A2="","",'[1]LISTING MENSUEL'!A2) -> #VALUE! | B2: =IF('LISTING MENSUEL'!B2="","",'[1]LISTING MENSUEL'!B2) -> 41673 | C2: =IF('LISTING MENSUEL'!C2="","",'[1]LISTING MENSUEL'!C2) -> 7h35 | D2: =IF('LISTING MENSUEL'!B2="","",TEXT(B2,"jjjj")) -> lundi | E2: =IF('LISTING MENSUEL'!C2="","","7h29") -> 7h29 | F2: =IF('LISTING MENSUEL'!C2="","","8h00") -> 8h00 | G2: =IF('LISTING MENSUEL'!C2="","",IF(C2>F2,0,IF(C2>E2,1,2))) -> 1
A3: =IF('[1]LISTING MENSUEL'!A3="","",'[1]LISTING MENSUEL'!A3) -> 1944 | B3: =IF('[1]LISTING MENSUEL'!B3="","",'[1]LISTING MENSUEL'!B3) -> 41675 | C3: =IF('[1]LISTING MENSUEL'!C3="","",'[1]LISTING MENSUEL'!C3) -> 7h35 | D3: =IF('[1]LISTING MENSUEL'!B3="","",TEXT(B3,"jjjj")) -> mercredi | E3: =IF('[1]LISTING MENSUEL'!C3="","","7h29") -> 7h29 | F3: =IF('[1]LISTING MENSUEL'!C3="","","8h00") -> 8h00 | G3: =IF('LISTING MENSUEL'!C3="","",IF(C3>F3,0,IF(C3>E3,1,2))) -> 1
A4: =IF('[1]LISTING MENSUEL'!A4="","",'[1]LISTING MENSUEL'!A4) -> 1944 | B4: =IF('[1]LISTING MENSUEL'!B4="","",'[1]LISTING MENSUEL'!B4) -> 41675 | C4: =IF('[1]LISTING MENSUEL'!C4="","",'[1]LISTING MENSUEL'!C4) -> 12h40 | D4: =IF('[1]LISTING MENSUEL'!B4="","",TEXT(B4,"jjjj")) -> mercredi | E4: =IF('[1]LISTING MENSUEL'!C4="","","7h29") -> 7h29 | F4: =IF('[1]LISTING MENSUEL'!C4="","","8h00") -> 8h00 | G4: =IF('LISTING MENSUEL'!C4="","",IF(C4>F4,0,IF(C4>E4,1,2))) -> 2 | H4: > il devrait noter 0 puisque C4>F4
A5: =IF('[1]LISTING MENSUEL'!A5="","",'[1]LISTING MENSUEL'!A5) -> 1944 | B5: =IF('[1]LISTING MENSUEL'!B5="","",'[1]LISTING MENSUEL'!B5) -> 41676 | C5: =IF('[1]LISTING MENSUEL'!C5="","",'[1]LISTING MENSUEL'!C5) -> 7h35 | D5: =IF('[1]LISTING MENSUEL'!B5="","",TEXT(B5,"jjjj")) -> jeudi | E5: =IF('[1]LISTING MENSUEL'!C5="","","7h29") -> 7h29 | F5: =IF('[1]LISTING MENSUEL'!C5="","","8h00") -> 8h00 | G5: =IF('LISTING MENSUEL'!C5="","",IF(C5>F5,0,IF(C5>E5,1,2))) -> 1
C8: 0.31597222 | D8: lundi | E8: 0.31180556 | F8: 0.33333333 | G8: =IF('LISTING MENSUEL'!C2="","",IF(C8>F8,0,IF(C8>E8,1,2))) -> 1
C9: 0.31597222 | D9: mercredi | E9: 0.31180556 | F9: 0.33333333 | G9: =IF('LISTING MENSUEL'!C3="","",IF(C9>F9,0,IF(C9>E9,1,2))) -> 1
C10: 0.52777778 | D10: mercredi | E10: 0.31180556 | F10: 0.33333333 | G10: =IF('LISTING MENSUEL'!C4="","",IF(C10>F10,0,IF(C10>E10,1,2))) -> 0
C11: 0.31597222 | D11: jeudi | E11: 0.31180556 | F11: 0.33333333 | G11: =IF('LISTING MENSUEL'!C5="","",IF(C11>F11,0,IF(C11>E11,1,2))) -> 1
