Workbook
Name Table1: Table1!$A$1:$Z$90

Sheet Table1
A1: z | B1: 0 | C1: 1 | D1: 2 | E1: 3 | F1: 4 | G1: 5 | H1: 6 | I1: 7 | J1: 8 | K1: 9 | L1: 10 | M1: 11 | N1: 12 | O1: 13 | P1: 14 | Q1: 15 | R1: 16 | S1: 17 | T1: 18 | U1: 19 | V1: 20 | W1: 21 | X1: 22 | Y1: 23 | Z1: 24
A2: 42005 | B2: 483 | C2: 519 | D2: 537 | E2: 519 | F2: 461 | G2: 372 | H2: 276 | I2: 210 | J2: 211 | K2: 277 | L2: 360 | M2: 425 | N2: 472 | O2: 515 | P2: 544 | Q2: 541 | R2: 497 | S2: 416 | T2: 314 | U2: 226 | V2: 194 | W2: 237 | X2: 321 | Y2: 399 | Z2: 456
A3: 42006 | B3: 456 | C3: 503 | D3: 539 | E3: 551 | F3: 527 | G3: 463 | H3: 369 | I3: 267 | J3: 193 | K3: 191 | L3: 261 | M3: 355 | N3: 430 | O3: 487 | P3: 533 | Q3: 558 | R3: 547 | S3: 494 | T3: 406 | U3: 299 | V3: 207 | W3: 175 | X3: 227 | Y3: 325 | Z3: 415
A4: 42007 | B4: 415 | C4: 482 | D4: 530 | E4: 561 | F4: 563 | G4: 527 | H4: 453 | I4: 352 | J4: 244 | K4: 170 | L4: 175 | M4: 259 | N4: 365 | O4: 449 | P4: 511 | Q4: 555 | R4: 569 | S4: 544 | T4: 478 | U4: 382 | V4: 271 | W4: 180 | X4: 161 | Y4: 232 | Z4: 345
A5: 42008 | B5: 345 | C5: 443 | D5: 512 | E5: 558 | F5: 578 | G5: 565 | H5: 515 | I5: 431 | J5: 323 | K5: 212 | L5: 147 | M5: 173 | N5: 276 | O5: 390 | P5: 477 | Q5: 539 | R5: 573 | S5: 571 | T5: 528 | U5: 450 | V5: 346 | W5: 235 | X5: 155 | Y5: 160 | Z5: 256
A6: 42009 | B6: 256 | C6: 376 | D6: 477 | E6: 543 | F6: 580 | G6: 585 | H6: 555 | I6: 491 | J6: 397 | K6: 284 | L6: 177 | M6: 134 | N6: 191 | O6: 310 | P6: 425 | Q6: 510 | R6: 564 | S6: 582 | T6: 560 | U6: 501 | V6: 413 | W6: 304 | X6: 197 | Y6: 140 | Z6: 180
A7: 42010 | B7: 180 | C7: 294 | D7: 419 | E7: 512 | F7: 570 | G7: 592 | H7: 579 | I7: 533 | J7: 458 | K7: 357 | L7: 240 | M7: 148 | N7: 141 | O7: 229 | P7: 355 | Q7: 464 | R7: 539 | S7: 578 | T7: 576 | U7: 536 | V7: 465 | W7: 371 | X7: 261 | Y7: 166 | Z7: 143
A8: 42011 | B8: 143 | C8: 217 | D8: 346 | E8: 462 | F8: 542 | G8: 585 | H8: 590 | I8: 559 | J8: 501 | K8: 418 | L8: 313 | M8: 201 | N8: 137 | O8: 170 | P8: 281 | Q8: 404 | R8: 499 | S8: 559 | T8: 578 | U8: 556 | V8: 502 | W8: 424 | X8: 328 | Y8: 223 | Z8: 152
A9: 42012 | B9: 152 | C9: 169 | D9: 271 | E9: 399 | F9: 499 | G9: 562 | H9: 586 | I9: 573 | J9: 530 | K9: 464 | L9: 377 | M9: 271 | N9: 175 | O9: 148 | P9: 219 | Q9: 338 | R9: 447 | S9: 524 | T9: 563 | U9: 562 | V9: 525 | W9: 464 | X9: 385 | Y9: 290 | Z9: 197
A10: 42013 | B10: 197 | C10: 160 | D10: 213 | E10: 330 | F10: 445 | G10: 525 | H10: 567 | I10: 572 | J10: 545 | K10: 495 | L10: 426 | M10: 338 | N10: 238 | O10: 169 | P10: 183 | Q10: 276 | R10: 390 | S10: 479 | T10: 533 | U10: 551 | V10: 534 | W10: 491 | X10: 429 | Y10: 351 | Z10: 260
A11: 42014 | B11: 260 | C11: 191 | D11: 188 | E11: 268 | F11: 383 | G11: 477 | H11: 535 | I11: 556 | J11: 546 | K11: 512 | L11: 461 | M11: 392 | N11: 306 | O11: 220 | P11: 184 | Q11: 232 | R11: 332 | S11: 428 | T11: 494 | U11: 527 | V11: 528 | W11: 503 | X11: 460 | Y11: 400 | Z11: 325
A12: 42015 | B12: 325 | C12: 246 | D12: 200 | E12: 229 | F12: 321 | G12: 421 | H12: 493 | I12: 529 | J12: 534 | K12: 516 | L12: 482 | M12: 433 | N12: 366 | O12: 285 | P12: 220 | Q12: 216 | R12: 281 | S12: 373 | T12: 449 | U12: 494 | V12: 509 | W12: 502 | X12: 478 | Y12: 438 | Z12: 381
A13: 42016 | B13: 381 | C13: 310 | D13: 244 | E13: 224 | F13: 272 | G13: 361 | H13: 442 | I13: 493 | J13: 512 | K13: 508 | L13: 490 | M13: 460 | N13: 414 | O13: 350 | P13: 278 | Q13: 234 | R13: 252 | S13: 320 | T13: 396 | U13: 452 | V13: 481 | W13: 488 | X13: 482 | Y13: 463 | Z13: 427
... A90: 42093 | B90: 464 | C90: 488 | D90: 499 | E90: 482 | F90: 433 | G90: 363 | H90: 293 | I90: 249 | J90: 253 | K90: 300 | L90: 359 | M90: 408 | N90: 448 | O90: 482 | P90: 503 | Q90: 497 | R90: 457 | S90: 391 | T90: 318 | U90: 260 | V90: 246 | W90: 283 | X90: 348 | Y90: 406 | Z90: 450

Sheet Feuil1
A1: z | B1: E | C1: A | D1: F | E1: G | F1: B | G1: H
A2: 42005 | B2: PM | C2: 0.086111111 | D2: 5.36 | E2: PM | F2: 0.60138889 | G2: 5.47
A3: 42006 | B3: PM | C3: 0.12013889 | D3: 5.51 | E3: PM | F3: 0.63472222 | G3: 5.58
A4: 42007 | B4: PM | C4: 0.14861111 | D4: 5.66 | E4: PM | F4: 0.66180556 | G4: 5.69
A5: 42008 | B5: PM | C5: 0.17222222 | D5: 5.78 | E5: PM | F5: 0.68541667 | G5: 5.76
A6: 42009 | B6: PM | C6: 0.19305556 | D6: 5.87 | E6: PM | F6: 0.70625 | G6: 5.81
A7: 42010 | B7: PM | C7: 0.21319444 | D7: 5.92 | E7: PM | F7: 0.72638889 | G7: 5.82
A8: 42011 | B8: PM | C8: 0.23402778 | D8: 5.92 | E8: PM | F8: 0.74791667 | G8: 5.77
A9: 42012 | B9: PM | C9: 0.25555556 | D9: 5.86 | E9: PM | F9: 0.76875 | G9: 5.67
A10: 42013 | B10: PM | C10: 0.27708333 | D10: 5.74 | E10: PM | F10: 0.79097222 | G10: 5.51
A11: 42014 | B11: PM | C11: 0.29791667 | D11: 5.56 | E11: PM | F11: 0.81388889 | G11: 5.31
A12: 42015 | B12: PM | C12: 0.32013889 | D12: 5.35 | E12: PM | F12: 0.83888889 | G12: 5.09
A13: 42016 | B13: PM | C13: 0.34513889 | D13: 5.12 | E13: PM | F13: 0.87361111 | G13: 4.88
A14: 42017 | B14: PM | C14: 0.38125 | D14: 4.9 | E14: PM | F14: 0.93958333 | G14: 4.74
A15: 42018 | B15: PM | C15: 0.45763889 | D15: 4.76
A16: 42019 | B16: PM | C16: 0.00625 | D16: 4.8 | E16: PM | F16: 0.52291667 | G16: 4.83
A17: 42020 | B17: PM | C17: 0.047916667 | D17: 5 | E17: PM | F17: 0.56736111 | G17: 5.04
A18: 42021 | B18: PM | C18: 0.085416667 | D18: 5.29 | E18: PM | F18: 0.60416667 | G18: 5.32
A19: 42022 | B19: PM | C19: 0.11944444 | D19: 5.62 | E19: PM | F19: 0.63819444 | G19: 5.63
A20: 42023 | B20: PM | C20: 0.15138889 | D20: 5.96 | E20: PM | F20: 0.66944444 | G20: 5.93
A21: 42024 | B21: PM | C21: 0.18263889 | D21: 6.27 | E21: PM | F21: 0.7 | G21: 6.17
A22: 42025 | B22: PM | C22: 0.21319444 | D22: 6.5 | E22: PM | F22: 0.72986111 | G22: 6.31
A23: 42026 | B23: PM | C23: 0.24375 | D23: 6.61 | E23: PM | F23: 0.75972222 | G23: 6.31
A24: 42027 | B24: PM | C24: 0.27430556 | D24: 6.57 | E24: PM | F24: 0.79027778 | G24: 6.16
A25: 42028 | B25: PM | C25: 0.30625 | D25: 6.37 | E25: PM | F25: 0.82222222 | G25: 5.89
A26: 42029 | B26: PM | C26: 0.34027778 | D26: 6.04 | E26: PM | F26: 0.86041667 | G26: 5.55
A27: 42030 | B27: PM | C27: 0.38263889 | D27: 5.64 | E27: PM | F27: 0.91736111 | G27: 5.22
A28: 42031 | B28: PM | C28: 0.44236111 | D28: 5.28 | E28: PM | F28: 0.97847222 | G28: 5.03
A29: 42032 | B29: PM | C29: 0.50138889 | D29: 5.09
A30: 42033 | B30: PM | C30: 0.031944444 | D30: 4.99 | E30: PM | F30: 0.55277778 | G30: 5.07
A31: 42034 | B31: PM | C31: 0.077083333 | D31: 5.1 | E31: PM | F31: 0.59513889 | G31: 5.16
A32: 42035 | B32: PM | C32: 0.11458333 | D32: 5.27 | E32: PM | F32: 0.62916667 | G32: 5.31
A33: 42036 | B33: PM | C33: 0.14375 | D33: 5.45 | E33: PM | F33: 0.65486111 | G33: 5.47
A34: 42037 | B34: PM | C34: 0.16597222 | D34: 5.62 | E34: PM | F34: 0.67638889 | G34: 5.62
A35: 42038 | B35: PM | C35: 0.18472222 | D35: 5.77 | E35: PM | F35: 0.69444444 | G35: 5.74
A36: 42039 | B36: PM | C36: 0.20277778 | D36: 5.88 | E36: PM | F36: 0.7125 | G36: 5.83
A37: 42040 | B37: PM | C37: 0.22152778 | D37: 5.95 | E37: PM | F37: 0.73194444 | G37: 5.87
A38: 42041 | B38: PM | C38: 0.24166667 | D38: 5.96 | E38: PM | F38: 0.75138889 | G38: 5.83
A39: 42042 | B39: PM | C39: 0.26111111 | D39: 5.89 | E39: PM | F39: 0.77152778 | G39: 5.72
A40: 42043 | B40: PM | C40: 0.27986111 | D40: 5.76 | E40: PM | F40: 0.79097222 | G40: 5.56
A41: 42044 | B41: PM | C41: 0.29861111 | D41: 5.57 | E41: PM | F41: 0.81180556 | G41: 5.35
... A44: 42047 | B44: PM | C44: 0.39513889 | D44: 4.81 | E44: PM | F44: 0.96319444 | G44: 4.76
A45: 42048 | B45: PM | C45: 0.48958333 | D45: 4.73
A46: 42049 | B46: PM | C46: 0.022916667 | D46: 4.9 | E46: PM | F46: 0.54652778 | G46: 4.91
A47: 42050 | B47: PM | C47: 0.067361111 | D47: 5.19 | E47: PM | F47: 0.59027778 | G47: 5.23
A48: 42051 | B48: PM | C48: 0.10625 | D48: 5.57 | E48: PM | F48: 0.62708333 | G48: 5.61
A49: 42052 | B49: PM | C49: 0.14097222 | D49: 5.98 | E49: PM | F49: 0.66041667 | G49: 5.99
A50: 42053 | B50: PM | C50: 0.17291667 | D50: 6.36 | E50: PM | F50: 0.69097222 | G50: 6.29
A51: 42054 | B51: PM | C51: 0.20347222 | D51: 6.64 | E51: PM | F51: 0.71944444 | G51: 6.48
A52: 42055 | B52: PM | C52: 0.23263889 | D52: 6.78 | E52: PM | F52: 0.74791667 | G52: 6.5
A53: 42056 | B53: PM | C53: 0.26111111 | D53: 6.73 | E53: PM | F53: 0.77430556 | G53: 6.35
A54: 42057 | B54: PM | C54: 0.28888889 | D54: 6.49 | E54: PM | F54: 0.8 | G54: 6.06
A55: 42058 | B55: PM | C55: 0.31666667 | D55: 6.1 | E55: PM | F55: 0.825 | G55: 5.67
A56: 42059 | B56: PM | C56: 0.34583333 | D56: 5.62 | E56: PM | F56: 0.84930556 | G56: 5.25
A57: 42060 | B57: PM | C57: 0.39791667 | D57: 5.14 | E57: PM | F57: 0.95347222 | G57: 4.92
A58: 42061 | B58: PM | C58: 0.48402778 | D58: 4.87
A59: 42062 | B59: PM | C59: 0.015277778 | D59: 4.82 | E59: PM | F59: 0.53958333 | G59: 4.84
A60: 42063 | B60: PM | C60: 0.064583333 | D60: 4.92 | E60: PM | F60: 0.58402778 | G60: 4.96
A61: 42064 | B61: PM | C61: 0.10277778 | D61: 5.11 | E61: PM | F61: 0.61736111 | G61: 5.15
A62: 42065 | B62: PM | C62: 0.13194444 | D62: 5.31 | E62: PM | F62: 0.64236111 | G62: 5.35
A63: 42066 | B63: PM | C63: 0.15416667 | D63: 5.51 | E63: PM | F63: 0.66180556 | G63: 5.54
A64: 42067 | B64: PM | C64: 0.17152778 | D64: 5.68 | E64: PM | F64: 0.67847222 | G64: 5.71
A65: 42068 | B65: PM | C65: 0.1875 | D65: 5.84 | E65: PM | F65: 0.69513889 | G65: 5.85
A66: 42069 | B66: PM | C66: 0.20555556 | D66: 5.95 | E66: PM | F66: 0.71388889 | G66: 5.93
A67: 42070 | B67: PM | C67: 0.22430556 | D67: 6 | E67: PM | F67: 0.73263889 | G67: 5.95
A68: 42071 | B68: PM | C68: 0.24305556 | D68: 5.98 | E68: PM | F68: 0.75208333 | G68: 5.89
A69: 42072 | B69: PM | C69: 0.26111111 | D69: 5.88 | E69: PM | F69: 0.77152778 | G69: 5.76
A70: 42073 | B70: PM | C70: 0.28055556 | D70: 5.72 | E70: PM | F70: 0.79236111 | G70: 5.57
... A73: 42076 | B73: PM | C73: 0.37222222 | D73: 4.88 | E73: PM | F73: 0.93333333 | G73: 4.84
A74: 42077 | B74: PM | C74: 0.46805556 | D74: 4.74
A75: 42078 | B75: PM | C75: 0.0048611111 | D75: 4.93 | E75: PM | F75: 0.52986111 | G75: 4.91
A76: 42079 | B76: PM | C76: 0.05 | D76: 5.21 | E76: PM | F76: 0.57569444 | G76: 5.25
A77: 42080 | B77: PM | C77: 0.090972222 | D77: 5.6 | E77: PM | F77: 0.61388889 | G77: 5.66
A78: 42081 | B78: PM | C78: 0.12708333 | D78: 6.02 | E78: PM | F78: 0.64722222 | G78: 6.05
A79: 42082 | B79: PM | C79: 0.16041667 | D79: 6.4 | E79: PM | F79: 0.67777778 | G79: 6.36
A80: 42083 | B80: PM | C80: 0.19027778 | D80: 6.67 | E80: PM | F80: 0.70625 | G80: 6.54
A81: 42084 | B81: PM | C81: 0.21875 | D81: 6.78 | E81: PM | F81: 0.73263889 | G81: 6.55
A82: 42085 | B82: PM | C82: 0.24583333 | D82: 6.7 | E82: PM | F82: 0.75694444 | G82: 6.41
A83: 42086 | B83: PM | C83: 0.27083333 | D83: 6.44 | E83: PM | F83: 0.77847222 | G83: 6.12
A84: 42087 | B84: PM | C84: 0.29513889 | D84: 6.04 | E84: PM | F84: 0.79791667 | G84: 5.75
A85: 42088 | B85: PM | C85: 0.31944444 | D85: 5.57 | E85: PM | F85: 0.81736111 | G85: 5.35
A86: 42089 | B86: PM | C86: 0.34722222 | D86: 5.1 | E86: PM | F86: 0.84375 | G86: 4.96
A87: 42090 | B87: PM | C87: 0.45763889 | D87: 4.75 | E87: PM | F87: 0.99027778 | G87: 4.78
A88: 42091 | B88: PM | C88: 0.51805556 | D88: 4.72
A89: 42092 | B89: PM | C89: 0.041666667 | D89: 4.82 | E89: PM | F89: 0.5625 | G89: 4.84
A90: 42093 | B90: PM | C90: 0.08125 | D90: 4.99 | E90: PM | F90: 0.59652778 | G90: 5.04
A91: 42094 | B91: PM | C91: 0.11180556 | D91: 5.18 | E91: PM | F91: 0.62222222 | G91: 5.25

Sheet Feuil2
A2: Du: | B2: 42071 | C2: Au: | D2: 42081
A4: Jour | B4: Heure PM matin | C4: Hauteur PM matin | E4: Heure PM soir | F4: Hauteur PM soir | H4: Hauteur matin | J4: Hauteur soir
A6: 42071 | B6: =VLOOKUP($A6,Feuil1!$A$2:$G$91,COLUMN()+1,0) -> 0.24305556 | C6: =VLOOKUP($A6,Feuil1!$A$2:$G$91,COLUMN()+1,0) -> 5.98 | E6: =VLOOKUP($A6,Feuil1!$A$2:$G$91,COLUMN()+1,0) -> 0.75208333 | F6: =VLOOKUP($A6,Feuil1!$A$2:$G$91,COLUMN()+1,0) -> 5.89 | G6: {=MAX(IF(Feuil1!$D$2:$D$91<$C6,Feuil1!$D$2:$D$91))} -> 5.96 | H6: 586 | I6: {=MAX(IF(Feuil1!$G$2:$G$91<$F6,Feuil1!$G$2:$G$91))} -> 5.87 | J6: 563
A7: 42072 | B7: =VLOOKUP($A7,Feuil1!$A$2:$G$91,COLUMN()+1,0) -> 0.26111111 | C7: =VLOOKUP($A7,Feuil1!$A$2:$G$91,COLUMN()+1,0) -> 5.88 | E7: =VLOOKUP($A7,Feuil1!$A$2:$G$91,COLUMN()+1,0) -> 0.77152778 | F7: =VLOOKUP($A7,Feuil1!$A$2:$G$91,COLUMN()+1,0) -> 5.76 | G7: {=MAX(IF(Feuil1!$D$2:$D$91<$C7,Feuil1!$D$2:$D$91))} -> 5.87 | H7: 572 | I7: {=MAX(IF(Feuil1!$G$2:$G$91<$F7,Feuil1!$G$2:$G$91))} -> 5.75 | J7: 551
A8: 42073 | B8: =VLOOKUP($A8,Feuil1!$A$2:$G$91,COLUMN()+1,0) -> 0.28055556 | C8: =VLOOKUP($A8,Feuil1!$A$2:$G$91,COLUMN()+1,0) -> 5.72 | E8: =VLOOKUP($A8,Feuil1!$A$2:$G$91,COLUMN()+1,0) -> 0.79236111 | F8: =VLOOKUP($A8,Feuil1!$A$2:$G$91,COLUMN()+1,0) -> 5.57 | G8: {=MAX(IF(Feuil1!$D$2:$D$91<$C8,Feuil1!$D$2:$D$91))} -> 5.68 | H8: 556 | I8: {=MAX(IF(Feuil1!$G$2:$G$91<$F8,Feuil1!$G$2:$G$91))} -> 5.56 | J8: 528
A9: 42074 | B9: =VLOOKUP($A9,Feuil1!$A$2:$G$91,COLUMN()+1,0) -> 0.30277778 | C9: =VLOOKUP($A9,Feuil1!$A$2:$G$91,COLUMN()+1,0) -> 5.49 | E9: =VLOOKUP($A9,Feuil1!$A$2:$G$91,COLUMN()+1,0) -> 0.81805556 | F9: =VLOOKUP($A9,Feuil1!$A$2:$G$91,COLUMN()+1,0) -> 5.32 | G9: {=MAX(IF(Feuil1!$D$2:$D$91<$C9,Feuil1!$D$2:$D$91))} -> 5.45 | H9: 534 | I9: {=MAX(IF(Feuil1!$G$2:$G$91<$F9,Feuil1!$G$2:$G$91))} -> 5.31 | J9: 509
A10: 42075 | B10: =VLOOKUP($A10,Feuil1!$A$2:$G$91,COLUMN()+1,0) -> 0.33055556 | C10: =VLOOKUP($A10,Feuil1!$A$2:$G$91,COLUMN()+1,0) -> 5.2 | E10: =VLOOKUP($A10,Feuil1!$A$2:$G$91,COLUMN()+1,0) -> 0.85486111 | F10: =VLOOKUP($A10,Feuil1!$A$2:$G$91,COLUMN()+1,0) -> 5.04 | G10: {=MAX(IF(Feuil1!$D$2:$D$91<$C10,Feuil1!$D$2:$D$91))} -> 5.19 | H10: 512 | I10: {=MAX(IF(Feuil1!$G$2:$G$91<$F10,Feuil1!$G$2:$G$91))} -> 5.03 | J10: 488
A11: 42076 | B11: =VLOOKUP($A11,Feuil1!$A$2:$G$91,COLUMN()+1,0) -> 0.37222222 | C11: =VLOOKUP($A11,Feuil1!$A$2:$G$91,COLUMN()+1,0) -> 4.88 | E11: =VLOOKUP($A11,Feuil1!$A$2:$G$91,COLUMN()+1,0) -> 0.93333333 | F11: =VLOOKUP($A11,Feuil1!$A$2:$G$91,COLUMN()+1,0) -> 4.84 | G11: {=MAX(IF(Feuil1!$D$2:$D$91<$C11,Feuil1!$D$2:$D$91))} -> 4.87 | H11: 480 | I11: {=MAX(IF(Feuil1!$G$2:$G$91<$F11,Feuil1!$G$2:$G$91))} -> 4.83 | J11: 474
A12: 42077 | B12: =VLOOKUP($A12,Feuil1!$A$2:$G$91,COLUMN()+1,0) -> 0.46805556 | C12: =VLOOKUP($A12,Feuil1!$A$2:$G$91,COLUMN()+1,0) -> 4.74 | E12: =VLOOKUP($A12,Feuil1!$A$2:$G$91,COLUMN()+1,0) -> 0 | F12: =VLOOKUP($A12,Feuil1!$A$2:$G$91,COLUMN()+1,0) -> 0 | G12: {=MAX(IF(Feuil1!$D$2:$D$91<$C12,Feuil1!$D$2:$D$91))} -> 4.73 | H12: 473 | I12: {=MAX(IF(Feuil1!$G$2:$G$91<$F12,Feuil1!$G$2:$G$91))} -> 0
A13: 42078 | B13: =VLOOKUP($A13,Feuil1!$A$2:$G$91,COLUMN()+1,0) -> 0.0048611111 | C13: =VLOOKUP($A13,Feuil1!$A$2:$G$91,COLUMN()+1,0) -> 4.93 | E13: =VLOOKUP($A13,Feuil1!$A$2:$G$91,COLUMN()+1,0) -> 0.52986111 | F13: =VLOOKUP($A13,Feuil1!$A$2:$G$91,COLUMN()+1,0) -> 4.91 | G13: {=MAX(IF(Feuil1!$D$2:$D$91<$C13,Feuil1!$D$2:$D$91))} -> 4.92 | H13: 480 | I13: {=MAX(IF(Feuil1!$G$2:$G$91<$F13,Feuil1!$G$2:$G$91))} -> 4.88 | J13: 481
A14: 42079 | B14: =VLOOKUP($A14,Feuil1!$A$2:$G$91,COLUMN()+1,0) -> 0.05 | C14: =VLOOKUP($A14,Feuil1!$A$2:$G$91,COLUMN()+1,0) -> 5.21 | E14: =VLOOKUP($A14,Feuil1!$A$2:$G$91,COLUMN()+1,0) -> 0.57569444 | F14: =VLOOKUP($A14,Feuil1!$A$2:$G$91,COLUMN()+1,0) -> 5.25 | G14: {=MAX(IF(Feuil1!$D$2:$D$91<$C14,Feuil1!$D$2:$D$91))} -> 5.2 | H14: 500 | I14: {=MAX(IF(Feuil1!$G$2:$G$91<$F14,Feuil1!$G$2:$G$91))} -> 5.23 | J14: 502
A15: 42080 | B15: =VLOOKUP($A15,Feuil1!$A$2:$G$91,COLUMN()+1,0) -> 0.090972222 | C15: =VLOOKUP($A15,Feuil1!$A$2:$G$91,COLUMN()+1,0) -> 5.6 | E15: =VLOOKUP($A15,Feuil1!$A$2:$G$91,COLUMN()+1,0) -> 0.61388889 | F15: =VLOOKUP($A15,Feuil1!$A$2:$G$91,COLUMN()+1,0) -> 5.66 | G15: {=MAX(IF(Feuil1!$D$2:$D$91<$C15,Feuil1!$D$2:$D$91))} -> 5.57 | H15: 529 | I15: {=MAX(IF(Feuil1!$G$2:$G$91<$F15,Feuil1!$G$2:$G$91))} -> 5.63 | J15: 528
A16: 42081 | B16: =VLOOKUP($A16,Feuil1!$A$2:$G$91,COLUMN()+1,0) -> 0.12708333 | C16: =VLOOKUP($A16,Feuil1!$A$2:$G$91,COLUMN()+1,0) -> 6.02 | E16: =VLOOKUP($A16,Feuil1!$A$2:$G$91,COLUMN()+1,0) -> 0.64722222 | F16: =VLOOKUP($A16,Feuil1!$A$2:$G$91,COLUMN()+1,0) -> 6.05 | G16: {=MAX(IF(Feuil1!$D$2:$D$91<$C16,Feuil1!$D$2:$D$91))} -> 6 | H16: 562 | I16: {=MAX(IF(Feuil1!$G$2:$G$91<$F16,Feuil1!$G$2:$G$91))} -> 5.99 | J16: 562
