Workbook

Sheet Feuil1
A2: INGREDIENTS
D3: liste course
B4: Frais | C4: Epicerie salée
B5: Œufs | C5: Haricots rouges | D5: =(SUMPRODUCT((Feuil2!$E$8:$E$20=Feuil1!C5)*(Feuil2!$D$8:$D$20))*Feuil2!$C$6)+(SUMPRODUCT((Feuil2!$H$8:$H$20=Feuil1!C5)*(Feuil2!$G$8:$G$20))*Feuil2!$F$6)+(SUMPRODUCT((Feuil2!$K$8:$K$20=Feuil1!C5)*(Feuil2!$J$8:$J$20))*Feuil2!$I$6) -> 0
B6: Fromage blanc 0% | C6: Epicerie sucrée | D6: =(SUMPRODUCT((Feuil2!$E$8:$E$20=Feuil1!C6)*(Feuil2!$D$8:$D$20))*Feuil2!$C$6)+(SUMPRODUCT((Feuil2!$H$8:$H$20=Feuil1!C6)*(Feuil2!$G$8:$G$20))*Feuil2!$F$6)+(SUMPRODUCT((Feuil2!$K$8:$K$20=Feuil1!C6)*(Feuil2!$J$8:$J$20))*Feuil2!$I$6) -> 0
B7: Jambon | C7: Pain complet | D7: =(SUMPRODUCT((Feuil2!$E$8:$E$20=Feuil1!C7)*(Feuil2!$D$8:$D$20))*Feuil2!$C$6)+(SUMPRODUCT((Feuil2!$H$8:$H$20=Feuil1!C7)*(Feuil2!$G$8:$G$20))*Feuil2!$F$6)+(SUMPRODUCT((Feuil2!$K$8:$K$20=Feuil1!C7)*(Feuil2!$J$8:$J$20))*Feuil2!$I$6) -> 0
B8: Bacon | C8: Noix de coco rapée | D8: =(SUMPRODUCT((Feuil2!$E$8:$E$20=Feuil1!C8)*(Feuil2!$D$8:$D$20))*Feuil2!$C$6)+(SUMPRODUCT((Feuil2!$H$8:$H$20=Feuil1!C8)*(Feuil2!$G$8:$G$20))*Feuil2!$F$6)+(SUMPRODUCT((Feuil2!$K$8:$K$20=Feuil1!C8)*(Feuil2!$J$8:$J$20))*Feuil2!$I$6) -> 30
C9: Chocolat noir 85% | D9: =(SUMPRODUCT((Feuil2!$E$8:$E$20=Feuil1!C9)*(Feuil2!$D$8:$D$20))*Feuil2!$C$6)+(SUMPRODUCT((Feuil2!$H$8:$H$20=Feuil1!C9)*(Feuil2!$G$8:$G$20))*Feuil2!$F$6)+(SUMPRODUCT((Feuil2!$K$8:$K$20=Feuil1!C9)*(Feuil2!$J$8:$J$20))*Feuil2!$I$6) -> 280
C10: Petits pains complets | D10: =(SUMPRODUCT((Feuil2!$E$8:$E$20=Feuil1!C10)*(Feuil2!$D$8:$D$20))*Feuil2!$C$6)+(SUMPRODUCT((Feuil2!$H$8:$H$20=Feuil1!C10)*(Feuil2!$G$8:$G$20))*Feuil2!$F$6)+(SUMPRODUCT((Feuil2!$K$8:$K$20=Feuil1!C10)*(Feuil2!$J$8:$J$20))*Feuil2!$I$6) -> 0
C11: Stevia | D11: =(SUMPRODUCT((Feuil2!$E$8:$E$20=Feuil1!C11)*(Feuil2!$D$8:$D$20))*Feuil2!$C$6)+(SUMPRODUCT((Feuil2!$H$8:$H$20=Feuil1!C11)*(Feuil2!$G$8:$G$20))*Feuil2!$F$6)+(SUMPRODUCT((Feuil2!$K$8:$K$20=Feuil1!C11)*(Feuil2!$J$8:$J$20))*Feuil2!$I$6) -> 20
C12: Nutella | D12: =(SUMPRODUCT((Feuil2!$E$8:$E$20=Feuil1!C12)*(Feuil2!$D$8:$D$20))*Feuil2!$C$6)+(SUMPRODUCT((Feuil2!$H$8:$H$20=Feuil1!C12)*(Feuil2!$G$8:$G$20))*Feuil2!$F$6)+(SUMPRODUCT((Feuil2!$K$8:$K$20=Feuil1!C12)*(Feuil2!$J$8:$J$20))*Feuil2!$I$6) -> 0
C13: Peanut butter | D13: =(SUMPRODUCT((Feuil2!$E$8:$E$20=Feuil1!C13)*(Feuil2!$D$8:$D$20))*Feuil2!$C$6)+(SUMPRODUCT((Feuil2!$H$8:$H$20=Feuil1!C13)*(Feuil2!$G$8:$G$20))*Feuil2!$F$6)+(SUMPRODUCT((Feuil2!$K$8:$K$20=Feuil1!C13)*(Feuil2!$J$8:$J$20))*Feuil2!$I$6) -> 0
C14: Bio | D14: =(SUMPRODUCT((Feuil2!$E$8:$E$20=Feuil1!C14)*(Feuil2!$D$8:$D$20))*Feuil2!$C$6)+(SUMPRODUCT((Feuil2!$H$8:$H$20=Feuil1!C14)*(Feuil2!$G$8:$G$20))*Feuil2!$F$6)+(SUMPRODUCT((Feuil2!$K$8:$K$20=Feuil1!C14)*(Feuil2!$J$8:$J$20))*Feuil2!$I$6) -> 0
C15: Lait d'amande | D15: =(SUMPRODUCT((Feuil2!$E$8:$E$20=Feuil1!C15)*(Feuil2!$D$8:$D$20))*Feuil2!$C$6)+(SUMPRODUCT((Feuil2!$H$8:$H$20=Feuil1!C15)*(Feuil2!$G$8:$G$20))*Feuil2!$F$6)+(SUMPRODUCT((Feuil2!$K$8:$K$20=Feuil1!C15)*(Feuil2!$J$8:$J$20))*Feuil2!$I$6) -> 0
C16: Muesli sans sucres ajoutes | D16: =(SUMPRODUCT((Feuil2!$E$8:$E$20=Feuil1!C16)*(Feuil2!$D$8:$D$20))*Feuil2!$C$6)+(SUMPRODUCT((Feuil2!$H$8:$H$20=Feuil1!C16)*(Feuil2!$G$8:$G$20))*Feuil2!$F$6)+(SUMPRODUCT((Feuil2!$K$8:$K$20=Feuil1!C16)*(Feuil2!$J$8:$J$20))*Feuil2!$I$6) -> 0
C17: Huile de coco | D17: =(SUMPRODUCT((Feuil2!$E$8:$E$20=Feuil1!C17)*(Feuil2!$D$8:$D$20))*Feuil2!$C$6)+(SUMPRODUCT((Feuil2!$H$8:$H$20=Feuil1!C17)*(Feuil2!$G$8:$G$20))*Feuil2!$F$6)+(SUMPRODUCT((Feuil2!$K$8:$K$20=Feuil1!C17)*(Feuil2!$J$8:$J$20))*Feuil2!$I$6) -> 30
C18: Flocon d'avoine | D18: =(SUMPRODUCT((Feuil2!$E$8:$E$20=Feuil1!C18)*(Feuil2!$D$8:$D$20))*Feuil2!$C$6)+(SUMPRODUCT((Feuil2!$H$8:$H$20=Feuil1!C18)*(Feuil2!$G$8:$G$20))*Feuil2!$F$6)+(SUMPRODUCT((Feuil2!$K$8:$K$20=Feuil1!C18)*(Feuil2!$J$8:$J$20))*Feuil2!$I$6) -> 200
C19: Son d'avoine | D19: =(SUMPRODUCT((Feuil2!$E$8:$E$20=Feuil1!C19)*(Feuil2!$D$8:$D$20))*Feuil2!$C$6)+(SUMPRODUCT((Feuil2!$H$8:$H$20=Feuil1!C19)*(Feuil2!$G$8:$G$20))*Feuil2!$F$6)+(SUMPRODUCT((Feuil2!$K$8:$K$20=Feuil1!C19)*(Feuil2!$J$8:$J$20))*Feuil2!$I$6) -> 46
C20: Gomme de guar | D20: =(SUMPRODUCT((Feuil2!$E$8:$E$20=Feuil1!C20)*(Feuil2!$D$8:$D$20))*Feuil2!$C$6)+(SUMPRODUCT((Feuil2!$H$8:$H$20=Feuil1!C20)*(Feuil2!$G$8:$G$20))*Feuil2!$F$6)+(SUMPRODUCT((Feuil2!$K$8:$K$20=Feuil1!C20)*(Feuil2!$J$8:$J$20))*Feuil2!$I$6) -> 0
... C41: Amandes effilées | D41: =(SUMPRODUCT((Feuil2!$E$8:$E$20=Feuil1!C41)*(Feuil2!$D$8:$D$20))*Feuil2!$C$6)+(SUMPRODUCT((Feuil2!$H$8:$H$20=Feuil1!C41)*(Feuil2!$G$8:$G$20))*Feuil2!$F$6)+(SUMPRODUCT((Feuil2!$K$8:$K$20=Feuil1!C41)*(Feuil2!$J$8:$J$20))*Feuil2!$I$6) -> 39

Sheet Feuil2
C1: =COLUMN() -> 3 | D1: =COLUMN() -> 4 | E1: =COLUMN() -> 5 | F1: =COLUMN() -> 6 | G1: =COLUMN() -> 7 | H1: =COLUMN() -> 8 | I1: =COLUMN() -> 9 | J1: =COLUMN() -> 10
C2: =MOD(COLUMN(),3) -> 0 | D2: =MOD(COLUMN(),3) -> 1 | E2: =MOD(COLUMN(),3) -> 2 | F2: =MOD(COLUMN(),3) -> 0 | G2: =MOD(COLUMN(),3) -> 1 | H2: =MOD(COLUMN(),3) -> 2
C5: Cette semaine | D5: Nom recette | F5: Cette semaine | G5: Nom recette | I5: Cette semaine | J5: Nom recette
C6: 3 | D6: Banane amandes éffilées et chocolat noir | F6: 4 | G6: Muffin banane | I6: 2 | J6: Granola maison
D7: Poids | E7: Ingrédients | G7: Poids | H7: Ingrédients | J7: Poids | K7: Ingrédients
D8: 100 | E8: Banane | G8: 100 | H8: Banane | J8: 100 | K8: Flocon d'avoine
D9: 10 | E9: Chocolat noir 85% | G9: 60 | H9: Fromage blanc | J9: 23 | K9: Son d'avoine
D10: 13 | E10: Amandes effilées | G10: 2 | H10: Œufs | J10: 15 | K10: Poudre d'amande
G11: 5 | H11: Stevia | J11: 13 | K11: Miel
G12: 57 | H12: Farine de seigle | J12: 13 | K12: Sirop d'agave
G13: 1 | H13: Bicarbonate | J13: 25 | K13: Chocolat noir 85%
G14: 1 | H14: Sachet de levure | J14: 40 | K14: Noisettes
G15: 2 | H15: Cannelle | J15: 15 | K15: Noix de coco rapée
G16: 2 | H16: Pincée de sel | J16: 10 | K16: Graines
G17: 1 | H17: Extrait de vanille | J17: 1 | K17: Cannelle
G18: 50 | H18: Chocolat noir 85% | J18: 15 | K18: Huile de coco
G19: 5 | H19: Noix
G20: 8 | H20: Noisettes
