Workbook
Name Banco: OFFSET('Données Brutes'!$B$4,,,COUNTA(Mois))
Name Mois: OFFSET('Données Brutes'!$A$4,,,COUNTA('Données Brutes'!$A$4:$A$1000))
Name Nom: OFFSET('Donnés Calculées Agosto'!$A1,-MOD(ROW(),2),0)

Sheet Données Brutes
D2: 36 | F2: 48
A3: MÊS | B3: BANCO | C3: REGIONAL | D3: Nominal | E3: Liquide | F3: Nominal | G3: Liquide
A4: MAIO | B4: BV | C4: =RANDBETWEEN(1,5) -> 1 | D4: =RAND() -> 0.12333165 | E4: =RAND() -> 0.6491769 | F4: =RAND() -> 0.64507608 | G4: =RAND() -> 0.67589995
A5: MAIO | B5: BV | C5: =RANDBETWEEN(1,5) -> 4 | D5: =RAND() -> 0.70349293 | E5: =RAND() -> 0.62197179 | F5: =RAND() -> 0.6596802 | G5: =RAND() -> 0.78533952
A6: MAIO | B6: BV | C6: =RANDBETWEEN(1,5) -> 5 | D6: =RAND() -> 0.94728251 | E6: =RAND() -> 0.040382991 | F6: =RAND() -> 0.26311734 | G6: =RAND() -> 0.18139514
A7: MAIO | B7: FINASA | C7: =RANDBETWEEN(1,5) -> 1 | D7: =RAND() -> 0.43620528 | E7: =RAND() -> 0.34464302 | F7: =RAND() -> 0.38560795 | G7: =RAND() -> 0.92645748
A8: MAIO | B8: ITAÚ | C8: =RANDBETWEEN(1,5) -> 5 | D8: =RAND() -> 0.15414098 | E8: =RAND() -> 0.17819543 | F8: =RAND() -> 0.69412688 | G8: =RAND() -> 0.3192607
A9: MAIO | B9: ITAÚ | C9: =RANDBETWEEN(1,5) -> 4 | D9: =RAND() -> 0.55428188 | E9: =RAND() -> 0.87679229 | F9: =RAND() -> 0.82622093 | G9: =RAND() -> 0.26924866
A10: MAIO | B10: ITAÚ | C10: =RANDBETWEEN(1,5) -> 2 | D10: =RAND() -> 0.72133681 | E10: =RAND() -> 0.38635267 | F10: =RAND() -> 0.91008498 | G10: =RAND() -> 0.66562495
A11: MAIO | B11: ITAÚ | C11: =RANDBETWEEN(1,5) -> 4 | D11: =RAND() -> 0.80464442 | E11: =RAND() -> 0.33646838 | F11: =RAND() -> 0.053470503 | G11: =RAND() -> 0.88626065
A12: MAIO | B12: PANAMERICANO | C12: =RANDBETWEEN(1,5) -> 4 | D12: =RAND() -> 0.69671726 | E12: =RAND() -> 0.23360101 | F12: =RAND() -> 0.21939664 | G12: =RAND() -> 0.29664868
A13: MAIO | B13: PANAMERICANO | C13: =RANDBETWEEN(1,5) -> 1 | D13: =RAND() -> 0.6121143 | E13: =RAND() -> 0.61358516 | F13: =RAND() -> 0.42954844 | G13: =RAND() -> 0.53104709
A14: MAIO | B14: PANAMERICANO | C14: =RANDBETWEEN(1,5) -> 4 | D14: =RAND() -> 0.51990004 | E14: =RAND() -> 0.089162578 | F14: =RAND() -> 0.29050241 | G14: =RAND() -> 0.41571312
A15: MAIO | B15: PANAMERICANO | C15: =RANDBETWEEN(1,5) -> 1 | D15: =RAND() -> 0.72104264 | E15: =RAND() -> 0.66852628 | F15: =RAND() -> 0.14379382 | G15: =RAND() -> 0.79633785
... A135: AGOSTO | B135: SAFRA | C135: =RANDBETWEEN(1,5) -> 2 | D135: =RAND() -> 0.036954734 | E135: =RAND() -> 0.73476644 | F135: =RAND() -> 0.80909476 | G135: =RAND() -> 0.59489418

Sheet Donnés Calculées Agosto
A2: Agosto
B8: 36 Mois
B9: Bradesco | D9: BV | F9: Finasa | H9: Itau | J9: Pan + Panamericano | L9: Safra
B10: Nominal | C10: Liquide | D10: Nominal | E10: Liquide | F10: Nominal | G10: Liquide | H10: Nominal | I10: Liquide | J10: Nominal | K10: Liquide | L10: Nominal | M10: Liquide
A11: Min | B11: =MIN('Données Brutes'!$D$103:$D$105) -> 0.12506794 | C11: =MIN('Données Brutes'!E103:E105) -> 0.22900238 | D11: =MIN('Données Brutes'!D106:D112) -> 0.095967163 | E11: =MIN('Données Brutes'!E106:E112) -> 0.23331012 | F11: =MIN('Données Brutes'!D113:D115) -> 0.3200866 | G11: =MIN('Données Brutes'!E113:E115) -> 0.43960975 | H11: =MIN('Données Brutes'!$D$116:$D$124) -> 0.044128004 | I11: =MIN('Données Brutes'!E116:E124) -> 0.076984091 | J11: =MIN('Données Brutes'!D125:D130) -> 0.41339693 | K11: =MIN('Données Brutes'!E125:E130) -> 0.17769395 | L11: =MIN('Données Brutes'!D131:D135) -> 0.036954734 | M11: =MIN('Données Brutes'!E131:E135) -> 0.55358892
A12: Q1 | B12: =QUARTILE('Données Brutes'!D103:D105,1) -> 0.43315912 | C12: =QUARTILE('Données Brutes'!E103:E105,1) -> 0.49567319 | D12: =QUARTILE('Données Brutes'!D106:D112,1) -> 0.21422916 | E12: =QUARTILE('Données Brutes'!E106:E112,1) -> 0.36007475 | F12: =QUARTILE('Données Brutes'!D113:D115,1) -> 0.33649548 | G12: =QUARTILE('Données Brutes'!E113:E115,1) -> 0.58839043 | H12: =QUARTILE('Données Brutes'!D116:D124,1) -> 0.23119651 | I12: =QUARTILE('Données Brutes'!E116:E124,1) -> 0.32445079 | J12: =QUARTILE('Données Brutes'!D125:D130,1) -> 0.46840127 | K12: =QUARTILE('Données Brutes'!E125:E130,1) -> 0.28099213 | L12: =QUARTILE('Données Brutes'!D131:D135,1) -> 0.47884276 | M12: =QUARTILE('Données Brutes'!E131:E135,1) -> 0.58493913
A13: Mediane | B13: =MEDIAN('Données Brutes'!D103:D105) -> 0.74125029 | C13: =MEDIAN('Données Brutes'!E103:E105) -> 0.76234401 | D13: =MEDIAN('Données Brutes'!D106:D112) -> 0.38007278 | E13: =MEDIAN('Données Brutes'!E106:E112) -> 0.54970734 | F13: =MEDIAN('Données Brutes'!D113:D115) -> 0.35290437 | G13: =MEDIAN('Données Brutes'!E113:E115) -> 0.73717112 | H13: =MEDIAN('Données Brutes'!D116:D124) -> 0.56761034 | I13: =MEDIAN('Données Brutes'!E116:E124) -> 0.46126291 | J13: =MEDIAN('Données Brutes'!D125:D130) -> 0.63522702 | K13: =MEDIAN('Données Brutes'!E125:E130) -> 0.39925426 | L13: =MEDIAN('Données Brutes'!D131:D135) -> 0.54724245 | M13: =MEDIAN('Données Brutes'!E131:E135) -> 0.6099293
A14: Q3 | B14: =QUARTILE('Données Brutes'!D103:D105,3) -> 0.8646262 | C14: =QUARTILE('Données Brutes'!E103:E105,3) -> 0.84894302 | D14: =QUARTILE('Données Brutes'!D106:D112,3) -> 0.54093438 | E14: =QUARTILE('Données Brutes'!E106:E112,3) -> 0.92476986 | F14: =QUARTILE('Données Brutes'!D113:D115,3) -> 0.5528169 | G14: =QUARTILE('Données Brutes'!E113:E115,3) -> 0.8554493 | H14: =QUARTILE('Données Brutes'!D116:D124,3) -> 0.63978366 | I14: =QUARTILE('Données Brutes'!E116:E124,3) -> 0.76357212 | J14: =QUARTILE('Données Brutes'!D125:D130,3) -> 0.78473081 | K14: =QUARTILE('Données Brutes'!E125:E130,3) -> 0.50336917 | L14: =QUARTILE('Données Brutes'!D131:D135,3) -> 0.91296259 | M14: =QUARTILE('Données Brutes'!E131:E135,3) -> 0.73476644
A15: Max | B15: =MAX('Données Brutes'!D103:D105) -> 0.9880021 | C15: =MAX('Données Brutes'!E103:E105) -> 0.93554204 | D15: =MAX('Données Brutes'!D106:D112) -> 0.75188165 | E15: =MAX('Données Brutes'!E106:E112) -> 0.95746881 | F15: =MAX('Données Brutes'!D113:D115) -> 0.75272942 | G15: =MAX('Données Brutes'!E113:E115) -> 0.97372748 | H15: =MAX('Données Brutes'!D116:D124) -> 0.73876387 | I15: =MAX('Données Brutes'!E116:E124) -> 0.91434812 | J15: =MAX('Données Brutes'!D125:D130) -> 0.82074786 | K15: =MAX('Données Brutes'!E125:E130) -> 0.77504832 | L15: =MAX('Données Brutes'!D131:D135) -> 0.91448925 | M15: =MAX('Données Brutes'!E131:E135) -> 0.88444032
B18: 48 mois
B20: Bradesco | D20: BV | F20: Finasa | H20: Itau | J20: Pan | L20: Safra
B21: Nominal | C21: Liquide | D21: Nominal | E21: Liquide | F21: Nominal | G21: Liquide | H21: Nominal | I21: Liquide | J21: Nominal | K21: Liquide | L21: Nominal | M21: Liquide
A22: Min | B22: =MIN('Données Brutes'!F103:F105) -> 0.5194553 | C22: =MIN('Données Brutes'!G103:G105) -> 0.011576445 | D22: =MIN('Données Brutes'!F106:F112) -> 0.079296148 | E22: =MIN('Données Brutes'!$D$9:$D$15) -> 0.51990004 | F22: =MIN('Données Brutes'!D24:D26) -> 0.283697 | G22: =MIN('Données Brutes'!E24:E26) -> 0.11899802 | H22: =MIN('Données Brutes'!F116:F124) -> 0.32313715 | I22: =MIN('Données Brutes'!$D$19:$D$27) -> 0.13748329 | J22: =MIN('Données Brutes'!D36:D41) -> 0.11418171 | K22: =MIN('Données Brutes'!E36:E41) -> 0.16604049 | L22: =MIN('Données Brutes'!D42:D46) -> 0.01693877 | M22: =MIN('Données Brutes'!E42:E46) -> 0.012512484
A23: Q1 | B23: =QUARTILE('Données Brutes'!F103:F105,1) -> 0.54493285 | C23: =QUARTILE('Données Brutes'!G103:G105,1) -> 0.060855172 | D23: =QUARTILE('Données Brutes'!D17:D23,1) -> 0.35890979 | E23: =QUARTILE('Données Brutes'!$D$9:$D$15,1) -> 0.58319809 | F23: =QUARTILE('Données Brutes'!D24:D26,1) -> 0.52641285 | G23: =QUARTILE('Données Brutes'!E24:E26,1) -> 0.28502359 | H23: =QUARTILE('Données Brutes'!F116:F124,1) -> 0.46554825 | I23: =QUARTILE('Données Brutes'!$D$19:$D$27,1) -> 0.64542985 | J23: =QUARTILE('Données Brutes'!D36:D41,1) -> 0.22171706 | K23: =QUARTILE('Données Brutes'!E36:E41,1) -> 0.18582423 | L23: =QUARTILE('Données Brutes'!D42:D46,1) -> 0.7013468 | M23: =QUARTILE('Données Brutes'!E42:E46,1) -> 0.59106837
A24: Mediane | B24: =MEDIAN('Données Brutes'!F103:F105) -> 0.5704104 | C24: =MEDIAN('Données Brutes'!G103:G105) -> 0.1101339 | D24: =MEDIAN('Données Brutes'!D17:D23) -> 0.64542985 | E24: =MEDIAN('Données Brutes'!$D$9:$D$15) -> 0.69671726 | F24: =MEDIAN('Données Brutes'!D24:D26) -> 0.7691287 | G24: =MEDIAN('Données Brutes'!E24:E26) -> 0.45104916 | H24: =MEDIAN('Données Brutes'!F116:F124) -> 0.50858635 | I24: =MEDIAN('Données Brutes'!$D$19:$D$27) -> 0.7691287 | J24: =MEDIAN('Données Brutes'!D36:D41) -> 0.54226132 | K24: =MEDIAN('Données Brutes'!E36:E41) -> 0.29565948 | L24: =MEDIAN('Données Brutes'!D42:D46) -> 0.76847819 | M24: =MEDIAN('Données Brutes'!E42:E46) -> 0.66162052
A25: Q3 | B25: =QUARTILE('Données Brutes'!F103:F105,3) -> 0.60477827 | C25: =QUARTILE('Données Brutes'!G103:G105,3) -> 0.1399847 | D25: =QUARTILE('Données Brutes'!D17:D23,3) -> 0.769784 | E25: =QUARTILE('Données Brutes'!$D$9:$D$15,3) -> 0.72118973 | F25: =QUARTILE('Données Brutes'!D24:D26,3) -> 0.87937882 | G25: =QUARTILE('Données Brutes'!E24:E26,3) -> 0.61244862 | H25: =QUARTILE('Données Brutes'!F116:F124,3) -> 0.76754061 | I25: =QUARTILE('Données Brutes'!$D$19:$D$27,3) -> 0.85825487 | J25: =QUARTILE('Données Brutes'!D36:D41,3) -> 0.5660027 | K25: =QUARTILE('Données Brutes'!E36:E41,3) -> 0.41451952 | L25: =QUARTILE('Données Brutes'!D42:D46,3) -> 0.80373168 | M25: =QUARTILE('Données Brutes'!E42:E46,3) -> 0.825262
A26: Max | B26: =MAX('Données Brutes'!F103:F105) -> 0.63914614 | C26: =MAX('Données Brutes'!G103:G105) -> 0.1698355 | D26: =MAX('Données Brutes'!D17:D23) -> 0.92618463 | E26: =MAX('Données Brutes'!$D$9:$D$15) -> 0.80464442 | F26: =MAX('Données Brutes'!D24:D26) -> 0.98962894 | G26: =MAX('Données Brutes'!E24:E26) -> 0.77384808 | H26: =MAX('Données Brutes'!F116:F124) -> 0.93088082 | I26: =MAX('Données Brutes'!$D$19:$D$27) -> 0.98962894 | J26: =MAX('Données Brutes'!D36:D41) -> 0.74679397 | K26: =MAX('Données Brutes'!E36:E41) -> 0.45761069 | L26: =MAX('Données Brutes'!D42:D46) -> 0.89470633 | M26: =MAX('Données Brutes'!E42:E46) -> 0.93848675
A28: 36 mois
C29: Min | D29: Q1 | E29: Mediane | F29: Q3 | G29: Max
A30: BRADESCO | B30: Nominal | C30: {=MIN(IF((Mois="AGOSTO")*(Banco=Nom),'Données Brutes'!$D$4:$D$135))} -> 0.12506794 | D30: {=QUARTILE(IF((Mois="AGOSTO")*(Banco=Nom),'Données Brutes'!$D$4:$D$135),1)} -> 0.43315912 | E30: {=MEDIAN(IF((Mois="AGOSTO")*(Banco=Nom),'Données Brutes'!$D$4:$D$135))} -> 0.74125029 | F30: {=QUARTILE(IF((Mois="AGOSTO")*(Banco=Nom),'Données Brutes'!$D$4:$D$135),3)} -> 0.8646262 | G30: {=MAX(IF((Mois="AGOSTO")*(Banco=Nom),'Données Brutes'!$D$4:$D$135))} -> 0.9880021
B31: Liquide | C31: {=MIN(IF((Mois="AGOSTO")*(Banco=Nom),'Données Brutes'!$E$4:$E$135))} -> 0.22900238 | D31: {=QUARTILE(IF((Mois="AGOSTO")*(Banco=Nom),'Données Brutes'!$E$4:$E$135),1)} -> 0.49567319 | E31: {=MEDIAN(IF((Mois="AGOSTO")*(Banco=Nom),'Données Brutes'!$E$4:$E$135))} -> 0.76234401 | F31: {=QUARTILE(IF((Mois="AGOSTO")*(Banco=Nom),'Données Brutes'!$E$4:$E$135),3)} -> 0.84894302 | G31: {=MAX(IF((Mois="AGOSTO")*(Banco=Nom),'Données Brutes'!$E$4:$E$135))} -> 0.93554204
A32: BV | B32: Nominal | C32: {=MIN(IF((Mois="AGOSTO")*(Banco=Nom),'Données Brutes'!$D$4:$D$135))} -> 0.095967163 | D32: {=QUARTILE(IF((Mois="AGOSTO")*(Banco=Nom),'Données Brutes'!$D$4:$D$135),1)} -> 0.21422916 | E32: {=MEDIAN(IF((Mois="AGOSTO")*(Banco=Nom),'Données Brutes'!$D$4:$D$135))} -> 0.38007278 | F32: {=QUARTILE(IF((Mois="AGOSTO")*(Banco=Nom),'Données Brutes'!$D$4:$D$135),3)} -> 0.54093438 | G32: {=MAX(IF((Mois="AGOSTO")*(Banco=Nom),'Données Brutes'!$D$4:$D$135))} -> 0.75188165
B33: Liquide | C33: {=MIN(IF((Mois="AGOSTO")*(Banco=Nom),'Données Brutes'!$E$4:$E$135))} -> 0.23331012 | D33: {=QUARTILE(IF((Mois="AGOSTO")*(Banco=Nom),'Données Brutes'!$E$4:$E$135),1)} -> 0.36007475 | E33: {=MEDIAN(IF((Mois="AGOSTO")*(Banco=Nom),'Données Brutes'!$E$4:$E$135))} -> 0.54970734 | F33: {=QUARTILE(IF((Mois="AGOSTO")*(Banco=Nom),'Données Brutes'!$E$4:$E$135),3)} -> 0.92476986 | G33: {=MAX(IF((Mois="AGOSTO")*(Banco=Nom),'Données Brutes'!$E$4:$E$135))} -> 0.95746881
A34: Finasa | B34: Nominal | C34: {=MIN(IF((Mois="AGOSTO")*(Banco=Nom),'Données Brutes'!$D$4:$D$135))} -> 0.3200866 | D34: {=QUARTILE(IF((Mois="AGOSTO")*(Banco=Nom),'Données Brutes'!$D$4:$D$135),1)} -> 0.33649548 | E34: {=MEDIAN(IF((Mois="AGOSTO")*(Banco=Nom),'Données Brutes'!$D$4:$D$135))} -> 0.35290437 | F34: {=QUARTILE(IF((Mois="AGOSTO")*(Banco=Nom),'Données Brutes'!$D$4:$D$135),3)} -> 0.5528169 | G34: {=MAX(IF((Mois="AGOSTO")*(Banco=Nom),'Données Brutes'!$D$4:$D$135))} -> 0.75272942
B35: Liquide | C35: {=MIN(IF((Mois="AGOSTO")*(Banco=Nom),'Données Brutes'!$E$4:$E$135))} -> 0.43960975 | D35: {=QUARTILE(IF((Mois="AGOSTO")*(Banco=Nom),'Données Brutes'!$E$4:$E$135),1)} -> 0.58839043 | E35: {=MEDIAN(IF((Mois="AGOSTO")*(Banco=Nom),'Données Brutes'!$E$4:$E$135))} -> 0.73717112 | F35: {=QUARTILE(IF((Mois="AGOSTO")*(Banco=Nom),'Données Brutes'!$E$4:$E$135),3)} -> 0.8554493 | G35: {=MAX(IF((Mois="AGOSTO")*(Banco=Nom),'Données Brutes'!$E$4:$E$135))} -> 0.97372748
A36: ITAÚ | B36: Nominal | C36: {=MIN(IF((Mois="AGOSTO")*(Banco=Nom),'Données Brutes'!$D$4:$D$135))} -> 0.044128004 | D36: {=QUARTILE(IF((Mois="AGOSTO")*(Banco=Nom),'Données Brutes'!$D$4:$D$135),1)} -> 0.23119651 | E36: {=MEDIAN(IF((Mois="AGOSTO")*(Banco=Nom),'Données Brutes'!$D$4:$D$135))} -> 0.56761034 | F36: {=QUARTILE(IF((Mois="AGOSTO")*(Banco=Nom),'Données Brutes'!$D$4:$D$135),3)} -> 0.63978366 | G36: {=MAX(IF((Mois="AGOSTO")*(Banco=Nom),'Données Brutes'!$D$4:$D$135))} -> 0.73876387
B37: Liquide | C37: {=MIN(IF((Mois="AGOSTO")*(Banco=Nom),'Données Brutes'!$E$4:$E$135))} -> 0.076984091 | D37: {=QUARTILE(IF((Mois="AGOSTO")*(Banco=Nom),'Données Brutes'!$E$4:$E$135),1)} -> 0.32445079 | E37: {=MEDIAN(IF((Mois="AGOSTO")*(Banco=Nom),'Données Brutes'!$E$4:$E$135))} -> 0.46126291 | F37: {=QUARTILE(IF((Mois="AGOSTO")*(Banco=Nom),'Données Brutes'!$E$4:$E$135),3)} -> 0.76357212 | G37: {=MAX(IF((Mois="AGOSTO")*(Banco=Nom),'Données Brutes'!$E$4:$E$135))} -> 0.91434812
A38: Panamericano | B38: Nominal | C38: {=MIN(IF((Mois="AGOSTO")*(Banco=Nom),'Données Brutes'!$D$4:$D$135))} -> 0.767497 | D38: {=QUARTILE(IF((Mois="AGOSTO")*(Banco=Nom),'Données Brutes'!$D$4:$D$135),1)} -> 0.78080971 | E38: {=MEDIAN(IF((Mois="AGOSTO")*(Banco=Nom),'Données Brutes'!$D$4:$D$135))} -> 0.79412243 | F38: {=QUARTILE(IF((Mois="AGOSTO")*(Banco=Nom),'Données Brutes'!$D$4:$D$135),3)} -> 0.80743514 | G38: {=MAX(IF((Mois="AGOSTO")*(Banco=Nom),'Données Brutes'!$D$4:$D$135))} -> 0.82074786
B39: Liquide | C39: {=MIN(IF((Mois="AGOSTO")*(Banco=Nom),'Données Brutes'!$E$4:$E$135))} -> 0.42224887 | D39: {=QUARTILE(IF((Mois="AGOSTO")*(Banco=Nom),'Données Brutes'!$E$4:$E$135),1)} -> 0.44928897 | E39: {=MEDIAN(IF((Mois="AGOSTO")*(Banco=Nom),'Données Brutes'!$E$4:$E$135))} -> 0.47632907 | F39: {=QUARTILE(IF((Mois="AGOSTO")*(Banco=Nom),'Données Brutes'!$E$4:$E$135),3)} -> 0.50336917 | G39: {=MAX(IF((Mois="AGOSTO")*(Banco=Nom),'Données Brutes'!$E$4:$E$135))} -> 0.53040927
A40: Safra | B40: Nominal | C40: {=MIN(IF((Mois="AGOSTO")*(Banco=Nom),'Données Brutes'!$D$4:$D$135))} -> 0.036954734 | D40: {=QUARTILE(IF((Mois="AGOSTO")*(Banco=Nom),'Données Brutes'!$D$4:$D$135),1)} -> 0.47884276 | E40: {=MEDIAN(IF((Mois="AGOSTO")*(Banco=Nom),'Données Brutes'!$D$4:$D$135))} -> 0.54724245 | F40: {=QUARTILE(IF((Mois="AGOSTO")*(Banco=Nom),'Données Brutes'!$D$4:$D$135),3)} -> 0.91296259 | G40: {=MAX(IF((Mois="AGOSTO")*(Banco=Nom),'Données Brutes'!$D$4:$D$135))} -> 0.91448925
B41: Liquide | C41: {=MIN(IF((Mois="AGOSTO")*(Banco=Nom),'Données Brutes'!$E$4:$E$135))} -> 0.55358892 | D41: {=QUARTILE(IF((Mois="AGOSTO")*(Banco=Nom),'Données Brutes'!$E$4:$E$135),1)} -> 0.58493913 | E41: {=MEDIAN(IF((Mois="AGOSTO")*(Banco=Nom),'Données Brutes'!$E$4:$E$135))} -> 0.6099293 | F41: {=QUARTILE(IF((Mois="AGOSTO")*(Banco=Nom),'Données Brutes'!$E$4:$E$135),3)} -> 0.73476644 | G41: {=MAX(IF((Mois="AGOSTO")*(Banco=Nom),'Données Brutes'!$E$4:$E$135))} -> 0.88444032

Sheet Donnés Calculée Maio
