Workbook

Sheet Entête
B2: janvier
B3: mercredi | C3: jeudi | D3: vendredi | E3: samedi | F3: dimanche | G3: lundi | H3: mardi | I3: mercredi | J3: jeudi | K3: vendredi | L3: samedi | M3: dimanche | N3: lundi | O3: mardi | P3: mercredi | Q3: jeudi | R3: vendredi | S3: samedi | T3: dimanche | U3: lundi | V3: mardi | W3: mercredi | X3: jeudi | Y3: vendredi | Z3: samedi | AA3: dimanche | AB3: lundi | AC3: mardi | AD3: mercredi | AE3: jeudi
B4: 1 | C4: 2 | D4: 3 | E4: 4 | F4: 5 | G4: 6 | H4: 7 | I4: 8 | J4: 9 | K4: 10 | L4: 11 | M4: 12 | N4: 13 | O4: 14 | P4: 15 | Q4: 16 | R4: 17 | S4: 18 | T4: 19 | U4: 20 | V4: 21 | W4: 22 | X4: 23 | Y4: 24 | Z4: 25 | AA4: 26 | AB4: 27 | AC4: 28 | AD4: 29 | AE4: 30
A5: alpha | B5: d | C5: a | D5: b | E5: c | F5: d | G5: a | H5: b
A6: bravo | B6: c | C6: d | D6: a | E6: b | F6: c | G6: d | H6: a
A7: charlie | B7: b | C7: c | D7: d | E7: a | F7: b | G7: c | H7: d
A8: delta | B8: a | C8: b | D8: c | E8: d | F8: a | G8: b | H8: c
B11: janvier
B12: mercredi | C12: jeudi | D12: vendredi | E12: samedi | F12: dimanche | G12: lundi | H12: mardi | I12: mercredi | J12: jeudi | K12: vendredi | L12: samedi | M12: dimanche | N12: lundi | O12: mardi | P12: mercredi | Q12: jeudi | R12: vendredi | S12: samedi | T12: dimanche | U12: lundi | V12: mardi | W12: mercredi | X12: jeudi | Y12: vendredi | Z12: samedi | AA12: dimanche | AB12: lundi | AC12: mardi | AD12: mercredi | AE12: jeudi
B13: 1 | C13: 2 | D13: 3 | E13: 4 | F13: 5 | G13: 6 | H13: 7 | I13: 8 | J13: 9 | K13: 10 | L13: 11 | M13: 12 | N13: 13 | O13: 14 | P13: 15 | Q13: 16 | R13: 17 | S13: 18 | T13: 19 | U13: 20 | V13: 21 | W13: 22 | X13: 23 | Y13: 24 | Z13: 25 | AA13: 26 | AB13: 27 | AC13: 28 | AD13: 29 | AE13: 30
A14: alpha | B14: d | C14: a | D14: b | E14: c | F14: d | G14: a | H14: b
A15: bravo | B15: c | C15: d | D15: a | E15: b | F15: c | G15: d | H15: a
A16: charlie | B16: b | C16: c | D16: d | E16: a | F16: b | G16: c | H16: d
A17: delta | B17: a | C17: b | D17: c | E17: d | F17: a | G17: b | H17: c

Sheet janvier
A1: Janvier
C2: a | D2: b | E2: c | F2: d
A3: mercredi | B3: 1 | C3: =INDEX(Entête!$A$5:$A$8,MATCH(C$2,OFFSET(Entête!$A$5:$A$8,,$B3),0)) -> delta | D3: =INDEX(Entête!$A$5:$A$8,MATCH(D$2,OFFSET(Entête!$A$5:$A$8,,$B3),0)) -> charlie | E3: =INDEX(Entête!$A$5:$A$8,MATCH(E$2,OFFSET(Entête!$A$5:$A$8,,$B3),0)) -> bravo | F3: =INDEX(Entête!$A$5:$A$8,MATCH(F$2,OFFSET(Entête!$A$5:$A$8,,$B3),0)) -> alpha
A4: jeudi | B4: 2 | C4: =INDEX(Entête!$A$5:$A$8,MATCH(C$2,OFFSET(Entête!$A$5:$A$8,,$B4),0)) -> alpha | D4: =INDEX(Entête!$A$5:$A$8,MATCH(D$2,OFFSET(Entête!$A$5:$A$8,,$B4),0)) -> delta | E4: =INDEX(Entête!$A$5:$A$8,MATCH(E$2,OFFSET(Entête!$A$5:$A$8,,$B4),0)) -> charlie | F4: =INDEX(Entête!$A$5:$A$8,MATCH(F$2,OFFSET(Entête!$A$5:$A$8,,$B4),0)) -> bravo
A5: vendredi | B5: 3 | C5: =INDEX(Entête!$A$5:$A$8,MATCH(C$2,OFFSET(Entête!$A$5:$A$8,,$B5),0)) -> bravo | D5: =INDEX(Entête!$A$5:$A$8,MATCH(D$2,OFFSET(Entête!$A$5:$A$8,,$B5),0)) -> alpha | E5: =INDEX(Entête!$A$5:$A$8,MATCH(E$2,OFFSET(Entête!$A$5:$A$8,,$B5),0)) -> delta | F5: =INDEX(Entête!$A$5:$A$8,MATCH(F$2,OFFSET(Entête!$A$5:$A$8,,$B5),0)) -> charlie
A6: samedi | B6: 4 | C6: =INDEX(Entête!$A$5:$A$8,MATCH(C$2,OFFSET(Entête!$A$5:$A$8,,$B6),0)) -> charlie | D6: =INDEX(Entête!$A$5:$A$8,MATCH(D$2,OFFSET(Entête!$A$5:$A$8,,$B6),0)) -> bravo | E6: =INDEX(Entête!$A$5:$A$8,MATCH(E$2,OFFSET(Entête!$A$5:$A$8,,$B6),0)) -> alpha | F6: =INDEX(Entête!$A$5:$A$8,MATCH(F$2,OFFSET(Entête!$A$5:$A$8,,$B6),0)) -> delta
A7: dimanche | B7: 5 | C7: =INDEX(Entête!$A$5:$A$8,MATCH(C$2,OFFSET(Entête!$A$5:$A$8,,$B7),0)) -> delta | D7: =INDEX(Entête!$A$5:$A$8,MATCH(D$2,OFFSET(Entête!$A$5:$A$8,,$B7),0)) -> charlie | E7: =INDEX(Entête!$A$5:$A$8,MATCH(E$2,OFFSET(Entête!$A$5:$A$8,,$B7),0)) -> bravo | F7: =INDEX(Entête!$A$5:$A$8,MATCH(F$2,OFFSET(Entête!$A$5:$A$8,,$B7),0)) -> alpha
A8: lundi | B8: 6 | C8: =INDEX(Entête!$A$5:$A$8,MATCH(C$2,OFFSET(Entête!$A$5:$A$8,,$B8),0)) -> alpha | D8: =INDEX(Entête!$A$5:$A$8,MATCH(D$2,OFFSET(Entête!$A$5:$A$8,,$B8),0)) -> delta | E8: =INDEX(Entête!$A$5:$A$8,MATCH(E$2,OFFSET(Entête!$A$5:$A$8,,$B8),0)) -> charlie | F8: =INDEX(Entête!$A$5:$A$8,MATCH(F$2,OFFSET(Entête!$A$5:$A$8,,$B8),0)) -> bravo
A9: mardi | B9: 7 | C9: =INDEX(Entête!$A$5:$A$8,MATCH(C$2,OFFSET(Entête!$A$5:$A$8,,$B9),0)) -> bravo | D9: =INDEX(Entête!$A$5:$A$8,MATCH(D$2,OFFSET(Entête!$A$5:$A$8,,$B9),0)) -> alpha | E9: =INDEX(Entête!$A$5:$A$8,MATCH(E$2,OFFSET(Entête!$A$5:$A$8,,$B9),0)) -> delta | F9: =INDEX(Entête!$A$5:$A$8,MATCH(F$2,OFFSET(Entête!$A$5:$A$8,,$B9),0)) -> charlie
A10: mercredi | B10: 8
A11: jeudi | B11: 9
A12: vendredi | B12: 10
A13: samedi | B13: 11
A14: dimanche | B14: 12
A15: lundi | B15: 13
A16: mardi | B16: 14
A17: mercredi | B17: 15
A18: jeudi | B18: 16
A19: vendredi | B19: 17
A20: samedi | B20: 18
A21: dimanche | B21: 19
... A32: jeudi | B32: 30

Sheet fevrier
