Workbook

Sheet Valeurs
B1: Name | C1: Birthdate | D1: Age | E1: Class | F1: Location | G1: Defense | H1: Rank
B2: A | C2: 32874 | D2: =TODAY()-C2 -> 8537 | E2: 1 | F2: North | G2: 23 | H2: =RANK(G2,$G$2:$G$5) -> 3 | I2: =G2+(ROW()/10^9) -> 23
B3: B | C3: 32875 | D3: =TODAY()-C3 -> 8536 | E3: 1 | F3: North | G3: 24 | H3: =RANK(G3,$G$2:$G$5) -> 2 | I3: =G3+(ROW()/10^9) -> 24
B4: C | C4: 32876 | D4: =TODAY()-C4 -> 8535 | E4: 1 | F4: North | G4: 25 | H4: =RANK(G4,$G$2:$G$5) -> 1 | I4: =G4+(ROW()/10^9) -> 25
B5: D | C5: 32877 | D5: =TODAY()-C5 -> 8534 | E5: 1 | F5: North | G5: 12 | H5: =RANK(G5,$G$2:$G$5) -> 4 | I5: =G5+(ROW()/10^9) -> 12
B6: E | C6: 32509 | D6: =TODAY()-C6 -> 8902 | E6: 2 | F6: South | G6: 17 | H6: =RANK(G6,$G$6:$G$12) -> 6 | I6: =G6+(ROW()/10^9) -> 17
B7: F | C7: 32510 | D7: =TODAY()-C7 -> 8901 | E7: 2 | F7: South | G7: 18 | H7: =RANK(G7,$G$6:$G$12) -> 4 | I7: =G7+(ROW()/10^9) -> 18
B8: G | C8: 32511 | D8: =TODAY()-C8 -> 8900 | E8: 2 | F8: South | G8: 19 | H8: =RANK(G8,$G$6:$G$12) -> 3 | I8: =G8+(ROW()/10^9) -> 19
B9: H | C9: 32512 | D9: =TODAY()-C9 -> 8899 | E9: 2 | F9: South | G9: 13 | H9: =RANK(G9,$G$6:$G$12) -> 7 | I9: =G9+(ROW()/10^9) -> 13
B10: I | C10: 32513 | D10: =TODAY()-C10 -> 8898 | E10: 2 | F10: South | G10: 18 | H10: =RANK(G10,$G$6:$G$12) -> 4 | I10: =G10+(ROW()/10^9) -> 18
B11: J | C11: 32514 | D11: =TODAY()-C11 -> 8897 | E11: 2 | F11: South | G11: 20 | H11: =RANK(G11,$G$6:$G$12) -> 2 | I11: =G11+(ROW()/10^9) -> 20
B12: K | C12: 32515 | D12: =TODAY()-C12 -> 8896 | E12: 2 | F12: South | G12: 21 | H12: =RANK(G12,$G$6:$G$12) -> 1 | I12: =G12+(ROW()/10^9) -> 21
B13: L | C13: 32143 | D13: =TODAY()-C13 -> 9268 | E13: 3 | F13: East | G13: 29 | H13: =RANK(G13,$G$13:$G$18) -> 2 | I13: =G13+(ROW()/10^9) -> 29
B14: M | C14: 32144 | D14: =TODAY()-C14 -> 9267 | E14: 3 | F14: East | G14: 28 | H14: =RANK(G14,$G$13:$G$18) -> 3 | I14: =G14+(ROW()/10^9) -> 28
B15: N | C15: 32145 | D15: =TODAY()-C15 -> 9266 | E15: 3 | F15: East | G15: 31 | H15: =RANK(G15,$G$13:$G$18) -> 1 | I15: =G15+(ROW()/10^9) -> 31
B16: O | C16: 32146 | D16: =TODAY()-C16 -> 9265 | E16: 3 | F16: East | G16: 15 | H16: =RANK(G16,$G$13:$G$18) -> 6 | I16: =G16+(ROW()/10^9) -> 15
B17: P | C17: 32147 | D17: =TODAY()-C17 -> 9264 | E17: 3 | F17: East | G17: 17 | H17: =RANK(G17,$G$13:$G$18) -> 5 | I17: =G17+(ROW()/10^9) -> 17
B18: Q | C18: 32148 | D18: =TODAY()-C18 -> 9263 | E18: 3 | F18: East | G18: 18 | H18: =RANK(G18,$G$13:$G$18) -> 4 | I18: =G18+(ROW()/10^9) -> 18
B19: R | C19: 31778 | D19: =TODAY()-C19 -> 9633 | E19: 4 | F19: West | G19: 26 | H19: =RANK(G19,$G$19:$G$25) -> 2 | I19: =G19+(ROW()/10^9) -> 26
B20: S | C20: 31779 | D20: =TODAY()-C20 -> 9632 | E20: 4 | F20: West | G20: 31 | H20: =RANK(G20,$G$19:$G$25) -> 1 | I20: =G20+(ROW()/10^9) -> 31
B21: T | C21: 31780 | D21: =TODAY()-C21 -> 9631 | E21: 4 | F21: West | G21: 18 | H21: =RANK(G21,$G$19:$G$25) -> 5 | I21: =G21+(ROW()/10^9) -> 18
B22: U | C22: 31781 | D22: =TODAY()-C22 -> 9630 | E22: 4 | F22: West | G22: 19 | H22: =RANK(G22,$G$19:$G$25) -> 4 | I22: =G22+(ROW()/10^9) -> 19
B23: V | C23: 31782 | D23: =TODAY()-C23 -> 9629 | E23: 4 | F23: West | G23: 21 | H23: =RANK(G23,$G$19:$G$25) -> 3 | I23: =G23+(ROW()/10^9) -> 21
B24: W | C24: 31783 | D24: =TODAY()-C24 -> 9628 | E24: 4 | F24: West | G24: 12 | H24: =RANK(G24,$G$19:$G$25) -> 7 | I24: =G24+(ROW()/10^9) -> 12
B25: X | C25: 31784 | D25: =TODAY()-C25 -> 9627 | E25: 4 | F25: West | G25: 17 | H25: =RANK(G25,$G$19:$G$25) -> 6 | I25: =G25+(ROW()/10^9) -> 17

Sheet Tri
A1: 1
C2: Total | D2: General Eval
A3: 1 | B3: =INDEX(Valeurs!$B$2:$B$25,MATCH(Tri!C3,Valeurs!$I$2:$I$25,0),Tri!$A$1) -> S | C3: =SMALL(Valeurs!$I$2:$I$25,27-ROW()) -> 31 | D3: =IF(C3>24,"3",IF(AND(C3<=24,C3>17),"2","1")) -> 3
A4: 2 | B4: =INDEX(Valeurs!$B$2:$B$25,MATCH(Tri!C4,Valeurs!$I$2:$I$25,0),Tri!$A$1) -> N | C4: =SMALL(Valeurs!$I$2:$I$25,27-ROW()) -> 31 | D4: =IF(C4>24,"3",IF(AND(C4<=24,C4>17),"2","1")) -> 3
A5: 3 | B5: =INDEX(Valeurs!$B$2:$B$25,MATCH(Tri!C5,Valeurs!$I$2:$I$25,0),Tri!$A$1) -> L | C5: =SMALL(Valeurs!$I$2:$I$25,27-ROW()) -> 29 | D5: =IF(C5>24,"3",IF(AND(C5<=24,C5>17),"2","1")) -> 3
A6: 4 | B6: =INDEX(Valeurs!$B$2:$B$25,MATCH(Tri!C6,Valeurs!$I$2:$I$25,0),Tri!$A$1) -> M | C6: =SMALL(Valeurs!$I$2:$I$25,27-ROW()) -> 28 | D6: =IF(C6>24,"3",IF(AND(C6<=24,C6>17),"2","1")) -> 3
A7: 5 | B7: =INDEX(Valeurs!$B$2:$B$25,MATCH(Tri!C7,Valeurs!$I$2:$I$25,0),Tri!$A$1) -> R | C7: =SMALL(Valeurs!$I$2:$I$25,27-ROW()) -> 26 | D7: =IF(C7>24,"3",IF(AND(C7<=24,C7>17),"2","1")) -> 3
A8: 6 | B8: =INDEX(Valeurs!$B$2:$B$25,MATCH(Tri!C8,Valeurs!$I$2:$I$25,0),Tri!$A$1) -> C | C8: =SMALL(Valeurs!$I$2:$I$25,27-ROW()) -> 25 | D8: =IF(C8>24,"3",IF(AND(C8<=24,C8>17),"2","1")) -> 3
A9: 7 | B9: =INDEX(Valeurs!$B$2:$B$25,MATCH(Tri!C9,Valeurs!$I$2:$I$25,0),Tri!$A$1) -> B | C9: =SMALL(Valeurs!$I$2:$I$25,27-ROW()) -> 24 | D9: =IF(C9>24,"3",IF(AND(C9<=24,C9>17),"2","1")) -> 3
A10: 8 | B10: =INDEX(Valeurs!$B$2:$B$25,MATCH(Tri!C10,Valeurs!$I$2:$I$25,0),Tri!$A$1) -> A | C10: =SMALL(Valeurs!$I$2:$I$25,27-ROW()) -> 23 | D10: =IF(C10>24,"3",IF(AND(C10<=24,C10>17),"2","1")) -> 2
A11: 9 | B11: =INDEX(Valeurs!$B$2:$B$25,MATCH(Tri!C11,Valeurs!$I$2:$I$25,0),Tri!$A$1) -> V | C11: =SMALL(Valeurs!$I$2:$I$25,27-ROW()) -> 21 | D11: =IF(C11>24,"3",IF(AND(C11<=24,C11>17),"2","1")) -> 2
A12: 10 | B12: =INDEX(Valeurs!$B$2:$B$25,MATCH(Tri!C12,Valeurs!$I$2:$I$25,0),Tri!$A$1) -> K | C12: =SMALL(Valeurs!$I$2:$I$25,27-ROW()) -> 21 | D12: =IF(C12>24,"3",IF(AND(C12<=24,C12>17),"2","1")) -> 2
A13: 11 | B13: =INDEX(Valeurs!$B$2:$B$25,MATCH(Tri!C13,Valeurs!$I$2:$I$25,0),Tri!$A$1) -> J | C13: =SMALL(Valeurs!$I$2:$I$25,27-ROW()) -> 20 | D13: =IF(C13>24,"3",IF(AND(C13<=24,C13>17),"2","1")) -> 2
A14: 12 | B14: =INDEX(Valeurs!$B$2:$B$25,MATCH(Tri!C14,Valeurs!$I$2:$I$25,0),Tri!$A$1) -> U | C14: =SMALL(Valeurs!$I$2:$I$25,27-ROW()) -> 19 | D14: =IF(C14>24,"3",IF(AND(C14<=24,C14>17),"2","1")) -> 2
... A26: 24 | B26: =INDEX(Valeurs!$B$2:$B$25,MATCH(Tri!C26,Valeurs!$I$2:$I$25,0),Tri!$A$1) -> D | C26: =SMALL(Valeurs!$I$2:$I$25,27-ROW()) -> 12 | D26: =IF(C26>24,"3",IF(AND(C26<=24,C26>17),"2","1")) -> 1
