Workbook
Name Articles: OFFSET(Article!$B$4,,,COUNTA(Article!$B$4:$B$1000))

Sheet Article
E2: {=INDEX($B$1:$B$1000,MIN(IF($C$4:$C$1000="bois",IF(COUNTIF(E$1:E1,Articles)=0,ROW(Articles)))))&""} -> article 2
E3: {=INDEX($B$1:$B$1000,MIN(IF($C$4:$C$1000="bois",IF(COUNTIF(E$1:E2,Articles)=0,ROW(Articles)))))&""} -> article 5
B4: article 1 | C4: metal | E4: {=INDEX($B$1:$B$1000,MIN(IF($C$4:$C$1000="bois",IF(COUNTIF(E$1:E3,Articles)=0,ROW(Articles)))))&""} -> article 8
B5: article 2 | C5: bois
B6: article 3 | C6: cuir
B7: article 4 | C7: metal
B8: article 5 | C8: bois | E8: Dans cette colonne je n'aurai que ces 3 variables (metal, bois, cuir)
B9: article 6 | C9: cuir
B10: article 7 | C10: metal
B11: article 8 | C11: bois
B12: article 9 | C12: cuir
B15: Dans cette colonne je saisis manuellement

Sheet M
B2: Article metal
B4: {=INDEX(Article!$B$1:$B$1000,MIN(IF(Article!$C$4:$C$1000="metal",IF(COUNTIF(B$3:B3,Articles)=0,ROW(Articles)))))&""} -> article 1
B5: {=INDEX(Article!$B$1:$B$1000,MIN(IF(Article!$C$4:$C$1000="metal",IF(COUNTIF(B$3:B4,Articles)=0,ROW(Articles)))))&""} -> article 4
B6: {=INDEX(Article!$B$1:$B$1000,MIN(IF(Article!$C$4:$C$1000="metal",IF(COUNTIF(B$3:B5,Articles)=0,ROW(Articles)))))&""} -> article 7 | D6: Afficher l'article si la cellule d'a cote est "Metal"
B7: {=INDEX(Article!$B$1:$B$1000,MIN(IF(Article!$C$4:$C$1000="metal",IF(COUNTIF(B$3:B6,Articles)=0,ROW(Articles)))))&""}
B8: {=INDEX(Article!$B$1:$B$1000,MIN(IF(Article!$C$4:$C$1000="metal",IF(COUNTIF(B$3:B7,Articles)=0,ROW(Articles)))))&""}
B9: {=INDEX(Article!$B$1:$B$1000,MIN(IF(Article!$C$4:$C$1000="metal",IF(COUNTIF(B$3:B8,Articles)=0,ROW(Articles)))))&""}
B12: Dans l'ideal il faut que les valeurs soient recopiees sans laisser de cellule vide :s

Sheet B
B2: Arcticle en bois
B4: {=INDEX(Article!$B$1:$B$1000,MIN(IF(Article!$C$4:$C$1000="bois",IF(COUNTIF(B$3:B3,Articles)=0,ROW(Articles)))))&""} -> article 2
B5: {=INDEX(Article!$B$1:$B$1000,MIN(IF(Article!$C$4:$C$1000="bois",IF(COUNTIF(B$3:B4,Articles)=0,ROW(Articles)))))&""} -> article 5
B6: {=INDEX(Article!$B$1:$B$1000,MIN(IF(Article!$C$4:$C$1000="bois",IF(COUNTIF(B$3:B5,Articles)=0,ROW(Articles)))))&""} -> article 8 | E6: Afficher l'article si la cellule d'a cote est "Bois"
B7: {=INDEX(Article!$B$1:$B$1000,MIN(IF(Article!$C$4:$C$1000="bois",IF(COUNTIF(B$3:B6,Articles)=0,ROW(Articles)))))&""}
B8: {=INDEX(Article!$B$1:$B$1000,MIN(IF(Article!$C$4:$C$1000="bois",IF(COUNTIF(B$3:B7,Articles)=0,ROW(Articles)))))&""}
B9: {=INDEX(Article!$B$1:$B$1000,MIN(IF(Article!$C$4:$C$1000="bois",IF(COUNTIF(B$3:B8,Articles)=0,ROW(Articles)))))&""}
B10: {=INDEX(Article!$B$1:$B$1000,MIN(IF(Article!$C$4:$C$1000="bois",IF(COUNTIF(B$3:B9,Articles)=0,ROW(Articles)))))&""}
B11: {=INDEX(Article!$B$1:$B$1000,MIN(IF(Article!$C$4:$C$1000="bois",IF(COUNTIF(B$3:B10,Articles)=0,ROW(Articles)))))&""}
B12: {=INDEX(Article!$B$1:$B$1000,MIN(IF(Article!$C$4:$C$1000="bois",IF(COUNTIF(B$3:B11,Articles)=0,ROW(Articles)))))&""}

Sheet C
B2: Arcticle en cuir
B4: {=INDEX(Article!$B$1:$B$1000,MIN(IF(Article!$C$4:$C$1000="cuir",IF(COUNTIF(B$3:B3,Articles)=0,ROW(Articles)))))&""} -> article 3
B5: {=INDEX(Article!$B$1:$B$1000,MIN(IF(Article!$C$4:$C$1000="cuir",IF(COUNTIF(B$3:B4,Articles)=0,ROW(Articles)))))&""} -> article 6
B6: {=INDEX(Article!$B$1:$B$1000,MIN(IF(Article!$C$4:$C$1000="cuir",IF(COUNTIF(B$3:B5,Articles)=0,ROW(Articles)))))&""} -> article 9 | E6: Afficher l'article si la cellule d'a cote est "Cuir"
B7: {=INDEX(Article!$B$1:$B$1000,MIN(IF(Article!$C$4:$C$1000="cuir",IF(COUNTIF(B$3:B6,Articles)=0,ROW(Articles)))))&""}
B8: {=INDEX(Article!$B$1:$B$1000,MIN(IF(Article!$C$4:$C$1000="cuir",IF(COUNTIF(B$3:B7,Articles)=0,ROW(Articles)))))&""}
B9: {=INDEX(Article!$B$1:$B$1000,MIN(IF(Article!$C$4:$C$1000="cuir",IF(COUNTIF(B$3:B8,Articles)=0,ROW(Articles)))))&""}
B10: {=INDEX(Article!$B$1:$B$1000,MIN(IF(Article!$C$4:$C$1000="cuir",IF(COUNTIF(B$3:B9,Articles)=0,ROW(Articles)))))&""}
