Workbook

Sheet BASE MYSQL
A1: IDindividu4 | B1: IDfamille5 | C1: IDcategorie | D1: titulaire
A2: 1 | B2: 1 | C2: 1 | D2: 1
A3: 2 | B3: 1 | C3: 1 | D3: 1
A4: 3 | B4: 1 | C4: 2 | D4: 0
A5: 465 | B5: 1 | C5: 3 | D5: 0
A6: 466 | B6: 1 | C6: 3 | D6: 0
A7: 467 | B7: 1 | C7: 3 | D7: 0
A8: 468 | B8: 1 | C8: 3 | D8: 0
A9: 7 | B9: 3 | C9: 1 | D9: 1
A10: 8 | B10: 3 | C10: 1 | D10: 1
A11: 9 | B11: 3 | C11: 2 | D11: 0
A12: 10 | B12: 3 | C12: 2 | D12: 0
A13: 513 | B13: 3 | C13: 3 | D13: 0
... A23: 516 | B23: 3 | C23: 3 | D23: 0

Sheet FICHE
A1: ID FAMILLE | B1: 3 | C1: Idindividus | E1: Réponses attendues | G1: << Vide ou 0
A2: PARENTS | B2: Parent 1: | E2: =INDEX(OFFSET('BASE MYSQL'!$A$2:$D$23,MAX($F$1:F1),0),MATCH($B$1,OFFSET('BASE MYSQL'!$B$2:$B$23,MAX($F$1:F1),0),0),1) -> 7 | F2: =ROW(INDEX(OFFSET('BASE MYSQL'!$A$2:$D$23,MAX($F$1:F1),0),MATCH($B$1,OFFSET('BASE MYSQL'!$B$2:$B$23,MAX($F$1:F1),0),0),1))-1 -> 8
B3: Parent 2: | E3: =INDEX(OFFSET('BASE MYSQL'!$A$2:$D$23,MAX($F$1:F2),0),MATCH($B$1,OFFSET('BASE MYSQL'!$B$2:$B$23,MAX($F$1:F2),0),0),1) -> 8 | F3: =ROW(INDEX(OFFSET('BASE MYSQL'!$A$2:$D$23,MAX($F$1:F2),0),MATCH($B$1,OFFSET('BASE MYSQL'!$B$2:$B$23,MAX($F$1:F2),0),0),1))-1 -> 9
A5: ENFANTS | B5: Enfant 1: | E5: =INDEX(OFFSET('BASE MYSQL'!$A$2:$D$23,MAX($F$1:F4),0),MATCH($B$1,OFFSET('BASE MYSQL'!$B$2:$B$23,MAX($F$1:F4),0),0),1) -> 9 | F5: =ROW(INDEX(OFFSET('BASE MYSQL'!$A$2:$D$23,MAX($F$1:F4),0),MATCH($B$1,OFFSET('BASE MYSQL'!$B$2:$B$23,MAX($F$1:F4),0),0),1))-1 -> 10
B6: Enfant 2: | E6: =INDEX(OFFSET('BASE MYSQL'!$A$2:$D$23,MAX($F$1:F5),0),MATCH($B$1,OFFSET('BASE MYSQL'!$B$2:$B$23,MAX($F$1:F5),0),0),1) -> 10 | F6: =ROW(INDEX(OFFSET('BASE MYSQL'!$A$2:$D$23,MAX($F$1:F5),0),MATCH($B$1,OFFSET('BASE MYSQL'!$B$2:$B$23,MAX($F$1:F5),0),0),1))-1 -> 11
A8: CONTACTS | B8: Contact 1 | E8: =INDEX(OFFSET('BASE MYSQL'!$A$2:$D$23,MAX($F$1:F7),0),MATCH($B$1,OFFSET('BASE MYSQL'!$B$2:$B$23,MAX($F$1:F7),0),0),1) -> 513 | F8: =ROW(INDEX(OFFSET('BASE MYSQL'!$A$2:$D$23,MAX($F$1:F7),0),MATCH($B$1,OFFSET('BASE MYSQL'!$B$2:$B$23,MAX($F$1:F7),0),0),1))-1 -> 12
B9: Contact 2 | E9: =INDEX(OFFSET('BASE MYSQL'!$A$2:$D$23,MAX($F$1:F8),0),MATCH($B$1,OFFSET('BASE MYSQL'!$B$2:$B$23,MAX($F$1:F8),0),0),1) -> 514 | F9: =ROW(INDEX(OFFSET('BASE MYSQL'!$A$2:$D$23,MAX($F$1:F8),0),MATCH($B$1,OFFSET('BASE MYSQL'!$B$2:$B$23,MAX($F$1:F8),0),0),1))-1 -> 13
B10: Contact 3 | E10: =INDEX(OFFSET('BASE MYSQL'!$A$2:$D$23,MAX($F$1:F9),0),MATCH($B$1,OFFSET('BASE MYSQL'!$B$2:$B$23,MAX($F$1:F9),0),0),1) -> 515 | F10: =ROW(INDEX(OFFSET('BASE MYSQL'!$A$2:$D$23,MAX($F$1:F9),0),MATCH($B$1,OFFSET('BASE MYSQL'!$B$2:$B$23,MAX($F$1:F9),0),0),1))-1 -> 14
B11: Contact 4 | E11: =INDEX(OFFSET('BASE MYSQL'!$A$2:$D$23,MAX($F$1:F10),0),MATCH($B$1,OFFSET('BASE MYSQL'!$B$2:$B$23,MAX($F$1:F10),0),0),1) -> 360 | F11: =ROW(INDEX(OFFSET('BASE MYSQL'!$A$2:$D$23,MAX($F$1:F10),0),MATCH($B$1,OFFSET('BASE MYSQL'!$B$2:$B$23,MAX($F$1:F10),0),0),1))-1 -> 15
B12: Contact 5 | E12: =INDEX(OFFSET('BASE MYSQL'!$A$2:$D$23,MAX($F$1:F11),0),MATCH($B$1,OFFSET('BASE MYSQL'!$B$2:$B$23,MAX($F$1:F11),0),0),1) -> 361 | F12: =ROW(INDEX(OFFSET('BASE MYSQL'!$A$2:$D$23,MAX($F$1:F11),0),MATCH($B$1,OFFSET('BASE MYSQL'!$B$2:$B$23,MAX($F$1:F11),0),0),1))-1 -> 16
B13: Contact 6 | E13: =INDEX(OFFSET('BASE MYSQL'!$A$2:$D$23,MAX($F$1:F12),0),MATCH($B$1,OFFSET('BASE MYSQL'!$B$2:$B$23,MAX($F$1:F12),0),0),1) -> 111 | F13: =ROW(INDEX(OFFSET('BASE MYSQL'!$A$2:$D$23,MAX($F$1:F12),0),MATCH($B$1,OFFSET('BASE MYSQL'!$B$2:$B$23,MAX($F$1:F12),0),0),1))-1 -> 17
B14: Contact 7 | E14: =INDEX(OFFSET('BASE MYSQL'!$A$2:$D$23,MAX($F$1:F13),0),MATCH($B$1,OFFSET('BASE MYSQL'!$B$2:$B$23,MAX($F$1:F13),0),0),1) -> 112 | F14: =ROW(INDEX(OFFSET('BASE MYSQL'!$A$2:$D$23,MAX($F$1:F13),0),MATCH($B$1,OFFSET('BASE MYSQL'!$B$2:$B$23,MAX($F$1:F13),0),0),1))-1 -> 18
B15: Contact 8 | E15: =INDEX(OFFSET('BASE MYSQL'!$A$2:$D$23,MAX($F$1:F14),0),MATCH($B$1,OFFSET('BASE MYSQL'!$B$2:$B$23,MAX($F$1:F14),0),0),1) -> 116 | F15: =ROW(INDEX(OFFSET('BASE MYSQL'!$A$2:$D$23,MAX($F$1:F14),0),MATCH($B$1,OFFSET('BASE MYSQL'!$B$2:$B$23,MAX($F$1:F14),0),0),1))-1 -> 19
B16: Contact 9 | E16: =INDEX(OFFSET('BASE MYSQL'!$A$2:$D$23,MAX($F$1:F15),0),MATCH($B$1,OFFSET('BASE MYSQL'!$B$2:$B$23,MAX($F$1:F15),0),0),1) -> 117 | F16: =ROW(INDEX(OFFSET('BASE MYSQL'!$A$2:$D$23,MAX($F$1:F15),0),MATCH($B$1,OFFSET('BASE MYSQL'!$B$2:$B$23,MAX($F$1:F15),0),0),1))-1 -> 20
B17: Contact 10 | E17: =INDEX(OFFSET('BASE MYSQL'!$A$2:$D$23,MAX($F$1:F16),0),MATCH($B$1,OFFSET('BASE MYSQL'!$B$2:$B$23,MAX($F$1:F16),0),0),1) -> 29 | F17: =ROW(INDEX(OFFSET('BASE MYSQL'!$A$2:$D$23,MAX($F$1:F16),0),MATCH($B$1,OFFSET('BASE MYSQL'!$B$2:$B$23,MAX($F$1:F16),0),0),1))-1 -> 21
B18: Contact 11 | E18: =INDEX(OFFSET('BASE MYSQL'!$A$2:$D$23,MAX($F$1:F17),0),MATCH($B$1,OFFSET('BASE MYSQL'!$B$2:$B$23,MAX($F$1:F17),0),0),1) -> 516 | F18: =ROW(INDEX(OFFSET('BASE MYSQL'!$A$2:$D$23,MAX($F$1:F17),0),MATCH($B$1,OFFSET('BASE MYSQL'!$B$2:$B$23,MAX($F$1:F17),0),0),1))-1 -> 22
