Workbook
Name An: 'valeurs casting'!$C$7
Name Aq: 'valeurs casting'!$C$8
Name Au: 'valeurs casting'!$C$9
Name Co: 'valeurs casting'!$C$10
Name Cr: 'valeurs casting'!$C$2
Name He: 'valeurs casting'!$C$11
Name Ig: 'valeurs casting'!$C$12
Name Im: 'valeurs casting'!$C$13
Name In: 'valeurs casting'!$C$3
Name Me: 'valeurs casting'!$C$14
Name Mu: 'valeurs casting'!$C$4
Name Pe: 'valeurs casting'!$C$5
Name Re: 'valeurs casting'!$C$6
Name Talisman_baton: 'valeurs casting'!$E$2:$E$21
Name talisman_dé: 'valeurs casting'!$G$2:$G$21
Name Te: 'valeurs casting'!$C$15
Name Vi: 'valeurs casting'!$C$16

Sheet sorts
Q1: Spécial | W1: Mastery | AJ1: talisman bâton | AP1: talisman dé
A2: Nom | B2: Technique | C2: req. technique | D2: Forme | E2: req. forme | F2: TeFo | G2: niveau | H2: Niveau base | I2: Base forme | J2: portée | K2: durée | L2: cible | M2: taille | N2: requisite | O2: complexité | P2: Expérimentation valeur | Q2: valeur | R2: intitulé | S2: Calcul niveau automatique | T2: Rituel | U2: description | V2: Exp. | W2: niveau mastery | X2: XP mastery | Y2: FC | Z2: pén. | AA2: Multiple Casting | AB2: Precise casting (+1 finesse, -1 dé botch finesse) | AC2: MR | AD2: Subtle C | AE2: QC | AF2: imperturbable casting | AG2: stalwart casting | AH2: casting total | AI2: Meilleur bonus | AJ2: bâton1 | AK2: bâton2 | AL2: bâton3 | AM2: bâton4 | AN2: bâton5 | AO2: bâton6 | AP2: dé1 | AQ2: dé2 | AR2: dé3 | AS2: dé4 | AT2: dé5 | AU2: CT dé applicable? | AV2: Bonus talisman bâton 1 | AW2: Bonus talisman bâton 2 | AX2: Bonus talisman bâton 3 | AY2: Bonus talisman bâton 4 | AZ2: Bonus talisman bâton 5 | BA2: Bonus talisman bâton 6 | BB2: Bonus talisman dé 1 | BC2: Bonus talisman dé 2 | BD2: Bonus talisman dé 3 | BE2: Bonus talisman dé 4 | BF2: Bonus talisman dé 5 | BG2: Colonne8 | BH2: Colonne9 | BI2: Colonne10 | BJ2: Colonne11 | BK2: Colonne12
A3: Sense of magical power | B3: In | D3: Vi | F3: =Tableau2[[#This Row],[Technique]]&IF(Tableau2[[#This Row],[req. technique]]<>"","("&Tableau2[[#This Row],[req. technique]]&")","")&Tableau2[[#This Row],[Forme]]&IF(Tableau2[[#This Row],[req. forme]]<>"","("&Tableau2[[#This Row],[req. forme]]&")","") -> InVi | G3: 3 | H3: 2 | J3: touch | K3: momentané | L3: individu | S3: =IF(IF(Tableau2[[#This Row],[Niveau base]]<5,VLOOKUP(Tableau2[[#This Row],[Niveau base]],'valeurs casting'!$J$5:$K$9,2),Tableau2[[#This Row],[Niveau base]])+5*(SUM(Tableau2[[#This Row],[taille]:[valeur]])+VLOOKUP(Tableau2[[#This Row],[portée]],'valeurs casting'!$J$11:$K$16,2)+VLOOKUP(Tableau2[[#This Row],[durée]],'valeurs casting'!$J$17:$K$24,2)+VLOOKUP(Tableau2[[#This Row],[cible]],'valeurs casting'!$J$25:$K$35,2))<5,VLOOKUP(IF(Tableau2[[#This Row],[Niveau base]]<5,VLOOKUP(Tableau2[[#This Row],[Niveau base]],'valeurs casting'!$J$5:$K$9,2),Tableau2[[#This Row],[Niveau base]])+5*(SUM(Tableau2[[#This Row],[taille]:[valeur]])+VLOOKUP(Tableau2[[#This Row],[portée]],'valeurs casting'!$J$11:$K$16,2)+VLOOKUP(Tableau2[[#This Row],[durée]],'valeurs casting'!$J$17:$K$24,2)+VLOOKUP(Tableau2[[#This Row],[cible]],'valeurs casting'!$J$25:$K$35,2)),'valeurs casting'!$K$5:$L$9,2),IF(Tableau2[[#This Row],[Niveau base]]<5,VLOOKUP(Tableau2[[#This Row],[Niveau base]],'valeurs casting'!$J$5:$K$9,2),Tableau2[[#This Row],[Niveau base]])+5*(SUM(Tableau2[[#This Row],[taille]:[valeur]])+VLOOKUP(Tableau2[[#This Row],[portée]],'valeurs casting'!$J$11:$K$16,2)+VLOOKUP(Tableau2[[#This Row],[durée]],'valeurs casting'!$J$17:$K$24,2)+VLOOKUP(Tableau2[[#This Row],[cible]],'valeurs casting'!$J$25:$K$35,2))) -> 3 | U3: détermine l’aura magique | V3: donne une idée générale de la limite géographique sur laquelle l'aura en question est présente | W3: =IF(Tableau2[[#This Row],[XP mastery]]=0,"",TRUNC((SQRT(8*(Tableau2[[#This Row],[XP mastery]]/5)+1)-1)/2)) | AH3: ='valeurs casting'!$K$2+MIN(VLOOKUP(Tableau2[[#This Row],[Technique]],Tableau1[],3),IF(Tableau2[[#This Row],[req. technique]]="",9999,VLOOKUP(LEFT(Tableau2[[#This Row],[req. technique]],2),Tableau1[],3)),IF(LEN(Tableau2[[#This Row],[req. technique]])<=2,9999,VLOOKUP(LEFT(RIGHT(Tableau2[[#This Row],[req. technique]],-2+LEN(Tableau2[[#This Row],[req. technique]])),2),Tableau1[],3)),IF(LEN(Tableau2[[#This Row],[req. technique]])<=4,9999,VLOOKUP(RIGHT(Tableau2[[#This Row],[req. technique]],-7+LEN(Tableau2[[#This Row],[req. technique]])),Tableau1[],3))) -> 19 | AI3: =MAX(Tableau2[[#This Row],[Bonus talisman bâton 1]:[Bonus talisman dé 5]])+IF(Tableau2[[#This Row],[CT dé applicable?]]<>"",'valeurs casting'!$K$1,0) -> 2 | AP3: in | AV3: =IF(AJ3<>"",VLOOKUP(AJ3,'valeurs casting'!$E$2:$F$9,2),0) -> 0 | AW3: =IF(AK3<>"",VLOOKUP(AK3,'valeurs casting'!$E$2:$F$9,2),0) -> 0 | AX3: =IF(AL3<>"",VLOOKUP(AL3,'valeurs casting'!$E$2:$F$9,2),0) -> 0 | AY3: =IF(AM3<>"",VLOOKUP(AM3,'valeurs casting'!$E$2:$F$9,2),0) -> 0 | AZ3: =IF(AN3<>"",VLOOKUP(AN3,'valeurs casting'!$E$2:$F$9,2),0) -> 0 | BA3: =IF(AO3<>"",VLOOKUP(AO3,'valeurs casting'!$E$2:$F$9,2),0) -> 0 | BB3: =IF(AP3<>"",VLOOKUP(AP3,'valeurs casting'!$G$2:$H$9,2),0) -> 2 | BC3: =IF(AQ3<>"",VLOOKUP(AQ3,'valeurs casting'!$G$2:$H$9,2),0) -> 0 | BD3: =IF(AR3<>"",VLOOKUP(AR3,'valeurs casting'!$G$2:$H$9,2),0) -> 0 | BE3: =IF(AS3<>"",VLOOKUP(AS3,'valeurs casting'!$G$2:$H$9,2),0) -> 0 | BF3: =IF(AT3<>"",VLOOKUP(AT3,'valeurs casting'!$G$2:$H$9,2),0) -> 0
A4: Sense of fae power | B4: In | D4: Vi | F4: =Tableau2[[#This Row],[Technique]]&IF(Tableau2[[#This Row],[req. technique]]<>"","("&Tableau2[[#This Row],[req. technique]]&")","")&Tableau2[[#This Row],[Forme]]&IF(Tableau2[[#This Row],[req. forme]]<>"","("&Tableau2[[#This Row],[req. forme]]&")","") -> InVi | G4: 3 | H4: 2 | J4: touch | K4: momentané | L4: individu | S4: =IF(IF(Tableau2[[#This Row],[Niveau base]]<5,VLOOKUP(Tableau2[[#This Row],[Niveau base]],'valeurs casting'!$J$5:$K$9,2),Tableau2[[#This Row],[Niveau base]])+5*(SUM(Tableau2[[#This Row],[taille]:[valeur]])+VLOOKUP(Tableau2[[#This Row],[portée]],'valeurs casting'!$J$11:$K$16,2)+VLOOKUP(Tableau2[[#This Row],[durée]],'valeurs casting'!$J$17:$K$24,2)+VLOOKUP(Tableau2[[#This Row],[cible]],'valeurs casting'!$J$25:$K$35,2))<5,VLOOKUP(IF(Tableau2[[#This Row],[Niveau base]]<5,VLOOKUP(Tableau2[[#This Row],[Niveau base]],'valeurs casting'!$J$5:$K$9,2),Tableau2[[#This Row],[Niveau base]])+5*(SUM(Tableau2[[#This Row],[taille]:[valeur]])+VLOOKUP(Tableau2[[#This Row],[portée]],'valeurs casting'!$J$11:$K$16,2)+VLOOKUP(Tableau2[[#This Row],[durée]],'valeurs casting'!$J$17:$K$24,2)+VLOOKUP(Tableau2[[#This Row],[cible]],'valeurs casting'!$J$25:$K$35,2)),'valeurs casting'!$K$5:$L$9,2),IF(Tableau2[[#This Row],[Niveau base]]<5,VLOOKUP(Tableau2[[#This Row],[Niveau base]],'valeurs casting'!$J$5:$K$9,2),Tableau2[[#This Row],[Niveau base]])+5*(SUM(Tableau2[[#This Row],[taille]:[valeur]])+VLOOKUP(Tableau2[[#This Row],[portée]],'valeurs casting'!$J$11:$K$16,2)+VLOOKUP(Tableau2[[#This Row],[durée]],'valeurs casting'!$J$17:$K$24,2)+VLOOKUP(Tableau2[[#This Row],[cible]],'valeurs casting'!$J$25:$K$35,2))) -> 3 | U4: détermine l’aura féérique | V4: donne une idée générale de la limite géographique sur laquelle l'aura en question est présente | W4: =IF(Tableau2[[#This Row],[XP mastery]]=0,"",TRUNC((SQRT(8*(Tableau2[[#This Row],[XP mastery]]/5)+1)-1)/2)) | AH4: ='valeurs casting'!$K$2+MIN(VLOOKUP(Tableau2[[#This Row],[Technique]],Tableau1[],3),IF(Tableau2[[#This Row],[req. technique]]="",9999,VLOOKUP(LEFT(Tableau2[[#This Row],[req. technique]],2),Tableau1[],3)),IF(LEN(Tableau2[[#This Row],[req. technique]])<=2,9999,VLOOKUP(LEFT(RIGHT(Tableau2[[#This Row],[req. technique]],-2+LEN(Tableau2[[#This Row],[req. technique]])),2),Tableau1[],3)),IF(LEN(Tableau2[[#This Row],[req. technique]])<=4,9999,VLOOKUP(RIGHT(Tableau2[[#This Row],[req. technique]],-7+LEN(Tableau2[[#This Row],[req. technique]])),Tableau1[],3))) -> 19 | AI4: =MAX(Tableau2[[#This Row],[Bonus talisman bâton 1]:[Bonus talisman dé 5]])+IF(Tableau2[[#This Row],[CT dé applicable?]]<>"",'valeurs casting'!$K$1,0) -> 2 | AP4: in | AV4: =IF(AJ4<>"",VLOOKUP(AJ4,'valeurs casting'!$E$2:$F$9,2),0) -> 0 | AW4: =IF(AK4<>"",VLOOKUP(AK4,'valeurs casting'!$E$2:$F$9,2),0) -> 0 | AX4: =IF(AL4<>"",VLOOKUP(AL4,'valeurs casting'!$E$2:$F$9,2),0) -> 0 | AY4: =IF(AM4<>"",VLOOKUP(AM4,'valeurs casting'!$E$2:$F$9,2),0) -> 0 | AZ4: =IF(AN4<>"",VLOOKUP(AN4,'valeurs casting'!$E$2:$F$9,2),0) -> 0 | BA4: =IF(AO4<>"",VLOOKUP(AO4,'valeurs casting'!$E$2:$F$9,2),0) -> 0 | BB4: =IF(AP4<>"",VLOOKUP(AP4,'valeurs casting'!$G$2:$H$9,2),0) -> 2 | BC4: =IF(AQ4<>"",VLOOKUP(AQ4,'valeurs casting'!$G$2:$H$9,2),0) -> 0 | BD4: =IF(AR4<>"",VLOOKUP(AR4,'valeurs casting'!$G$2:$H$9,2),0) -> 0 | BE4: =IF(AS4<>"",VLOOKUP(AS4,'valeurs casting'!$G$2:$H$9,2),0) -> 0 | BF4: =IF(AT4<>"",VLOOKUP(AT4,'valeurs casting'!$G$2:$H$9,2),0) -> 0
A5: Sense of divine power | B5: In | D5: Vi | F5: =Tableau2[[#This Row],[Technique]]&IF(Tableau2[[#This Row],[req. technique]]<>"","("&Tableau2[[#This Row],[req. technique]]&")","")&Tableau2[[#This Row],[Forme]]&IF(Tableau2[[#This Row],[req. forme]]<>"","("&Tableau2[[#This Row],[req. forme]]&")","") -> InVi | G5: 3 | H5: 2 | J5: touch | K5: momentané | L5: individu | S5: =IF(IF(Tableau2[[#This Row],[Niveau base]]<5,VLOOKUP(Tableau2[[#This Row],[Niveau base]],'valeurs casting'!$J$5:$K$9,2),Tableau2[[#This Row],[Niveau base]])+5*(SUM(Tableau2[[#This Row],[taille]:[valeur]])+VLOOKUP(Tableau2[[#This Row],[portée]],'valeurs casting'!$J$11:$K$16,2)+VLOOKUP(Tableau2[[#This Row],[durée]],'valeurs casting'!$J$17:$K$24,2)+VLOOKUP(Tableau2[[#This Row],[cible]],'valeurs casting'!$J$25:$K$35,2))<5,VLOOKUP(IF(Tableau2[[#This Row],[Niveau base]]<5,VLOOKUP(Tableau2[[#This Row],[Niveau base]],'valeurs casting'!$J$5:$K$9,2),Tableau2[[#This Row],[Niveau base]])+5*(SUM(Tableau2[[#This Row],[taille]:[valeur]])+VLOOKUP(Tableau2[[#This Row],[portée]],'valeurs casting'!$J$11:$K$16,2)+VLOOKUP(Tableau2[[#This Row],[durée]],'valeurs casting'!$J$17:$K$24,2)+VLOOKUP(Tableau2[[#This Row],[cible]],'valeurs casting'!$J$25:$K$35,2)),'valeurs casting'!$K$5:$L$9,2),IF(Tableau2[[#This Row],[Niveau base]]<5,VLOOKUP(Tableau2[[#This Row],[Niveau base]],'valeurs casting'!$J$5:$K$9,2),Tableau2[[#This Row],[Niveau base]])+5*(SUM(Tableau2[[#This Row],[taille]:[valeur]])+VLOOKUP(Tableau2[[#This Row],[portée]],'valeurs casting'!$J$11:$K$16,2)+VLOOKUP(Tableau2[[#This Row],[durée]],'valeurs casting'!$J$17:$K$24,2)+VLOOKUP(Tableau2[[#This Row],[cible]],'valeurs casting'!$J$25:$K$35,2))) -> 3 | U5: détermine l’aura divine | V5: donne une idée générale de la limite géographique sur laquelle l'aura en question est présente | W5: =IF(Tableau2[[#This Row],[XP mastery]]=0,"",TRUNC((SQRT(8*(Tableau2[[#This Row],[XP mastery]]/5)+1)-1)/2)) | AH5: ='valeurs casting'!$K$2+MIN(VLOOKUP(Tableau2[[#This Row],[Technique]],Tableau1[],3),IF(Tableau2[[#This Row],[req. technique]]="",9999,VLOOKUP(LEFT(Tableau2[[#This Row],[req. technique]],2),Tableau1[],3)),IF(LEN(Tableau2[[#This Row],[req. technique]])<=2,9999,VLOOKUP(LEFT(RIGHT(Tableau2[[#This Row],[req. technique]],-2+LEN(Tableau2[[#This Row],[req. technique]])),2),Tableau1[],3)),IF(LEN(Tableau2[[#This Row],[req. technique]])<=4,9999,VLOOKUP(RIGHT(Tableau2[[#This Row],[req. technique]],-7+LEN(Tableau2[[#This Row],[req. technique]])),Tableau1[],3))) -> 19 | AI5: =MAX(Tableau2[[#This Row],[Bonus talisman bâton 1]:[Bonus talisman dé 5]])+IF(Tableau2[[#This Row],[CT dé applicable?]]<>"",'valeurs casting'!$K$1,0) -> 2 | AP5: in | AV5: =IF(AJ5<>"",VLOOKUP(AJ5,'valeurs casting'!$E$2:$F$9,2),0) -> 0 | AW5: =IF(AK5<>"",VLOOKUP(AK5,'valeurs casting'!$E$2:$F$9,2),0) -> 0 | AX5: =IF(AL5<>"",VLOOKUP(AL5,'valeurs casting'!$E$2:$F$9,2),0) -> 0 | AY5: =IF(AM5<>"",VLOOKUP(AM5,'valeurs casting'!$E$2:$F$9,2),0) -> 0 | AZ5: =IF(AN5<>"",VLOOKUP(AN5,'valeurs casting'!$E$2:$F$9,2),0) -> 0 | BA5: =IF(AO5<>"",VLOOKUP(AO5,'valeurs casting'!$E$2:$F$9,2),0) -> 0 | BB5: =IF(AP5<>"",VLOOKUP(AP5,'valeurs casting'!$G$2:$H$9,2),0) -> 2 | BC5: =IF(AQ5<>"",VLOOKUP(AQ5,'valeurs casting'!$G$2:$H$9,2),0) -> 0 | BD5: =IF(AR5<>"",VLOOKUP(AR5,'valeurs casting'!$G$2:$H$9,2),0) -> 0 | BE5: =IF(AS5<>"",VLOOKUP(AS5,'valeurs casting'!$G$2:$H$9,2),0) -> 0 | BF5: =IF(AT5<>"",VLOOKUP(AT5,'valeurs casting'!$G$2:$H$9,2),0) -> 0
A6: Sense of infernal power | B6: In | D6: Vi | F6: =Tableau2[[#This Row],[Technique]]&IF(Tableau2[[#This Row],[req. technique]]<>"","("&Tableau2[[#This Row],[req. technique]]&")","")&Tableau2[[#This Row],[Forme]]&IF(Tableau2[[#This Row],[req. forme]]<>"","("&Tableau2[[#This Row],[req. forme]]&")","") -> InVi | G6: 3 | H6: 2 | J6: touch | K6: momentané | L6: individu | S6: =IF(IF(Tableau2[[#This Row],[Niveau base]]<5,VLOOKUP(Tableau2[[#This Row],[Niveau base]],'valeurs casting'!$J$5:$K$9,2),Tableau2[[#This Row],[Niveau base]])+5*(SUM(Tableau2[[#This Row],[taille]:[valeur]])+VLOOKUP(Tableau2[[#This Row],[portée]],'valeurs casting'!$J$11:$K$16,2)+VLOOKUP(Tableau2[[#This Row],[durée]],'valeurs casting'!$J$17:$K$24,2)+VLOOKUP(Tableau2[[#This Row],[cible]],'valeurs casting'!$J$25:$K$35,2))<5,VLOOKUP(IF(Tableau2[[#This Row],[Niveau base]]<5,VLOOKUP(Tableau2[[#This Row],[Niveau base]],'valeurs casting'!$J$5:$K$9,2),Tableau2[[#This Row],[Niveau base]])+5*(SUM(Tableau2[[#This Row],[taille]:[valeur]])+VLOOKUP(Tableau2[[#This Row],[portée]],'valeurs casting'!$J$11:$K$16,2)+VLOOKUP(Tableau2[[#This Row],[durée]],'valeurs casting'!$J$17:$K$24,2)+VLOOKUP(Tableau2[[#This Row],[cible]],'valeurs casting'!$J$25:$K$35,2)),'valeurs casting'!$K$5:$L$9,2),IF(Tableau2[[#This Row],[Niveau base]]<5,VLOOKUP(Tableau2[[#This Row],[Niveau base]],'valeurs casting'!$J$5:$K$9,2),Tableau2[[#This Row],[Niveau base]])+5*(SUM(Tableau2[[#This Row],[taille]:[valeur]])+VLOOKUP(Tableau2[[#This Row],[portée]],'valeurs casting'!$J$11:$K$16,2)+VLOOKUP(Tableau2[[#This Row],[durée]],'valeurs casting'!$J$17:$K$24,2)+VLOOKUP(Tableau2[[#This Row],[cible]],'valeurs casting'!$J$25:$K$35,2))) -> 3 | U6: détermine l’aura infernale | V6: donne une idée générale de la limite géographique sur laquelle l'aura en question est présente | W6: =IF(Tableau2[[#This Row],[XP mastery]]=0,"",TRUNC((SQRT(8*(Tableau2[[#This Row],[XP mastery]]/5)+1)-1)/2)) | AH6: ='valeurs casting'!$K$2+MIN(VLOOKUP(Tableau2[[#This Row],[Technique]],Tableau1[],3),IF(Tableau2[[#This Row],[req. technique]]="",9999,VLOOKUP(LEFT(Tableau2[[#This Row],[req. technique]],2),Tableau1[],3)),IF(LEN(Tableau2[[#This Row],[req. technique]])<=2,9999,VLOOKUP(LEFT(RIGHT(Tableau2[[#This Row],[req. technique]],-2+LEN(Tableau2[[#This Row],[req. technique]])),2),Tableau1[],3)),IF(LEN(Tableau2[[#This Row],[req. technique]])<=4,9999,VLOOKUP(RIGHT(Tableau2[[#This Row],[req. technique]],-7+LEN(Tableau2[[#This Row],[req. technique]])),Tableau1[],3))) -> 19 | AI6: =MAX(Tableau2[[#This Row],[Bonus talisman bâton 1]:[Bonus talisman dé 5]])+IF(Tableau2[[#This Row],[CT dé applicable?]]<>"",'valeurs casting'!$K$1,0) -> 2 | AP6: in | AV6: =IF(AJ6<>"",VLOOKUP(AJ6,'valeurs casting'!$E$2:$F$9,2),0) -> 0 | AW6: =IF(AK6<>"",VLOOKUP(AK6,'valeurs casting'!$E$2:$F$9,2),0) -> 0 | AX6: =IF(AL6<>"",VLOOKUP(AL6,'valeurs casting'!$E$2:$F$9,2),0) -> 0 | AY6: =IF(AM6<>"",VLOOKUP(AM6,'valeurs casting'!$E$2:$F$9,2),0) -> 0 | AZ6: =IF(AN6<>"",VLOOKUP(AN6,'valeurs casting'!$E$2:$F$9,2),0) -> 0 | BA6: =IF(AO6<>"",VLOOKUP(AO6,'valeurs casting'!$E$2:$F$9,2),0) -> 0 | BB6: =IF(AP6<>"",VLOOKUP(AP6,'valeurs casting'!$G$2:$H$9,2),0) -> 2 | BC6: =IF(AQ6<>"",VLOOKUP(AQ6,'valeurs casting'!$G$2:$H$9,2),0) -> 0 | BD6: =IF(AR6<>"",VLOOKUP(AR6,'valeurs casting'!$G$2:$H$9,2),0) -> 0 | BE6: =IF(AS6<>"",VLOOKUP(AS6,'valeurs casting'!$G$2:$H$9,2),0) -> 0 | BF6: =IF(AT6<>"",VLOOKUP(AT6,'valeurs casting'!$G$2:$H$9,2),0) -> 0
A7: Déviation des animaux mondains de Razal Wauke | B7: Re | D7: An | F7: =Tableau2[[#This Row],[Technique]]&IF(Tableau2[[#This Row],[req. technique]]<>"","("&Tableau2[[#This Row],[req. technique]]&")","")&Tableau2[[#This Row],[Forme]]&IF(Tableau2[[#This Row],[req. forme]]<>"","("&Tableau2[[#This Row],[req. forme]]&")","") -> ReAn | G7: 4 | H7: 2 | J7: touch | K7: conc | L7: individu | S7: =IF(IF(Tableau2[[#This Row],[Niveau base]]<5,VLOOKUP(Tableau2[[#This Row],[Niveau base]],'valeurs casting'!$J$5:$K$9,2),Tableau2[[#This Row],[Niveau base]])+5*(SUM(Tableau2[[#This Row],[taille]:[valeur]])+VLOOKUP(Tableau2[[#This Row],[portée]],'valeurs casting'!$J$11:$K$16,2)+VLOOKUP(Tableau2[[#This Row],[durée]],'valeurs casting'!$J$17:$K$24,2)+VLOOKUP(Tableau2[[#This Row],[cible]],'valeurs casting'!$J$25:$K$35,2))<5,VLOOKUP(IF(Tableau2[[#This Row],[Niveau base]]<5,VLOOKUP(Tableau2[[#This Row],[Niveau base]],'valeurs casting'!$J$5:$K$9,2),Tableau2[[#This Row],[Niveau base]])+5*(SUM(Tableau2[[#This Row],[taille]:[valeur]])+VLOOKUP(Tableau2[[#This Row],[portée]],'valeurs casting'!$J$11:$K$16,2)+VLOOKUP(Tableau2[[#This Row],[durée]],'valeurs casting'!$J$17:$K$24,2)+VLOOKUP(Tableau2[[#This Row],[cible]],'valeurs casting'!$J$25:$K$35,2)),'valeurs casting'!$K$5:$L$9,2),IF(Tableau2[[#This Row],[Niveau base]]<5,VLOOKUP(Tableau2[[#This Row],[Niveau base]],'valeurs casting'!$J$5:$K$9,2),Tableau2[[#This Row],[Niveau base]])+5*(SUM(Tableau2[[#This Row],[taille]:[valeur]])+VLOOKUP(Tableau2[[#This Row],[portée]],'valeurs casting'!$J$11:$K$16,2)+VLOOKUP(Tableau2[[#This Row],[durée]],'valeurs casting'!$J$17:$K$24,2)+VLOOKUP(Tableau2[[#This Row],[cible]],'valeurs casting'!$J$25:$K$35,2))) -> 4 | U7: Ward contre les animaux mondains la personne cible | V7: les poils/plumes/écailles/... des bestioles repoussées par le ward se couchent pour dessiner le sigil de Razal pendant une heure. L'effet est clairement visible. | W7: =IF(Tableau2[[#This Row],[XP mastery]]=0,"",TRUNC((SQRT(8*(Tableau2[[#This Row],[XP mastery]]/5)+1)-1)/2)) | AH7: ='valeurs casting'!$K$2+MIN(VLOOKUP(Tableau2[[#This Row],[Technique]],Tableau1[],3),IF(Tableau2[[#This Row],[req. technique]]="",9999,VLOOKUP(LEFT(Tableau2[[#This Row],[req. technique]],2),Tableau1[],3)),IF(LEN(Tableau2[[#This Row],[req. technique]])<=2,9999,VLOOKUP(LEFT(RIGHT(Tableau2[[#This Row],[req. technique]],-2+LEN(Tableau2[[#This Row],[req. technique]])),2),Tableau1[],3)),IF(LEN(Tableau2[[#This Row],[req. technique]])<=4,9999,VLOOKUP(RIGHT(Tableau2[[#This Row],[req. technique]],-7+LEN(Tableau2[[#This Row],[req. technique]])),Tableau1[],3))) -> 20 | AI7: =MAX(Tableau2[[#This Row],[Bonus talisman bâton 1]:[Bonus talisman dé 5]])+IF(Tableau2[[#This Row],[CT dé applicable?]]<>"",'valeurs casting'!$K$1,0) -> 5 | AJ7: wards | AV7: =IF(AJ7<>"",VLOOKUP(AJ7,'valeurs casting'!$E$2:$F$9,2),0) -> 5 | AW7: =IF(AK7<>"",VLOOKUP(AK7,'valeurs casting'!$E$2:$F$9,2),0) -> 0 | AX7: =IF(AL7<>"",VLOOKUP(AL7,'valeurs casting'!$E$2:$F$9,2),0) -> 0 | AY7: =IF(AM7<>"",VLOOKUP(AM7,'valeurs casting'!$E$2:$F$9,2),0) -> 0 | AZ7: =IF(AN7<>"",VLOOKUP(AN7,'valeurs casting'!$E$2:$F$9,2),0) -> 0 | BA7: =IF(AO7<>"",VLOOKUP(AO7,'valeurs casting'!$E$2:$F$9,2),0) -> 0 | BB7: =IF(AP7<>"",VLOOKUP(AP7,'valeurs casting'!$G$2:$H$9,2),0) -> 0 | BC7: =IF(AQ7<>"",VLOOKUP(AQ7,'valeurs casting'!$G$2:$H$9,2),0) -> 0 | BD7: =IF(AR7<>"",VLOOKUP(AR7,'valeurs casting'!$G$2:$H$9,2),0) -> 0 | BE7: =IF(AS7<>"",VLOOKUP(AS7,'valeurs casting'!$G$2:$H$9,2),0) -> 0 | BF7: =IF(AT7<>"",VLOOKUP(AT7,'valeurs casting'!$G$2:$H$9,2),0) -> 0
A8: Force du jeune Razal | B8: Cr | D8: Co | F8: =Tableau2[[#This Row],[Technique]]&IF(Tableau2[[#This Row],[req. technique]]<>"","("&Tableau2[[#This Row],[req. technique]]&")","")&Tableau2[[#This Row],[Forme]]&IF(Tableau2[[#This Row],[req. forme]]<>"","("&Tableau2[[#This Row],[req. forme]]&")","") -> CrCo | G8: 30 | H8: 30 | J8: pers | K8: momentané | L8: individu | S8: =IF(IF(Tableau2[[#This Row],[Niveau base]]<5,VLOOKUP(Tableau2[[#This Row],[Niveau base]],'valeurs casting'!$J$5:$K$9,2),Tableau2[[#This Row],[Niveau base]])+5*(SUM(Tableau2[[#This Row],[taille]:[valeur]])+VLOOKUP(Tableau2[[#This Row],[portée]],'valeurs casting'!$J$11:$K$16,2)+VLOOKUP(Tableau2[[#This Row],[durée]],'valeurs casting'!$J$17:$K$24,2)+VLOOKUP(Tableau2[[#This Row],[cible]],'valeurs casting'!$J$25:$K$35,2))<5,VLOOKUP(IF(Tableau2[[#This Row],[Niveau base]]<5,VLOOKUP(Tableau2[[#This Row],[Niveau base]],'valeurs casting'!$J$5:$K$9,2),Tableau2[[#This Row],[Niveau base]])+5*(SUM(Tableau2[[#This Row],[taille]:[valeur]])+VLOOKUP(Tableau2[[#This Row],[portée]],'valeurs casting'!$J$11:$K$16,2)+VLOOKUP(Tableau2[[#This Row],[durée]],'valeurs casting'!$J$17:$K$24,2)+VLOOKUP(Tableau2[[#This Row],[cible]],'valeurs casting'!$J$25:$K$35,2)),'valeurs casting'!$K$5:$L$9,2),IF(Tableau2[[#This Row],[Niveau base]]<5,VLOOKUP(Tableau2[[#This Row],[Niveau base]],'valeurs casting'!$J$5:$K$9,2),Tableau2[[#This Row],[Niveau base]])+5*(SUM(Tableau2[[#This Row],[taille]:[valeur]])+VLOOKUP(Tableau2[[#This Row],[portée]],'valeurs casting'!$J$11:$K$16,2)+VLOOKUP(Tableau2[[#This Row],[durée]],'valeurs casting'!$J$17:$K$24,2)+VLOOKUP(Tableau2[[#This Row],[cible]],'valeurs casting'!$J$25:$K$35,2))) -> 30 | T8: x | U8: la force augmente de 1 jusqu’à 0, | V8: le sort coute 5 pions | W8: =IF(Tableau2[[#This Row],[XP mastery]]=0,"",TRUNC((SQRT(8*(Tableau2[[#This Row],[XP mastery]]/5)+1)-1)/2)) | AH8: ='valeurs casting'!$K$2+MIN(VLOOKUP(Tableau2[[#This Row],[Technique]],Tableau1[],3),IF(Tableau2[[#This Row],[req. technique]]="",9999,VLOOKUP(LEFT(Tableau2[[#This Row],[req. technique]],2),Tableau1[],3)),IF(LEN(Tableau2[[#This Row],[req. technique]])<=2,9999,VLOOKUP(LEFT(RIGHT(Tableau2[[#This Row],[req. technique]],-2+LEN(Tableau2[[#This Row],[req. technique]])),2),Tableau1[],3)),IF(LEN(Tableau2[[#This Row],[req. technique]])<=4,9999,VLOOKUP(RIGHT(Tableau2[[#This Row],[req. technique]],-7+LEN(Tableau2[[#This Row],[req. technique]])),Tableau1[],3))) -> 27 | AI8: =MAX(Tableau2[[#This Row],[Bonus talisman bâton 1]:[Bonus talisman dé 5]])+IF(Tableau2[[#This Row],[CT dé applicable?]]<>"",'valeurs casting'!$K$1,0) -> 0 | AV8: =IF(AJ8<>"",VLOOKUP(AJ8,'valeurs casting'!$E$2:$F$9,2),0) -> 0 | AW8: =IF(AK8<>"",VLOOKUP(AK8,'valeurs casting'!$E$2:$F$9,2),0) -> 0 | AX8: =IF(AL8<>"",VLOOKUP(AL8,'valeurs casting'!$E$2:$F$9,2),0) -> 0 | AY8: =IF(AM8<>"",VLOOKUP(AM8,'valeurs casting'!$E$2:$F$9,2),0) -> 0 | AZ8: =IF(AN8<>"",VLOOKUP(AN8,'valeurs casting'!$E$2:$F$9,2),0) -> 0 | BA8: =IF(AO8<>"",VLOOKUP(AO8,'valeurs casting'!$E$2:$F$9,2),0) -> 0 | BB8: =IF(AP8<>"",VLOOKUP(AP8,'valeurs casting'!$G$2:$H$9,2),0) -> 0 | BC8: =IF(AQ8<>"",VLOOKUP(AQ8,'valeurs casting'!$G$2:$H$9,2),0) -> 0 | BD8: =IF(AR8<>"",VLOOKUP(AR8,'valeurs casting'!$G$2:$H$9,2),0) -> 0 | BE8: =IF(AS8<>"",VLOOKUP(AS8,'valeurs casting'!$G$2:$H$9,2),0) -> 0 | BF8: =IF(AT8<>"",VLOOKUP(AT8,'valeurs casting'!$G$2:$H$9,2),0) -> 0
A9: L’endurance améliorée de Razal Wauke | B9: Cr | D9: Co | F9: =Tableau2[[#This Row],[Technique]]&IF(Tableau2[[#This Row],[req. technique]]<>"","("&Tableau2[[#This Row],[req. technique]]&")","")&Tableau2[[#This Row],[Forme]]&IF(Tableau2[[#This Row],[req. forme]]<>"","("&Tableau2[[#This Row],[req. forme]]&")","") -> CrCo | G9: 50 | H9: 50 | J9: pers | K9: momentané | L9: individu | S9: =IF(IF(Tableau2[[#This Row],[Niveau base]]<5,VLOOKUP(Tableau2[[#This Row],[Niveau base]],'valeurs casting'!$J$5:$K$9,2),Tableau2[[#This Row],[Niveau base]])+5*(SUM(Tableau2[[#This Row],[taille]:[valeur]])+VLOOKUP(Tableau2[[#This Row],[portée]],'valeurs casting'!$J$11:$K$16,2)+VLOOKUP(Tableau2[[#This Row],[durée]],'valeurs casting'!$J$17:$K$24,2)+VLOOKUP(Tableau2[[#This Row],[cible]],'valeurs casting'!$J$25:$K$35,2))<5,VLOOKUP(IF(Tableau2[[#This Row],[Niveau base]]<5,VLOOKUP(Tableau2[[#This Row],[Niveau base]],'valeurs casting'!$J$5:$K$9,2),Tableau2[[#This Row],[Niveau base]])+5*(SUM(Tableau2[[#This Row],[taille]:[valeur]])+VLOOKUP(Tableau2[[#This Row],[portée]],'valeurs casting'!$J$11:$K$16,2)+VLOOKUP(Tableau2[[#This Row],[durée]],'valeurs casting'!$J$17:$K$24,2)+VLOOKUP(Tableau2[[#This Row],[cible]],'valeurs casting'!$J$25:$K$35,2)),'valeurs casting'!$K$5:$L$9,2),IF(Tableau2[[#This Row],[Niveau base]]<5,VLOOKUP(Tableau2[[#This Row],[Niveau base]],'valeurs casting'!$J$5:$K$9,2),Tableau2[[#This Row],[Niveau base]])+5*(SUM(Tableau2[[#This Row],[taille]:[valeur]])+VLOOKUP(Tableau2[[#This Row],[portée]],'valeurs casting'!$J$11:$K$16,2)+VLOOKUP(Tableau2[[#This Row],[durée]],'valeurs casting'!$J$17:$K$24,2)+VLOOKUP(Tableau2[[#This Row],[cible]],'valeurs casting'!$J$25:$K$35,2))) -> 50 | T9: x | U9: ce sortilège monte l’endurance de Razal Wauke de 1 point jusqu’à un maximum de +4 | W9: =IF(Tableau2[[#This Row],[XP mastery]]=0,"",TRUNC((SQRT(8*(Tableau2[[#This Row],[XP mastery]]/5)+1)-1)/2)) -> 1 | X9: 5 | AH9: ='valeurs casting'!$K$2+MIN(VLOOKUP(Tableau2[[#This Row],[Technique]],Tableau1[],3),IF(Tableau2[[#This Row],[req. technique]]="",9999,VLOOKUP(LEFT(Tableau2[[#This Row],[req. technique]],2),Tableau1[],3)),IF(LEN(Tableau2[[#This Row],[req. technique]])<=2,9999,VLOOKUP(LEFT(RIGHT(Tableau2[[#This Row],[req. technique]],-2+LEN(Tableau2[[#This Row],[req. technique]])),2),Tableau1[],3)),IF(LEN(Tableau2[[#This Row],[req. technique]])<=4,9999,VLOOKUP(RIGHT(Tableau2[[#This Row],[req. technique]],-7+LEN(Tableau2[[#This Row],[req. technique]])),Tableau1[],3))) -> 27 | AI9: =MAX(Tableau2[[#This Row],[Bonus talisman bâton 1]:[Bonus talisman dé 5]])+IF(Tableau2[[#This Row],[CT dé applicable?]]<>"",'valeurs casting'!$K$1,0) -> 0 | AV9: =IF(AJ9<>"",VLOOKUP(AJ9,'valeurs casting'!$E$2:$F$9,2),0) -> 0 | AW9: =IF(AK9<>"",VLOOKUP(AK9,'valeurs casting'!$E$2:$F$9,2),0) -> 0 | AX9: =IF(AL9<>"",VLOOKUP(AL9,'valeurs casting'!$E$2:$F$9,2),0) -> 0 | AY9: =IF(AM9<>"",VLOOKUP(AM9,'valeurs casting'!$E$2:$F$9,2),0) -> 0 | AZ9: =IF(AN9<>"",VLOOKUP(AN9,'valeurs casting'!$E$2:$F$9,2),0) -> 0 | BA9: =IF(AO9<>"",VLOOKUP(AO9,'valeurs casting'!$E$2:$F$9,2),0) -> 0 | BB9: =IF(AP9<>"",VLOOKUP(AP9,'valeurs casting'!$G$2:$H$9,2),0) -> 0 | BC9: =IF(AQ9<>"",VLOOKUP(AQ9,'valeurs casting'!$G$2:$H$9,2),0) -> 0 | BD9: =IF(AR9<>"",VLOOKUP(AR9,'valeurs casting'!$G$2:$H$9,2),0) -> 0 | BE9: =IF(AS9<>"",VLOOKUP(AS9,'valeurs casting'!$G$2:$H$9,2),0) -> 0 | BF9: =IF(AT9<>"",VLOOKUP(AT9,'valeurs casting'!$G$2:$H$9,2),0) -> 0
A10: Disparition d’urgence de Razal Wauke | B10: Cr | D10: Vi | F10: =Tableau2[[#This Row],[Technique]]&IF(Tableau2[[#This Row],[req. technique]]<>"","("&Tableau2[[#This Row],[req. technique]]&")","")&Tableau2[[#This Row],[Forme]]&IF(Tableau2[[#This Row],[req. forme]]<>"","("&Tableau2[[#This Row],[req. forme]]&")","") -> CrVi | G10: 10 | H10: 10 | J10: pers | K10: momentané | L10: individu | S10: =IF(IF(Tableau2[[#This Row],[Niveau base]]<5,VLOOKUP(Tableau2[[#This Row],[Niveau base]],'valeurs casting'!$J$5:$K$9,2),Tableau2[[#This Row],[Niveau base]])+5*(SUM(Tableau2[[#This Row],[taille]:[valeur]])+VLOOKUP(Tableau2[[#This Row],[portée]],'valeurs casting'!$J$11:$K$16,2)+VLOOKUP(Tableau2[[#This Row],[durée]],'valeurs casting'!$J$17:$K$24,2)+VLOOKUP(Tableau2[[#This Row],[cible]],'valeurs casting'!$J$25:$K$35,2))<5,VLOOKUP(IF(Tableau2[[#This Row],[Niveau base]]<5,VLOOKUP(Tableau2[[#This Row],[Niveau base]],'valeurs casting'!$J$5:$K$9,2),Tableau2[[#This Row],[Niveau base]])+5*(SUM(Tableau2[[#This Row],[taille]:[valeur]])+VLOOKUP(Tableau2[[#This Row],[portée]],'valeurs casting'!$J$11:$K$16,2)+VLOOKUP(Tableau2[[#This Row],[durée]],'valeurs casting'!$J$17:$K$24,2)+VLOOKUP(Tableau2[[#This Row],[cible]],'valeurs casting'!$J$25:$K$35,2)),'valeurs casting'!$K$5:$L$9,2),IF(Tableau2[[#This Row],[Niveau base]]<5,VLOOKUP(Tableau2[[#This Row],[Niveau base]],'valeurs casting'!$J$5:$K$9,2),Tableau2[[#This Row],[Niveau base]])+5*(SUM(Tableau2[[#This Row],[taille]:[valeur]])+VLOOKUP(Tableau2[[#This Row],[portée]],'valeurs casting'!$J$11:$K$16,2)+VLOOKUP(Tableau2[[#This Row],[durée]],'valeurs casting'!$J$17:$K$24,2)+VLOOKUP(Tableau2[[#This Row],[cible]],'valeurs casting'!$J$25:$K$35,2))) -> 10 | U10: le lanceur gagne 2 points de warping. | W10: =IF(Tableau2[[#This Row],[XP mastery]]=0,"",TRUNC((SQRT(8*(Tableau2[[#This Row],[XP mastery]]/5)+1)-1)/2)) -> 1 | X10: 5 | AC10: x | AH10: ='valeurs casting'!$K$2+MIN(VLOOKUP(Tableau2[[#This Row],[Technique]],Tableau1[],3),IF(Tableau2[[#This Row],[req. technique]]="",9999,VLOOKUP(LEFT(Tableau2[[#This Row],[req. technique]],2),Tableau1[],3)),IF(LEN(Tableau2[[#This Row],[req. technique]])<=2,9999,VLOOKUP(LEFT(RIGHT(Tableau2[[#This Row],[req. technique]],-2+LEN(Tableau2[[#This Row],[req. technique]])),2),Tableau1[],3)),IF(LEN(Tableau2[[#This Row],[req. technique]])<=4,9999,VLOOKUP(RIGHT(Tableau2[[#This Row],[req. technique]],-7+LEN(Tableau2[[#This Row],[req. technique]])),Tableau1[],3))) -> 27 | AI10: =MAX(Tableau2[[#This Row],[Bonus talisman bâton 1]:[Bonus talisman dé 5]])+IF(Tableau2[[#This Row],[CT dé applicable?]]<>"",'valeurs casting'!$K$1,0) -> 0 | AV10: =IF(AJ10<>"",VLOOKUP(AJ10,'valeurs casting'!$E$2:$F$9,2),0) -> 0 | AW10: =IF(AK10<>"",VLOOKUP(AK10,'valeurs casting'!$E$2:$F$9,2),0) -> 0 | AX10: =IF(AL10<>"",VLOOKUP(AL10,'valeurs casting'!$E$2:$F$9,2),0) -> 0 | AY10: =IF(AM10<>"",VLOOKUP(AM10,'valeurs casting'!$E$2:$F$9,2),0) -> 0 | AZ10: =IF(AN10<>"",VLOOKUP(AN10,'valeurs casting'!$E$2:$F$9,2),0) -> 0 | BA10: =IF(AO10<>"",VLOOKUP(AO10,'valeurs casting'!$E$2:$F$9,2),0) -> 0 | BB10: =IF(AP10<>"",VLOOKUP(AP10,'valeurs casting'!$G$2:$H$9,2),0) -> 0 | BC10: =IF(AQ10<>"",VLOOKUP(AQ10,'valeurs casting'!$G$2:$H$9,2),0) -> 0 | BD10: =IF(AR10<>"",VLOOKUP(AR10,'valeurs casting'!$G$2:$H$9,2),0) -> 0 | BE10: =IF(AS10<>"",VLOOKUP(AS10,'valeurs casting'!$G$2:$H$9,2),0) -> 0 | BF10: =IF(AT10<>"",VLOOKUP(AT10,'valeurs casting'!$G$2:$H$9,2),0) -> 0
A11: Repel winter’s clutch | B11: Cr | D11: Ig | F11: =Tableau2[[#This Row],[Technique]]&IF(Tableau2[[#This Row],[req. technique]]<>"","("&Tableau2[[#This Row],[req. technique]]&")","")&Tableau2[[#This Row],[Forme]]&IF(Tableau2[[#This Row],[req. forme]]<>"","("&Tableau2[[#This Row],[req. forme]]&")","") -> CrIg | G11: 5 | H11: 3 | J11: touch | K11: conc | L11: individu | S11: =IF(IF(Tableau2[[#This Row],[Niveau base]]<5,VLOOKUP(Tableau2[[#This Row],[Niveau base]],'valeurs casting'!$J$5:$K$9,2),Tableau2[[#This Row],[Niveau base]])+5*(SUM(Tableau2[[#This Row],[taille]:[valeur]])+VLOOKUP(Tableau2[[#This Row],[portée]],'valeurs casting'!$J$11:$K$16,2)+VLOOKUP(Tableau2[[#This Row],[durée]],'valeurs casting'!$J$17:$K$24,2)+VLOOKUP(Tableau2[[#This Row],[cible]],'valeurs casting'!$J$25:$K$35,2))<5,VLOOKUP(IF(Tableau2[[#This Row],[Niveau base]]<5,VLOOKUP(Tableau2[[#This Row],[Niveau base]],'valeurs casting'!$J$5:$K$9,2),Tableau2[[#This Row],[Niveau base]])+5*(SUM(Tableau2[[#This Row],[taille]:[valeur]])+VLOOKUP(Tableau2[[#This Row],[portée]],'valeurs casting'!$J$11:$K$16,2)+VLOOKUP(Tableau2[[#This Row],[durée]],'valeurs casting'!$J$17:$K$24,2)+VLOOKUP(Tableau2[[#This Row],[cible]],'valeurs casting'!$J$25:$K$35,2)),'valeurs casting'!$K$5:$L$9,2),IF(Tableau2[[#This Row],[Niveau base]]<5,VLOOKUP(Tableau2[[#This Row],[Niveau base]],'valeurs casting'!$J$5:$K$9,2),Tableau2[[#This Row],[Niveau base]])+5*(SUM(Tableau2[[#This Row],[taille]:[valeur]])+VLOOKUP(Tableau2[[#This Row],[portée]],'valeurs casting'!$J$11:$K$16,2)+VLOOKUP(Tableau2[[#This Row],[durée]],'valeurs casting'!$J$17:$K$24,2)+VLOOKUP(Tableau2[[#This Row],[cible]],'valeurs casting'!$J$25:$K$35,2))) -> 5 | U11: Rapidly warms the target with an internal heat. This can be used to quickly defrost an object, or, if applied quickly enough, to save an individual from freezing to death. When using this spell in conjunction with treating hypothermia, the Medicine roll receives a bonus of +5. | W11: =IF(Tableau2[[#This Row],[XP mastery]]=0,"",TRUNC((SQRT(8*(Tableau2[[#This Row],[XP mastery]]/5)+1)-1)/2)) | AH11: ='valeurs casting'!$K$2+MIN(VLOOKUP(Tableau2[[#This Row],[Technique]],Tableau1[],3),IF(Tableau2[[#This Row],[req. technique]]="",9999,VLOOKUP(LEFT(Tableau2[[#This Row],[req. technique]],2),Tableau1[],3)),IF(LEN(Tableau2[[#This Row],[req. technique]])<=2,9999,VLOOKUP(LEFT(RIGHT(Tableau2[[#This Row],[req. technique]],-2+LEN(Tableau2[[#This Row],[req. technique]])),2),Tableau1[],3)),IF(LEN(Tableau2[[#This Row],[req. technique]])<=4,9999,VLOOKUP(RIGHT(Tableau2[[#This Row],[req. technique]],-7+LEN(Tableau2[[#This Row],[req. technique]])),Tableau1[],3))) -> 27 | AI11: =MAX(Tableau2[[#This Row],[Bonus talisman bâton 1]:[Bonus talisman dé 5]])+IF(Tableau2[[#This Row],[CT dé applicable?]]<>"",'valeurs casting'!$K$1,0) -> 11 | AP11: Ig | AU11: x | AV11: =IF(AJ11<>"",VLOOKUP(AJ11,'valeurs casting'!$E$2:$F$9,2),0) -> 0 | AW11: =IF(AK11<>"",VLOOKUP(AK11,'valeurs casting'!$E$2:$F$9,2),0) -> 0 | AX11: =IF(AL11<>"",VLOOKUP(AL11,'valeurs casting'!$E$2:$F$9,2),0) -> 0 | AY11: =IF(AM11<>"",VLOOKUP(AM11,'valeurs casting'!$E$2:$F$9,2),0) -> 0 | AZ11: =IF(AN11<>"",VLOOKUP(AN11,'valeurs casting'!$E$2:$F$9,2),0) -> 0 | BA11: =IF(AO11<>"",VLOOKUP(AO11,'valeurs casting'!$E$2:$F$9,2),0) -> 0 | BB11: =IF(AP11<>"",VLOOKUP(AP11,'valeurs casting'!$G$2:$H$9,2),0) -> 4 | BC11: =IF(AQ11<>"",VLOOKUP(AQ11,'valeurs casting'!$G$2:$H$9,2),0) -> 0 | BD11: =IF(AR11<>"",VLOOKUP(AR11,'valeurs casting'!$G$2:$H$9,2),0) -> 0 | BE11: =IF(AS11<>"",VLOOKUP(AS11,'valeurs casting'!$G$2:$H$9,2),0) -> 0 | BF11: =IF(AT11<>"",VLOOKUP(AT11,'valeurs casting'!$G$2:$H$9,2),0) -> 0
A12: Probe silver amélioré | B12: In | D12: Te | F12: =Tableau2[[#This Row],[Technique]]&IF(Tableau2[[#This Row],[req. technique]]<>"","("&Tableau2[[#This Row],[req. technique]]&")","")&Tableau2[[#This Row],[Forme]]&IF(Tableau2[[#This Row],[req. forme]]<>"","("&Tableau2[[#This Row],[req. forme]]&")","") -> InTe | G12: 5 | H12: 2 | J12: pers | K12: conc | L12: smell | S12: =IF(IF(Tableau2[[#This Row],[Niveau base]]<5,VLOOKUP(Tableau2[[#This Row],[Niveau base]],'valeurs casting'!$J$5:$K$9,2),Tableau2[[#This Row],[Niveau base]])+5*(SUM(Tableau2[[#This Row],[taille]:[valeur]])+VLOOKUP(Tableau2[[#This Row],[portée]],'valeurs casting'!$J$11:$K$16,2)+VLOOKUP(Tableau2[[#This Row],[durée]],'valeurs casting'!$J$17:$K$24,2)+VLOOKUP(Tableau2[[#This Row],[cible]],'valeurs casting'!$J$25:$K$35,2))<5,VLOOKUP(IF(Tableau2[[#This Row],[Niveau base]]<5,VLOOKUP(Tableau2[[#This Row],[Niveau base]],'valeurs casting'!$J$5:$K$9,2),Tableau2[[#This Row],[Niveau base]])+5*(SUM(Tableau2[[#This Row],[taille]:[valeur]])+VLOOKUP(Tableau2[[#This Row],[portée]],'valeurs casting'!$J$11:$K$16,2)+VLOOKUP(Tableau2[[#This Row],[durée]],'valeurs casting'!$J$17:$K$24,2)+VLOOKUP(Tableau2[[#This Row],[cible]],'valeurs casting'!$J$25:$K$35,2)),'valeurs casting'!$K$5:$L$9,2),IF(Tableau2[[#This Row],[Niveau base]]<5,VLOOKUP(Tableau2[[#This Row],[Niveau base]],'valeurs casting'!$J$5:$K$9,2),Tableau2[[#This Row],[Niveau base]])+5*(SUM(Tableau2[[#This Row],[taille]:[valeur]])+VLOOKUP(Tableau2[[#This Row],[portée]],'valeurs casting'!$J$11:$K$16,2)+VLOOKUP(Tableau2[[#This Row],[durée]],'valeurs casting'!$J$17:$K$24,2)+VLOOKUP(Tableau2[[#This Row],[cible]],'valeurs casting'!$J$25:$K$35,2))) -> 5 | U12: le lanceur sent l’argent et peut suivre la trace. | W12: =IF(Tableau2[[#This Row],[XP mastery]]=0,"",TRUNC((SQRT(8*(Tableau2[[#This Row],[XP mastery]]/5)+1)-1)/2)) | AH12: ='valeurs casting'!$K$2+MIN(VLOOKUP(Tableau2[[#This Row],[Technique]],Tableau1[],3),IF(Tableau2[[#This Row],[req. technique]]="",9999,VLOOKUP(LEFT(Tableau2[[#This Row],[req. technique]],2),Tableau1[],3)),IF(LEN(Tableau2[[#This Row],[req. technique]])<=2,9999,VLOOKUP(LEFT(RIGHT(Tableau2[[#This Row],[req. technique]],-2+LEN(Tableau2[[#This Row],[req. technique]])),2),Tableau1[],3)),IF(LEN(Tableau2[[#This Row],[req. technique]])<=4,9999,VLOOKUP(RIGHT(Tableau2[[#This Row],[req. technique]],-7+LEN(Tableau2[[#This Row],[req. technique]])),Tableau1[],3))) -> 19 | AI12: =MAX(Tableau2[[#This Row],[Bonus talisman bâton 1]:[Bonus talisman dé 5]])+IF(Tableau2[[#This Row],[CT dé applicable?]]<>"",'valeurs casting'!$K$1,0) -> 3 | AJ12: Te | AV12: =IF(AJ12<>"",VLOOKUP(AJ12,'valeurs casting'!$E$2:$F$9,2),0) -> 3 | AW12: =IF(AK12<>"",VLOOKUP(AK12,'valeurs casting'!$E$2:$F$9,2),0) -> 0 | AX12: =IF(AL12<>"",VLOOKUP(AL12,'valeurs casting'!$E$2:$F$9,2),0) -> 0 | AY12: =IF(AM12<>"",VLOOKUP(AM12,'valeurs casting'!$E$2:$F$9,2),0) -> 0 | AZ12: =IF(AN12<>"",VLOOKUP(AN12,'valeurs casting'!$E$2:$F$9,2),0) -> 0 | BA12: =IF(AO12<>"",VLOOKUP(AO12,'valeurs casting'!$E$2:$F$9,2),0) -> 0 | BB12: =IF(AP12<>"",VLOOKUP(AP12,'valeurs casting'!$G$2:$H$9,2),0) -> 0 | BC12: =IF(AQ12<>"",VLOOKUP(AQ12,'valeurs casting'!$G$2:$H$9,2),0) -> 0 | BD12: =IF(AR12<>"",VLOOKUP(AR12,'valeurs casting'!$G$2:$H$9,2),0) -> 0 | BE12: =IF(AS12<>"",VLOOKUP(AS12,'valeurs casting'!$G$2:$H$9,2),0) -> 0 | BF12: =IF(AT12<>"",VLOOKUP(AT12,'valeurs casting'!$G$2:$H$9,2),0) -> 0
A13: Unseen arm | B13: Re | D13: Te | F13: =Tableau2[[#This Row],[Technique]]&IF(Tableau2[[#This Row],[req. technique]]<>"","("&Tableau2[[#This Row],[req. technique]]&")","")&Tableau2[[#This Row],[Forme]]&IF(Tableau2[[#This Row],[req. forme]]<>"","("&Tableau2[[#This Row],[req. forme]]&")","") -> ReTe | G13: 5 | H13: 2 | J13: voice | K13: conc | L13: individu | S13: =IF(IF(Tableau2[[#This Row],[Niveau base]]<5,VLOOKUP(Tableau2[[#This Row],[Niveau base]],'valeurs casting'!$J$5:$K$9,2),Tableau2[[#This Row],[Niveau base]])+5*(SUM(Tableau2[[#This Row],[taille]:[valeur]])+VLOOKUP(Tableau2[[#This Row],[portée]],'valeurs casting'!$J$11:$K$16,2)+VLOOKUP(Tableau2[[#This Row],[durée]],'valeurs casting'!$J$17:$K$24,2)+VLOOKUP(Tableau2[[#This Row],[cible]],'valeurs casting'!$J$25:$K$35,2))<5,VLOOKUP(IF(Tableau2[[#This Row],[Niveau base]]<5,VLOOKUP(Tableau2[[#This Row],[Niveau base]],'valeurs casting'!$J$5:$K$9,2),Tableau2[[#This Row],[Niveau base]])+5*(SUM(Tableau2[[#This Row],[taille]:[valeur]])+VLOOKUP(Tableau2[[#This Row],[portée]],'valeurs casting'!$J$11:$K$16,2)+VLOOKUP(Tableau2[[#This Row],[durée]],'valeurs casting'!$J$17:$K$24,2)+VLOOKUP(Tableau2[[#This Row],[cible]],'valeurs casting'!$J$25:$K$35,2)),'valeurs casting'!$K$5:$L$9,2),IF(Tableau2[[#This Row],[Niveau base]]<5,VLOOKUP(Tableau2[[#This Row],[Niveau base]],'valeurs casting'!$J$5:$K$9,2),Tableau2[[#This Row],[Niveau base]])+5*(SUM(Tableau2[[#This Row],[taille]:[valeur]])+VLOOKUP(Tableau2[[#This Row],[portée]],'valeurs casting'!$J$11:$K$16,2)+VLOOKUP(Tableau2[[#This Row],[durée]],'valeurs casting'!$J$17:$K$24,2)+VLOOKUP(Tableau2[[#This Row],[cible]],'valeurs casting'!$J$25:$K$35,2))) -> 5 | U13: ArM5 p155 | W13: =IF(Tableau2[[#This Row],[XP mastery]]=0,"",TRUNC((SQRT(8*(Tableau2[[#This Row],[XP mastery]]/5)+1)-1)/2)) | AH13: ='valeurs casting'!$K$2+MIN(VLOOKUP(Tableau2[[#This Row],[Technique]],Tableau1[],3),IF(Tableau2[[#This Row],[req. technique]]="",9999,VLOOKUP(LEFT(Tableau2[[#This Row],[req. technique]],2),Tableau1[],3)),IF(LEN(Tableau2[[#This Row],[req. technique]])<=2,9999,VLOOKUP(LEFT(RIGHT(Tableau2[[#This Row],[req. technique]],-2+LEN(Tableau2[[#This Row],[req. technique]])),2),Tableau1[],3)),IF(LEN(Tableau2[[#This Row],[req. technique]])<=4,9999,VLOOKUP(RIGHT(Tableau2[[#This Row],[req. technique]],-7+LEN(Tableau2[[#This Row],[req. technique]])),Tableau1[],3))) -> 20 | AI13: =MAX(Tableau2[[#This Row],[Bonus talisman bâton 1]:[Bonus talisman dé 5]])+IF(Tableau2[[#This Row],[CT dé applicable?]]<>"",'valeurs casting'!$K$1,0) -> 4 | AJ13: Te | AK13: control things | AV13: =IF(AJ13<>"",VLOOKUP(AJ13,'valeurs casting'!$E$2:$F$9,2),0) -> 3 | AW13: =IF(AK13<>"",VLOOKUP(AK13,'valeurs casting'!$E$2:$F$9,2),0) -> 4 | AX13: =IF(AL13<>"",VLOOKUP(AL13,'valeurs casting'!$E$2:$F$9,2),0) -> 0 | AY13: =IF(AM13<>"",VLOOKUP(AM13,'valeurs casting'!$E$2:$F$9,2),0) -> 0 | AZ13: =IF(AN13<>"",VLOOKUP(AN13,'valeurs casting'!$E$2:$F$9,2),0) -> 0 | BA13: =IF(AO13<>"",VLOOKUP(AO13,'valeurs casting'!$E$2:$F$9,2),0) -> 0 | BB13: =IF(AP13<>"",VLOOKUP(AP13,'valeurs casting'!$G$2:$H$9,2),0) -> 0 | BC13: =IF(AQ13<>"",VLOOKUP(AQ13,'valeurs casting'!$G$2:$H$9,2),0) -> 0 | BD13: =IF(AR13<>"",VLOOKUP(AR13,'valeurs casting'!$G$2:$H$9,2),0) -> 0 | BE13: =IF(AS13<>"",VLOOKUP(AS13,'valeurs casting'!$G$2:$H$9,2),0) -> 0 | BF13: =IF(AT13<>"",VLOOKUP(AT13,'valeurs casting'!$G$2:$H$9,2),0) -> 0
A14: Tip of the tongue | B14: Pe | D14: Me | F14: =Tableau2[[#This Row],[Technique]]&IF(Tableau2[[#This Row],[req. technique]]<>"","("&Tableau2[[#This Row],[req. technique]]&")","")&Tableau2[[#This Row],[Forme]]&IF(Tableau2[[#This Row],[req. forme]]<>"","("&Tableau2[[#This Row],[req. forme]]&")","") -> PeMe | G14: 5 | H14: 3 | J14: eye | K14: diamètre | L14: individu | S14: =IF(IF(Tableau2[[#This Row],[Niveau base]]<5,VLOOKUP(Tableau2[[#This Row],[Niveau base]],'valeurs casting'!$J$5:$K$9,2),Tableau2[[#This Row],[Niveau base]])+5*(SUM(Tableau2[[#This Row],[taille]:[valeur]])+VLOOKUP(Tableau2[[#This Row],[portée]],'valeurs casting'!$J$11:$K$16,2)+VLOOKUP(Tableau2[[#This Row],[durée]],'valeurs casting'!$J$17:$K$24,2)+VLOOKUP(Tableau2[[#This Row],[cible]],'valeurs casting'!$J$25:$K$35,2))<5,VLOOKUP(IF(Tableau2[[#This Row],[Niveau base]]<5,VLOOKUP(Tableau2[[#This Row],[Niveau base]],'valeurs casting'!$J$5:$K$9,2),Tableau2[[#This Row],[Niveau base]])+5*(SUM(Tableau2[[#This Row],[taille]:[valeur]])+VLOOKUP(Tableau2[[#This Row],[portée]],'valeurs casting'!$J$11:$K$16,2)+VLOOKUP(Tableau2[[#This Row],[durée]],'valeurs casting'!$J$17:$K$24,2)+VLOOKUP(Tableau2[[#This Row],[cible]],'valeurs casting'!$J$25:$K$35,2)),'valeurs casting'!$K$5:$L$9,2),IF(Tableau2[[#This Row],[Niveau base]]<5,VLOOKUP(Tableau2[[#This Row],[Niveau base]],'valeurs casting'!$J$5:$K$9,2),Tableau2[[#This Row],[Niveau base]])+5*(SUM(Tableau2[[#This Row],[taille]:[valeur]])+VLOOKUP(Tableau2[[#This Row],[portée]],'valeurs casting'!$J$11:$K$16,2)+VLOOKUP(Tableau2[[#This Row],[durée]],'valeurs casting'!$J$17:$K$24,2)+VLOOKUP(Tableau2[[#This Row],[cible]],'valeurs casting'!$J$25:$K$35,2))) -> 5 | U14: ArM5 p150 | W14: =IF(Tableau2[[#This Row],[XP mastery]]=0,"",TRUNC((SQRT(8*(Tableau2[[#This Row],[XP mastery]]/5)+1)-1)/2)) | AH14: ='valeurs casting'!$K$2+MIN(VLOOKUP(Tableau2[[#This Row],[Technique]],Tableau1[],3),IF(Tableau2[[#This Row],[req. technique]]="",9999,VLOOKUP(LEFT(Tableau2[[#This Row],[req. technique]],2),Tableau1[],3)),IF(LEN(Tableau2[[#This Row],[req. technique]])<=2,9999,VLOOKUP(LEFT(RIGHT(Tableau2[[#This Row],[req. technique]],-2+LEN(Tableau2[[#This Row],[req. technique]])),2),Tableau1[],3)),IF(LEN(Tableau2[[#This Row],[req. technique]])<=4,9999,VLOOKUP(RIGHT(Tableau2[[#This Row],[req. technique]],-7+LEN(Tableau2[[#This Row],[req. technique]])),Tableau1[],3))) -> 13 | AI14: =MAX(Tableau2[[#This Row],[Bonus talisman bâton 1]:[Bonus talisman dé 5]])+IF(Tableau2[[#This Row],[CT dé applicable?]]<>"",'valeurs casting'!$K$1,0) -> 4 | AJ14: destroy things | AV14: =IF(AJ14<>"",VLOOKUP(AJ14,'valeurs casting'!$E$2:$F$9,2),0) -> 4 | AW14: =IF(AK14<>"",VLOOKUP(AK14,'valeurs casting'!$E$2:$F$9,2),0) -> 0 | AX14: =IF(AL14<>"",VLOOKUP(AL14,'valeurs casting'!$E$2:$F$9,2),0) -> 0 | AY14: =IF(AM14<>"",VLOOKUP(AM14,'valeurs casting'!$E$2:$F$9,2),0) -> 0 | AZ14: =IF(AN14<>"",VLOOKUP(AN14,'valeurs casting'!$E$2:$F$9,2),0) -> 0 | BA14: =IF(AO14<>"",VLOOKUP(AO14,'valeurs casting'!$E$2:$F$9,2),0) -> 0 | BB14: =IF(AP14<>"",VLOOKUP(AP14,'valeurs casting'!$G$2:$H$9,2),0) -> 0 | BC14: =IF(AQ14<>"",VLOOKUP(AQ14,'valeurs casting'!$G$2:$H$9,2),0) -> 0 | BD14: =IF(AR14<>"",VLOOKUP(AR14,'valeurs casting'!$G$2:$H$9,2),0) -> 0 | BE14: =IF(AS14<>"",VLOOKUP(AS14,'valeurs casting'!$G$2:$H$9,2),0) -> 0 | BF14: =IF(AT14<>"",VLOOKUP(AT14,'valeurs casting'!$G$2:$H$9,2),0) -> 0
A15: The chirurgeon’s healing touch | B15: Cr | D15: Co | F15: =Tableau2[[#This Row],[Technique]]&IF(Tableau2[[#This Row],[req. technique]]<>"","("&Tableau2[[#This Row],[req. technique]]&")","")&Tableau2[[#This Row],[Forme]]&IF(Tableau2[[#This Row],[req. forme]]<>"","("&Tableau2[[#This Row],[req. forme]]&")","") -> CrCo | G15: 20 | H15: 15 | J15: touch | K15: momentané | L15: individu | S15: =IF(IF(Tableau2[[#This Row],[Niveau base]]<5,VLOOKUP(Tableau2[[#This Row],[Niveau base]],'valeurs casting'!$J$5:$K$9,2),Tableau2[[#This Row],[Niveau base]])+5*(SUM(Tableau2[[#This Row],[taille]:[valeur]])+VLOOKUP(Tableau2[[#This Row],[portée]],'valeurs casting'!$J$11:$K$16,2)+VLOOKUP(Tableau2[[#This Row],[durée]],'valeurs casting'!$J$17:$K$24,2)+VLOOKUP(Tableau2[[#This Row],[cible]],'valeurs casting'!$J$25:$K$35,2))<5,VLOOKUP(IF(Tableau2[[#This Row],[Niveau base]]<5,VLOOKUP(Tableau2[[#This Row],[Niveau base]],'valeurs casting'!$J$5:$K$9,2),Tableau2[[#This Row],[Niveau base]])+5*(SUM(Tableau2[[#This Row],[taille]:[valeur]])+VLOOKUP(Tableau2[[#This Row],[portée]],'valeurs casting'!$J$11:$K$16,2)+VLOOKUP(Tableau2[[#This Row],[durée]],'valeurs casting'!$J$17:$K$24,2)+VLOOKUP(Tableau2[[#This Row],[cible]],'valeurs casting'!$J$25:$K$35,2)),'valeurs casting'!$K$5:$L$9,2),IF(Tableau2[[#This Row],[Niveau base]]<5,VLOOKUP(Tableau2[[#This Row],[Niveau base]],'valeurs casting'!$J$5:$K$9,2),Tableau2[[#This Row],[Niveau base]])+5*(SUM(Tableau2[[#This Row],[taille]:[valeur]])+VLOOKUP(Tableau2[[#This Row],[portée]],'valeurs casting'!$J$11:$K$16,2)+VLOOKUP(Tableau2[[#This Row],[durée]],'valeurs casting'!$J$17:$K$24,2)+VLOOKUP(Tableau2[[#This Row],[cible]],'valeurs casting'!$J$25:$K$35,2))) -> 20 | T15: x | U15: soigne une blessure légère due à une blessure. | W15: =IF(Tableau2[[#This Row],[XP mastery]]=0,"",TRUNC((SQRT(8*(Tableau2[[#This Row],[XP mastery]]/5)+1)-1)/2)) | AH15: ='valeurs casting'!$K$2+MIN(VLOOKUP(Tableau2[[#This Row],[Technique]],Tableau1[],3),IF(Tableau2[[#This Row],[req. technique]]="",9999,VLOOKUP(LEFT(Tableau2[[#This Row],[req. technique]],2),Tableau1[],3)),IF(LEN(Tableau2[[#This Row],[req. technique]])<=2,9999,VLOOKUP(LEFT(RIGHT(Tableau2[[#This Row],[req. technique]],-2+LEN(Tableau2[[#This Row],[req. technique]])),2),Tableau1[],3)),IF(LEN(Tableau2[[#This Row],[req. technique]])<=4,9999,VLOOKUP(RIGHT(Tableau2[[#This Row],[req. technique]],-7+LEN(Tableau2[[#This Row],[req. technique]])),Tableau1[],3))) -> 27 | AI15: =MAX(Tableau2[[#This Row],[Bonus talisman bâton 1]:[Bonus talisman dé 5]])+IF(Tableau2[[#This Row],[CT dé applicable?]]<>"",'valeurs casting'!$K$1,0) -> 0 | AV15: =IF(AJ15<>"",VLOOKUP(AJ15,'valeurs casting'!$E$2:$F$9,2),0) -> 0 | AW15: =IF(AK15<>"",VLOOKUP(AK15,'valeurs casting'!$E$2:$F$9,2),0) -> 0 | AX15: =IF(AL15<>"",VLOOKUP(AL15,'valeurs casting'!$E$2:$F$9,2),0) -> 0 | AY15: =IF(AM15<>"",VLOOKUP(AM15,'valeurs casting'!$E$2:$F$9,2),0) -> 0 | AZ15: =IF(AN15<>"",VLOOKUP(AN15,'valeurs casting'!$E$2:$F$9,2),0) -> 0 | BA15: =IF(AO15<>"",VLOOKUP(AO15,'valeurs casting'!$E$2:$F$9,2),0) -> 0 | BB15: =IF(AP15<>"",VLOOKUP(AP15,'valeurs casting'!$G$2:$H$9,2),0) -> 0 | BC15: =IF(AQ15<>"",VLOOKUP(AQ15,'valeurs casting'!$G$2:$H$9,2),0) -> 0 | BD15: =IF(AR15<>"",VLOOKUP(AR15,'valeurs casting'!$G$2:$H$9,2),0) -> 0 | BE15: =IF(AS15<>"",VLOOKUP(AS15,'valeurs casting'!$G$2:$H$9,2),0) -> 0 | BF15: =IF(AT15<>"",VLOOKUP(AT15,'valeurs casting'!$G$2:$H$9,2),0) -> 0
A16: Augmentation correcte de la dextérité | B16: Cr | D16: Co | F16: =Tableau2[[#This Row],[Technique]]&IF(Tableau2[[#This Row],[req. technique]]<>"","("&Tableau2[[#This Row],[req. technique]]&")","")&Tableau2[[#This Row],[Forme]]&IF(Tableau2[[#This Row],[req. forme]]<>"","("&Tableau2[[#This Row],[req. forme]]&")","") -> CrCo | G16: 35 | H16: 30 | J16: touch | K16: momentané | L16: individu | S16: =IF(IF(Tableau2[[#This Row],[Niveau base]]<5,VLOOKUP(Tableau2[[#This Row],[Niveau base]],'valeurs casting'!$J$5:$K$9,2),Tableau2[[#This Row],[Niveau base]])+5*(SUM(Tableau2[[#This Row],[taille]:[valeur]])+VLOOKUP(Tableau2[[#This Row],[portée]],'valeurs casting'!$J$11:$K$16,2)+VLOOKUP(Tableau2[[#This Row],[durée]],'valeurs casting'!$J$17:$K$24,2)+VLOOKUP(Tableau2[[#This Row],[cible]],'valeurs casting'!$J$25:$K$35,2))<5,VLOOKUP(IF(Tableau2[[#This Row],[Niveau base]]<5,VLOOKUP(Tableau2[[#This Row],[Niveau base]],'valeurs casting'!$J$5:$K$9,2),Tableau2[[#This Row],[Niveau base]])+5*(SUM(Tableau2[[#This Row],[taille]:[valeur]])+VLOOKUP(Tableau2[[#This Row],[portée]],'valeurs casting'!$J$11:$K$16,2)+VLOOKUP(Tableau2[[#This Row],[durée]],'valeurs casting'!$J$17:$K$24,2)+VLOOKUP(Tableau2[[#This Row],[cible]],'valeurs casting'!$J$25:$K$35,2)),'valeurs casting'!$K$5:$L$9,2),IF(Tableau2[[#This Row],[Niveau base]]<5,VLOOKUP(Tableau2[[#This Row],[Niveau base]],'valeurs casting'!$J$5:$K$9,2),Tableau2[[#This Row],[Niveau base]])+5*(SUM(Tableau2[[#This Row],[taille]:[valeur]])+VLOOKUP(Tableau2[[#This Row],[portée]],'valeurs casting'!$J$11:$K$16,2)+VLOOKUP(Tableau2[[#This Row],[durée]],'valeurs casting'!$J$17:$K$24,2)+VLOOKUP(Tableau2[[#This Row],[cible]],'valeurs casting'!$J$25:$K$35,2))) -> 35 | T16: x | U16: la dextérité de la cible augmente de 1 jusqu’à 0. | W16: =IF(Tableau2[[#This Row],[XP mastery]]=0,"",TRUNC((SQRT(8*(Tableau2[[#This Row],[XP mastery]]/5)+1)-1)/2)) | AH16: ='valeurs casting'!$K$2+MIN(VLOOKUP(Tableau2[[#This Row],[Technique]],Tableau1[],3),IF(Tableau2[[#This Row],[req. technique]]="",9999,VLOOKUP(LEFT(Tableau2[[#This Row],[req. technique]],2),Tableau1[],3)),IF(LEN(Tableau2[[#This Row],[req. technique]])<=2,9999,VLOOKUP(LEFT(RIGHT(Tableau2[[#This Row],[req. technique]],-2+LEN(Tableau2[[#This Row],[req. technique]])),2),Tableau1[],3)),IF(LEN(Tableau2[[#This Row],[req. technique]])<=4,9999,VLOOKUP(RIGHT(Tableau2[[#This Row],[req. technique]],-7+LEN(Tableau2[[#This Row],[req. technique]])),Tableau1[],3))) -> 27 | AI16: =MAX(Tableau2[[#This Row],[Bonus talisman bâton 1]:[Bonus talisman dé 5]])+IF(Tableau2[[#This Row],[CT dé applicable?]]<>"",'valeurs casting'!$K$1,0) -> 0 | AV16: =IF(AJ16<>"",VLOOKUP(AJ16,'valeurs casting'!$E$2:$F$9,2),0) -> 0 | AW16: =IF(AK16<>"",VLOOKUP(AK16,'valeurs casting'!$E$2:$F$9,2),0) -> 0 | AX16: =IF(AL16<>"",VLOOKUP(AL16,'valeurs casting'!$E$2:$F$9,2),0) -> 0 | AY16: =IF(AM16<>"",VLOOKUP(AM16,'valeurs casting'!$E$2:$F$9,2),0) -> 0 | AZ16: =IF(AN16<>"",VLOOKUP(AN16,'valeurs casting'!$E$2:$F$9,2),0) -> 0 | BA16: =IF(AO16<>"",VLOOKUP(AO16,'valeurs casting'!$E$2:$F$9,2),0) -> 0 | BB16: =IF(AP16<>"",VLOOKUP(AP16,'valeurs casting'!$G$2:$H$9,2),0) -> 0 | BC16: =IF(AQ16<>"",VLOOKUP(AQ16,'valeurs casting'!$G$2:$H$9,2),0) -> 0 | BD16: =IF(AR16<>"",VLOOKUP(AR16,'valeurs casting'!$G$2:$H$9,2),0) -> 0 | BE16: =IF(AS16<>"",VLOOKUP(AS16,'valeurs casting'!$G$2:$H$9,2),0) -> 0 | BF16: =IF(AT16<>"",VLOOKUP(AT16,'valeurs casting'!$G$2:$H$9,2),0) -> 0
A17: Force d’Hercule | B17: Cr | D17: Co | F17: =Tableau2[[#This Row],[Technique]]&IF(Tableau2[[#This Row],[req. technique]]<>"","("&Tableau2[[#This Row],[req. technique]]&")","")&Tableau2[[#This Row],[Forme]]&IF(Tableau2[[#This Row],[req. forme]]<>"","("&Tableau2[[#This Row],[req. forme]]&")","") -> CrCo | G17: 60 | H17: 55 | J17: touch | K17: momentané | L17: individu | S17: =IF(IF(Tableau2[[#This Row],[Niveau base]]<5,VLOOKUP(Tableau2[[#This Row],[Niveau base]],'valeurs casting'!$J$5:$K$9,2),Tableau2[[#This Row],[Niveau base]])+5*(SUM(Tableau2[[#This Row],[taille]:[valeur]])+VLOOKUP(Tableau2[[#This Row],[portée]],'valeurs casting'!$J$11:$K$16,2)+VLOOKUP(Tableau2[[#This Row],[durée]],'valeurs casting'!$J$17:$K$24,2)+VLOOKUP(Tableau2[[#This Row],[cible]],'valeurs casting'!$J$25:$K$35,2))<5,VLOOKUP(IF(Tableau2[[#This Row],[Niveau base]]<5,VLOOKUP(Tableau2[[#This Row],[Niveau base]],'valeurs casting'!$J$5:$K$9,2),Tableau2[[#This Row],[Niveau base]])+5*(SUM(Tableau2[[#This Row],[taille]:[valeur]])+VLOOKUP(Tableau2[[#This Row],[portée]],'valeurs casting'!$J$11:$K$16,2)+VLOOKUP(Tableau2[[#This Row],[durée]],'valeurs casting'!$J$17:$K$24,2)+VLOOKUP(Tableau2[[#This Row],[cible]],'valeurs casting'!$J$25:$K$35,2)),'valeurs casting'!$K$5:$L$9,2),IF(Tableau2[[#This Row],[Niveau base]]<5,VLOOKUP(Tableau2[[#This Row],[Niveau base]],'valeurs casting'!$J$5:$K$9,2),Tableau2[[#This Row],[Niveau base]])+5*(SUM(Tableau2[[#This Row],[taille]:[valeur]])+VLOOKUP(Tableau2[[#This Row],[portée]],'valeurs casting'!$J$11:$K$16,2)+VLOOKUP(Tableau2[[#This Row],[durée]],'valeurs casting'!$J$17:$K$24,2)+VLOOKUP(Tableau2[[#This Row],[cible]],'valeurs casting'!$J$25:$K$35,2))) -> 60 | T17: x | U17: ce sortilège augmente la force de 1 jusqu’à un maximum de +5. | W17: =IF(Tableau2[[#This Row],[XP mastery]]=0,"",TRUNC((SQRT(8*(Tableau2[[#This Row],[XP mastery]]/5)+1)-1)/2)) | AH17: ='valeurs casting'!$K$2+MIN(VLOOKUP(Tableau2[[#This Row],[Technique]],Tableau1[],3),IF(Tableau2[[#This Row],[req. technique]]="",9999,VLOOKUP(LEFT(Tableau2[[#This Row],[req. technique]],2),Tableau1[],3)),IF(LEN(Tableau2[[#This Row],[req. technique]])<=2,9999,VLOOKUP(LEFT(RIGHT(Tableau2[[#This Row],[req. technique]],-2+LEN(Tableau2[[#This Row],[req. technique]])),2),Tableau1[],3)),IF(LEN(Tableau2[[#This Row],[req. technique]])<=4,9999,VLOOKUP(RIGHT(Tableau2[[#This Row],[req. technique]],-7+LEN(Tableau2[[#This Row],[req. technique]])),Tableau1[],3))) -> 27 | AI17: =MAX(Tableau2[[#This Row],[Bonus talisman bâton 1]:[Bonus talisman dé 5]])+IF(Tableau2[[#This Row],[CT dé applicable?]]<>"",'valeurs casting'!$K$1,0) -> 0 | AV17: =IF(AJ17<>"",VLOOKUP(AJ17,'valeurs casting'!$E$2:$F$9,2),0) -> 0 | AW17: =IF(AK17<>"",VLOOKUP(AK17,'valeurs casting'!$E$2:$F$9,2),0) -> 0 | AX17: =IF(AL17<>"",VLOOKUP(AL17,'valeurs casting'!$E$2:$F$9,2),0) -> 0 | AY17: =IF(AM17<>"",VLOOKUP(AM17,'valeurs casting'!$E$2:$F$9,2),0) -> 0 | AZ17: =IF(AN17<>"",VLOOKUP(AN17,'valeurs casting'!$E$2:$F$9,2),0) -> 0 | BA17: =IF(AO17<>"",VLOOKUP(AO17,'valeurs casting'!$E$2:$F$9,2),0) -> 0 | BB17: =IF(AP17<>"",VLOOKUP(AP17,'valeurs casting'!$G$2:$H$9,2),0) -> 0 | BC17: =IF(AQ17<>"",VLOOKUP(AQ17,'valeurs casting'!$G$2:$H$9,2),0) -> 0 | BD17: =IF(AR17<>"",VLOOKUP(AR17,'valeurs casting'!$G$2:$H$9,2),0) -> 0 | BE17: =IF(AS17<>"",VLOOKUP(AS17,'valeurs casting'!$G$2:$H$9,2),0) -> 0 | BF17: =IF(AT17<>"",VLOOKUP(AT17,'valeurs casting'!$G$2:$H$9,2),0) -> 0
A18: Téléportation de Razal Wauke | B18: Re | D18: Co | F18: =Tableau2[[#This Row],[Technique]]&IF(Tableau2[[#This Row],[req. technique]]<>"","("&Tableau2[[#This Row],[req. technique]]&")","")&Tableau2[[#This Row],[Forme]]&IF(Tableau2[[#This Row],[req. forme]]<>"","("&Tableau2[[#This Row],[req. forme]]&")","") -> ReCo | G18: 40 | H18: 35 | J18: touch | K18: momentané | L18: individu | S18: =IF(IF(Tableau2[[#This Row],[Niveau base]]<5,VLOOKUP(Tableau2[[#This Row],[Niveau base]],'valeurs casting'!$J$5:$K$9,2),Tableau2[[#This Row],[Niveau base]])+5*(SUM(Tableau2[[#This Row],[taille]:[valeur]])+VLOOKUP(Tableau2[[#This Row],[portée]],'valeurs casting'!$J$11:$K$16,2)+VLOOKUP(Tableau2[[#This Row],[durée]],'valeurs casting'!$J$17:$K$24,2)+VLOOKUP(Tableau2[[#This Row],[cible]],'valeurs casting'!$J$25:$K$35,2))<5,VLOOKUP(IF(Tableau2[[#This Row],[Niveau base]]<5,VLOOKUP(Tableau2[[#This Row],[Niveau base]],'valeurs casting'!$J$5:$K$9,2),Tableau2[[#This Row],[Niveau base]])+5*(SUM(Tableau2[[#This Row],[taille]:[valeur]])+VLOOKUP(Tableau2[[#This Row],[portée]],'valeurs casting'!$J$11:$K$16,2)+VLOOKUP(Tableau2[[#This Row],[durée]],'valeurs casting'!$J$17:$K$24,2)+VLOOKUP(Tableau2[[#This Row],[cible]],'valeurs casting'!$J$25:$K$35,2)),'valeurs casting'!$K$5:$L$9,2),IF(Tableau2[[#This Row],[Niveau base]]<5,VLOOKUP(Tableau2[[#This Row],[Niveau base]],'valeurs casting'!$J$5:$K$9,2),Tableau2[[#This Row],[Niveau base]])+5*(SUM(Tableau2[[#This Row],[taille]:[valeur]])+VLOOKUP(Tableau2[[#This Row],[portée]],'valeurs casting'!$J$11:$K$16,2)+VLOOKUP(Tableau2[[#This Row],[durée]],'valeurs casting'!$J$17:$K$24,2)+VLOOKUP(Tableau2[[#This Row],[cible]],'valeurs casting'!$J$25:$K$35,2))) -> 40 | U18: téléporte un humain à arcane | W18: =IF(Tableau2[[#This Row],[XP mastery]]=0,"",TRUNC((SQRT(8*(Tableau2[[#This Row],[XP mastery]]/5)+1)-1)/2)) -> 2 | X18: 15 | Y18: x | AA18: x | AH18: ='valeurs casting'!$K$2+MIN(VLOOKUP(Tableau2[[#This Row],[Technique]],Tableau1[],3),IF(Tableau2[[#This Row],[req. technique]]="",9999,VLOOKUP(LEFT(Tableau2[[#This Row],[req. technique]],2),Tableau1[],3)),IF(LEN(Tableau2[[#This Row],[req. technique]])<=2,9999,VLOOKUP(LEFT(RIGHT(Tableau2[[#This Row],[req. technique]],-2+LEN(Tableau2[[#This Row],[req. technique]])),2),Tableau1[],3)),IF(LEN(Tableau2[[#This Row],[req. technique]])<=4,9999,VLOOKUP(RIGHT(Tableau2[[#This Row],[req. technique]],-7+LEN(Tableau2[[#This Row],[req. technique]])),Tableau1[],3))) -> 20 | AI18: =MAX(Tableau2[[#This Row],[Bonus talisman bâton 1]:[Bonus talisman dé 5]])+IF(Tableau2[[#This Row],[CT dé applicable?]]<>"",'valeurs casting'!$K$1,0) -> 4 | AJ18: ReCo | AV18: =IF(AJ18<>"",VLOOKUP(AJ18,'valeurs casting'!$E$2:$F$9,2),0) -> 4 | AW18: =IF(AK18<>"",VLOOKUP(AK18,'valeurs casting'!$E$2:$F$9,2),0) -> 0 | AX18: =IF(AL18<>"",VLOOKUP(AL18,'valeurs casting'!$E$2:$F$9,2),0) -> 0 | AY18: =IF(AM18<>"",VLOOKUP(AM18,'valeurs casting'!$E$2:$F$9,2),0) -> 0 | AZ18: =IF(AN18<>"",VLOOKUP(AN18,'valeurs casting'!$E$2:$F$9,2),0) -> 0 | BA18: =IF(AO18<>"",VLOOKUP(AO18,'valeurs casting'!$E$2:$F$9,2),0) -> 0 | BB18: =IF(AP18<>"",VLOOKUP(AP18,'valeurs casting'!$G$2:$H$9,2),0) -> 0 | BC18: =IF(AQ18<>"",VLOOKUP(AQ18,'valeurs casting'!$G$2:$H$9,2),0) -> 0 | BD18: =IF(AR18<>"",VLOOKUP(AR18,'valeurs casting'!$G$2:$H$9,2),0) -> 0 | BE18: =IF(AS18<>"",VLOOKUP(AS18,'valeurs casting'!$G$2:$H$9,2),0) -> 0 | BF18: =IF(AT18<>"",VLOOKUP(AT18,'valeurs casting'!$G$2:$H$9,2),0) -> 0
A19: Eloquence de Cicéron | B19: Cr | D19: Me | F19: =Tableau2[[#This Row],[Technique]]&IF(Tableau2[[#This Row],[req. technique]]<>"","("&Tableau2[[#This Row],[req. technique]]&")","")&Tableau2[[#This Row],[Forme]]&IF(Tableau2[[#This Row],[req. forme]]<>"","("&Tableau2[[#This Row],[req. forme]]&")","") -> CrMe | G19: 60 | H19: 55 | J19: touch | K19: momentané | L19: individu | S19: =IF(IF(Tableau2[[#This Row],[Niveau base]]<5,VLOOKUP(Tableau2[[#This Row],[Niveau base]],'valeurs casting'!$J$5:$K$9,2),Tableau2[[#This Row],[Niveau base]])+5*(SUM(Tableau2[[#This Row],[taille]:[valeur]])+VLOOKUP(Tableau2[[#This Row],[portée]],'valeurs casting'!$J$11:$K$16,2)+VLOOKUP(Tableau2[[#This Row],[durée]],'valeurs casting'!$J$17:$K$24,2)+VLOOKUP(Tableau2[[#This Row],[cible]],'valeurs casting'!$J$25:$K$35,2))<5,VLOOKUP(IF(Tableau2[[#This Row],[Niveau base]]<5,VLOOKUP(Tableau2[[#This Row],[Niveau base]],'valeurs casting'!$J$5:$K$9,2),Tableau2[[#This Row],[Niveau base]])+5*(SUM(Tableau2[[#This Row],[taille]:[valeur]])+VLOOKUP(Tableau2[[#This Row],[portée]],'valeurs casting'!$J$11:$K$16,2)+VLOOKUP(Tableau2[[#This Row],[durée]],'valeurs casting'!$J$17:$K$24,2)+VLOOKUP(Tableau2[[#This Row],[cible]],'valeurs casting'!$J$25:$K$35,2)),'valeurs casting'!$K$5:$L$9,2),IF(Tableau2[[#This Row],[Niveau base]]<5,VLOOKUP(Tableau2[[#This Row],[Niveau base]],'valeurs casting'!$J$5:$K$9,2),Tableau2[[#This Row],[Niveau base]])+5*(SUM(Tableau2[[#This Row],[taille]:[valeur]])+VLOOKUP(Tableau2[[#This Row],[portée]],'valeurs casting'!$J$11:$K$16,2)+VLOOKUP(Tableau2[[#This Row],[durée]],'valeurs casting'!$J$17:$K$24,2)+VLOOKUP(Tableau2[[#This Row],[cible]],'valeurs casting'!$J$25:$K$35,2))) -> 60 | T19: x | U19: augmentation de la communication de 1 point jusqu’à un maximum de 5. | W19: =IF(Tableau2[[#This Row],[XP mastery]]=0,"",TRUNC((SQRT(8*(Tableau2[[#This Row],[XP mastery]]/5)+1)-1)/2)) -> 1 | X19: 5 | AF19: x | AH19: ='valeurs casting'!$K$2+MIN(VLOOKUP(Tableau2[[#This Row],[Technique]],Tableau1[],3),IF(Tableau2[[#This Row],[req. technique]]="",9999,VLOOKUP(LEFT(Tableau2[[#This Row],[req. technique]],2),Tableau1[],3)),IF(LEN(Tableau2[[#This Row],[req. technique]])<=2,9999,VLOOKUP(LEFT(RIGHT(Tableau2[[#This Row],[req. technique]],-2+LEN(Tableau2[[#This Row],[req. technique]])),2),Tableau1[],3)),IF(LEN(Tableau2[[#This Row],[req. technique]])<=4,9999,VLOOKUP(RIGHT(Tableau2[[#This Row],[req. technique]],-7+LEN(Tableau2[[#This Row],[req. technique]])),Tableau1[],3))) -> 27 | AI19: =MAX(Tableau2[[#This Row],[Bonus talisman bâton 1]:[Bonus talisman dé 5]])+IF(Tableau2[[#This Row],[CT dé applicable?]]<>"",'valeurs casting'!$K$1,0) -> 0 | AV19: =IF(AJ19<>"",VLOOKUP(AJ19,'valeurs casting'!$E$2:$F$9,2),0) -> 0 | AW19: =IF(AK19<>"",VLOOKUP(AK19,'valeurs casting'!$E$2:$F$9,2),0) -> 0 | AX19: =IF(AL19<>"",VLOOKUP(AL19,'valeurs casting'!$E$2:$F$9,2),0) -> 0 | AY19: =IF(AM19<>"",VLOOKUP(AM19,'valeurs casting'!$E$2:$F$9,2),0) -> 0 | AZ19: =IF(AN19<>"",VLOOKUP(AN19,'valeurs casting'!$E$2:$F$9,2),0) -> 0 | BA19: =IF(AO19<>"",VLOOKUP(AO19,'valeurs casting'!$E$2:$F$9,2),0) -> 0 | BB19: =IF(AP19<>"",VLOOKUP(AP19,'valeurs casting'!$G$2:$H$9,2),0) -> 0 | BC19: =IF(AQ19<>"",VLOOKUP(AQ19,'valeurs casting'!$G$2:$H$9,2),0) -> 0 | BD19: =IF(AR19<>"",VLOOKUP(AR19,'valeurs casting'!$G$2:$H$9,2),0) -> 0 | BE19: =IF(AS19<>"",VLOOKUP(AS19,'valeurs casting'!$G$2:$H$9,2),0) -> 0 | BF19: =IF(AT19<>"",VLOOKUP(AT19,'valeurs casting'!$G$2:$H$9,2),0) -> 0
A20: Omniperception du mage prudent | B20: Cr | D20: Me | F20: =Tableau2[[#This Row],[Technique]]&IF(Tableau2[[#This Row],[req. technique]]<>"","("&Tableau2[[#This Row],[req. technique]]&")","")&Tableau2[[#This Row],[Forme]]&IF(Tableau2[[#This Row],[req. forme]]<>"","("&Tableau2[[#This Row],[req. forme]]&")","") -> CrMe | G20: 60 | H20: 55 | J20: touch | K20: momentané | L20: individu | S20: =IF(IF(Tableau2[[#This Row],[Niveau base]]<5,VLOOKUP(Tableau2[[#This Row],[Niveau base]],'valeurs casting'!$J$5:$K$9,2),Tableau2[[#This Row],[Niveau base]])+5*(SUM(Tableau2[[#This Row],[taille]:[valeur]])+VLOOKUP(Tableau2[[#This Row],[portée]],'valeurs casting'!$J$11:$K$16,2)+VLOOKUP(Tableau2[[#This Row],[durée]],'valeurs casting'!$J$17:$K$24,2)+VLOOKUP(Tableau2[[#This Row],[cible]],'valeurs casting'!$J$25:$K$35,2))<5,VLOOKUP(IF(Tableau2[[#This Row],[Niveau base]]<5,VLOOKUP(Tableau2[[#This Row],[Niveau base]],'valeurs casting'!$J$5:$K$9,2),Tableau2[[#This Row],[Niveau base]])+5*(SUM(Tableau2[[#This Row],[taille]:[valeur]])+VLOOKUP(Tableau2[[#This Row],[portée]],'valeurs casting'!$J$11:$K$16,2)+VLOOKUP(Tableau2[[#This Row],[durée]],'valeurs casting'!$J$17:$K$24,2)+VLOOKUP(Tableau2[[#This Row],[cible]],'valeurs casting'!$J$25:$K$35,2)),'valeurs casting'!$K$5:$L$9,2),IF(Tableau2[[#This Row],[Niveau base]]<5,VLOOKUP(Tableau2[[#This Row],[Niveau base]],'valeurs casting'!$J$5:$K$9,2),Tableau2[[#This Row],[Niveau base]])+5*(SUM(Tableau2[[#This Row],[taille]:[valeur]])+VLOOKUP(Tableau2[[#This Row],[portée]],'valeurs casting'!$J$11:$K$16,2)+VLOOKUP(Tableau2[[#This Row],[durée]],'valeurs casting'!$J$17:$K$24,2)+VLOOKUP(Tableau2[[#This Row],[cible]],'valeurs casting'!$J$25:$K$35,2))) -> 60 | T20: x | U20: ce sortilège augmente la perception de 1 jusqu’à un maximum de 5. | V20: le coût est de onze pions. | W20: =IF(Tableau2[[#This Row],[XP mastery]]=0,"",TRUNC((SQRT(8*(Tableau2[[#This Row],[XP mastery]]/5)+1)-1)/2)) | AH20: ='valeurs casting'!$K$2+MIN(VLOOKUP(Tableau2[[#This Row],[Technique]],Tableau1[],3),IF(Tableau2[[#This Row],[req. technique]]="",9999,VLOOKUP(LEFT(Tableau2[[#This Row],[req. technique]],2),Tableau1[],3)),IF(LEN(Tableau2[[#This Row],[req. technique]])<=2,9999,VLOOKUP(LEFT(RIGHT(Tableau2[[#This Row],[req. technique]],-2+LEN(Tableau2[[#This Row],[req. technique]])),2),Tableau1[],3)),IF(LEN(Tableau2[[#This Row],[req. technique]])<=4,9999,VLOOKUP(RIGHT(Tableau2[[#This Row],[req. technique]],-7+LEN(Tableau2[[#This Row],[req. technique]])),Tableau1[],3))) -> 27 | AI20: =MAX(Tableau2[[#This Row],[Bonus talisman bâton 1]:[Bonus talisman dé 5]])+IF(Tableau2[[#This Row],[CT dé applicable?]]<>"",'valeurs casting'!$K$1,0) -> 0 | AV20: =IF(AJ20<>"",VLOOKUP(AJ20,'valeurs casting'!$E$2:$F$9,2),0) -> 0 | AW20: =IF(AK20<>"",VLOOKUP(AK20,'valeurs casting'!$E$2:$F$9,2),0) -> 0 | AX20: =IF(AL20<>"",VLOOKUP(AL20,'valeurs casting'!$E$2:$F$9,2),0) -> 0 | AY20: =IF(AM20<>"",VLOOKUP(AM20,'valeurs casting'!$E$2:$F$9,2),0) -> 0 | AZ20: =IF(AN20<>"",VLOOKUP(AN20,'valeurs casting'!$E$2:$F$9,2),0) -> 0 | BA20: =IF(AO20<>"",VLOOKUP(AO20,'valeurs casting'!$E$2:$F$9,2),0) -> 0 | BB20: =IF(AP20<>"",VLOOKUP(AP20,'valeurs casting'!$G$2:$H$9,2),0) -> 0 | BC20: =IF(AQ20<>"",VLOOKUP(AQ20,'valeurs casting'!$G$2:$H$9,2),0) -> 0 | BD20: =IF(AR20<>"",VLOOKUP(AR20,'valeurs casting'!$G$2:$H$9,2),0) -> 0 | BE20: =IF(AS20<>"",VLOOKUP(AS20,'valeurs casting'!$G$2:$H$9,2),0) -> 0 | BF20: =IF(AT20<>"",VLOOKUP(AT20,'valeurs casting'!$G$2:$H$9,2),0) -> 0
A21: Ne te souviens pas l’été dernier | B21: Pe | D21: Me | F21: =Tableau2[[#This Row],[Technique]]&IF(Tableau2[[#This Row],[req. technique]]<>"","("&Tableau2[[#This Row],[req. technique]]&")","")&Tableau2[[#This Row],[Forme]]&IF(Tableau2[[#This Row],[req. forme]]<>"","("&Tableau2[[#This Row],[req. forme]]&")","") -> PeMe | G21: 20 | H21: 15 | J21: touch | K21: momentané | L21: individu | S21: =IF(IF(Tableau2[[#This Row],[Niveau base]]<5,VLOOKUP(Tableau2[[#This Row],[Niveau base]],'valeurs casting'!$J$5:$K$9,2),Tableau2[[#This Row],[Niveau base]])+5*(SUM(Tableau2[[#This Row],[taille]:[valeur]])+VLOOKUP(Tableau2[[#This Row],[portée]],'valeurs casting'!$J$11:$K$16,2)+VLOOKUP(Tableau2[[#This Row],[durée]],'valeurs casting'!$J$17:$K$24,2)+VLOOKUP(Tableau2[[#This Row],[cible]],'valeurs casting'!$J$25:$K$35,2))<5,VLOOKUP(IF(Tableau2[[#This Row],[Niveau base]]<5,VLOOKUP(Tableau2[[#This Row],[Niveau base]],'valeurs casting'!$J$5:$K$9,2),Tableau2[[#This Row],[Niveau base]])+5*(SUM(Tableau2[[#This Row],[taille]:[valeur]])+VLOOKUP(Tableau2[[#This Row],[portée]],'valeurs casting'!$J$11:$K$16,2)+VLOOKUP(Tableau2[[#This Row],[durée]],'valeurs casting'!$J$17:$K$24,2)+VLOOKUP(Tableau2[[#This Row],[cible]],'valeurs casting'!$J$25:$K$35,2)),'valeurs casting'!$K$5:$L$9,2),IF(Tableau2[[#This Row],[Niveau base]]<5,VLOOKUP(Tableau2[[#This Row],[Niveau base]],'valeurs casting'!$J$5:$K$9,2),Tableau2[[#This Row],[Niveau base]])+5*(SUM(Tableau2[[#This Row],[taille]:[valeur]])+VLOOKUP(Tableau2[[#This Row],[portée]],'valeurs casting'!$J$11:$K$16,2)+VLOOKUP(Tableau2[[#This Row],[durée]],'valeurs casting'!$J$17:$K$24,2)+VLOOKUP(Tableau2[[#This Row],[cible]],'valeurs casting'!$J$25:$K$35,2))) -> 20 | U21: ce sortilège efface un souvenir long relatif à une série d’événements | W21: =IF(Tableau2[[#This Row],[XP mastery]]=0,"",TRUNC((SQRT(8*(Tableau2[[#This Row],[XP mastery]]/5)+1)-1)/2)) -> 1 | X21: 7 | AC21: x | AH21: ='valeurs casting'!$K$2+MIN(VLOOKUP(Tableau2[[#This Row],[Technique]],Tableau1[],3),IF(Tableau2[[#This Row],[req. technique]]="",9999,VLOOKUP(LEFT(Tableau2[[#This Row],[req. technique]],2),Tableau1[],3)),IF(LEN(Tableau2[[#This Row],[req. technique]])<=2,9999,VLOOKUP(LEFT(RIGHT(Tableau2[[#This Row],[req. technique]],-2+LEN(Tableau2[[#This Row],[req. technique]])),2),Tableau1[],3)),IF(LEN(Tableau2[[#This Row],[req. technique]])<=4,9999,VLOOKUP(RIGHT(Tableau2[[#This Row],[req. technique]],-7+LEN(Tableau2[[#This Row],[req. technique]])),Tableau1[],3))) -> 13 | AI21: =MAX(Tableau2[[#This Row],[Bonus talisman bâton 1]:[Bonus talisman dé 5]])+IF(Tableau2[[#This Row],[CT dé applicable?]]<>"",'valeurs casting'!$K$1,0) -> 4 | AJ21: destroy things | AV21: =IF(AJ21<>"",VLOOKUP(AJ21,'valeurs casting'!$E$2:$F$9,2),0) -> 4 | AW21: =IF(AK21<>"",VLOOKUP(AK21,'valeurs casting'!$E$2:$F$9,2),0) -> 0 | AX21: =IF(AL21<>"",VLOOKUP(AL21,'valeurs casting'!$E$2:$F$9,2),0) -> 0 | AY21: =IF(AM21<>"",VLOOKUP(AM21,'valeurs casting'!$E$2:$F$9,2),0) -> 0 | AZ21: =IF(AN21<>"",VLOOKUP(AN21,'valeurs casting'!$E$2:$F$9,2),0) -> 0 | BA21: =IF(AO21<>"",VLOOKUP(AO21,'valeurs casting'!$E$2:$F$9,2),0) -> 0 | BB21: =IF(AP21<>"",VLOOKUP(AP21,'valeurs casting'!$G$2:$H$9,2),0) -> 0 | BC21: =IF(AQ21<>"",VLOOKUP(AQ21,'valeurs casting'!$G$2:$H$9,2),0) -> 0 | BD21: =IF(AR21<>"",VLOOKUP(AR21,'valeurs casting'!$G$2:$H$9,2),0) -> 0 | BE21: =IF(AS21<>"",VLOOKUP(AS21,'valeurs casting'!$G$2:$H$9,2),0) -> 0 | BF21: =IF(AT21<>"",VLOOKUP(AT21,'valeurs casting'!$G$2:$H$9,2),0) -> 0
A22: Création de vis | B22: Cr | D22: Vi | F22: =Tableau2[[#This Row],[Technique]]&IF(Tableau2[[#This Row],[req. technique]]<>"","("&Tableau2[[#This Row],[req. technique]]&")","")&Tableau2[[#This Row],[Forme]]&IF(Tableau2[[#This Row],[req. forme]]<>"","("&Tableau2[[#This Row],[req. forme]]&")","") -> CrVi | G22: 30 | H22: 25 | J22: touch | K22: momentané | L22: individu | S22: =IF(IF(Tableau2[[#This Row],[Niveau base]]<5,VLOOKUP(Tableau2[[#This Row],[Niveau base]],'valeurs casting'!$J$5:$K$9,2),Tableau2[[#This Row],[Niveau base]])+5*(SUM(Tableau2[[#This Row],[taille]:[valeur]])+VLOOKUP(Tableau2[[#This Row],[portée]],'valeurs casting'!$J$11:$K$16,2)+VLOOKUP(Tableau2[[#This Row],[durée]],'valeurs casting'!$J$17:$K$24,2)+VLOOKUP(Tableau2[[#This Row],[cible]],'valeurs casting'!$J$25:$K$35,2))<5,VLOOKUP(IF(Tableau2[[#This Row],[Niveau base]]<5,VLOOKUP(Tableau2[[#This Row],[Niveau base]],'valeurs casting'!$J$5:$K$9,2),Tableau2[[#This Row],[Niveau base]])+5*(SUM(Tableau2[[#This Row],[taille]:[valeur]])+VLOOKUP(Tableau2[[#This Row],[portée]],'valeurs casting'!$J$11:$K$16,2)+VLOOKUP(Tableau2[[#This Row],[durée]],'valeurs casting'!$J$17:$K$24,2)+VLOOKUP(Tableau2[[#This Row],[cible]],'valeurs casting'!$J$25:$K$35,2)),'valeurs casting'!$K$5:$L$9,2),IF(Tableau2[[#This Row],[Niveau base]]<5,VLOOKUP(Tableau2[[#This Row],[Niveau base]],'valeurs casting'!$J$5:$K$9,2),Tableau2[[#This Row],[Niveau base]])+5*(SUM(Tableau2[[#This Row],[taille]:[valeur]])+VLOOKUP(Tableau2[[#This Row],[portée]],'valeurs casting'!$J$11:$K$16,2)+VLOOKUP(Tableau2[[#This Row],[durée]],'valeurs casting'!$J$17:$K$24,2)+VLOOKUP(Tableau2[[#This Row],[cible]],'valeurs casting'!$J$25:$K$35,2))) -> 30 | U22: donne 5 points de warping | W22: =IF(Tableau2[[#This Row],[XP mastery]]=0,"",TRUNC((SQRT(8*(Tableau2[[#This Row],[XP mastery]]/5)+1)-1)/2)) | AH22: ='valeurs casting'!$K$2+MIN(VLOOKUP(Tableau2[[#This Row],[Technique]],Tableau1[],3),IF(Tableau2[[#This Row],[req. technique]]="",9999,VLOOKUP(LEFT(Tableau2[[#This Row],[req. technique]],2),Tableau1[],3)),IF(LEN(Tableau2[[#This Row],[req. technique]])<=2,9999,VLOOKUP(LEFT(RIGHT(Tableau2[[#This Row],[req. technique]],-2+LEN(Tableau2[[#This Row],[req. technique]])),2),Tableau1[],3)),IF(LEN(Tableau2[[#This Row],[req. technique]])<=4,9999,VLOOKUP(RIGHT(Tableau2[[#This Row],[req. technique]],-7+LEN(Tableau2[[#This Row],[req. technique]])),Tableau1[],3))) -> 27 | AI22: =MAX(Tableau2[[#This Row],[Bonus talisman bâton 1]:[Bonus talisman dé 5]])+IF(Tableau2[[#This Row],[CT dé applicable?]]<>"",'valeurs casting'!$K$1,0) -> 0 | AV22: =IF(AJ22<>"",VLOOKUP(AJ22,'valeurs casting'!$E$2:$F$9,2),0) -> 0 | AW22: =IF(AK22<>"",VLOOKUP(AK22,'valeurs casting'!$E$2:$F$9,2),0) -> 0 | AX22: =IF(AL22<>"",VLOOKUP(AL22,'valeurs casting'!$E$2:$F$9,2),0) -> 0 | AY22: =IF(AM22<>"",VLOOKUP(AM22,'valeurs casting'!$E$2:$F$9,2),0) -> 0 | AZ22: =IF(AN22<>"",VLOOKUP(AN22,'valeurs casting'!$E$2:$F$9,2),0) -> 0 | BA22: =IF(AO22<>"",VLOOKUP(AO22,'valeurs casting'!$E$2:$F$9,2),0) -> 0 | BB22: =IF(AP22<>"",VLOOKUP(AP22,'valeurs casting'!$G$2:$H$9,2),0) -> 0 | BC22: =IF(AQ22<>"",VLOOKUP(AQ22,'valeurs casting'!$G$2:$H$9,2),0) -> 0 | BD22: =IF(AR22<>"",VLOOKUP(AR22,'valeurs casting'!$G$2:$H$9,2),0) -> 0 | BE22: =IF(AS22<>"",VLOOKUP(AS22,'valeurs casting'!$G$2:$H$9,2),0) -> 0 | BF22: =IF(AT22<>"",VLOOKUP(AT22,'valeurs casting'!$G$2:$H$9,2),0) -> 0
A23: Wizard’s communion | B23: Mu | D23: Vi | F23: =Tableau2[[#This Row],[Technique]]&IF(Tableau2[[#This Row],[req. technique]]<>"","("&Tableau2[[#This Row],[req. technique]]&")","")&Tableau2[[#This Row],[Forme]]&IF(Tableau2[[#This Row],[req. forme]]<>"","("&Tableau2[[#This Row],[req. forme]]&")","") -> MuVi | G23: 5 | H23: 1 | J23: voice | K23: momentané | L23: group | S23: =IF(IF(Tableau2[[#This Row],[Niveau base]]<5,VLOOKUP(Tableau2[[#This Row],[Niveau base]],'valeurs casting'!$J$5:$K$9,2),Tableau2[[#This Row],[Niveau base]])+5*(SUM(Tableau2[[#This Row],[taille]:[valeur]])+VLOOKUP(Tableau2[[#This Row],[portée]],'valeurs casting'!$J$11:$K$16,2)+VLOOKUP(Tableau2[[#This Row],[durée]],'valeurs casting'!$J$17:$K$24,2)+VLOOKUP(Tableau2[[#This Row],[cible]],'valeurs casting'!$J$25:$K$35,2))<5,VLOOKUP(IF(Tableau2[[#This Row],[Niveau base]]<5,VLOOKUP(Tableau2[[#This Row],[Niveau base]],'valeurs casting'!$J$5:$K$9,2),Tableau2[[#This Row],[Niveau base]])+5*(SUM(Tableau2[[#This Row],[taille]:[valeur]])+VLOOKUP(Tableau2[[#This Row],[portée]],'valeurs casting'!$J$11:$K$16,2)+VLOOKUP(Tableau2[[#This Row],[durée]],'valeurs casting'!$J$17:$K$24,2)+VLOOKUP(Tableau2[[#This Row],[cible]],'valeurs casting'!$J$25:$K$35,2)),'valeurs casting'!$K$5:$L$9,2),IF(Tableau2[[#This Row],[Niveau base]]<5,VLOOKUP(Tableau2[[#This Row],[Niveau base]],'valeurs casting'!$J$5:$K$9,2),Tableau2[[#This Row],[Niveau base]])+5*(SUM(Tableau2[[#This Row],[taille]:[valeur]])+VLOOKUP(Tableau2[[#This Row],[portée]],'valeurs casting'!$J$11:$K$16,2)+VLOOKUP(Tableau2[[#This Row],[durée]],'valeurs casting'!$J$17:$K$24,2)+VLOOKUP(Tableau2[[#This Row],[cible]],'valeurs casting'!$J$25:$K$35,2))) -> 5 | U23: ArM5 p160 | W23: =IF(Tableau2[[#This Row],[XP mastery]]=0,"",TRUNC((SQRT(8*(Tableau2[[#This Row],[XP mastery]]/5)+1)-1)/2)) | AH23: ='valeurs casting'!$K$2+MIN(VLOOKUP(Tableau2[[#This Row],[Technique]],Tableau1[],3),IF(Tableau2[[#This Row],[req. technique]]="",9999,VLOOKUP(LEFT(Tableau2[[#This Row],[req. technique]],2),Tableau1[],3)),IF(LEN(Tableau2[[#This Row],[req. technique]])<=2,9999,VLOOKUP(LEFT(RIGHT(Tableau2[[#This Row],[req. technique]],-2+LEN(Tableau2[[#This Row],[req. technique]])),2),Tableau1[],3)),IF(LEN(Tableau2[[#This Row],[req. technique]])<=4,9999,VLOOKUP(RIGHT(Tableau2[[#This Row],[req. technique]],-7+LEN(Tableau2[[#This Row],[req. technique]])),Tableau1[],3))) -> 15 | AI23: =MAX(Tableau2[[#This Row],[Bonus talisman bâton 1]:[Bonus talisman dé 5]])+IF(Tableau2[[#This Row],[CT dé applicable?]]<>"",'valeurs casting'!$K$1,0) -> 5 | AJ23: Mu | AV23: =IF(AJ23<>"",VLOOKUP(AJ23,'valeurs casting'!$E$2:$F$9,2),0) -> 5 | AW23: =IF(AK23<>"",VLOOKUP(AK23,'valeurs casting'!$E$2:$F$9,2),0) -> 0 | AX23: =IF(AL23<>"",VLOOKUP(AL23,'valeurs casting'!$E$2:$F$9,2),0) -> 0 | AY23: =IF(AM23<>"",VLOOKUP(AM23,'valeurs casting'!$E$2:$F$9,2),0) -> 0 | AZ23: =IF(AN23<>"",VLOOKUP(AN23,'valeurs casting'!$E$2:$F$9,2),0) -> 0 | BA23: =IF(AO23<>"",VLOOKUP(AO23,'valeurs casting'!$E$2:$F$9,2),0) -> 0 | BB23: =IF(AP23<>"",VLOOKUP(AP23,'valeurs casting'!$G$2:$H$9,2),0) -> 0 | BC23: =IF(AQ23<>"",VLOOKUP(AQ23,'valeurs casting'!$G$2:$H$9,2),0) -> 0 | BD23: =IF(AR23<>"",VLOOKUP(AR23,'valeurs casting'!$G$2:$H$9,2),0) -> 0 | BE23: =IF(AS23<>"",VLOOKUP(AS23,'valeurs casting'!$G$2:$H$9,2),0) -> 0 | BF23: =IF(AT23<>"",VLOOKUP(AT23,'valeurs casting'!$G$2:$H$9,2),0) -> 0
A24: Shroud magic | B24: Mu | D24: Vi | F24: =Tableau2[[#This Row],[Technique]]&IF(Tableau2[[#This Row],[req. technique]]<>"","("&Tableau2[[#This Row],[req. technique]]&")","")&Tableau2[[#This Row],[Forme]]&IF(Tableau2[[#This Row],[req. forme]]<>"","("&Tableau2[[#This Row],[req. forme]]&")","") -> MuVi | G24: 25 | H24: 20 | J24: touch | K24: momentané | L24: individu | S24: =IF(IF(Tableau2[[#This Row],[Niveau base]]<5,VLOOKUP(Tableau2[[#This Row],[Niveau base]],'valeurs casting'!$J$5:$K$9,2),Tableau2[[#This Row],[Niveau base]])+5*(SUM(Tableau2[[#This Row],[taille]:[valeur]])+VLOOKUP(Tableau2[[#This Row],[portée]],'valeurs casting'!$J$11:$K$16,2)+VLOOKUP(Tableau2[[#This Row],[durée]],'valeurs casting'!$J$17:$K$24,2)+VLOOKUP(Tableau2[[#This Row],[cible]],'valeurs casting'!$J$25:$K$35,2))<5,VLOOKUP(IF(Tableau2[[#This Row],[Niveau base]]<5,VLOOKUP(Tableau2[[#This Row],[Niveau base]],'valeurs casting'!$J$5:$K$9,2),Tableau2[[#This Row],[Niveau base]])+5*(SUM(Tableau2[[#This Row],[taille]:[valeur]])+VLOOKUP(Tableau2[[#This Row],[portée]],'valeurs casting'!$J$11:$K$16,2)+VLOOKUP(Tableau2[[#This Row],[durée]],'valeurs casting'!$J$17:$K$24,2)+VLOOKUP(Tableau2[[#This Row],[cible]],'valeurs casting'!$J$25:$K$35,2)),'valeurs casting'!$K$5:$L$9,2),IF(Tableau2[[#This Row],[Niveau base]]<5,VLOOKUP(Tableau2[[#This Row],[Niveau base]],'valeurs casting'!$J$5:$K$9,2),Tableau2[[#This Row],[Niveau base]])+5*(SUM(Tableau2[[#This Row],[taille]:[valeur]])+VLOOKUP(Tableau2[[#This Row],[portée]],'valeurs casting'!$J$11:$K$16,2)+VLOOKUP(Tableau2[[#This Row],[durée]],'valeurs casting'!$J$17:$K$24,2)+VLOOKUP(Tableau2[[#This Row],[cible]],'valeurs casting'!$J$25:$K$35,2))) -> 25 | U24: affecte un sort de niveau 50 au maximum. | W24: =IF(Tableau2[[#This Row],[XP mastery]]=0,"",TRUNC((SQRT(8*(Tableau2[[#This Row],[XP mastery]]/5)+1)-1)/2)) | AH24: ='valeurs casting'!$K$2+MIN(VLOOKUP(Tableau2[[#This Row],[Technique]],Tableau1[],3),IF(Tableau2[[#This Row],[req. technique]]="",9999,VLOOKUP(LEFT(Tableau2[[#This Row],[req. technique]],2),Tableau1[],3)),IF(LEN(Tableau2[[#This Row],[req. technique]])<=2,9999,VLOOKUP(LEFT(RIGHT(Tableau2[[#This Row],[req. technique]],-2+LEN(Tableau2[[#This Row],[req. technique]])),2),Tableau1[],3)),IF(LEN(Tableau2[[#This Row],[req. technique]])<=4,9999,VLOOKUP(RIGHT(Tableau2[[#This Row],[req. technique]],-7+LEN(Tableau2[[#This Row],[req. technique]])),Tableau1[],3))) -> 15 | AI24: =MAX(Tableau2[[#This Row],[Bonus talisman bâton 1]:[Bonus talisman dé 5]])+IF(Tableau2[[#This Row],[CT dé applicable?]]<>"",'valeurs casting'!$K$1,0) -> 5 | AJ24: Mu | AV24: =IF(AJ24<>"",VLOOKUP(AJ24,'valeurs casting'!$E$2:$F$9,2),0) -> 5 | AW24: =IF(AK24<>"",VLOOKUP(AK24,'valeurs casting'!$E$2:$F$9,2),0) -> 0 | AX24: =IF(AL24<>"",VLOOKUP(AL24,'valeurs casting'!$E$2:$F$9,2),0) -> 0 | AY24: =IF(AM24<>"",VLOOKUP(AM24,'valeurs casting'!$E$2:$F$9,2),0) -> 0 | AZ24: =IF(AN24<>"",VLOOKUP(AN24,'valeurs casting'!$E$2:$F$9,2),0) -> 0 | BA24: =IF(AO24<>"",VLOOKUP(AO24,'valeurs casting'!$E$2:$F$9,2),0) -> 0 | BB24: =IF(AP24<>"",VLOOKUP(AP24,'valeurs casting'!$G$2:$H$9,2),0) -> 0 | BC24: =IF(AQ24<>"",VLOOKUP(AQ24,'valeurs casting'!$G$2:$H$9,2),0) -> 0 | BD24: =IF(AR24<>"",VLOOKUP(AR24,'valeurs casting'!$G$2:$H$9,2),0) -> 0 | BE24: =IF(AS24<>"",VLOOKUP(AS24,'valeurs casting'!$G$2:$H$9,2),0) -> 0 | BF24: =IF(AT24<>"",VLOOKUP(AT24,'valeurs casting'!$G$2:$H$9,2),0) -> 0
A25: La déflection des coups de Razal Wauke (Vim) | B25: Mu | D25: Vi | F25: =Tableau2[[#This Row],[Technique]]&IF(Tableau2[[#This Row],[req. technique]]<>"","("&Tableau2[[#This Row],[req. technique]]&")","")&Tableau2[[#This Row],[Forme]]&IF(Tableau2[[#This Row],[req. forme]]<>"","("&Tableau2[[#This Row],[req. forme]]&")","") -> MuVi | G25: 30 | H25: 25 | J25: touch | K25: momentané | L25: individu | S25: =IF(IF(Tableau2[[#This Row],[Niveau base]]<5,VLOOKUP(Tableau2[[#This Row],[Niveau base]],'valeurs casting'!$J$5:$K$9,2),Tableau2[[#This Row],[Niveau base]])+5*(SUM(Tableau2[[#This Row],[taille]:[valeur]])+VLOOKUP(Tableau2[[#This Row],[portée]],'valeurs casting'!$J$11:$K$16,2)+VLOOKUP(Tableau2[[#This Row],[durée]],'valeurs casting'!$J$17:$K$24,2)+VLOOKUP(Tableau2[[#This Row],[cible]],'valeurs casting'!$J$25:$K$35,2))<5,VLOOKUP(IF(Tableau2[[#This Row],[Niveau base]]<5,VLOOKUP(Tableau2[[#This Row],[Niveau base]],'valeurs casting'!$J$5:$K$9,2),Tableau2[[#This Row],[Niveau base]])+5*(SUM(Tableau2[[#This Row],[taille]:[valeur]])+VLOOKUP(Tableau2[[#This Row],[portée]],'valeurs casting'!$J$11:$K$16,2)+VLOOKUP(Tableau2[[#This Row],[durée]],'valeurs casting'!$J$17:$K$24,2)+VLOOKUP(Tableau2[[#This Row],[cible]],'valeurs casting'!$J$25:$K$35,2)),'valeurs casting'!$K$5:$L$9,2),IF(Tableau2[[#This Row],[Niveau base]]<5,VLOOKUP(Tableau2[[#This Row],[Niveau base]],'valeurs casting'!$J$5:$K$9,2),Tableau2[[#This Row],[Niveau base]])+5*(SUM(Tableau2[[#This Row],[taille]:[valeur]])+VLOOKUP(Tableau2[[#This Row],[portée]],'valeurs casting'!$J$11:$K$16,2)+VLOOKUP(Tableau2[[#This Row],[durée]],'valeurs casting'!$J$17:$K$24,2)+VLOOKUP(Tableau2[[#This Row],[cible]],'valeurs casting'!$J$25:$K$35,2))) -> 30 | U25: ce sort transforme un sort Vim de niveau 15 ou inférieur en un sort de [ce niveau +10] maximum de type ward. Par exemple en ward contre les humains, ReCo 25 (base 15, pers sun). La pénétration du sort changé est seule prise en compte. Requiert un jet de concentration à 9+ pour réussir. | W25: =IF(Tableau2[[#This Row],[XP mastery]]=0,"",TRUNC((SQRT(8*(Tableau2[[#This Row],[XP mastery]]/5)+1)-1)/2)) | AH25: ='valeurs casting'!$K$2+MIN(VLOOKUP(Tableau2[[#This Row],[Technique]],Tableau1[],3),IF(Tableau2[[#This Row],[req. technique]]="",9999,VLOOKUP(LEFT(Tableau2[[#This Row],[req. technique]],2),Tableau1[],3)),IF(LEN(Tableau2[[#This Row],[req. technique]])<=2,9999,VLOOKUP(LEFT(RIGHT(Tableau2[[#This Row],[req. technique]],-2+LEN(Tableau2[[#This Row],[req. technique]])),2),Tableau1[],3)),IF(LEN(Tableau2[[#This Row],[req. technique]])<=4,9999,VLOOKUP(RIGHT(Tableau2[[#This Row],[req. technique]],-7+LEN(Tableau2[[#This Row],[req. technique]])),Tableau1[],3))) -> 15 | AI25: =MAX(Tableau2[[#This Row],[Bonus talisman bâton 1]:[Bonus talisman dé 5]])+IF(Tableau2[[#This Row],[CT dé applicable?]]<>"",'valeurs casting'!$K$1,0) -> 5 | AJ25: Mu | AV25: =IF(AJ25<>"",VLOOKUP(AJ25,'valeurs casting'!$E$2:$F$9,2),0) -> 5 | AW25: =IF(AK25<>"",VLOOKUP(AK25,'valeurs casting'!$E$2:$F$9,2),0) -> 0 | AX25: =IF(AL25<>"",VLOOKUP(AL25,'valeurs casting'!$E$2:$F$9,2),0) -> 0 | AY25: =IF(AM25<>"",VLOOKUP(AM25,'valeurs casting'!$E$2:$F$9,2),0) -> 0 | AZ25: =IF(AN25<>"",VLOOKUP(AN25,'valeurs casting'!$E$2:$F$9,2),0) -> 0 | BA25: =IF(AO25<>"",VLOOKUP(AO25,'valeurs casting'!$E$2:$F$9,2),0) -> 0 | BB25: =IF(AP25<>"",VLOOKUP(AP25,'valeurs casting'!$G$2:$H$9,2),0) -> 0 | BC25: =IF(AQ25<>"",VLOOKUP(AQ25,'valeurs casting'!$G$2:$H$9,2),0) -> 0 | BD25: =IF(AR25<>"",VLOOKUP(AR25,'valeurs casting'!$G$2:$H$9,2),0) -> 0 | BE25: =IF(AS25<>"",VLOOKUP(AS25,'valeurs casting'!$G$2:$H$9,2),0) -> 0 | BF25: =IF(AT25<>"",VLOOKUP(AT25,'valeurs casting'!$G$2:$H$9,2),0) -> 0
A26: Demon’s eternal oblivion | B26: Pe | D26: Vi | F26: =Tableau2[[#This Row],[Technique]]&IF(Tableau2[[#This Row],[req. technique]]<>"","("&Tableau2[[#This Row],[req. technique]]&")","")&Tableau2[[#This Row],[Forme]]&IF(Tableau2[[#This Row],[req. forme]]<>"","("&Tableau2[[#This Row],[req. forme]]&")","") -> PeVi | G26: 5 | H26: 3 | J26: voice | K26: momentané | L26: individu | S26: =IF(IF(Tableau2[[#This Row],[Niveau base]]<5,VLOOKUP(Tableau2[[#This Row],[Niveau base]],'valeurs casting'!$J$5:$K$9,2),Tableau2[[#This Row],[Niveau base]])+5*(SUM(Tableau2[[#This Row],[taille]:[valeur]])+VLOOKUP(Tableau2[[#This Row],[portée]],'valeurs casting'!$J$11:$K$16,2)+VLOOKUP(Tableau2[[#This Row],[durée]],'valeurs casting'!$J$17:$K$24,2)+VLOOKUP(Tableau2[[#This Row],[cible]],'valeurs casting'!$J$25:$K$35,2))<5,VLOOKUP(IF(Tableau2[[#This Row],[Niveau base]]<5,VLOOKUP(Tableau2[[#This Row],[Niveau base]],'valeurs casting'!$J$5:$K$9,2),Tableau2[[#This Row],[Niveau base]])+5*(SUM(Tableau2[[#This Row],[taille]:[valeur]])+VLOOKUP(Tableau2[[#This Row],[portée]],'valeurs casting'!$J$11:$K$16,2)+VLOOKUP(Tableau2[[#This Row],[durée]],'valeurs casting'!$J$17:$K$24,2)+VLOOKUP(Tableau2[[#This Row],[cible]],'valeurs casting'!$J$25:$K$35,2)),'valeurs casting'!$K$5:$L$9,2),IF(Tableau2[[#This Row],[Niveau base]]<5,VLOOKUP(Tableau2[[#This Row],[Niveau base]],'valeurs casting'!$J$5:$K$9,2),Tableau2[[#This Row],[Niveau base]])+5*(SUM(Tableau2[[#This Row],[taille]:[valeur]])+VLOOKUP(Tableau2[[#This Row],[portée]],'valeurs casting'!$J$11:$K$16,2)+VLOOKUP(Tableau2[[#This Row],[durée]],'valeurs casting'!$J$17:$K$24,2)+VLOOKUP(Tableau2[[#This Row],[cible]],'valeurs casting'!$J$25:$K$35,2))) -> 5 | U26: détruit 3 points de might infernaux. | W26: =IF(Tableau2[[#This Row],[XP mastery]]=0,"",TRUNC((SQRT(8*(Tableau2[[#This Row],[XP mastery]]/5)+1)-1)/2)) | AH26: ='valeurs casting'!$K$2+MIN(VLOOKUP(Tableau2[[#This Row],[Technique]],Tableau1[],3),IF(Tableau2[[#This Row],[req. technique]]="",9999,VLOOKUP(LEFT(Tableau2[[#This Row],[req. technique]],2),Tableau1[],3)),IF(LEN(Tableau2[[#This Row],[req. technique]])<=2,9999,VLOOKUP(LEFT(RIGHT(Tableau2[[#This Row],[req. technique]],-2+LEN(Tableau2[[#This Row],[req. technique]])),2),Tableau1[],3)),IF(LEN(Tableau2[[#This Row],[req. technique]])<=4,9999,VLOOKUP(RIGHT(Tableau2[[#This Row],[req. technique]],-7+LEN(Tableau2[[#This Row],[req. technique]])),Tableau1[],3))) -> 13 | AI26: =MAX(Tableau2[[#This Row],[Bonus talisman bâton 1]:[Bonus talisman dé 5]])+IF(Tableau2[[#This Row],[CT dé applicable?]]<>"",'valeurs casting'!$K$1,0) -> 4 | AJ26: destroy things | AV26: =IF(AJ26<>"",VLOOKUP(AJ26,'valeurs casting'!$E$2:$F$9,2),0) -> 4 | AW26: =IF(AK26<>"",VLOOKUP(AK26,'valeurs casting'!$E$2:$F$9,2),0) -> 0 | AX26: =IF(AL26<>"",VLOOKUP(AL26,'valeurs casting'!$E$2:$F$9,2),0) -> 0 | AY26: =IF(AM26<>"",VLOOKUP(AM26,'valeurs casting'!$E$2:$F$9,2),0) -> 0 | AZ26: =IF(AN26<>"",VLOOKUP(AN26,'valeurs casting'!$E$2:$F$9,2),0) -> 0 | BA26: =IF(AO26<>"",VLOOKUP(AO26,'valeurs casting'!$E$2:$F$9,2),0) -> 0 | BB26: =IF(AP26<>"",VLOOKUP(AP26,'valeurs casting'!$G$2:$H$9,2),0) -> 0 | BC26: =IF(AQ26<>"",VLOOKUP(AQ26,'valeurs casting'!$G$2:$H$9,2),0) -> 0 | BD26: =IF(AR26<>"",VLOOKUP(AR26,'valeurs casting'!$G$2:$H$9,2),0) -> 0 | BE26: =IF(AS26<>"",VLOOKUP(AS26,'valeurs casting'!$G$2:$H$9,2),0) -> 0 | BF26: =IF(AT26<>"",VLOOKUP(AT26,'valeurs casting'!$G$2:$H$9,2),0) -> 0
A27: Dragon’s eternal oblivion | B27: Pe | D27: Vi | F27: =Tableau2[[#This Row],[Technique]]&IF(Tableau2[[#This Row],[req. technique]]<>"","("&Tableau2[[#This Row],[req. technique]]&")","")&Tableau2[[#This Row],[Forme]]&IF(Tableau2[[#This Row],[req. forme]]<>"","("&Tableau2[[#This Row],[req. forme]]&")","") -> PeVi | G27: 5 | H27: 3 | J27: voice | K27: momentané | L27: individu | S27: =IF(IF(Tableau2[[#This Row],[Niveau base]]<5,VLOOKUP(Tableau2[[#This Row],[Niveau base]],'valeurs casting'!$J$5:$K$9,2),Tableau2[[#This Row],[Niveau base]])+5*(SUM(Tableau2[[#This Row],[taille]:[valeur]])+VLOOKUP(Tableau2[[#This Row],[portée]],'valeurs casting'!$J$11:$K$16,2)+VLOOKUP(Tableau2[[#This Row],[durée]],'valeurs casting'!$J$17:$K$24,2)+VLOOKUP(Tableau2[[#This Row],[cible]],'valeurs casting'!$J$25:$K$35,2))<5,VLOOKUP(IF(Tableau2[[#This Row],[Niveau base]]<5,VLOOKUP(Tableau2[[#This Row],[Niveau base]],'valeurs casting'!$J$5:$K$9,2),Tableau2[[#This Row],[Niveau base]])+5*(SUM(Tableau2[[#This Row],[taille]:[valeur]])+VLOOKUP(Tableau2[[#This Row],[portée]],'valeurs casting'!$J$11:$K$16,2)+VLOOKUP(Tableau2[[#This Row],[durée]],'valeurs casting'!$J$17:$K$24,2)+VLOOKUP(Tableau2[[#This Row],[cible]],'valeurs casting'!$J$25:$K$35,2)),'valeurs casting'!$K$5:$L$9,2),IF(Tableau2[[#This Row],[Niveau base]]<5,VLOOKUP(Tableau2[[#This Row],[Niveau base]],'valeurs casting'!$J$5:$K$9,2),Tableau2[[#This Row],[Niveau base]])+5*(SUM(Tableau2[[#This Row],[taille]:[valeur]])+VLOOKUP(Tableau2[[#This Row],[portée]],'valeurs casting'!$J$11:$K$16,2)+VLOOKUP(Tableau2[[#This Row],[durée]],'valeurs casting'!$J$17:$K$24,2)+VLOOKUP(Tableau2[[#This Row],[cible]],'valeurs casting'!$J$25:$K$35,2))) -> 5 | U27: détruit 3 points de might magiques. | W27: =IF(Tableau2[[#This Row],[XP mastery]]=0,"",TRUNC((SQRT(8*(Tableau2[[#This Row],[XP mastery]]/5)+1)-1)/2)) | AH27: ='valeurs casting'!$K$2+MIN(VLOOKUP(Tableau2[[#This Row],[Technique]],Tableau1[],3),IF(Tableau2[[#This Row],[req. technique]]="",9999,VLOOKUP(LEFT(Tableau2[[#This Row],[req. technique]],2),Tableau1[],3)),IF(LEN(Tableau2[[#This Row],[req. technique]])<=2,9999,VLOOKUP(LEFT(RIGHT(Tableau2[[#This Row],[req. technique]],-2+LEN(Tableau2[[#This Row],[req. technique]])),2),Tableau1[],3)),IF(LEN(Tableau2[[#This Row],[req. technique]])<=4,9999,VLOOKUP(RIGHT(Tableau2[[#This Row],[req. technique]],-7+LEN(Tableau2[[#This Row],[req. technique]])),Tableau1[],3))) -> 13 | AI27: =MAX(Tableau2[[#This Row],[Bonus talisman bâton 1]:[Bonus talisman dé 5]])+IF(Tableau2[[#This Row],[CT dé applicable?]]<>"",'valeurs casting'!$K$1,0) -> 4 | AJ27: destroy things | AV27: =IF(AJ27<>"",VLOOKUP(AJ27,'valeurs casting'!$E$2:$F$9,2),0) -> 4 | AW27: =IF(AK27<>"",VLOOKUP(AK27,'valeurs casting'!$E$2:$F$9,2),0) -> 0 | AX27: =IF(AL27<>"",VLOOKUP(AL27,'valeurs casting'!$E$2:$F$9,2),0) -> 0 | AY27: =IF(AM27<>"",VLOOKUP(AM27,'valeurs casting'!$E$2:$F$9,2),0) -> 0 | AZ27: =IF(AN27<>"",VLOOKUP(AN27,'valeurs casting'!$E$2:$F$9,2),0) -> 0 | BA27: =IF(AO27<>"",VLOOKUP(AO27,'valeurs casting'!$E$2:$F$9,2),0) -> 0 | BB27: =IF(AP27<>"",VLOOKUP(AP27,'valeurs casting'!$G$2:$H$9,2),0) -> 0 | BC27: =IF(AQ27<>"",VLOOKUP(AQ27,'valeurs casting'!$G$2:$H$9,2),0) -> 0 | BD27: =IF(AR27<>"",VLOOKUP(AR27,'valeurs casting'!$G$2:$H$9,2),0) -> 0 | BE27: =IF(AS27<>"",VLOOKUP(AS27,'valeurs casting'!$G$2:$H$9,2),0) -> 0 | BF27: =IF(AT27<>"",VLOOKUP(AT27,'valeurs casting'!$G$2:$H$9,2),0) -> 0
A28: Gather the essence of the beast | B28: Re | D28: Vi | F28: =Tableau2[[#This Row],[Technique]]&IF(Tableau2[[#This Row],[req. technique]]<>"","("&Tableau2[[#This Row],[req. technique]]&")","")&Tableau2[[#This Row],[Forme]]&IF(Tableau2[[#This Row],[req. forme]]<>"","("&Tableau2[[#This Row],[req. forme]]&")","") -> ReVi | G28: 15 | H28: 10 | J28: touch | K28: momentané | L28: individu | S28: =IF(IF(Tableau2[[#This Row],[Niveau base]]<5,VLOOKUP(Tableau2[[#This Row],[Niveau base]],'valeurs casting'!$J$5:$K$9,2),Tableau2[[#This Row],[Niveau base]])+5*(SUM(Tableau2[[#This Row],[taille]:[valeur]])+VLOOKUP(Tableau2[[#This Row],[portée]],'valeurs casting'!$J$11:$K$16,2)+VLOOKUP(Tableau2[[#This Row],[durée]],'valeurs casting'!$J$17:$K$24,2)+VLOOKUP(Tableau2[[#This Row],[cible]],'valeurs casting'!$J$25:$K$35,2))<5,VLOOKUP(IF(Tableau2[[#This Row],[Niveau base]]<5,VLOOKUP(Tableau2[[#This Row],[Niveau base]],'valeurs casting'!$J$5:$K$9,2),Tableau2[[#This Row],[Niveau base]])+5*(SUM(Tableau2[[#This Row],[taille]:[valeur]])+VLOOKUP(Tableau2[[#This Row],[portée]],'valeurs casting'!$J$11:$K$16,2)+VLOOKUP(Tableau2[[#This Row],[durée]],'valeurs casting'!$J$17:$K$24,2)+VLOOKUP(Tableau2[[#This Row],[cible]],'valeurs casting'!$J$25:$K$35,2)),'valeurs casting'!$K$5:$L$9,2),IF(Tableau2[[#This Row],[Niveau base]]<5,VLOOKUP(Tableau2[[#This Row],[Niveau base]],'valeurs casting'!$J$5:$K$9,2),Tableau2[[#This Row],[Niveau base]])+5*(SUM(Tableau2[[#This Row],[taille]:[valeur]])+VLOOKUP(Tableau2[[#This Row],[portée]],'valeurs casting'!$J$11:$K$16,2)+VLOOKUP(Tableau2[[#This Row],[durée]],'valeurs casting'!$J$17:$K$24,2)+VLOOKUP(Tableau2[[#This Row],[cible]],'valeurs casting'!$J$25:$K$35,2))) -> 15 | U28: ArM5 p162 | W28: =IF(Tableau2[[#This Row],[XP mastery]]=0,"",TRUNC((SQRT(8*(Tableau2[[#This Row],[XP mastery]]/5)+1)-1)/2)) | AH28: ='valeurs casting'!$K$2+MIN(VLOOKUP(Tableau2[[#This Row],[Technique]],Tableau1[],3),IF(Tableau2[[#This Row],[req. technique]]="",9999,VLOOKUP(LEFT(Tableau2[[#This Row],[req. technique]],2),Tableau1[],3)),IF(LEN(Tableau2[[#This Row],[req. technique]])<=2,9999,VLOOKUP(LEFT(RIGHT(Tableau2[[#This Row],[req. technique]],-2+LEN(Tableau2[[#This Row],[req. technique]])),2),Tableau1[],3)),IF(LEN(Tableau2[[#This Row],[req. technique]])<=4,9999,VLOOKUP(RIGHT(Tableau2[[#This Row],[req. technique]],-7+LEN(Tableau2[[#This Row],[req. technique]])),Tableau1[],3))) -> 20 | AI28: =MAX(Tableau2[[#This Row],[Bonus talisman bâton 1]:[Bonus talisman dé 5]])+IF(Tableau2[[#This Row],[CT dé applicable?]]<>"",'valeurs casting'!$K$1,0) -> 4 | AJ28: control things | AV28: =IF(AJ28<>"",VLOOKUP(AJ28,'valeurs casting'!$E$2:$F$9,2),0) -> 4 | AW28: =IF(AK28<>"",VLOOKUP(AK28,'valeurs casting'!$E$2:$F$9,2),0) -> 0 | AX28: =IF(AL28<>"",VLOOKUP(AL28,'valeurs casting'!$E$2:$F$9,2),0) -> 0 | AY28: =IF(AM28<>"",VLOOKUP(AM28,'valeurs casting'!$E$2:$F$9,2),0) -> 0 | AZ28: =IF(AN28<>"",VLOOKUP(AN28,'valeurs casting'!$E$2:$F$9,2),0) -> 0 | BA28: =IF(AO28<>"",VLOOKUP(AO28,'valeurs casting'!$E$2:$F$9,2),0) -> 0 | BB28: =IF(AP28<>"",VLOOKUP(AP28,'valeurs casting'!$G$2:$H$9,2),0) -> 0 | BC28: =IF(AQ28<>"",VLOOKUP(AQ28,'valeurs casting'!$G$2:$H$9,2),0) -> 0 | BD28: =IF(AR28<>"",VLOOKUP(AR28,'valeurs casting'!$G$2:$H$9,2),0) -> 0 | BE28: =IF(AS28<>"",VLOOKUP(AS28,'valeurs casting'!$G$2:$H$9,2),0) -> 0 | BF28: =IF(AT28<>"",VLOOKUP(AT28,'valeurs casting'!$G$2:$H$9,2),0) -> 0
A29: Wizard’s sidestep | B29: Re | D29: Im | F29: =Tableau2[[#This Row],[Technique]]&IF(Tableau2[[#This Row],[req. technique]]<>"","("&Tableau2[[#This Row],[req. technique]]&")","")&Tableau2[[#This Row],[Forme]]&IF(Tableau2[[#This Row],[req. forme]]<>"","("&Tableau2[[#This Row],[req. forme]]&")","") -> ReIm | G29: 10 | H29: 2 | J29: pers | K29: sun | L29: individu | Q29: 1 | R29: changing image, +1 moved image matches changes | S29: =IF(IF(Tableau2[[#This Row],[Niveau base]]<5,VLOOKUP(Tableau2[[#This Row],[Niveau base]],'valeurs casting'!$J$5:$K$9,2),Tableau2[[#This Row],[Niveau base]])+5*(SUM(Tableau2[[#This Row],[taille]:[valeur]])+VLOOKUP(Tableau2[[#This Row],[portée]],'valeurs casting'!$J$11:$K$16,2)+VLOOKUP(Tableau2[[#This Row],[durée]],'valeurs casting'!$J$17:$K$24,2)+VLOOKUP(Tableau2[[#This Row],[cible]],'valeurs casting'!$J$25:$K$35,2))<5,VLOOKUP(IF(Tableau2[[#This Row],[Niveau base]]<5,VLOOKUP(Tableau2[[#This Row],[Niveau base]],'valeurs casting'!$J$5:$K$9,2),Tableau2[[#This Row],[Niveau base]])+5*(SUM(Tableau2[[#This Row],[taille]:[valeur]])+VLOOKUP(Tableau2[[#This Row],[portée]],'valeurs casting'!$J$11:$K$16,2)+VLOOKUP(Tableau2[[#This Row],[durée]],'valeurs casting'!$J$17:$K$24,2)+VLOOKUP(Tableau2[[#This Row],[cible]],'valeurs casting'!$J$25:$K$35,2)),'valeurs casting'!$K$5:$L$9,2),IF(Tableau2[[#This Row],[Niveau base]]<5,VLOOKUP(Tableau2[[#This Row],[Niveau base]],'valeurs casting'!$J$5:$K$9,2),Tableau2[[#This Row],[Niveau base]])+5*(SUM(Tableau2[[#This Row],[taille]:[valeur]])+VLOOKUP(Tableau2[[#This Row],[portée]],'valeurs casting'!$J$11:$K$16,2)+VLOOKUP(Tableau2[[#This Row],[durée]],'valeurs casting'!$J$17:$K$24,2)+VLOOKUP(Tableau2[[#This Row],[cible]],'valeurs casting'!$J$25:$K$35,2))) -> 5 | U29: ArM5 p147 : +9 aux jets de défense, la première attaque échoue toujours | W29: =IF(Tableau2[[#This Row],[XP mastery]]=0,"",TRUNC((SQRT(8*(Tableau2[[#This Row],[XP mastery]]/5)+1)-1)/2)) | AH29: ='valeurs casting'!$K$2+MIN(VLOOKUP(Tableau2[[#This Row],[Technique]],Tableau1[],3),IF(Tableau2[[#This Row],[req. technique]]="",9999,VLOOKUP(LEFT(Tableau2[[#This Row],[req. technique]],2),Tableau1[],3)),IF(LEN(Tableau2[[#This Row],[req. technique]])<=2,9999,VLOOKUP(LEFT(RIGHT(Tableau2[[#This Row],[req. technique]],-2+LEN(Tableau2[[#This Row],[req. technique]])),2),Tableau1[],3)),IF(LEN(Tableau2[[#This Row],[req. technique]])<=4,9999,VLOOKUP(RIGHT(Tableau2[[#This Row],[req. technique]],-7+LEN(Tableau2[[#This Row],[req. technique]])),Tableau1[],3))) -> 20 | AI29: =MAX(Tableau2[[#This Row],[Bonus talisman bâton 1]:[Bonus talisman dé 5]])+IF(Tableau2[[#This Row],[CT dé applicable?]]<>"",'valeurs casting'!$K$1,0) -> 4 | AJ29: control things | AV29: =IF(AJ29<>"",VLOOKUP(AJ29,'valeurs casting'!$E$2:$F$9,2),0) -> 4 | AW29: =IF(AK29<>"",VLOOKUP(AK29,'valeurs casting'!$E$2:$F$9,2),0) -> 0 | AX29: =IF(AL29<>"",VLOOKUP(AL29,'valeurs casting'!$E$2:$F$9,2),0) -> 0 | AY29: =IF(AM29<>"",VLOOKUP(AM29,'valeurs casting'!$E$2:$F$9,2),0) -> 0 | AZ29: =IF(AN29<>"",VLOOKUP(AN29,'valeurs casting'!$E$2:$F$9,2),0) -> 0 | BA29: =IF(AO29<>"",VLOOKUP(AO29,'valeurs casting'!$E$2:$F$9,2),0) -> 0 | BB29: =IF(AP29<>"",VLOOKUP(AP29,'valeurs casting'!$G$2:$H$9,2),0) -> 0 | BC29: =IF(AQ29<>"",VLOOKUP(AQ29,'valeurs casting'!$G$2:$H$9,2),0) -> 0 | BD29: =IF(AR29<>"",VLOOKUP(AR29,'valeurs casting'!$G$2:$H$9,2),0) -> 0 | BE29: =IF(AS29<>"",VLOOKUP(AS29,'valeurs casting'!$G$2:$H$9,2),0) -> 0 | BF29: =IF(AT29<>"",VLOOKUP(AT29,'valeurs casting'!$G$2:$H$9,2),0) -> 0
A30: Eyes of the cat | B30: Mu | D30: Co | E30: An | F30: =Tableau2[[#This Row],[Technique]]&IF(Tableau2[[#This Row],[req. technique]]<>"","("&Tableau2[[#This Row],[req. technique]]&")","")&Tableau2[[#This Row],[Forme]]&IF(Tableau2[[#This Row],[req. forme]]<>"","("&Tableau2[[#This Row],[req. forme]]&")","") -> MuCo(An) | G30: 5 | H30: 2 | J30: touch | K30: sun | L30: individu | S30: =IF(IF(Tableau2[[#This Row],[Niveau base]]<5,VLOOKUP(Tableau2[[#This Row],[Niveau base]],'valeurs casting'!$J$5:$K$9,2),Tableau2[[#This Row],[Niveau base]])+5*(SUM(Tableau2[[#This Row],[taille]:[valeur]])+VLOOKUP(Tableau2[[#This Row],[portée]],'valeurs casting'!$J$11:$K$16,2)+VLOOKUP(Tableau2[[#This Row],[durée]],'valeurs casting'!$J$17:$K$24,2)+VLOOKUP(Tableau2[[#This Row],[cible]],'valeurs casting'!$J$25:$K$35,2))<5,VLOOKUP(IF(Tableau2[[#This Row],[Niveau base]]<5,VLOOKUP(Tableau2[[#This Row],[Niveau base]],'valeurs casting'!$J$5:$K$9,2),Tableau2[[#This Row],[Niveau base]])+5*(SUM(Tableau2[[#This Row],[taille]:[valeur]])+VLOOKUP(Tableau2[[#This Row],[portée]],'valeurs casting'!$J$11:$K$16,2)+VLOOKUP(Tableau2[[#This Row],[durée]],'valeurs casting'!$J$17:$K$24,2)+VLOOKUP(Tableau2[[#This Row],[cible]],'valeurs casting'!$J$25:$K$35,2)),'valeurs casting'!$K$5:$L$9,2),IF(Tableau2[[#This Row],[Niveau base]]<5,VLOOKUP(Tableau2[[#This Row],[Niveau base]],'valeurs casting'!$J$5:$K$9,2),Tableau2[[#This Row],[Niveau base]])+5*(SUM(Tableau2[[#This Row],[taille]:[valeur]])+VLOOKUP(Tableau2[[#This Row],[portée]],'valeurs casting'!$J$11:$K$16,2)+VLOOKUP(Tableau2[[#This Row],[durée]],'valeurs casting'!$J$17:$K$24,2)+VLOOKUP(Tableau2[[#This Row],[cible]],'valeurs casting'!$J$25:$K$35,2))) -> 5 | U30: ArM5 p131 | W30: =IF(Tableau2[[#This Row],[XP mastery]]=0,"",TRUNC((SQRT(8*(Tableau2[[#This Row],[XP mastery]]/5)+1)-1)/2)) | AH30: ='valeurs casting'!$K$2+MIN(VLOOKUP(Tableau2[[#This Row],[Technique]],Tableau1[],3),IF(Tableau2[[#This Row],[req. technique]]="",9999,VLOOKUP(LEFT(Tableau2[[#This Row],[req. technique]],2),Tableau1[],3)),IF(LEN(Tableau2[[#This Row],[req. technique]])<=2,9999,VLOOKUP(LEFT(RIGHT(Tableau2[[#This Row],[req. technique]],-2+LEN(Tableau2[[#This Row],[req. technique]])),2),Tableau1[],3)),IF(LEN(Tableau2[[#This Row],[req. technique]])<=4,9999,VLOOKUP(RIGHT(Tableau2[[#This Row],[req. technique]],-7+LEN(Tableau2[[#This Row],[req. technique]])),Tableau1[],3))) -> 15 | AI30: =MAX(Tableau2[[#This Row],[Bonus talisman bâton 1]:[Bonus talisman dé 5]])+IF(Tableau2[[#This Row],[CT dé applicable?]]<>"",'valeurs casting'!$K$1,0) -> 5 | AJ30: Mu | AV30: =IF(AJ30<>"",VLOOKUP(AJ30,'valeurs casting'!$E$2:$F$9,2),0) -> 5 | AW30: =IF(AK30<>"",VLOOKUP(AK30,'valeurs casting'!$E$2:$F$9,2),0) -> 0 | AX30: =IF(AL30<>"",VLOOKUP(AL30,'valeurs casting'!$E$2:$F$9,2),0) -> 0 | AY30: =IF(AM30<>"",VLOOKUP(AM30,'valeurs casting'!$E$2:$F$9,2),0) -> 0 | AZ30: =IF(AN30<>"",VLOOKUP(AN30,'valeurs casting'!$E$2:$F$9,2),0) -> 0 | BA30: =IF(AO30<>"",VLOOKUP(AO30,'valeurs casting'!$E$2:$F$9,2),0) -> 0 | BB30: =IF(AP30<>"",VLOOKUP(AP30,'valeurs casting'!$G$2:$H$9,2),0) -> 0 | BC30: =IF(AQ30<>"",VLOOKUP(AQ30,'valeurs casting'!$G$2:$H$9,2),0) -> 0 | BD30: =IF(AR30<>"",VLOOKUP(AR30,'valeurs casting'!$G$2:$H$9,2),0) -> 0 | BE30: =IF(AS30<>"",VLOOKUP(AS30,'valeurs casting'!$G$2:$H$9,2),0) -> 0 | BF30: =IF(AT30<>"",VLOOKUP(AT30,'valeurs casting'!$G$2:$H$9,2),0) -> 0
A31: Coat of prometheus | B31: Cr | D31: Ig | F31: =Tableau2[[#This Row],[Technique]]&IF(Tableau2[[#This Row],[req. technique]]<>"","("&Tableau2[[#This Row],[req. technique]]&")","")&Tableau2[[#This Row],[Forme]]&IF(Tableau2[[#This Row],[req. forme]]<>"","("&Tableau2[[#This Row],[req. forme]]&")","") -> CrIg | G31: 5 | H31: 2 | J31: touch | K31: sun | L31: individu | S31: =IF(IF(Tableau2[[#This Row],[Niveau base]]<5,VLOOKUP(Tableau2[[#This Row],[Niveau base]],'valeurs casting'!$J$5:$K$9,2),Tableau2[[#This Row],[Niveau base]])+5*(SUM(Tableau2[[#This Row],[taille]:[valeur]])+VLOOKUP(Tableau2[[#This Row],[portée]],'valeurs casting'!$J$11:$K$16,2)+VLOOKUP(Tableau2[[#This Row],[durée]],'valeurs casting'!$J$17:$K$24,2)+VLOOKUP(Tableau2[[#This Row],[cible]],'valeurs casting'!$J$25:$K$35,2))<5,VLOOKUP(IF(Tableau2[[#This Row],[Niveau base]]<5,VLOOKUP(Tableau2[[#This Row],[Niveau base]],'valeurs casting'!$J$5:$K$9,2),Tableau2[[#This Row],[Niveau base]])+5*(SUM(Tableau2[[#This Row],[taille]:[valeur]])+VLOOKUP(Tableau2[[#This Row],[portée]],'valeurs casting'!$J$11:$K$16,2)+VLOOKUP(Tableau2[[#This Row],[durée]],'valeurs casting'!$J$17:$K$24,2)+VLOOKUP(Tableau2[[#This Row],[cible]],'valeurs casting'!$J$25:$K$35,2)),'valeurs casting'!$K$5:$L$9,2),IF(Tableau2[[#This Row],[Niveau base]]<5,VLOOKUP(Tableau2[[#This Row],[Niveau base]],'valeurs casting'!$J$5:$K$9,2),Tableau2[[#This Row],[Niveau base]])+5*(SUM(Tableau2[[#This Row],[taille]:[valeur]])+VLOOKUP(Tableau2[[#This Row],[portée]],'valeurs casting'!$J$11:$K$16,2)+VLOOKUP(Tableau2[[#This Row],[durée]],'valeurs casting'!$J$17:$K$24,2)+VLOOKUP(Tableau2[[#This Row],[cible]],'valeurs casting'!$J$25:$K$35,2))) -> 5 | U31: This spell enchants a person to remain at least comfortably warm regardless of how cold the environment is. Snow immediately melts off of the target’s body, and moisture soon evaporates from both the target and his clothing. The target suffers no ill effects from normal extremes of cold weather. The spell also confers a +3 au jet de fatigue to resist extreme cold, and a –3 for extreme heat | W31: =IF(Tableau2[[#This Row],[XP mastery]]=0,"",TRUNC((SQRT(8*(Tableau2[[#This Row],[XP mastery]]/5)+1)-1)/2)) | AH31: ='valeurs casting'!$K$2+MIN(VLOOKUP(Tableau2[[#This Row],[Technique]],Tableau1[],3),IF(Tableau2[[#This Row],[req. technique]]="",9999,VLOOKUP(LEFT(Tableau2[[#This Row],[req. technique]],2),Tableau1[],3)),IF(LEN(Tableau2[[#This Row],[req. technique]])<=2,9999,VLOOKUP(LEFT(RIGHT(Tableau2[[#This Row],[req. technique]],-2+LEN(Tableau2[[#This Row],[req. technique]])),2),Tableau1[],3)),IF(LEN(Tableau2[[#This Row],[req. technique]])<=4,9999,VLOOKUP(RIGHT(Tableau2[[#This Row],[req. technique]],-7+LEN(Tableau2[[#This Row],[req. technique]])),Tableau1[],3))) -> 27 | AI31: =MAX(Tableau2[[#This Row],[Bonus talisman bâton 1]:[Bonus talisman dé 5]])+IF(Tableau2[[#This Row],[CT dé applicable?]]<>"",'valeurs casting'!$K$1,0) -> 11 | AP31: Ig | AU31: x | AV31: =IF(AJ31<>"",VLOOKUP(AJ31,'valeurs casting'!$E$2:$F$9,2),0) -> 0 | AW31: =IF(AK31<>"",VLOOKUP(AK31,'valeurs casting'!$E$2:$F$9,2),0) -> 0 | AX31: =IF(AL31<>"",VLOOKUP(AL31,'valeurs casting'!$E$2:$F$9,2),0) -> 0 | AY31: =IF(AM31<>"",VLOOKUP(AM31,'valeurs casting'!$E$2:$F$9,2),0) -> 0 | AZ31: =IF(AN31<>"",VLOOKUP(AN31,'valeurs casting'!$E$2:$F$9,2),0) -> 0 | BA31: =IF(AO31<>"",VLOOKUP(AO31,'valeurs casting'!$E$2:$F$9,2),0) -> 0 | BB31: =IF(AP31<>"",VLOOKUP(AP31,'valeurs casting'!$G$2:$H$9,2),0) -> 4 | BC31: =IF(AQ31<>"",VLOOKUP(AQ31,'valeurs casting'!$G$2:$H$9,2),0) -> 0 | BD31: =IF(AR31<>"",VLOOKUP(AR31,'valeurs casting'!$G$2:$H$9,2),0) -> 0 | BE31: =IF(AS31<>"",VLOOKUP(AS31,'valeurs casting'!$G$2:$H$9,2),0) -> 0 | BF31: =IF(AT31<>"",VLOOKUP(AT31,'valeurs casting'!$G$2:$H$9,2),0) -> 0
A32: Posing the silent question | B32: In | D32: Me | F32: =Tableau2[[#This Row],[Technique]]&IF(Tableau2[[#This Row],[req. technique]]<>"","("&Tableau2[[#This Row],[req. technique]]&")","")&Tableau2[[#This Row],[Forme]]&IF(Tableau2[[#This Row],[req. forme]]<>"","("&Tableau2[[#This Row],[req. forme]]&")","") -> InMe | G32: 25 | H32: 15 | J32: sight | K32: conc | L32: individu | P32: -2 | S32: =IF(IF(Tableau2[[#This Row],[Niveau base]]<5,VLOOKUP(Tableau2[[#This Row],[Niveau base]],'valeurs casting'!$J$5:$K$9,2),Tableau2[[#This Row],[Niveau base]])+5*(SUM(Tableau2[[#This Row],[taille]:[valeur]])+VLOOKUP(Tableau2[[#This Row],[portée]],'valeurs casting'!$J$11:$K$16,2)+VLOOKUP(Tableau2[[#This Row],[durée]],'valeurs casting'!$J$17:$K$24,2)+VLOOKUP(Tableau2[[#This Row],[cible]],'valeurs casting'!$J$25:$K$35,2))<5,VLOOKUP(IF(Tableau2[[#This Row],[Niveau base]]<5,VLOOKUP(Tableau2[[#This Row],[Niveau base]],'valeurs casting'!$J$5:$K$9,2),Tableau2[[#This Row],[Niveau base]])+5*(SUM(Tableau2[[#This Row],[taille]:[valeur]])+VLOOKUP(Tableau2[[#This Row],[portée]],'valeurs casting'!$J$11:$K$16,2)+VLOOKUP(Tableau2[[#This Row],[durée]],'valeurs casting'!$J$17:$K$24,2)+VLOOKUP(Tableau2[[#This Row],[cible]],'valeurs casting'!$J$25:$K$35,2)),'valeurs casting'!$K$5:$L$9,2),IF(Tableau2[[#This Row],[Niveau base]]<5,VLOOKUP(Tableau2[[#This Row],[Niveau base]],'valeurs casting'!$J$5:$K$9,2),Tableau2[[#This Row],[Niveau base]])+5*(SUM(Tableau2[[#This Row],[taille]:[valeur]])+VLOOKUP(Tableau2[[#This Row],[portée]],'valeurs casting'!$J$11:$K$16,2)+VLOOKUP(Tableau2[[#This Row],[durée]],'valeurs casting'!$J$17:$K$24,2)+VLOOKUP(Tableau2[[#This Row],[cible]],'valeurs casting'!$J$25:$K$35,2))) -> 25 | U32: ArM5 p 149. | V32: la portée passe à sight | W32: =IF(Tableau2[[#This Row],[XP mastery]]=0,"",TRUNC((SQRT(8*(Tableau2[[#This Row],[XP mastery]]/5)+1)-1)/2)) | AH32: ='valeurs casting'!$K$2+MIN(VLOOKUP(Tableau2[[#This Row],[Technique]],Tableau1[],3),IF(Tableau2[[#This Row],[req. technique]]="",9999,VLOOKUP(LEFT(Tableau2[[#This Row],[req. technique]],2),Tableau1[],3)),IF(LEN(Tableau2[[#This Row],[req. technique]])<=2,9999,VLOOKUP(LEFT(RIGHT(Tableau2[[#This Row],[req. technique]],-2+LEN(Tableau2[[#This Row],[req. technique]])),2),Tableau1[],3)),IF(LEN(Tableau2[[#This Row],[req. technique]])<=4,9999,VLOOKUP(RIGHT(Tableau2[[#This Row],[req. technique]],-7+LEN(Tableau2[[#This Row],[req. technique]])),Tableau1[],3))) -> 19 | AI32: =MAX(Tableau2[[#This Row],[Bonus talisman bâton 1]:[Bonus talisman dé 5]])+IF(Tableau2[[#This Row],[CT dé applicable?]]<>"",'valeurs casting'!$K$1,0) -> 2 | AP32: In | AV32: =IF(AJ32<>"",VLOOKUP(AJ32,'valeurs casting'!$E$2:$F$9,2),0) -> 0 | AW32: =IF(AK32<>"",VLOOKUP(AK32,'valeurs casting'!$E$2:$F$9,2),0) -> 0 | AX32: =IF(AL32<>"",VLOOKUP(AL32,'valeurs casting'!$E$2:$F$9,2),0) -> 0 | AY32: =IF(AM32<>"",VLOOKUP(AM32,'valeurs casting'!$E$2:$F$9,2),0) -> 0 | AZ32: =IF(AN32<>"",VLOOKUP(AN32,'valeurs casting'!$E$2:$F$9,2),0) -> 0 | BA32: =IF(AO32<>"",VLOOKUP(AO32,'valeurs casting'!$E$2:$F$9,2),0) -> 0 | BB32: =IF(AP32<>"",VLOOKUP(AP32,'valeurs casting'!$G$2:$H$9,2),0) -> 2 | BC32: =IF(AQ32<>"",VLOOKUP(AQ32,'valeurs casting'!$G$2:$H$9,2),0) -> 0 | BD32: =IF(AR32<>"",VLOOKUP(AR32,'valeurs casting'!$G$2:$H$9,2),0) -> 0 | BE32: =IF(AS32<>"",VLOOKUP(AS32,'valeurs casting'!$G$2:$H$9,2),0) -> 0 | BF32: =IF(AT32<>"",VLOOKUP(AT32,'valeurs casting'!$G$2:$H$9,2),0) -> 0
A33: Peering the mortal mind | B33: In | D33: Me | F33: =Tableau2[[#This Row],[Technique]]&IF(Tableau2[[#This Row],[req. technique]]<>"","("&Tableau2[[#This Row],[req. technique]]&")","")&Tableau2[[#This Row],[Forme]]&IF(Tableau2[[#This Row],[req. forme]]<>"","("&Tableau2[[#This Row],[req. forme]]&")","") -> InMe | G33: 35 | H33: 25 | J33: sight | K33: conc | L33: individu | P33: -2 | S33: =IF(IF(Tableau2[[#This Row],[Niveau base]]<5,VLOOKUP(Tableau2[[#This Row],[Niveau base]],'valeurs casting'!$J$5:$K$9,2),Tableau2[[#This Row],[Niveau base]])+5*(SUM(Tableau2[[#This Row],[taille]:[valeur]])+VLOOKUP(Tableau2[[#This Row],[portée]],'valeurs casting'!$J$11:$K$16,2)+VLOOKUP(Tableau2[[#This Row],[durée]],'valeurs casting'!$J$17:$K$24,2)+VLOOKUP(Tableau2[[#This Row],[cible]],'valeurs casting'!$J$25:$K$35,2))<5,VLOOKUP(IF(Tableau2[[#This Row],[Niveau base]]<5,VLOOKUP(Tableau2[[#This Row],[Niveau base]],'valeurs casting'!$J$5:$K$9,2),Tableau2[[#This Row],[Niveau base]])+5*(SUM(Tableau2[[#This Row],[taille]:[valeur]])+VLOOKUP(Tableau2[[#This Row],[portée]],'valeurs casting'!$J$11:$K$16,2)+VLOOKUP(Tableau2[[#This Row],[durée]],'valeurs casting'!$J$17:$K$24,2)+VLOOKUP(Tableau2[[#This Row],[cible]],'valeurs casting'!$J$25:$K$35,2)),'valeurs casting'!$K$5:$L$9,2),IF(Tableau2[[#This Row],[Niveau base]]<5,VLOOKUP(Tableau2[[#This Row],[Niveau base]],'valeurs casting'!$J$5:$K$9,2),Tableau2[[#This Row],[Niveau base]])+5*(SUM(Tableau2[[#This Row],[taille]:[valeur]])+VLOOKUP(Tableau2[[#This Row],[portée]],'valeurs casting'!$J$11:$K$16,2)+VLOOKUP(Tableau2[[#This Row],[durée]],'valeurs casting'!$J$17:$K$24,2)+VLOOKUP(Tableau2[[#This Row],[cible]],'valeurs casting'!$J$25:$K$35,2))) -> 35 | U33: ArM5 p 149. | V33: la portée passe à sight | W33: =IF(Tableau2[[#This Row],[XP mastery]]=0,"",TRUNC((SQRT(8*(Tableau2[[#This Row],[XP mastery]]/5)+1)-1)/2)) -> 2 | X33: 20 | AE33: x | AH33: ='valeurs casting'!$K$2+MIN(VLOOKUP(Tableau2[[#This Row],[Technique]],Tableau1[],3),IF(Tableau2[[#This Row],[req. technique]]="",9999,VLOOKUP(LEFT(Tableau2[[#This Row],[req. technique]],2),Tableau1[],3)),IF(LEN(Tableau2[[#This Row],[req. technique]])<=2,9999,VLOOKUP(LEFT(RIGHT(Tableau2[[#This Row],[req. technique]],-2+LEN(Tableau2[[#This Row],[req. technique]])),2),Tableau1[],3)),IF(LEN(Tableau2[[#This Row],[req. technique]])<=4,9999,VLOOKUP(RIGHT(Tableau2[[#This Row],[req. technique]],-7+LEN(Tableau2[[#This Row],[req. technique]])),Tableau1[],3))) -> 19 | AI33: =MAX(Tableau2[[#This Row],[Bonus talisman bâton 1]:[Bonus talisman dé 5]])+IF(Tableau2[[#This Row],[CT dé applicable?]]<>"",'valeurs casting'!$K$1,0) -> 2 | AP33: In | AV33: =IF(AJ33<>"",VLOOKUP(AJ33,'valeurs casting'!$E$2:$F$9,2),0) -> 0 | AW33: =IF(AK33<>"",VLOOKUP(AK33,'valeurs casting'!$E$2:$F$9,2),0) -> 0 | AX33: =IF(AL33<>"",VLOOKUP(AL33,'valeurs casting'!$E$2:$F$9,2),0) -> 0 | AY33: =IF(AM33<>"",VLOOKUP(AM33,'valeurs casting'!$E$2:$F$9,2),0) -> 0 | AZ33: =IF(AN33<>"",VLOOKUP(AN33,'valeurs casting'!$E$2:$F$9,2),0) -> 0 | BA33: =IF(AO33<>"",VLOOKUP(AO33,'valeurs casting'!$E$2:$F$9,2),0) -> 0 | BB33: =IF(AP33<>"",VLOOKUP(AP33,'valeurs casting'!$G$2:$H$9,2),0) -> 2 | BC33: =IF(AQ33<>"",VLOOKUP(AQ33,'valeurs casting'!$G$2:$H$9,2),0) -> 0 | BD33: =IF(AR33<>"",VLOOKUP(AR33,'valeurs casting'!$G$2:$H$9,2),0) -> 0 | BE33: =IF(AS33<>"",VLOOKUP(AS33,'valeurs casting'!$G$2:$H$9,2),0) -> 0 | BF33: =IF(AT33<>"",VLOOKUP(AT33,'valeurs casting'!$G$2:$H$9,2),0) -> 0
A34: Lamp without flame | B34: Cr | D34: Ig | F34: =Tableau2[[#This Row],[Technique]]&IF(Tableau2[[#This Row],[req. technique]]<>"","("&Tableau2[[#This Row],[req. technique]]&")","")&Tableau2[[#This Row],[Forme]]&IF(Tableau2[[#This Row],[req. forme]]<>"","("&Tableau2[[#This Row],[req. forme]]&")","") -> CrIg | G34: 10 | H34: 4 | J34: touch | K34: conc | L34: individu | S34: =IF(IF(Tableau2[[#This Row],[Niveau base]]<5,VLOOKUP(Tableau2[[#This Row],[Niveau base]],'valeurs casting'!$J$5:$K$9,2),Tableau2[[#This Row],[Niveau base]])+5*(SUM(Tableau2[[#This Row],[taille]:[valeur]])+VLOOKUP(Tableau2[[#This Row],[portée]],'valeurs casting'!$J$11:$K$16,2)+VLOOKUP(Tableau2[[#This Row],[durée]],'valeurs casting'!$J$17:$K$24,2)+VLOOKUP(Tableau2[[#This Row],[cible]],'valeurs casting'!$J$25:$K$35,2))<5,VLOOKUP(IF(Tableau2[[#This Row],[Niveau base]]<5,VLOOKUP(Tableau2[[#This Row],[Niveau base]],'valeurs casting'!$J$5:$K$9,2),Tableau2[[#This Row],[Niveau base]])+5*(SUM(Tableau2[[#This Row],[taille]:[valeur]])+VLOOKUP(Tableau2[[#This Row],[portée]],'valeurs casting'!$J$11:$K$16,2)+VLOOKUP(Tableau2[[#This Row],[durée]],'valeurs casting'!$J$17:$K$24,2)+VLOOKUP(Tableau2[[#This Row],[cible]],'valeurs casting'!$J$25:$K$35,2)),'valeurs casting'!$K$5:$L$9,2),IF(Tableau2[[#This Row],[Niveau base]]<5,VLOOKUP(Tableau2[[#This Row],[Niveau base]],'valeurs casting'!$J$5:$K$9,2),Tableau2[[#This Row],[Niveau base]])+5*(SUM(Tableau2[[#This Row],[taille]:[valeur]])+VLOOKUP(Tableau2[[#This Row],[portée]],'valeurs casting'!$J$11:$K$16,2)+VLOOKUP(Tableau2[[#This Row],[durée]],'valeurs casting'!$J$17:$K$24,2)+VLOOKUP(Tableau2[[#This Row],[cible]],'valeurs casting'!$J$25:$K$35,2))) -> 10 | U34: met une lumière du jour nuageux sur un objet (éclaire sur 10m) (ArM5 p140) | W34: =IF(Tableau2[[#This Row],[XP mastery]]=0,"",TRUNC((SQRT(8*(Tableau2[[#This Row],[XP mastery]]/5)+1)-1)/2)) | AH34: ='valeurs casting'!$K$2+MIN(VLOOKUP(Tableau2[[#This Row],[Technique]],Tableau1[],3),IF(Tableau2[[#This Row],[req. technique]]="",9999,VLOOKUP(LEFT(Tableau2[[#This Row],[req. technique]],2),Tableau1[],3)),IF(LEN(Tableau2[[#This Row],[req. technique]])<=2,9999,VLOOKUP(LEFT(RIGHT(Tableau2[[#This Row],[req. technique]],-2+LEN(Tableau2[[#This Row],[req. technique]])),2),Tableau1[],3)),IF(LEN(Tableau2[[#This Row],[req. technique]])<=4,9999,VLOOKUP(RIGHT(Tableau2[[#This Row],[req. technique]],-7+LEN(Tableau2[[#This Row],[req. technique]])),Tableau1[],3))) -> 27 | AI34: =MAX(Tableau2[[#This Row],[Bonus talisman bâton 1]:[Bonus talisman dé 5]])+IF(Tableau2[[#This Row],[CT dé applicable?]]<>"",'valeurs casting'!$K$1,0) -> 11 | AP34: Ig | AU34: x | AV34: =IF(AJ34<>"",VLOOKUP(AJ34,'valeurs casting'!$E$2:$F$9,2),0) -> 0 | AW34: =IF(AK34<>"",VLOOKUP(AK34,'valeurs casting'!$E$2:$F$9,2),0) -> 0 | AX34: =IF(AL34<>"",VLOOKUP(AL34,'valeurs casting'!$E$2:$F$9,2),0) -> 0 | AY34: =IF(AM34<>"",VLOOKUP(AM34,'valeurs casting'!$E$2:$F$9,2),0) -> 0 | AZ34: =IF(AN34<>"",VLOOKUP(AN34,'valeurs casting'!$E$2:$F$9,2),0) -> 0 | BA34: =IF(AO34<>"",VLOOKUP(AO34,'valeurs casting'!$E$2:$F$9,2),0) -> 0 | BB34: =IF(AP34<>"",VLOOKUP(AP34,'valeurs casting'!$G$2:$H$9,2),0) -> 4 | BC34: =IF(AQ34<>"",VLOOKUP(AQ34,'valeurs casting'!$G$2:$H$9,2),0) -> 0 | BD34: =IF(AR34<>"",VLOOKUP(AR34,'valeurs casting'!$G$2:$H$9,2),0) -> 0 | BE34: =IF(AS34<>"",VLOOKUP(AS34,'valeurs casting'!$G$2:$H$9,2),0) -> 0 | BF34: =IF(AT34<>"",VLOOKUP(AT34,'valeurs casting'!$G$2:$H$9,2),0) -> 0
A35: Frosty breath of the spoken lie | B35: In | D35: Me | F35: =Tableau2[[#This Row],[Technique]]&IF(Tableau2[[#This Row],[req. technique]]<>"","("&Tableau2[[#This Row],[req. technique]]&")","")&Tableau2[[#This Row],[Forme]]&IF(Tableau2[[#This Row],[req. forme]]<>"","("&Tableau2[[#This Row],[req. forme]]&")","") -> InMe | G35: 20 | H35: 15 | J35: eye | K35: conc | L35: individu | S35: =IF(IF(Tableau2[[#This Row],[Niveau base]]<5,VLOOKUP(Tableau2[[#This Row],[Niveau base]],'valeurs casting'!$J$5:$K$9,2),Tableau2[[#This Row],[Niveau base]])+5*(SUM(Tableau2[[#This Row],[taille]:[valeur]])+VLOOKUP(Tableau2[[#This Row],[portée]],'valeurs casting'!$J$11:$K$16,2)+VLOOKUP(Tableau2[[#This Row],[durée]],'valeurs casting'!$J$17:$K$24,2)+VLOOKUP(Tableau2[[#This Row],[cible]],'valeurs casting'!$J$25:$K$35,2))<5,VLOOKUP(IF(Tableau2[[#This Row],[Niveau base]]<5,VLOOKUP(Tableau2[[#This Row],[Niveau base]],'valeurs casting'!$J$5:$K$9,2),Tableau2[[#This Row],[Niveau base]])+5*(SUM(Tableau2[[#This Row],[taille]:[valeur]])+VLOOKUP(Tableau2[[#This Row],[portée]],'valeurs casting'!$J$11:$K$16,2)+VLOOKUP(Tableau2[[#This Row],[durée]],'valeurs casting'!$J$17:$K$24,2)+VLOOKUP(Tableau2[[#This Row],[cible]],'valeurs casting'!$J$25:$K$35,2)),'valeurs casting'!$K$5:$L$9,2),IF(Tableau2[[#This Row],[Niveau base]]<5,VLOOKUP(Tableau2[[#This Row],[Niveau base]],'valeurs casting'!$J$5:$K$9,2),Tableau2[[#This Row],[Niveau base]])+5*(SUM(Tableau2[[#This Row],[taille]:[valeur]])+VLOOKUP(Tableau2[[#This Row],[portée]],'valeurs casting'!$J$11:$K$16,2)+VLOOKUP(Tableau2[[#This Row],[durée]],'valeurs casting'!$J$17:$K$24,2)+VLOOKUP(Tableau2[[#This Row],[cible]],'valeurs casting'!$J$25:$K$35,2))) -> 25 | U35: ArM5 p 149. | V35: (mse) la cible du sort est aussi concise que possible. | W35: =IF(Tableau2[[#This Row],[XP mastery]]=0,"",TRUNC((SQRT(8*(Tableau2[[#This Row],[XP mastery]]/5)+1)-1)/2)) | AH35: ='valeurs casting'!$K$2+MIN(VLOOKUP(Tableau2[[#This Row],[Technique]],Tableau1[],3),IF(Tableau2[[#This Row],[req. technique]]="",9999,VLOOKUP(LEFT(Tableau2[[#This Row],[req. technique]],2),Tableau1[],3)),IF(LEN(Tableau2[[#This Row],[req. technique]])<=2,9999,VLOOKUP(LEFT(RIGHT(Tableau2[[#This Row],[req. technique]],-2+LEN(Tableau2[[#This Row],[req. technique]])),2),Tableau1[],3)),IF(LEN(Tableau2[[#This Row],[req. technique]])<=4,9999,VLOOKUP(RIGHT(Tableau2[[#This Row],[req. technique]],-7+LEN(Tableau2[[#This Row],[req. technique]])),Tableau1[],3))) -> 19 | AI35: =MAX(Tableau2[[#This Row],[Bonus talisman bâton 1]:[Bonus talisman dé 5]])+IF(Tableau2[[#This Row],[CT dé applicable?]]<>"",'valeurs casting'!$K$1,0) -> 2 | AP35: In | AV35: =IF(AJ35<>"",VLOOKUP(AJ35,'valeurs casting'!$E$2:$F$9,2),0) -> 0 | AW35: =IF(AK35<>"",VLOOKUP(AK35,'valeurs casting'!$E$2:$F$9,2),0) -> 0 | AX35: =IF(AL35<>"",VLOOKUP(AL35,'valeurs casting'!$E$2:$F$9,2),0) -> 0 | AY35: =IF(AM35<>"",VLOOKUP(AM35,'valeurs casting'!$E$2:$F$9,2),0) -> 0 | AZ35: =IF(AN35<>"",VLOOKUP(AN35,'valeurs casting'!$E$2:$F$9,2),0) -> 0 | BA35: =IF(AO35<>"",VLOOKUP(AO35,'valeurs casting'!$E$2:$F$9,2),0) -> 0 | BB35: =IF(AP35<>"",VLOOKUP(AP35,'valeurs casting'!$G$2:$H$9,2),0) -> 2 | BC35: =IF(AQ35<>"",VLOOKUP(AQ35,'valeurs casting'!$G$2:$H$9,2),0) -> 0 | BD35: =IF(AR35<>"",VLOOKUP(AR35,'valeurs casting'!$G$2:$H$9,2),0) -> 0 | BE35: =IF(AS35<>"",VLOOKUP(AS35,'valeurs casting'!$G$2:$H$9,2),0) -> 0 | BF35: =IF(AT35<>"",VLOOKUP(AT35,'valeurs casting'!$G$2:$H$9,2),0) -> 0
A36: Voile magique d’indétection de Razal Wauke | B36: Cr | D36: Vi | F36: =Tableau2[[#This Row],[Technique]]&IF(Tableau2[[#This Row],[req. technique]]<>"","("&Tableau2[[#This Row],[req. technique]]&")","")&Tableau2[[#This Row],[Forme]]&IF(Tableau2[[#This Row],[req. forme]]<>"","("&Tableau2[[#This Row],[req. forme]]&")","") -> CrVi | G36: 45 | H36: 35 | J36: touch | K36: conc | L36: individu | S36: =IF(IF(Tableau2[[#This Row],[Niveau base]]<5,VLOOKUP(Tableau2[[#This Row],[Niveau base]],'valeurs casting'!$J$5:$K$9,2),Tableau2[[#This Row],[Niveau base]])+5*(SUM(Tableau2[[#This Row],[taille]:[valeur]])+VLOOKUP(Tableau2[[#This Row],[portée]],'valeurs casting'!$J$11:$K$16,2)+VLOOKUP(Tableau2[[#This Row],[durée]],'valeurs casting'!$J$17:$K$24,2)+VLOOKUP(Tableau2[[#This Row],[cible]],'valeurs casting'!$J$25:$K$35,2))<5,VLOOKUP(IF(Tableau2[[#This Row],[Niveau base]]<5,VLOOKUP(Tableau2[[#This Row],[Niveau base]],'valeurs casting'!$J$5:$K$9,2),Tableau2[[#This Row],[Niveau base]])+5*(SUM(Tableau2[[#This Row],[taille]:[valeur]])+VLOOKUP(Tableau2[[#This Row],[portée]],'valeurs casting'!$J$11:$K$16,2)+VLOOKUP(Tableau2[[#This Row],[durée]],'valeurs casting'!$J$17:$K$24,2)+VLOOKUP(Tableau2[[#This Row],[cible]],'valeurs casting'!$J$25:$K$35,2)),'valeurs casting'!$K$5:$L$9,2),IF(Tableau2[[#This Row],[Niveau base]]<5,VLOOKUP(Tableau2[[#This Row],[Niveau base]],'valeurs casting'!$J$5:$K$9,2),Tableau2[[#This Row],[Niveau base]])+5*(SUM(Tableau2[[#This Row],[taille]:[valeur]])+VLOOKUP(Tableau2[[#This Row],[portée]],'valeurs casting'!$J$11:$K$16,2)+VLOOKUP(Tableau2[[#This Row],[durée]],'valeurs casting'!$J$17:$K$24,2)+VLOOKUP(Tableau2[[#This Row],[cible]],'valeurs casting'!$J$25:$K$35,2))) -> 45 | U36: lorsque la cible de ce sort est soumise à un sort d’intellego, le sort ne donne aucune information s’il est de niveau inférieur ou égal à 40 | W36: =IF(Tableau2[[#This Row],[XP mastery]]=0,"",TRUNC((SQRT(8*(Tableau2[[#This Row],[XP mastery]]/5)+1)-1)/2)) | AH36: ='valeurs casting'!$K$2+MIN(VLOOKUP(Tableau2[[#This Row],[Technique]],Tableau1[],3),IF(Tableau2[[#This Row],[req. technique]]="",9999,VLOOKUP(LEFT(Tableau2[[#This Row],[req. technique]],2),Tableau1[],3)),IF(LEN(Tableau2[[#This Row],[req. technique]])<=2,9999,VLOOKUP(LEFT(RIGHT(Tableau2[[#This Row],[req. technique]],-2+LEN(Tableau2[[#This Row],[req. technique]])),2),Tableau1[],3)),IF(LEN(Tableau2[[#This Row],[req. technique]])<=4,9999,VLOOKUP(RIGHT(Tableau2[[#This Row],[req. technique]],-7+LEN(Tableau2[[#This Row],[req. technique]])),Tableau1[],3))) -> 27 | AI36: =MAX(Tableau2[[#This Row],[Bonus talisman bâton 1]:[Bonus talisman dé 5]])+IF(Tableau2[[#This Row],[CT dé applicable?]]<>"",'valeurs casting'!$K$1,0) -> 0 | AV36: =IF(AJ36<>"",VLOOKUP(AJ36,'valeurs casting'!$E$2:$F$9,2),0) -> 0 | AW36: =IF(AK36<>"",VLOOKUP(AK36,'valeurs casting'!$E$2:$F$9,2),0) -> 0 | AX36: =IF(AL36<>"",VLOOKUP(AL36,'valeurs casting'!$E$2:$F$9,2),0) -> 0 | AY36: =IF(AM36<>"",VLOOKUP(AM36,'valeurs casting'!$E$2:$F$9,2),0) -> 0 | AZ36: =IF(AN36<>"",VLOOKUP(AN36,'valeurs casting'!$E$2:$F$9,2),0) -> 0 | BA36: =IF(AO36<>"",VLOOKUP(AO36,'valeurs casting'!$E$2:$F$9,2),0) -> 0 | BB36: =IF(AP36<>"",VLOOKUP(AP36,'valeurs casting'!$G$2:$H$9,2),0) -> 0 | BC36: =IF(AQ36<>"",VLOOKUP(AQ36,'valeurs casting'!$G$2:$H$9,2),0) -> 0 | BD36: =IF(AR36<>"",VLOOKUP(AR36,'valeurs casting'!$G$2:$H$9,2),0) -> 0 | BE36: =IF(AS36<>"",VLOOKUP(AS36,'valeurs casting'!$G$2:$H$9,2),0) -> 0 | BF36: =IF(AT36<>"",VLOOKUP(AT36,'valeurs casting'!$G$2:$H$9,2),0) -> 0
A37: Brûlant geyzer de Razal Wauke | B37: Cr | D37: Aq | E37: Ig | F37: =Tableau2[[#This Row],[Technique]]&IF(Tableau2[[#This Row],[req. technique]]<>"","("&Tableau2[[#This Row],[req. technique]]&")","")&Tableau2[[#This Row],[Forme]]&IF(Tableau2[[#This Row],[req. forme]]<>"","("&Tableau2[[#This Row],[req. forme]]&")","") -> CrAq(Ig) | G37: 20 | H37: 10 | J37: voice | K37: momentané | L37: individu | S37: =IF(IF(Tableau2[[#This Row],[Niveau base]]<5,VLOOKUP(Tableau2[[#This Row],[Niveau base]],'valeurs casting'!$J$5:$K$9,2),Tableau2[[#This Row],[Niveau base]])+5*(SUM(Tableau2[[#This Row],[taille]:[valeur]])+VLOOKUP(Tableau2[[#This Row],[portée]],'valeurs casting'!$J$11:$K$16,2)+VLOOKUP(Tableau2[[#This Row],[durée]],'valeurs casting'!$J$17:$K$24,2)+VLOOKUP(Tableau2[[#This Row],[cible]],'valeurs casting'!$J$25:$K$35,2))<5,VLOOKUP(IF(Tableau2[[#This Row],[Niveau base]]<5,VLOOKUP(Tableau2[[#This Row],[Niveau base]],'valeurs casting'!$J$5:$K$9,2),Tableau2[[#This Row],[Niveau base]])+5*(SUM(Tableau2[[#This Row],[taille]:[valeur]])+VLOOKUP(Tableau2[[#This Row],[portée]],'valeurs casting'!$J$11:$K$16,2)+VLOOKUP(Tableau2[[#This Row],[durée]],'valeurs casting'!$J$17:$K$24,2)+VLOOKUP(Tableau2[[#This Row],[cible]],'valeurs casting'!$J$25:$K$35,2)),'valeurs casting'!$K$5:$L$9,2),IF(Tableau2[[#This Row],[Niveau base]]<5,VLOOKUP(Tableau2[[#This Row],[Niveau base]],'valeurs casting'!$J$5:$K$9,2),Tableau2[[#This Row],[Niveau base]])+5*(SUM(Tableau2[[#This Row],[taille]:[valeur]])+VLOOKUP(Tableau2[[#This Row],[portée]],'valeurs casting'!$J$11:$K$16,2)+VLOOKUP(Tableau2[[#This Row],[durée]],'valeurs casting'!$J$17:$K$24,2)+VLOOKUP(Tableau2[[#This Row],[cible]],'valeurs casting'!$J$25:$K$35,2))) -> 20 | U37: comme le sort Mighty torrent of water: +10 dégâts et jet de taille + force à 9+ pour ne pas être repoussé. S’il pénètre en ignem, il fait +5 dégât seulement. | W37: =IF(Tableau2[[#This Row],[XP mastery]]=0,"",TRUNC((SQRT(8*(Tableau2[[#This Row],[XP mastery]]/5)+1)-1)/2)) | AH37: ='valeurs casting'!$K$2+MIN(VLOOKUP(Tableau2[[#This Row],[Technique]],Tableau1[],3),IF(Tableau2[[#This Row],[req. technique]]="",9999,VLOOKUP(LEFT(Tableau2[[#This Row],[req. technique]],2),Tableau1[],3)),IF(LEN(Tableau2[[#This Row],[req. technique]])<=2,9999,VLOOKUP(LEFT(RIGHT(Tableau2[[#This Row],[req. technique]],-2+LEN(Tableau2[[#This Row],[req. technique]])),2),Tableau1[],3)),IF(LEN(Tableau2[[#This Row],[req. technique]])<=4,9999,VLOOKUP(RIGHT(Tableau2[[#This Row],[req. technique]],-7+LEN(Tableau2[[#This Row],[req. technique]])),Tableau1[],3))) -> 27 | AI37: =MAX(Tableau2[[#This Row],[Bonus talisman bâton 1]:[Bonus talisman dé 5]])+IF(Tableau2[[#This Row],[CT dé applicable?]]<>"",'valeurs casting'!$K$1,0) -> 11 | AJ37: Aq | AU37: x | AV37: =IF(AJ37<>"",VLOOKUP(AJ37,'valeurs casting'!$E$2:$F$9,2),0) -> 4 | AW37: =IF(AK37<>"",VLOOKUP(AK37,'valeurs casting'!$E$2:$F$9,2),0) -> 0 | AX37: =IF(AL37<>"",VLOOKUP(AL37,'valeurs casting'!$E$2:$F$9,2),0) -> 0 | AY37: =IF(AM37<>"",VLOOKUP(AM37,'valeurs casting'!$E$2:$F$9,2),0) -> 0 | AZ37: =IF(AN37<>"",VLOOKUP(AN37,'valeurs casting'!$E$2:$F$9,2),0) -> 0 | BA37: =IF(AO37<>"",VLOOKUP(AO37,'valeurs casting'!$E$2:$F$9,2),0) -> 0 | BB37: =IF(AP37<>"",VLOOKUP(AP37,'valeurs casting'!$G$2:$H$9,2),0) -> 0 | BC37: =IF(AQ37<>"",VLOOKUP(AQ37,'valeurs casting'!$G$2:$H$9,2),0) -> 0 | BD37: =IF(AR37<>"",VLOOKUP(AR37,'valeurs casting'!$G$2:$H$9,2),0) -> 0 | BE37: =IF(AS37<>"",VLOOKUP(AS37,'valeurs casting'!$G$2:$H$9,2),0) -> 0 | BF37: =IF(AT37<>"",VLOOKUP(AT37,'valeurs casting'!$G$2:$H$9,2),0) -> 0
A38: Etincelle de Razal Wauke | B38: Cr | D38: Ig | F38: =Tableau2[[#This Row],[Technique]]&IF(Tableau2[[#This Row],[req. technique]]<>"","("&Tableau2[[#This Row],[req. technique]]&")","")&Tableau2[[#This Row],[Forme]]&IF(Tableau2[[#This Row],[req. forme]]<>"","("&Tableau2[[#This Row],[req. forme]]&")","") -> CrIg | G38: 15 | H38: 5 | J38: voice | K38: momentané | L38: individu | S38: =IF(IF(Tableau2[[#This Row],[Niveau base]]<5,VLOOKUP(Tableau2[[#This Row],[Niveau base]],'valeurs casting'!$J$5:$K$9,2),Tableau2[[#This Row],[Niveau base]])+5*(SUM(Tableau2[[#This Row],[taille]:[valeur]])+VLOOKUP(Tableau2[[#This Row],[portée]],'valeurs casting'!$J$11:$K$16,2)+VLOOKUP(Tableau2[[#This Row],[durée]],'valeurs casting'!$J$17:$K$24,2)+VLOOKUP(Tableau2[[#This Row],[cible]],'valeurs casting'!$J$25:$K$35,2))<5,VLOOKUP(IF(Tableau2[[#This Row],[Niveau base]]<5,VLOOKUP(Tableau2[[#This Row],[Niveau base]],'valeurs casting'!$J$5:$K$9,2),Tableau2[[#This Row],[Niveau base]])+5*(SUM(Tableau2[[#This Row],[taille]:[valeur]])+VLOOKUP(Tableau2[[#This Row],[portée]],'valeurs casting'!$J$11:$K$16,2)+VLOOKUP(Tableau2[[#This Row],[durée]],'valeurs casting'!$J$17:$K$24,2)+VLOOKUP(Tableau2[[#This Row],[cible]],'valeurs casting'!$J$25:$K$35,2)),'valeurs casting'!$K$5:$L$9,2),IF(Tableau2[[#This Row],[Niveau base]]<5,VLOOKUP(Tableau2[[#This Row],[Niveau base]],'valeurs casting'!$J$5:$K$9,2),Tableau2[[#This Row],[Niveau base]])+5*(SUM(Tableau2[[#This Row],[taille]:[valeur]])+VLOOKUP(Tableau2[[#This Row],[portée]],'valeurs casting'!$J$11:$K$16,2)+VLOOKUP(Tableau2[[#This Row],[durée]],'valeurs casting'!$J$17:$K$24,2)+VLOOKUP(Tableau2[[#This Row],[cible]],'valeurs casting'!$J$25:$K$35,2))) -> 15 | U38: met le feu à un objet peu inflammable | W38: =IF(Tableau2[[#This Row],[XP mastery]]=0,"",TRUNC((SQRT(8*(Tableau2[[#This Row],[XP mastery]]/5)+1)-1)/2)) | AH38: ='valeurs casting'!$K$2+MIN(VLOOKUP(Tableau2[[#This Row],[Technique]],Tableau1[],3),IF(Tableau2[[#This Row],[req. technique]]="",9999,VLOOKUP(LEFT(Tableau2[[#This Row],[req. technique]],2),Tableau1[],3)),IF(LEN(Tableau2[[#This Row],[req. technique]])<=2,9999,VLOOKUP(LEFT(RIGHT(Tableau2[[#This Row],[req. technique]],-2+LEN(Tableau2[[#This Row],[req. technique]])),2),Tableau1[],3)),IF(LEN(Tableau2[[#This Row],[req. technique]])<=4,9999,VLOOKUP(RIGHT(Tableau2[[#This Row],[req. technique]],-7+LEN(Tableau2[[#This Row],[req. technique]])),Tableau1[],3))) -> 27 | AI38: =MAX(Tableau2[[#This Row],[Bonus talisman bâton 1]:[Bonus talisman dé 5]])+IF(Tableau2[[#This Row],[CT dé applicable?]]<>"",'valeurs casting'!$K$1,0) -> 13 | AJ38: fire | AP38: Ig | AU38: x | AV38: =IF(AJ38<>"",VLOOKUP(AJ38,'valeurs casting'!$E$2:$F$9,2),0) -> 6 | AW38: =IF(AK38<>"",VLOOKUP(AK38,'valeurs casting'!$E$2:$F$9,2),0) -> 0 | AX38: =IF(AL38<>"",VLOOKUP(AL38,'valeurs casting'!$E$2:$F$9,2),0) -> 0 | AY38: =IF(AM38<>"",VLOOKUP(AM38,'valeurs casting'!$E$2:$F$9,2),0) -> 0 | AZ38: =IF(AN38<>"",VLOOKUP(AN38,'valeurs casting'!$E$2:$F$9,2),0) -> 0 | BA38: =IF(AO38<>"",VLOOKUP(AO38,'valeurs casting'!$E$2:$F$9,2),0) -> 0 | BB38: =IF(AP38<>"",VLOOKUP(AP38,'valeurs casting'!$G$2:$H$9,2),0) -> 4 | BC38: =IF(AQ38<>"",VLOOKUP(AQ38,'valeurs casting'!$G$2:$H$9,2),0) -> 0 | BD38: =IF(AR38<>"",VLOOKUP(AR38,'valeurs casting'!$G$2:$H$9,2),0) -> 0 | BE38: =IF(AS38<>"",VLOOKUP(AS38,'valeurs casting'!$G$2:$H$9,2),0) -> 0 | BF38: =IF(AT38<>"",VLOOKUP(AT38,'valeurs casting'!$G$2:$H$9,2),0) -> 0
A39: Pilum of fire | B39: Cr | D39: Ig | F39: =Tableau2[[#This Row],[Technique]]&IF(Tableau2[[#This Row],[req. technique]]<>"","("&Tableau2[[#This Row],[req. technique]]&")","")&Tableau2[[#This Row],[Forme]]&IF(Tableau2[[#This Row],[req. forme]]<>"","("&Tableau2[[#This Row],[req. forme]]&")","") -> CrIg | G39: 20 | H39: 10 | J39: voice | K39: momentané | L39: individu | S39: =IF(IF(Tableau2[[#This Row],[Niveau base]]<5,VLOOKUP(Tableau2[[#This Row],[Niveau base]],'valeurs casting'!$J$5:$K$9,2),Tableau2[[#This Row],[Niveau base]])+5*(SUM(Tableau2[[#This Row],[taille]:[valeur]])+VLOOKUP(Tableau2[[#This Row],[portée]],'valeurs casting'!$J$11:$K$16,2)+VLOOKUP(Tableau2[[#This Row],[durée]],'valeurs casting'!$J$17:$K$24,2)+VLOOKUP(Tableau2[[#This Row],[cible]],'valeurs casting'!$J$25:$K$35,2))<5,VLOOKUP(IF(Tableau2[[#This Row],[Niveau base]]<5,VLOOKUP(Tableau2[[#This Row],[Niveau base]],'valeurs casting'!$J$5:$K$9,2),Tableau2[[#This Row],[Niveau base]])+5*(SUM(Tableau2[[#This Row],[taille]:[valeur]])+VLOOKUP(Tableau2[[#This Row],[portée]],'valeurs casting'!$J$11:$K$16,2)+VLOOKUP(Tableau2[[#This Row],[durée]],'valeurs casting'!$J$17:$K$24,2)+VLOOKUP(Tableau2[[#This Row],[cible]],'valeurs casting'!$J$25:$K$35,2)),'valeurs casting'!$K$5:$L$9,2),IF(Tableau2[[#This Row],[Niveau base]]<5,VLOOKUP(Tableau2[[#This Row],[Niveau base]],'valeurs casting'!$J$5:$K$9,2),Tableau2[[#This Row],[Niveau base]])+5*(SUM(Tableau2[[#This Row],[taille]:[valeur]])+VLOOKUP(Tableau2[[#This Row],[portée]],'valeurs casting'!$J$11:$K$16,2)+VLOOKUP(Tableau2[[#This Row],[durée]],'valeurs casting'!$J$17:$K$24,2)+VLOOKUP(Tableau2[[#This Row],[cible]],'valeurs casting'!$J$25:$K$35,2))) -> 20 | U39: +15 dégâts (ArM5 p140). | W39: =IF(Tableau2[[#This Row],[XP mastery]]=0,"",TRUNC((SQRT(8*(Tableau2[[#This Row],[XP mastery]]/5)+1)-1)/2)) | AH39: ='valeurs casting'!$K$2+MIN(VLOOKUP(Tableau2[[#This Row],[Technique]],Tableau1[],3),IF(Tableau2[[#This Row],[req. technique]]="",9999,VLOOKUP(LEFT(Tableau2[[#This Row],[req. technique]],2),Tableau1[],3)),IF(LEN(Tableau2[[#This Row],[req. technique]])<=2,9999,VLOOKUP(LEFT(RIGHT(Tableau2[[#This Row],[req. technique]],-2+LEN(Tableau2[[#This Row],[req. technique]])),2),Tableau1[],3)),IF(LEN(Tableau2[[#This Row],[req. technique]])<=4,9999,VLOOKUP(RIGHT(Tableau2[[#This Row],[req. technique]],-7+LEN(Tableau2[[#This Row],[req. technique]])),Tableau1[],3))) -> 27 | AI39: =MAX(Tableau2[[#This Row],[Bonus talisman bâton 1]:[Bonus talisman dé 5]])+IF(Tableau2[[#This Row],[CT dé applicable?]]<>"",'valeurs casting'!$K$1,0) -> 13 | AJ39: fire | AP39: Ig | AU39: x | AV39: =IF(AJ39<>"",VLOOKUP(AJ39,'valeurs casting'!$E$2:$F$9,2),0) -> 6 | AW39: =IF(AK39<>"",VLOOKUP(AK39,'valeurs casting'!$E$2:$F$9,2),0) -> 0 | AX39: =IF(AL39<>"",VLOOKUP(AL39,'valeurs casting'!$E$2:$F$9,2),0) -> 0 | AY39: =IF(AM39<>"",VLOOKUP(AM39,'valeurs casting'!$E$2:$F$9,2),0) -> 0 | AZ39: =IF(AN39<>"",VLOOKUP(AN39,'valeurs casting'!$E$2:$F$9,2),0) -> 0 | BA39: =IF(AO39<>"",VLOOKUP(AO39,'valeurs casting'!$E$2:$F$9,2),0) -> 0 | BB39: =IF(AP39<>"",VLOOKUP(AP39,'valeurs casting'!$G$2:$H$9,2),0) -> 4 | BC39: =IF(AQ39<>"",VLOOKUP(AQ39,'valeurs casting'!$G$2:$H$9,2),0) -> 0 | BD39: =IF(AR39<>"",VLOOKUP(AR39,'valeurs casting'!$G$2:$H$9,2),0) -> 0 | BE39: =IF(AS39<>"",VLOOKUP(AS39,'valeurs casting'!$G$2:$H$9,2),0) -> 0 | BF39: =IF(AT39<>"",VLOOKUP(AT39,'valeurs casting'!$G$2:$H$9,2),0) -> 0
A40: Arrow of lava | B40: Cr | D40: Ig | E40: Aq | F40: =Tableau2[[#This Row],[Technique]]&IF(Tableau2[[#This Row],[req. technique]]<>"","("&Tableau2[[#This Row],[req. technique]]&")","")&Tableau2[[#This Row],[Forme]]&IF(Tableau2[[#This Row],[req. forme]]<>"","("&Tableau2[[#This Row],[req. forme]]&")","") -> CrIg(Aq) | G40: 20 | H40: 10 | J40: voice | K40: momentané | L40: individu | S40: =IF(IF(Tableau2[[#This Row],[Niveau base]]<5,VLOOKUP(Tableau2[[#This Row],[Niveau base]],'valeurs casting'!$J$5:$K$9,2),Tableau2[[#This Row],[Niveau base]])+5*(SUM(Tableau2[[#This Row],[taille]:[valeur]])+VLOOKUP(Tableau2[[#This Row],[portée]],'valeurs casting'!$J$11:$K$16,2)+VLOOKUP(Tableau2[[#This Row],[durée]],'valeurs casting'!$J$17:$K$24,2)+VLOOKUP(Tableau2[[#This Row],[cible]],'valeurs casting'!$J$25:$K$35,2))<5,VLOOKUP(IF(Tableau2[[#This Row],[Niveau base]]<5,VLOOKUP(Tableau2[[#This Row],[Niveau base]],'valeurs casting'!$J$5:$K$9,2),Tableau2[[#This Row],[Niveau base]])+5*(SUM(Tableau2[[#This Row],[taille]:[valeur]])+VLOOKUP(Tableau2[[#This Row],[portée]],'valeurs casting'!$J$11:$K$16,2)+VLOOKUP(Tableau2[[#This Row],[durée]],'valeurs casting'!$J$17:$K$24,2)+VLOOKUP(Tableau2[[#This Row],[cible]],'valeurs casting'!$J$25:$K$35,2)),'valeurs casting'!$K$5:$L$9,2),IF(Tableau2[[#This Row],[Niveau base]]<5,VLOOKUP(Tableau2[[#This Row],[Niveau base]],'valeurs casting'!$J$5:$K$9,2),Tableau2[[#This Row],[Niveau base]])+5*(SUM(Tableau2[[#This Row],[taille]:[valeur]])+VLOOKUP(Tableau2[[#This Row],[portée]],'valeurs casting'!$J$11:$K$16,2)+VLOOKUP(Tableau2[[#This Row],[durée]],'valeurs casting'!$J$17:$K$24,2)+VLOOKUP(Tableau2[[#This Row],[cible]],'valeurs casting'!$J$25:$K$35,2))) -> 20 | U40: This spell inflicts +15 damage if it penetrates in Ignem, or +8 if in Aquam (Ignem has priority). | W40: =IF(Tableau2[[#This Row],[XP mastery]]=0,"",TRUNC((SQRT(8*(Tableau2[[#This Row],[XP mastery]]/5)+1)-1)/2)) -> 3 | X40: 30 | Y40: x | Z40: x | AC40: x | AH40: ='valeurs casting'!$K$2+MIN(VLOOKUP(Tableau2[[#This Row],[Technique]],Tableau1[],3),IF(Tableau2[[#This Row],[req. technique]]="",9999,VLOOKUP(LEFT(Tableau2[[#This Row],[req. technique]],2),Tableau1[],3)),IF(LEN(Tableau2[[#This Row],[req. technique]])<=2,9999,VLOOKUP(LEFT(RIGHT(Tableau2[[#This Row],[req. technique]],-2+LEN(Tableau2[[#This Row],[req. technique]])),2),Tableau1[],3)),IF(LEN(Tableau2[[#This Row],[req. technique]])<=4,9999,VLOOKUP(RIGHT(Tableau2[[#This Row],[req. technique]],-7+LEN(Tableau2[[#This Row],[req. technique]])),Tableau1[],3))) -> 27 | AI40: =MAX(Tableau2[[#This Row],[Bonus talisman bâton 1]:[Bonus talisman dé 5]])+IF(Tableau2[[#This Row],[CT dé applicable?]]<>"",'valeurs casting'!$K$1,0) -> 11 | AP40: Ig | AU40: x | AV40: =IF(AJ40<>"",VLOOKUP(AJ40,'valeurs casting'!$E$2:$F$9,2),0) -> 0 | AW40: =IF(AK40<>"",VLOOKUP(AK40,'valeurs casting'!$E$2:$F$9,2),0) -> 0 | AX40: =IF(AL40<>"",VLOOKUP(AL40,'valeurs casting'!$E$2:$F$9,2),0) -> 0 | AY40: =IF(AM40<>"",VLOOKUP(AM40,'valeurs casting'!$E$2:$F$9,2),0) -> 0 | AZ40: =IF(AN40<>"",VLOOKUP(AN40,'valeurs casting'!$E$2:$F$9,2),0) -> 0 | BA40: =IF(AO40<>"",VLOOKUP(AO40,'valeurs casting'!$E$2:$F$9,2),0) -> 0 | BB40: =IF(AP40<>"",VLOOKUP(AP40,'valeurs casting'!$G$2:$H$9,2),0) -> 4 | BC40: =IF(AQ40<>"",VLOOKUP(AQ40,'valeurs casting'!$G$2:$H$9,2),0) -> 0 | BD40: =IF(AR40<>"",VLOOKUP(AR40,'valeurs casting'!$G$2:$H$9,2),0) -> 0 | BE40: =IF(AS40<>"",VLOOKUP(AS40,'valeurs casting'!$G$2:$H$9,2),0) -> 0 | BF40: =IF(AT40<>"",VLOOKUP(AT40,'valeurs casting'!$G$2:$H$9,2),0) -> 0
A41: Spear of magma | B41: Cr | D41: Ig | E41: Te | F41: =Tableau2[[#This Row],[Technique]]&IF(Tableau2[[#This Row],[req. technique]]<>"","("&Tableau2[[#This Row],[req. technique]]&")","")&Tableau2[[#This Row],[Forme]]&IF(Tableau2[[#This Row],[req. forme]]<>"","("&Tableau2[[#This Row],[req. forme]]&")","") -> CrIg(Te) | G41: 35 | H41: 25 | J41: voice | K41: momentané | L41: individu | S41: =IF(IF(Tableau2[[#This Row],[Niveau base]]<5,VLOOKUP(Tableau2[[#This Row],[Niveau base]],'valeurs casting'!$J$5:$K$9,2),Tableau2[[#This Row],[Niveau base]])+5*(SUM(Tableau2[[#This Row],[taille]:[valeur]])+VLOOKUP(Tableau2[[#This Row],[portée]],'valeurs casting'!$J$11:$K$16,2)+VLOOKUP(Tableau2[[#This Row],[durée]],'valeurs casting'!$J$17:$K$24,2)+VLOOKUP(Tableau2[[#This Row],[cible]],'valeurs casting'!$J$25:$K$35,2))<5,VLOOKUP(IF(Tableau2[[#This Row],[Niveau base]]<5,VLOOKUP(Tableau2[[#This Row],[Niveau base]],'valeurs casting'!$J$5:$K$9,2),Tableau2[[#This Row],[Niveau base]])+5*(SUM(Tableau2[[#This Row],[taille]:[valeur]])+VLOOKUP(Tableau2[[#This Row],[portée]],'valeurs casting'!$J$11:$K$16,2)+VLOOKUP(Tableau2[[#This Row],[durée]],'valeurs casting'!$J$17:$K$24,2)+VLOOKUP(Tableau2[[#This Row],[cible]],'valeurs casting'!$J$25:$K$35,2)),'valeurs casting'!$K$5:$L$9,2),IF(Tableau2[[#This Row],[Niveau base]]<5,VLOOKUP(Tableau2[[#This Row],[Niveau base]],'valeurs casting'!$J$5:$K$9,2),Tableau2[[#This Row],[Niveau base]])+5*(SUM(Tableau2[[#This Row],[taille]:[valeur]])+VLOOKUP(Tableau2[[#This Row],[portée]],'valeurs casting'!$J$11:$K$16,2)+VLOOKUP(Tableau2[[#This Row],[durée]],'valeurs casting'!$J$17:$K$24,2)+VLOOKUP(Tableau2[[#This Row],[cible]],'valeurs casting'!$J$25:$K$35,2))) -> 35 | U41: This spells inflicts +30 damage if it penetrates in Ignem, or +15 if in Terram (Ignem has priority). | W41: =IF(Tableau2[[#This Row],[XP mastery]]=0,"",TRUNC((SQRT(8*(Tableau2[[#This Row],[XP mastery]]/5)+1)-1)/2)) -> 4 | X41: 60 | Y41: x | Z41: x | AA41: x | AC41: x | AH41: ='valeurs casting'!$K$2+MIN(VLOOKUP(Tableau2[[#This Row],[Technique]],Tableau1[],3),IF(Tableau2[[#This Row],[req. technique]]="",9999,VLOOKUP(LEFT(Tableau2[[#This Row],[req. technique]],2),Tableau1[],3)),IF(LEN(Tableau2[[#This Row],[req. technique]])<=2,9999,VLOOKUP(LEFT(RIGHT(Tableau2[[#This Row],[req. technique]],-2+LEN(Tableau2[[#This Row],[req. technique]])),2),Tableau1[],3)),IF(LEN(Tableau2[[#This Row],[req. technique]])<=4,9999,VLOOKUP(RIGHT(Tableau2[[#This Row],[req. technique]],-7+LEN(Tableau2[[#This Row],[req. technique]])),Tableau1[],3))) -> 27 | AI41: =MAX(Tableau2[[#This Row],[Bonus talisman bâton 1]:[Bonus talisman dé 5]])+IF(Tableau2[[#This Row],[CT dé applicable?]]<>"",'valeurs casting'!$K$1,0) -> 11 | AP41: Ig | AU41: x | AV41: =IF(AJ41<>"",VLOOKUP(AJ41,'valeurs casting'!$E$2:$F$9,2),0) -> 0 | AW41: =IF(AK41<>"",VLOOKUP(AK41,'valeurs casting'!$E$2:$F$9,2),0) -> 0 | AX41: =IF(AL41<>"",VLOOKUP(AL41,'valeurs casting'!$E$2:$F$9,2),0) -> 0 | AY41: =IF(AM41<>"",VLOOKUP(AM41,'valeurs casting'!$E$2:$F$9,2),0) -> 0 | AZ41: =IF(AN41<>"",VLOOKUP(AN41,'valeurs casting'!$E$2:$F$9,2),0) -> 0 | BA41: =IF(AO41<>"",VLOOKUP(AO41,'valeurs casting'!$E$2:$F$9,2),0) -> 0 | BB41: =IF(AP41<>"",VLOOKUP(AP41,'valeurs casting'!$G$2:$H$9,2),0) -> 4 | BC41: =IF(AQ41<>"",VLOOKUP(AQ41,'valeurs casting'!$G$2:$H$9,2),0) -> 0 | BD41: =IF(AR41<>"",VLOOKUP(AR41,'valeurs casting'!$G$2:$H$9,2),0) -> 0 | BE41: =IF(AS41<>"",VLOOKUP(AS41,'valeurs casting'!$G$2:$H$9,2),0) -> 0 | BF41: =IF(AT41<>"",VLOOKUP(AT41,'valeurs casting'!$G$2:$H$9,2),0) -> 0
A42: Le feu incandescant de Razal Wauke | B42: Cr | D42: Ig | F42: =Tableau2[[#This Row],[Technique]]&IF(Tableau2[[#This Row],[req. technique]]<>"","("&Tableau2[[#This Row],[req. technique]]&")","")&Tableau2[[#This Row],[Forme]]&IF(Tableau2[[#This Row],[req. forme]]<>"","("&Tableau2[[#This Row],[req. forme]]&")","") -> CrIg | G42: 75 | H42: 65 | J42: voice | K42: momentané | L42: individu | S42: =IF(IF(Tableau2[[#This Row],[Niveau base]]<5,VLOOKUP(Tableau2[[#This Row],[Niveau base]],'valeurs casting'!$J$5:$K$9,2),Tableau2[[#This Row],[Niveau base]])+5*(SUM(Tableau2[[#This Row],[taille]:[valeur]])+VLOOKUP(Tableau2[[#This Row],[portée]],'valeurs casting'!$J$11:$K$16,2)+VLOOKUP(Tableau2[[#This Row],[durée]],'valeurs casting'!$J$17:$K$24,2)+VLOOKUP(Tableau2[[#This Row],[cible]],'valeurs casting'!$J$25:$K$35,2))<5,VLOOKUP(IF(Tableau2[[#This Row],[Niveau base]]<5,VLOOKUP(Tableau2[[#This Row],[Niveau base]],'valeurs casting'!$J$5:$K$9,2),Tableau2[[#This Row],[Niveau base]])+5*(SUM(Tableau2[[#This Row],[taille]:[valeur]])+VLOOKUP(Tableau2[[#This Row],[portée]],'valeurs casting'!$J$11:$K$16,2)+VLOOKUP(Tableau2[[#This Row],[durée]],'valeurs casting'!$J$17:$K$24,2)+VLOOKUP(Tableau2[[#This Row],[cible]],'valeurs casting'!$J$25:$K$35,2)),'valeurs casting'!$K$5:$L$9,2),IF(Tableau2[[#This Row],[Niveau base]]<5,VLOOKUP(Tableau2[[#This Row],[Niveau base]],'valeurs casting'!$J$5:$K$9,2),Tableau2[[#This Row],[Niveau base]])+5*(SUM(Tableau2[[#This Row],[taille]:[valeur]])+VLOOKUP(Tableau2[[#This Row],[portée]],'valeurs casting'!$J$11:$K$16,2)+VLOOKUP(Tableau2[[#This Row],[durée]],'valeurs casting'!$J$17:$K$24,2)+VLOOKUP(Tableau2[[#This Row],[cible]],'valeurs casting'!$J$25:$K$35,2))) -> 75 | T42: x | U42: ce sort similaire au pilum inflige 70 dégâts de feu à sa cible à portée voice | V42: mse : le rituel prend un niveau de fatigue de plus que normal. | W42: =IF(Tableau2[[#This Row],[XP mastery]]=0,"",TRUNC((SQRT(8*(Tableau2[[#This Row],[XP mastery]]/5)+1)-1)/2)) | AH42: ='valeurs casting'!$K$2+MIN(VLOOKUP(Tableau2[[#This Row],[Technique]],Tableau1[],3),IF(Tableau2[[#This Row],[req. technique]]="",9999,VLOOKUP(LEFT(Tableau2[[#This Row],[req. technique]],2),Tableau1[],3)),IF(LEN(Tableau2[[#This Row],[req. technique]])<=2,9999,VLOOKUP(LEFT(RIGHT(Tableau2[[#This Row],[req. technique]],-2+LEN(Tableau2[[#This Row],[req. technique]])),2),Tableau1[],3)),IF(LEN(Tableau2[[#This Row],[req. technique]])<=4,9999,VLOOKUP(RIGHT(Tableau2[[#This Row],[req. technique]],-7+LEN(Tableau2[[#This Row],[req. technique]])),Tableau1[],3))) -> 27 | AI42: =MAX(Tableau2[[#This Row],[Bonus talisman bâton 1]:[Bonus talisman dé 5]])+IF(Tableau2[[#This Row],[CT dé applicable?]]<>"",'valeurs casting'!$K$1,0) -> 13 | AJ42: fire | AP42: Ig | AU42: x | AV42: =IF(AJ42<>"",VLOOKUP(AJ42,'valeurs casting'!$E$2:$F$9,2),0) -> 6 | AW42: =IF(AK42<>"",VLOOKUP(AK42,'valeurs casting'!$E$2:$F$9,2),0) -> 0 | AX42: =IF(AL42<>"",VLOOKUP(AL42,'valeurs casting'!$E$2:$F$9,2),0) -> 0 | AY42: =IF(AM42<>"",VLOOKUP(AM42,'valeurs casting'!$E$2:$F$9,2),0) -> 0 | AZ42: =IF(AN42<>"",VLOOKUP(AN42,'valeurs casting'!$E$2:$F$9,2),0) -> 0 | BA42: =IF(AO42<>"",VLOOKUP(AO42,'valeurs casting'!$E$2:$F$9,2),0) -> 0 | BB42: =IF(AP42<>"",VLOOKUP(AP42,'valeurs casting'!$G$2:$H$9,2),0) -> 4 | BC42: =IF(AQ42<>"",VLOOKUP(AQ42,'valeurs casting'!$G$2:$H$9,2),0) -> 0 | BD42: =IF(AR42<>"",VLOOKUP(AR42,'valeurs casting'!$G$2:$H$9,2),0) -> 0 | BE42: =IF(AS42<>"",VLOOKUP(AS42,'valeurs casting'!$G$2:$H$9,2),0) -> 0 | BF42: =IF(AT42<>"",VLOOKUP(AT42,'valeurs casting'!$G$2:$H$9,2),0) -> 0
A43: Vision éclairée de Razal Wauke | B43: In | D43: Au | E43: Aq | F43: =Tableau2[[#This Row],[Technique]]&IF(Tableau2[[#This Row],[req. technique]]<>"","("&Tableau2[[#This Row],[req. technique]]&")","")&Tableau2[[#This Row],[Forme]]&IF(Tableau2[[#This Row],[req. forme]]<>"","("&Tableau2[[#This Row],[req. forme]]&")","") -> InAu(Aq) | G43: 15 | H43: 5 | J43: pers | K43: sun | L43: individu | S43: =IF(IF(Tableau2[[#This Row],[Niveau base]]<5,VLOOKUP(Tableau2[[#This Row],[Niveau base]],'valeurs casting'!$J$5:$K$9,2),Tableau2[[#This Row],[Niveau base]])+5*(SUM(Tableau2[[#This Row],[taille]:[valeur]])+VLOOKUP(Tableau2[[#This Row],[portée]],'valeurs casting'!$J$11:$K$16,2)+VLOOKUP(Tableau2[[#This Row],[durée]],'valeurs casting'!$J$17:$K$24,2)+VLOOKUP(Tableau2[[#This Row],[cible]],'valeurs casting'!$J$25:$K$35,2))<5,VLOOKUP(IF(Tableau2[[#This Row],[Niveau base]]<5,VLOOKUP(Tableau2[[#This Row],[Niveau base]],'valeurs casting'!$J$5:$K$9,2),Tableau2[[#This Row],[Niveau base]])+5*(SUM(Tableau2[[#This Row],[taille]:[valeur]])+VLOOKUP(Tableau2[[#This Row],[portée]],'valeurs casting'!$J$11:$K$16,2)+VLOOKUP(Tableau2[[#This Row],[durée]],'valeurs casting'!$J$17:$K$24,2)+VLOOKUP(Tableau2[[#This Row],[cible]],'valeurs casting'!$J$25:$K$35,2)),'valeurs casting'!$K$5:$L$9,2),IF(Tableau2[[#This Row],[Niveau base]]<5,VLOOKUP(Tableau2[[#This Row],[Niveau base]],'valeurs casting'!$J$5:$K$9,2),Tableau2[[#This Row],[Niveau base]])+5*(SUM(Tableau2[[#This Row],[taille]:[valeur]])+VLOOKUP(Tableau2[[#This Row],[portée]],'valeurs casting'!$J$11:$K$16,2)+VLOOKUP(Tableau2[[#This Row],[durée]],'valeurs casting'!$J$17:$K$24,2)+VLOOKUP(Tableau2[[#This Row],[cible]],'valeurs casting'!$J$25:$K$35,2))) -> 15 | U43: Allows to see through air and water (combines sight of the naiad and true sight of the air). | W43: =IF(Tableau2[[#This Row],[XP mastery]]=0,"",TRUNC((SQRT(8*(Tableau2[[#This Row],[XP mastery]]/5)+1)-1)/2)) | AH43: ='valeurs casting'!$K$2+MIN(VLOOKUP(Tableau2[[#This Row],[Technique]],Tableau1[],3),IF(Tableau2[[#This Row],[req. technique]]="",9999,VLOOKUP(LEFT(Tableau2[[#This Row],[req. technique]],2),Tableau1[],3)),IF(LEN(Tableau2[[#This Row],[req. technique]])<=2,9999,VLOOKUP(LEFT(RIGHT(Tableau2[[#This Row],[req. technique]],-2+LEN(Tableau2[[#This Row],[req. technique]])),2),Tableau1[],3)),IF(LEN(Tableau2[[#This Row],[req. technique]])<=4,9999,VLOOKUP(RIGHT(Tableau2[[#This Row],[req. technique]],-7+LEN(Tableau2[[#This Row],[req. technique]])),Tableau1[],3))) -> 19 | AI43: =MAX(Tableau2[[#This Row],[Bonus talisman bâton 1]:[Bonus talisman dé 5]])+IF(Tableau2[[#This Row],[CT dé applicable?]]<>"",'valeurs casting'!$K$1,0) -> 11 | AJ43: Aq | AP43: In | AU43: x | AV43: =IF(AJ43<>"",VLOOKUP(AJ43,'valeurs casting'!$E$2:$F$9,2),0) -> 4 | AW43: =IF(AK43<>"",VLOOKUP(AK43,'valeurs casting'!$E$2:$F$9,2),0) -> 0 | AX43: =IF(AL43<>"",VLOOKUP(AL43,'valeurs casting'!$E$2:$F$9,2),0) -> 0 | AY43: =IF(AM43<>"",VLOOKUP(AM43,'valeurs casting'!$E$2:$F$9,2),0) -> 0 | AZ43: =IF(AN43<>"",VLOOKUP(AN43,'valeurs casting'!$E$2:$F$9,2),0) -> 0 | BA43: =IF(AO43<>"",VLOOKUP(AO43,'valeurs casting'!$E$2:$F$9,2),0) -> 0 | BB43: =IF(AP43<>"",VLOOKUP(AP43,'valeurs casting'!$G$2:$H$9,2),0) -> 2 | BC43: =IF(AQ43<>"",VLOOKUP(AQ43,'valeurs casting'!$G$2:$H$9,2),0) -> 0 | BD43: =IF(AR43<>"",VLOOKUP(AR43,'valeurs casting'!$G$2:$H$9,2),0) -> 0 | BE43: =IF(AS43<>"",VLOOKUP(AS43,'valeurs casting'!$G$2:$H$9,2),0) -> 0 | BF43: =IF(AT43<>"",VLOOKUP(AT43,'valeurs casting'!$G$2:$H$9,2),0) -> 0
A44: Ward contre la pluie de Razal Wauke | B44: Re | D44: Au | E44: Ig | F44: =Tableau2[[#This Row],[Technique]]&IF(Tableau2[[#This Row],[req. technique]]<>"","("&Tableau2[[#This Row],[req. technique]]&")","")&Tableau2[[#This Row],[Forme]]&IF(Tableau2[[#This Row],[req. forme]]<>"","("&Tableau2[[#This Row],[req. forme]]&")","") -> ReAu(Ig) | G44: 10 | H44: 4 | J44: pers | K44: sun | L44: individu | S44: =IF(IF(Tableau2[[#This Row],[Niveau base]]<5,VLOOKUP(Tableau2[[#This Row],[Niveau base]],'valeurs casting'!$J$5:$K$9,2),Tableau2[[#This Row],[Niveau base]])+5*(SUM(Tableau2[[#This Row],[taille]:[valeur]])+VLOOKUP(Tableau2[[#This Row],[portée]],'valeurs casting'!$J$11:$K$16,2)+VLOOKUP(Tableau2[[#This Row],[durée]],'valeurs casting'!$J$17:$K$24,2)+VLOOKUP(Tableau2[[#This Row],[cible]],'valeurs casting'!$J$25:$K$35,2))<5,VLOOKUP(IF(Tableau2[[#This Row],[Niveau base]]<5,VLOOKUP(Tableau2[[#This Row],[Niveau base]],'valeurs casting'!$J$5:$K$9,2),Tableau2[[#This Row],[Niveau base]])+5*(SUM(Tableau2[[#This Row],[taille]:[valeur]])+VLOOKUP(Tableau2[[#This Row],[portée]],'valeurs casting'!$J$11:$K$16,2)+VLOOKUP(Tableau2[[#This Row],[durée]],'valeurs casting'!$J$17:$K$24,2)+VLOOKUP(Tableau2[[#This Row],[cible]],'valeurs casting'!$J$25:$K$35,2)),'valeurs casting'!$K$5:$L$9,2),IF(Tableau2[[#This Row],[Niveau base]]<5,VLOOKUP(Tableau2[[#This Row],[Niveau base]],'valeurs casting'!$J$5:$K$9,2),Tableau2[[#This Row],[Niveau base]])+5*(SUM(Tableau2[[#This Row],[taille]:[valeur]])+VLOOKUP(Tableau2[[#This Row],[portée]],'valeurs casting'!$J$11:$K$16,2)+VLOOKUP(Tableau2[[#This Row],[durée]],'valeurs casting'!$J$17:$K$24,2)+VLOOKUP(Tableau2[[#This Row],[cible]],'valeurs casting'!$J$25:$K$35,2))) -> 10 | U44: ArM5 p 128. | V44: la cible est protégée contre la boue (msb). | W44: =IF(Tableau2[[#This Row],[XP mastery]]=0,"",TRUNC((SQRT(8*(Tableau2[[#This Row],[XP mastery]]/5)+1)-1)/2)) | AH44: ='valeurs casting'!$K$2+MIN(VLOOKUP(Tableau2[[#This Row],[Technique]],Tableau1[],3),IF(Tableau2[[#This Row],[req. technique]]="",9999,VLOOKUP(LEFT(Tableau2[[#This Row],[req. technique]],2),Tableau1[],3)),IF(LEN(Tableau2[[#This Row],[req. technique]])<=2,9999,VLOOKUP(LEFT(RIGHT(Tableau2[[#This Row],[req. technique]],-2+LEN(Tableau2[[#This Row],[req. technique]])),2),Tableau1[],3)),IF(LEN(Tableau2[[#This Row],[req. technique]])<=4,9999,VLOOKUP(RIGHT(Tableau2[[#This Row],[req. technique]],-7+LEN(Tableau2[[#This Row],[req. technique]])),Tableau1[],3))) -> 20 | AI44: =MAX(Tableau2[[#This Row],[Bonus talisman bâton 1]:[Bonus talisman dé 5]])+IF(Tableau2[[#This Row],[CT dé applicable?]]<>"",'valeurs casting'!$K$1,0) -> 12 | AJ44: wards | AP44: Ig | AU44: x | AV44: =IF(AJ44<>"",VLOOKUP(AJ44,'valeurs casting'!$E$2:$F$9,2),0) -> 5 | AW44: =IF(AK44<>"",VLOOKUP(AK44,'valeurs casting'!$E$2:$F$9,2),0) -> 0 | AX44: =IF(AL44<>"",VLOOKUP(AL44,'valeurs casting'!$E$2:$F$9,2),0) -> 0 | AY44: =IF(AM44<>"",VLOOKUP(AM44,'valeurs casting'!$E$2:$F$9,2),0) -> 0 | AZ44: =IF(AN44<>"",VLOOKUP(AN44,'valeurs casting'!$E$2:$F$9,2),0) -> 0 | BA44: =IF(AO44<>"",VLOOKUP(AO44,'valeurs casting'!$E$2:$F$9,2),0) -> 0 | BB44: =IF(AP44<>"",VLOOKUP(AP44,'valeurs casting'!$G$2:$H$9,2),0) -> 4 | BC44: =IF(AQ44<>"",VLOOKUP(AQ44,'valeurs casting'!$G$2:$H$9,2),0) -> 0 | BD44: =IF(AR44<>"",VLOOKUP(AR44,'valeurs casting'!$G$2:$H$9,2),0) -> 0 | BE44: =IF(AS44<>"",VLOOKUP(AS44,'valeurs casting'!$G$2:$H$9,2),0) -> 0 | BF44: =IF(AT44<>"",VLOOKUP(AT44,'valeurs casting'!$G$2:$H$9,2),0) -> 0
A45: Charge of the hot angry winds | B45: Cr | D45: Au | E45: Ig | F45: =Tableau2[[#This Row],[Technique]]&IF(Tableau2[[#This Row],[req. technique]]<>"","("&Tableau2[[#This Row],[req. technique]]&")","")&Tableau2[[#This Row],[Forme]]&IF(Tableau2[[#This Row],[req. forme]]<>"","("&Tableau2[[#This Row],[req. forme]]&")","") -> CrAu(Ig) | G45: 15 | H45: 3 | J45: voice | K45: conc | L45: individu | Q45: 1 | R45: unnatural | S45: =IF(IF(Tableau2[[#This Row],[Niveau base]]<5,VLOOKUP(Tableau2[[#This Row],[Niveau base]],'valeurs casting'!$J$5:$K$9,2),Tableau2[[#This Row],[Niveau base]])+5*(SUM(Tableau2[[#This Row],[taille]:[valeur]])+VLOOKUP(Tableau2[[#This Row],[portée]],'valeurs casting'!$J$11:$K$16,2)+VLOOKUP(Tableau2[[#This Row],[durée]],'valeurs casting'!$J$17:$K$24,2)+VLOOKUP(Tableau2[[#This Row],[cible]],'valeurs casting'!$J$25:$K$35,2))<5,VLOOKUP(IF(Tableau2[[#This Row],[Niveau base]]<5,VLOOKUP(Tableau2[[#This Row],[Niveau base]],'valeurs casting'!$J$5:$K$9,2),Tableau2[[#This Row],[Niveau base]])+5*(SUM(Tableau2[[#This Row],[taille]:[valeur]])+VLOOKUP(Tableau2[[#This Row],[portée]],'valeurs casting'!$J$11:$K$16,2)+VLOOKUP(Tableau2[[#This Row],[durée]],'valeurs casting'!$J$17:$K$24,2)+VLOOKUP(Tableau2[[#This Row],[cible]],'valeurs casting'!$J$25:$K$35,2)),'valeurs casting'!$K$5:$L$9,2),IF(Tableau2[[#This Row],[Niveau base]]<5,VLOOKUP(Tableau2[[#This Row],[Niveau base]],'valeurs casting'!$J$5:$K$9,2),Tableau2[[#This Row],[Niveau base]])+5*(SUM(Tableau2[[#This Row],[taille]:[valeur]])+VLOOKUP(Tableau2[[#This Row],[portée]],'valeurs casting'!$J$11:$K$16,2)+VLOOKUP(Tableau2[[#This Row],[durée]],'valeurs casting'!$J$17:$K$24,2)+VLOOKUP(Tableau2[[#This Row],[cible]],'valeurs casting'!$J$25:$K$35,2))) -> 15 | U45: ArM5 p. 125 | W45: =IF(Tableau2[[#This Row],[XP mastery]]=0,"",TRUNC((SQRT(8*(Tableau2[[#This Row],[XP mastery]]/5)+1)-1)/2)) | AH45: ='valeurs casting'!$K$2+MIN(VLOOKUP(Tableau2[[#This Row],[Technique]],Tableau1[],3),IF(Tableau2[[#This Row],[req. technique]]="",9999,VLOOKUP(LEFT(Tableau2[[#This Row],[req. technique]],2),Tableau1[],3)),IF(LEN(Tableau2[[#This Row],[req. technique]])<=2,9999,VLOOKUP(LEFT(RIGHT(Tableau2[[#This Row],[req. technique]],-2+LEN(Tableau2[[#This Row],[req. technique]])),2),Tableau1[],3)),IF(LEN(Tableau2[[#This Row],[req. technique]])<=4,9999,VLOOKUP(RIGHT(Tableau2[[#This Row],[req. technique]],-7+LEN(Tableau2[[#This Row],[req. technique]])),Tableau1[],3))) -> 27 | AI45: =MAX(Tableau2[[#This Row],[Bonus talisman bâton 1]:[Bonus talisman dé 5]])+IF(Tableau2[[#This Row],[CT dé applicable?]]<>"",'valeurs casting'!$K$1,0) -> 11 | AP45: Ig | AU45: x | AV45: =IF(AJ45<>"",VLOOKUP(AJ45,'valeurs casting'!$E$2:$F$9,2),0) -> 0 | AW45: =IF(AK45<>"",VLOOKUP(AK45,'valeurs casting'!$E$2:$F$9,2),0) -> 0 | AX45: =IF(AL45<>"",VLOOKUP(AL45,'valeurs casting'!$E$2:$F$9,2),0) -> 0 | AY45: =IF(AM45<>"",VLOOKUP(AM45,'valeurs casting'!$E$2:$F$9,2),0) -> 0 | AZ45: =IF(AN45<>"",VLOOKUP(AN45,'valeurs casting'!$E$2:$F$9,2),0) -> 0 | BA45: =IF(AO45<>"",VLOOKUP(AO45,'valeurs casting'!$E$2:$F$9,2),0) -> 0 | BB45: =IF(AP45<>"",VLOOKUP(AP45,'valeurs casting'!$G$2:$H$9,2),0) -> 4 | BC45: =IF(AQ45<>"",VLOOKUP(AQ45,'valeurs casting'!$G$2:$H$9,2),0) -> 0 | BD45: =IF(AR45<>"",VLOOKUP(AR45,'valeurs casting'!$G$2:$H$9,2),0) -> 0 | BE45: =IF(AS45<>"",VLOOKUP(AS45,'valeurs casting'!$G$2:$H$9,2),0) -> 0 | BF45: =IF(AT45<>"",VLOOKUP(AT45,'valeurs casting'!$G$2:$H$9,2),0) -> 0
A46: Ordre de Razal Wauke à l’obéissant animal | B46: Re | D46: An | F46: =Tableau2[[#This Row],[Technique]]&IF(Tableau2[[#This Row],[req. technique]]<>"","("&Tableau2[[#This Row],[req. technique]]&")","")&Tableau2[[#This Row],[Forme]]&IF(Tableau2[[#This Row],[req. forme]]<>"","("&Tableau2[[#This Row],[req. forme]]&")","") -> ReAn | G46: 30 | H46: 15 | J46: touch | K46: conc | L46: individu | M46: 1 | S46: =IF(IF(Tableau2[[#This Row],[Niveau base]]<5,VLOOKUP(Tableau2[[#This Row],[Niveau base]],'valeurs casting'!$J$5:$K$9,2),Tableau2[[#This Row],[Niveau base]])+5*(SUM(Tableau2[[#This Row],[taille]:[valeur]])+VLOOKUP(Tableau2[[#This Row],[portée]],'valeurs casting'!$J$11:$K$16,2)+VLOOKUP(Tableau2[[#This Row],[durée]],'valeurs casting'!$J$17:$K$24,2)+VLOOKUP(Tableau2[[#This Row],[cible]],'valeurs casting'!$J$25:$K$35,2))<5,VLOOKUP(IF(Tableau2[[#This Row],[Niveau base]]<5,VLOOKUP(Tableau2[[#This Row],[Niveau base]],'valeurs casting'!$J$5:$K$9,2),Tableau2[[#This Row],[Niveau base]])+5*(SUM(Tableau2[[#This Row],[taille]:[valeur]])+VLOOKUP(Tableau2[[#This Row],[portée]],'valeurs casting'!$J$11:$K$16,2)+VLOOKUP(Tableau2[[#This Row],[durée]],'valeurs casting'!$J$17:$K$24,2)+VLOOKUP(Tableau2[[#This Row],[cible]],'valeurs casting'!$J$25:$K$35,2)),'valeurs casting'!$K$5:$L$9,2),IF(Tableau2[[#This Row],[Niveau base]]<5,VLOOKUP(Tableau2[[#This Row],[Niveau base]],'valeurs casting'!$J$5:$K$9,2),Tableau2[[#This Row],[Niveau base]])+5*(SUM(Tableau2[[#This Row],[taille]:[valeur]])+VLOOKUP(Tableau2[[#This Row],[portée]],'valeurs casting'!$J$11:$K$16,2)+VLOOKUP(Tableau2[[#This Row],[durée]],'valeurs casting'!$J$17:$K$24,2)+VLOOKUP(Tableau2[[#This Row],[cible]],'valeurs casting'!$J$25:$K$35,2))) -> 30 | U46: Oblige un animal à accomplir un ordre complexe (comme « trouve telle personne »), mais pas vague (comme « protège moi ») | W46: =IF(Tableau2[[#This Row],[XP mastery]]=0,"",TRUNC((SQRT(8*(Tableau2[[#This Row],[XP mastery]]/5)+1)-1)/2)) | AH46: ='valeurs casting'!$K$2+MIN(VLOOKUP(Tableau2[[#This Row],[Technique]],Tableau1[],3),IF(Tableau2[[#This Row],[req. technique]]="",9999,VLOOKUP(LEFT(Tableau2[[#This Row],[req. technique]],2),Tableau1[],3)),IF(LEN(Tableau2[[#This Row],[req. technique]])<=2,9999,VLOOKUP(LEFT(RIGHT(Tableau2[[#This Row],[req. technique]],-2+LEN(Tableau2[[#This Row],[req. technique]])),2),Tableau1[],3)),IF(LEN(Tableau2[[#This Row],[req. technique]])<=4,9999,VLOOKUP(RIGHT(Tableau2[[#This Row],[req. technique]],-7+LEN(Tableau2[[#This Row],[req. technique]])),Tableau1[],3))) -> 20 | AI46: =MAX(Tableau2[[#This Row],[Bonus talisman bâton 1]:[Bonus talisman dé 5]])+IF(Tableau2[[#This Row],[CT dé applicable?]]<>"",'valeurs casting'!$K$1,0) -> 4 | AJ46: control things | AV46: =IF(AJ46<>"",VLOOKUP(AJ46,'valeurs casting'!$E$2:$F$9,2),0) -> 4 | AW46: =IF(AK46<>"",VLOOKUP(AK46,'valeurs casting'!$E$2:$F$9,2),0) -> 0 | AX46: =IF(AL46<>"",VLOOKUP(AL46,'valeurs casting'!$E$2:$F$9,2),0) -> 0 | AY46: =IF(AM46<>"",VLOOKUP(AM46,'valeurs casting'!$E$2:$F$9,2),0) -> 0 | AZ46: =IF(AN46<>"",VLOOKUP(AN46,'valeurs casting'!$E$2:$F$9,2),0) -> 0 | BA46: =IF(AO46<>"",VLOOKUP(AO46,'valeurs casting'!$E$2:$F$9,2),0) -> 0 | BB46: =IF(AP46<>"",VLOOKUP(AP46,'valeurs casting'!$G$2:$H$9,2),0) -> 0 | BC46: =IF(AQ46<>"",VLOOKUP(AQ46,'valeurs casting'!$G$2:$H$9,2),0) -> 0 | BD46: =IF(AR46<>"",VLOOKUP(AR46,'valeurs casting'!$G$2:$H$9,2),0) -> 0 | BE46: =IF(AS46<>"",VLOOKUP(AS46,'valeurs casting'!$G$2:$H$9,2),0) -> 0 | BF46: =IF(AT46<>"",VLOOKUP(AT46,'valeurs casting'!$G$2:$H$9,2),0) -> 0
A47: Whispering winds | B47: In | D47: Au | F47: =Tableau2[[#This Row],[Technique]]&IF(Tableau2[[#This Row],[req. technique]]<>"","("&Tableau2[[#This Row],[req. technique]]&")","")&Tableau2[[#This Row],[Forme]]&IF(Tableau2[[#This Row],[req. forme]]<>"","("&Tableau2[[#This Row],[req. forme]]&")","") -> InAu | G47: 15 | H47: 3 | J47: sight | K47: conc | L47: individu | S47: =IF(IF(Tableau2[[#This Row],[Niveau base]]<5,VLOOKUP(Tableau2[[#This Row],[Niveau base]],'valeurs casting'!$J$5:$K$9,2),Tableau2[[#This Row],[Niveau base]])+5*(SUM(Tableau2[[#This Row],[taille]:[valeur]])+VLOOKUP(Tableau2[[#This Row],[portée]],'valeurs casting'!$J$11:$K$16,2)+VLOOKUP(Tableau2[[#This Row],[durée]],'valeurs casting'!$J$17:$K$24,2)+VLOOKUP(Tableau2[[#This Row],[cible]],'valeurs casting'!$J$25:$K$35,2))<5,VLOOKUP(IF(Tableau2[[#This Row],[Niveau base]]<5,VLOOKUP(Tableau2[[#This Row],[Niveau base]],'valeurs casting'!$J$5:$K$9,2),Tableau2[[#This Row],[Niveau base]])+5*(SUM(Tableau2[[#This Row],[taille]:[valeur]])+VLOOKUP(Tableau2[[#This Row],[portée]],'valeurs casting'!$J$11:$K$16,2)+VLOOKUP(Tableau2[[#This Row],[durée]],'valeurs casting'!$J$17:$K$24,2)+VLOOKUP(Tableau2[[#This Row],[cible]],'valeurs casting'!$J$25:$K$35,2)),'valeurs casting'!$K$5:$L$9,2),IF(Tableau2[[#This Row],[Niveau base]]<5,VLOOKUP(Tableau2[[#This Row],[Niveau base]],'valeurs casting'!$J$5:$K$9,2),Tableau2[[#This Row],[Niveau base]])+5*(SUM(Tableau2[[#This Row],[taille]:[valeur]])+VLOOKUP(Tableau2[[#This Row],[portée]],'valeurs casting'!$J$11:$K$16,2)+VLOOKUP(Tableau2[[#This Row],[durée]],'valeurs casting'!$J$17:$K$24,2)+VLOOKUP(Tableau2[[#This Row],[cible]],'valeurs casting'!$J$25:$K$35,2))) -> 15 | U47: Permet d’entendre la conversation d’un groupe de personnes à portée de vue. | W47: =IF(Tableau2[[#This Row],[XP mastery]]=0,"",TRUNC((SQRT(8*(Tableau2[[#This Row],[XP mastery]]/5)+1)-1)/2)) | AH47: ='valeurs casting'!$K$2+MIN(VLOOKUP(Tableau2[[#This Row],[Technique]],Tableau1[],3),IF(Tableau2[[#This Row],[req. technique]]="",9999,VLOOKUP(LEFT(Tableau2[[#This Row],[req. technique]],2),Tableau1[],3)),IF(LEN(Tableau2[[#This Row],[req. technique]])<=2,9999,VLOOKUP(LEFT(RIGHT(Tableau2[[#This Row],[req. technique]],-2+LEN(Tableau2[[#This Row],[req. technique]])),2),Tableau1[],3)),IF(LEN(Tableau2[[#This Row],[req. technique]])<=4,9999,VLOOKUP(RIGHT(Tableau2[[#This Row],[req. technique]],-7+LEN(Tableau2[[#This Row],[req. technique]])),Tableau1[],3))) -> 19 | AI47: =MAX(Tableau2[[#This Row],[Bonus talisman bâton 1]:[Bonus talisman dé 5]])+IF(Tableau2[[#This Row],[CT dé applicable?]]<>"",'valeurs casting'!$K$1,0) -> 2 | AP47: In | AV47: =IF(AJ47<>"",VLOOKUP(AJ47,'valeurs casting'!$E$2:$F$9,2),0) -> 0 | AW47: =IF(AK47<>"",VLOOKUP(AK47,'valeurs casting'!$E$2:$F$9,2),0) -> 0 | AX47: =IF(AL47<>"",VLOOKUP(AL47,'valeurs casting'!$E$2:$F$9,2),0) -> 0 | AY47: =IF(AM47<>"",VLOOKUP(AM47,'valeurs casting'!$E$2:$F$9,2),0) -> 0 | AZ47: =IF(AN47<>"",VLOOKUP(AN47,'valeurs casting'!$E$2:$F$9,2),0) -> 0 | BA47: =IF(AO47<>"",VLOOKUP(AO47,'valeurs casting'!$E$2:$F$9,2),0) -> 0 | BB47: =IF(AP47<>"",VLOOKUP(AP47,'valeurs casting'!$G$2:$H$9,2),0) -> 2 | BC47: =IF(AQ47<>"",VLOOKUP(AQ47,'valeurs casting'!$G$2:$H$9,2),0) -> 0 | BD47: =IF(AR47<>"",VLOOKUP(AR47,'valeurs casting'!$G$2:$H$9,2),0) -> 0 | BE47: =IF(AS47<>"",VLOOKUP(AS47,'valeurs casting'!$G$2:$H$9,2),0) -> 0 | BF47: =IF(AT47<>"",VLOOKUP(AT47,'valeurs casting'!$G$2:$H$9,2),0) -> 0
A48: Ligatures groupées de Razal Wauke | B48: Cr | D48: Co | F48: =Tableau2[[#This Row],[Technique]]&IF(Tableau2[[#This Row],[req. technique]]<>"","("&Tableau2[[#This Row],[req. technique]]&")","")&Tableau2[[#This Row],[Forme]]&IF(Tableau2[[#This Row],[req. forme]]<>"","("&Tableau2[[#This Row],[req. forme]]&")","") -> CrCo | G48: 15 | H48: 3 | J48: touch | K48: conc | L48: group | S48: =IF(IF(Tableau2[[#This Row],[Niveau base]]<5,VLOOKUP(Tableau2[[#This Row],[Niveau base]],'valeurs casting'!$J$5:$K$9,2),Tableau2[[#This Row],[Niveau base]])+5*(SUM(Tableau2[[#This Row],[taille]:[valeur]])+VLOOKUP(Tableau2[[#This Row],[portée]],'valeurs casting'!$J$11:$K$16,2)+VLOOKUP(Tableau2[[#This Row],[durée]],'valeurs casting'!$J$17:$K$24,2)+VLOOKUP(Tableau2[[#This Row],[cible]],'valeurs casting'!$J$25:$K$35,2))<5,VLOOKUP(IF(Tableau2[[#This Row],[Niveau base]]<5,VLOOKUP(Tableau2[[#This Row],[Niveau base]],'valeurs casting'!$J$5:$K$9,2),Tableau2[[#This Row],[Niveau base]])+5*(SUM(Tableau2[[#This Row],[taille]:[valeur]])+VLOOKUP(Tableau2[[#This Row],[portée]],'valeurs casting'!$J$11:$K$16,2)+VLOOKUP(Tableau2[[#This Row],[durée]],'valeurs casting'!$J$17:$K$24,2)+VLOOKUP(Tableau2[[#This Row],[cible]],'valeurs casting'!$J$25:$K$35,2)),'valeurs casting'!$K$5:$L$9,2),IF(Tableau2[[#This Row],[Niveau base]]<5,VLOOKUP(Tableau2[[#This Row],[Niveau base]],'valeurs casting'!$J$5:$K$9,2),Tableau2[[#This Row],[Niveau base]])+5*(SUM(Tableau2[[#This Row],[taille]:[valeur]])+VLOOKUP(Tableau2[[#This Row],[portée]],'valeurs casting'!$J$11:$K$16,2)+VLOOKUP(Tableau2[[#This Row],[durée]],'valeurs casting'!$J$17:$K$24,2)+VLOOKUP(Tableau2[[#This Row],[cible]],'valeurs casting'!$J$25:$K$35,2))) -> 15 | U48: ferme les blessures de sorte qu’on peut agir sans empirer les blessures (mais bien avec le malus). On ne peut pas guérir naturellement pendant qu’on subit ce sort-ci. | W48: =IF(Tableau2[[#This Row],[XP mastery]]=0,"",TRUNC((SQRT(8*(Tableau2[[#This Row],[XP mastery]]/5)+1)-1)/2)) | AH48: ='valeurs casting'!$K$2+MIN(VLOOKUP(Tableau2[[#This Row],[Technique]],Tableau1[],3),IF(Tableau2[[#This Row],[req. technique]]="",9999,VLOOKUP(LEFT(Tableau2[[#This Row],[req. technique]],2),Tableau1[],3)),IF(LEN(Tableau2[[#This Row],[req. technique]])<=2,9999,VLOOKUP(LEFT(RIGHT(Tableau2[[#This Row],[req. technique]],-2+LEN(Tableau2[[#This Row],[req. technique]])),2),Tableau1[],3)),IF(LEN(Tableau2[[#This Row],[req. technique]])<=4,9999,VLOOKUP(RIGHT(Tableau2[[#This Row],[req. technique]],-7+LEN(Tableau2[[#This Row],[req. technique]])),Tableau1[],3))) -> 27 | AI48: =MAX(Tableau2[[#This Row],[Bonus talisman bâton 1]:[Bonus talisman dé 5]])+IF(Tableau2[[#This Row],[CT dé applicable?]]<>"",'valeurs casting'!$K$1,0) -> 0 | AV48: =IF(AJ48<>"",VLOOKUP(AJ48,'valeurs casting'!$E$2:$F$9,2),0) -> 0 | AW48: =IF(AK48<>"",VLOOKUP(AK48,'valeurs casting'!$E$2:$F$9,2),0) -> 0 | AX48: =IF(AL48<>"",VLOOKUP(AL48,'valeurs casting'!$E$2:$F$9,2),0) -> 0 | AY48: =IF(AM48<>"",VLOOKUP(AM48,'valeurs casting'!$E$2:$F$9,2),0) -> 0 | AZ48: =IF(AN48<>"",VLOOKUP(AN48,'valeurs casting'!$E$2:$F$9,2),0) -> 0 | BA48: =IF(AO48<>"",VLOOKUP(AO48,'valeurs casting'!$E$2:$F$9,2),0) -> 0 | BB48: =IF(AP48<>"",VLOOKUP(AP48,'valeurs casting'!$G$2:$H$9,2),0) -> 0 | BC48: =IF(AQ48<>"",VLOOKUP(AQ48,'valeurs casting'!$G$2:$H$9,2),0) -> 0 | BD48: =IF(AR48<>"",VLOOKUP(AR48,'valeurs casting'!$G$2:$H$9,2),0) -> 0 | BE48: =IF(AS48<>"",VLOOKUP(AS48,'valeurs casting'!$G$2:$H$9,2),0) -> 0 | BF48: =IF(AT48<>"",VLOOKUP(AT48,'valeurs casting'!$G$2:$H$9,2),0) -> 0
A49: Prison de magma de Razal Wauke | B49: Mu | D49: Ig | E49: Te | F49: =Tableau2[[#This Row],[Technique]]&IF(Tableau2[[#This Row],[req. technique]]<>"","("&Tableau2[[#This Row],[req. technique]]&")","")&Tableau2[[#This Row],[Forme]]&IF(Tableau2[[#This Row],[req. forme]]<>"","("&Tableau2[[#This Row],[req. forme]]&")","") -> MuIg(Te) | G49: 20 | H49: 5 | J49: voice | K49: conc | L49: individu | S49: =IF(IF(Tableau2[[#This Row],[Niveau base]]<5,VLOOKUP(Tableau2[[#This Row],[Niveau base]],'valeurs casting'!$J$5:$K$9,2),Tableau2[[#This Row],[Niveau base]])+5*(SUM(Tableau2[[#This Row],[taille]:[valeur]])+VLOOKUP(Tableau2[[#This Row],[portée]],'valeurs casting'!$J$11:$K$16,2)+VLOOKUP(Tableau2[[#This Row],[durée]],'valeurs casting'!$J$17:$K$24,2)+VLOOKUP(Tableau2[[#This Row],[cible]],'valeurs casting'!$J$25:$K$35,2))<5,VLOOKUP(IF(Tableau2[[#This Row],[Niveau base]]<5,VLOOKUP(Tableau2[[#This Row],[Niveau base]],'valeurs casting'!$J$5:$K$9,2),Tableau2[[#This Row],[Niveau base]])+5*(SUM(Tableau2[[#This Row],[taille]:[valeur]])+VLOOKUP(Tableau2[[#This Row],[portée]],'valeurs casting'!$J$11:$K$16,2)+VLOOKUP(Tableau2[[#This Row],[durée]],'valeurs casting'!$J$17:$K$24,2)+VLOOKUP(Tableau2[[#This Row],[cible]],'valeurs casting'!$J$25:$K$35,2)),'valeurs casting'!$K$5:$L$9,2),IF(Tableau2[[#This Row],[Niveau base]]<5,VLOOKUP(Tableau2[[#This Row],[Niveau base]],'valeurs casting'!$J$5:$K$9,2),Tableau2[[#This Row],[Niveau base]])+5*(SUM(Tableau2[[#This Row],[taille]:[valeur]])+VLOOKUP(Tableau2[[#This Row],[portée]],'valeurs casting'!$J$11:$K$16,2)+VLOOKUP(Tableau2[[#This Row],[durée]],'valeurs casting'!$J$17:$K$24,2)+VLOOKUP(Tableau2[[#This Row],[cible]],'valeurs casting'!$J$25:$K$35,2))) -> 20 | U49: un feu est transformé en une prison de magma, ressemblant à une cage. Il n’y a aucuns dégâts infligés sauf si la personne tente de s’échapper : +15 dégâts en Ignem ou +8 dégâts en Terram. | W49: =IF(Tableau2[[#This Row],[XP mastery]]=0,"",TRUNC((SQRT(8*(Tableau2[[#This Row],[XP mastery]]/5)+1)-1)/2)) | AH49: ='valeurs casting'!$K$2+MIN(VLOOKUP(Tableau2[[#This Row],[Technique]],Tableau1[],3),IF(Tableau2[[#This Row],[req. technique]]="",9999,VLOOKUP(LEFT(Tableau2[[#This Row],[req. technique]],2),Tableau1[],3)),IF(LEN(Tableau2[[#This Row],[req. technique]])<=2,9999,VLOOKUP(LEFT(RIGHT(Tableau2[[#This Row],[req. technique]],-2+LEN(Tableau2[[#This Row],[req. technique]])),2),Tableau1[],3)),IF(LEN(Tableau2[[#This Row],[req. technique]])<=4,9999,VLOOKUP(RIGHT(Tableau2[[#This Row],[req. technique]],-7+LEN(Tableau2[[#This Row],[req. technique]])),Tableau1[],3))) -> 15 | AI49: =MAX(Tableau2[[#This Row],[Bonus talisman bâton 1]:[Bonus talisman dé 5]])+IF(Tableau2[[#This Row],[CT dé applicable?]]<>"",'valeurs casting'!$K$1,0) -> 13 | AJ49: fire | AP49: ig | AU49: x | AV49: =IF(AJ49<>"",VLOOKUP(AJ49,'valeurs casting'!$E$2:$F$9,2),0) -> 6 | AW49: =IF(AK49<>"",VLOOKUP(AK49,'valeurs casting'!$E$2:$F$9,2),0) -> 0 | AX49: =IF(AL49<>"",VLOOKUP(AL49,'valeurs casting'!$E$2:$F$9,2),0) -> 0 | AY49: =IF(AM49<>"",VLOOKUP(AM49,'valeurs casting'!$E$2:$F$9,2),0) -> 0 | AZ49: =IF(AN49<>"",VLOOKUP(AN49,'valeurs casting'!$E$2:$F$9,2),0) -> 0 | BA49: =IF(AO49<>"",VLOOKUP(AO49,'valeurs casting'!$E$2:$F$9,2),0) -> 0 | BB49: =IF(AP49<>"",VLOOKUP(AP49,'valeurs casting'!$G$2:$H$9,2),0) -> 4 | BC49: =IF(AQ49<>"",VLOOKUP(AQ49,'valeurs casting'!$G$2:$H$9,2),0) -> 0 | BD49: =IF(AR49<>"",VLOOKUP(AR49,'valeurs casting'!$G$2:$H$9,2),0) -> 0 | BE49: =IF(AS49<>"",VLOOKUP(AS49,'valeurs casting'!$G$2:$H$9,2),0) -> 0 | BF49: =IF(AT49<>"",VLOOKUP(AT49,'valeurs casting'!$G$2:$H$9,2),0) -> 0
A50: Miroir de verre sans tain de Razal Wauke | B50: Cr | C50: Re | D50: Te | E50: Au | F50: =Tableau2[[#This Row],[Technique]]&IF(Tableau2[[#This Row],[req. technique]]<>"","("&Tableau2[[#This Row],[req. technique]]&")","")&Tableau2[[#This Row],[Forme]]&IF(Tableau2[[#This Row],[req. forme]]<>"","("&Tableau2[[#This Row],[req. forme]]&")","") -> Cr(Re)Te(Au) | G50: 20 | H50: 5 | J50: touch | K50: diamètre | L50: individu | N50: 1 | S50: =IF(IF(Tableau2[[#This Row],[Niveau base]]<5,VLOOKUP(Tableau2[[#This Row],[Niveau base]],'valeurs casting'!$J$5:$K$9,2),Tableau2[[#This Row],[Niveau base]])+5*(SUM(Tableau2[[#This Row],[taille]:[valeur]])+VLOOKUP(Tableau2[[#This Row],[portée]],'valeurs casting'!$J$11:$K$16,2)+VLOOKUP(Tableau2[[#This Row],[durée]],'valeurs casting'!$J$17:$K$24,2)+VLOOKUP(Tableau2[[#This Row],[cible]],'valeurs casting'!$J$25:$K$35,2))<5,VLOOKUP(IF(Tableau2[[#This Row],[Niveau base]]<5,VLOOKUP(Tableau2[[#This Row],[Niveau base]],'valeurs casting'!$J$5:$K$9,2),Tableau2[[#This Row],[Niveau base]])+5*(SUM(Tableau2[[#This Row],[taille]:[valeur]])+VLOOKUP(Tableau2[[#This Row],[portée]],'valeurs casting'!$J$11:$K$16,2)+VLOOKUP(Tableau2[[#This Row],[durée]],'valeurs casting'!$J$17:$K$24,2)+VLOOKUP(Tableau2[[#This Row],[cible]],'valeurs casting'!$J$25:$K$35,2)),'valeurs casting'!$K$5:$L$9,2),IF(Tableau2[[#This Row],[Niveau base]]<5,VLOOKUP(Tableau2[[#This Row],[Niveau base]],'valeurs casting'!$J$5:$K$9,2),Tableau2[[#This Row],[Niveau base]])+5*(SUM(Tableau2[[#This Row],[taille]:[valeur]])+VLOOKUP(Tableau2[[#This Row],[portée]],'valeurs casting'!$J$11:$K$16,2)+VLOOKUP(Tableau2[[#This Row],[durée]],'valeurs casting'!$J$17:$K$24,2)+VLOOKUP(Tableau2[[#This Row],[cible]],'valeurs casting'!$J$25:$K$35,2))) -> 20 | U50: ce sortilège crée un miroir carré qui peut atteindre les 25 m² (calculé sur une couche de 1.5 mm d’étain). La base utilisée est celle du métal car un miroir nécessite de l’étain, mais le verre (base 3) est plus représenté, et les bases respectives de ces deux éléments suffisent à créer un miroir cylindrique. Le miroir est couvert par une légère brume(base 3). L’utilisation la plus logique est de poser le miroir sur un surface d’eau et de se cacher dessus : la brume permet de dissimuler les imperfections de l’eau à fleur de miroir, et les observateurs, cachés sous l’eau peuvent voir ce qui se passe au dessus, alors que du dessus, le reflet du miroir est imperceptible par rapport au reflet de l’eau | W50: =IF(Tableau2[[#This Row],[XP mastery]]=0,"",TRUNC((SQRT(8*(Tableau2[[#This Row],[XP mastery]]/5)+1)-1)/2)) | AH50: ='valeurs casting'!$K$2+MIN(VLOOKUP(Tableau2[[#This Row],[Technique]],Tableau1[],3),IF(Tableau2[[#This Row],[req. technique]]="",9999,VLOOKUP(LEFT(Tableau2[[#This Row],[req. technique]],2),Tableau1[],3)),IF(LEN(Tableau2[[#This Row],[req. technique]])<=2,9999,VLOOKUP(LEFT(RIGHT(Tableau2[[#This Row],[req. technique]],-2+LEN(Tableau2[[#This Row],[req. technique]])),2),Tableau1[],3)),IF(LEN(Tableau2[[#This Row],[req. technique]])<=4,9999,VLOOKUP(RIGHT(Tableau2[[#This Row],[req. technique]],-7+LEN(Tableau2[[#This Row],[req. technique]])),Tableau1[],3))) -> 20 | AI50: =MAX(Tableau2[[#This Row],[Bonus talisman bâton 1]:[Bonus talisman dé 5]])+IF(Tableau2[[#This Row],[CT dé applicable?]]<>"",'valeurs casting'!$K$1,0) -> 3 | AJ50: Te | AV50: =IF(AJ50<>"",VLOOKUP(AJ50,'valeurs casting'!$E$2:$F$9,2),0) -> 3 | AW50: =IF(AK50<>"",VLOOKUP(AK50,'valeurs casting'!$E$2:$F$9,2),0) -> 0 | AX50: =IF(AL50<>"",VLOOKUP(AL50,'valeurs casting'!$E$2:$F$9,2),0) -> 0 | AY50: =IF(AM50<>"",VLOOKUP(AM50,'valeurs casting'!$E$2:$F$9,2),0) -> 0 | AZ50: =IF(AN50<>"",VLOOKUP(AN50,'valeurs casting'!$E$2:$F$9,2),0) -> 0 | BA50: =IF(AO50<>"",VLOOKUP(AO50,'valeurs casting'!$E$2:$F$9,2),0) -> 0 | BB50: =IF(AP50<>"",VLOOKUP(AP50,'valeurs casting'!$G$2:$H$9,2),0) -> 0 | BC50: =IF(AQ50<>"",VLOOKUP(AQ50,'valeurs casting'!$G$2:$H$9,2),0) -> 0 | BD50: =IF(AR50<>"",VLOOKUP(AR50,'valeurs casting'!$G$2:$H$9,2),0) -> 0 | BE50: =IF(AS50<>"",VLOOKUP(AS50,'valeurs casting'!$G$2:$H$9,2),0) -> 0 | BF50: =IF(AT50<>"",VLOOKUP(AT50,'valeurs casting'!$G$2:$H$9,2),0) -> 0
A51: Dague de glace de Razal Wauke | B51: Cr | C51: Re | D51: Aq | F51: =Tableau2[[#This Row],[Technique]]&IF(Tableau2[[#This Row],[req. technique]]<>"","("&Tableau2[[#This Row],[req. technique]]&")","")&Tableau2[[#This Row],[Forme]]&IF(Tableau2[[#This Row],[req. forme]]<>"","("&Tableau2[[#This Row],[req. forme]]&")","") -> Cr(Re)Aq | G51: 15 | H51: 3 | J51: voice | K51: momentané | L51: individu | N51: 1 | Q51: 1 | R51: dégâts | S51: =IF(IF(Tableau2[[#This Row],[Niveau base]]<5,VLOOKUP(Tableau2[[#This Row],[Niveau base]],'valeurs casting'!$J$5:$K$9,2),Tableau2[[#This Row],[Niveau base]])+5*(SUM(Tableau2[[#This Row],[taille]:[valeur]])+VLOOKUP(Tableau2[[#This Row],[portée]],'valeurs casting'!$J$11:$K$16,2)+VLOOKUP(Tableau2[[#This Row],[durée]],'valeurs casting'!$J$17:$K$24,2)+VLOOKUP(Tableau2[[#This Row],[cible]],'valeurs casting'!$J$25:$K$35,2))<5,VLOOKUP(IF(Tableau2[[#This Row],[Niveau base]]<5,VLOOKUP(Tableau2[[#This Row],[Niveau base]],'valeurs casting'!$J$5:$K$9,2),Tableau2[[#This Row],[Niveau base]])+5*(SUM(Tableau2[[#This Row],[taille]:[valeur]])+VLOOKUP(Tableau2[[#This Row],[portée]],'valeurs casting'!$J$11:$K$16,2)+VLOOKUP(Tableau2[[#This Row],[durée]],'valeurs casting'!$J$17:$K$24,2)+VLOOKUP(Tableau2[[#This Row],[cible]],'valeurs casting'!$J$25:$K$35,2)),'valeurs casting'!$K$5:$L$9,2),IF(Tableau2[[#This Row],[Niveau base]]<5,VLOOKUP(Tableau2[[#This Row],[Niveau base]],'valeurs casting'!$J$5:$K$9,2),Tableau2[[#This Row],[Niveau base]])+5*(SUM(Tableau2[[#This Row],[taille]:[valeur]])+VLOOKUP(Tableau2[[#This Row],[portée]],'valeurs casting'!$J$11:$K$16,2)+VLOOKUP(Tableau2[[#This Row],[durée]],'valeurs casting'!$J$17:$K$24,2)+VLOOKUP(Tableau2[[#This Row],[cible]],'valeurs casting'!$J$25:$K$35,2))) -> 15 | U51: envoie un cristal de glace qui fait +10 dégâts. | W51: =IF(Tableau2[[#This Row],[XP mastery]]=0,"",TRUNC((SQRT(8*(Tableau2[[#This Row],[XP mastery]]/5)+1)-1)/2)) | AH51: ='valeurs casting'!$K$2+MIN(VLOOKUP(Tableau2[[#This Row],[Technique]],Tableau1[],3),IF(Tableau2[[#This Row],[req. technique]]="",9999,VLOOKUP(LEFT(Tableau2[[#This Row],[req. technique]],2),Tableau1[],3)),IF(LEN(Tableau2[[#This Row],[req. technique]])<=2,9999,VLOOKUP(LEFT(RIGHT(Tableau2[[#This Row],[req. technique]],-2+LEN(Tableau2[[#This Row],[req. technique]])),2),Tableau1[],3)),IF(LEN(Tableau2[[#This Row],[req. technique]])<=4,9999,VLOOKUP(RIGHT(Tableau2[[#This Row],[req. technique]],-7+LEN(Tableau2[[#This Row],[req. technique]])),Tableau1[],3))) -> 20 | AI51: =MAX(Tableau2[[#This Row],[Bonus talisman bâton 1]:[Bonus talisman dé 5]])+IF(Tableau2[[#This Row],[CT dé applicable?]]<>"",'valeurs casting'!$K$1,0) -> 4 | AJ51: Aq | AV51: =IF(AJ51<>"",VLOOKUP(AJ51,'valeurs casting'!$E$2:$F$9,2),0) -> 4 | AW51: =IF(AK51<>"",VLOOKUP(AK51,'valeurs casting'!$E$2:$F$9,2),0) -> 0 | AX51: =IF(AL51<>"",VLOOKUP(AL51,'valeurs casting'!$E$2:$F$9,2),0) -> 0 | AY51: =IF(AM51<>"",VLOOKUP(AM51,'valeurs casting'!$E$2:$F$9,2),0) -> 0 | AZ51: =IF(AN51<>"",VLOOKUP(AN51,'valeurs casting'!$E$2:$F$9,2),0) -> 0 | BA51: =IF(AO51<>"",VLOOKUP(AO51,'valeurs casting'!$E$2:$F$9,2),0) -> 0 | BB51: =IF(AP51<>"",VLOOKUP(AP51,'valeurs casting'!$G$2:$H$9,2),0) -> 0 | BC51: =IF(AQ51<>"",VLOOKUP(AQ51,'valeurs casting'!$G$2:$H$9,2),0) -> 0 | BD51: =IF(AR51<>"",VLOOKUP(AR51,'valeurs casting'!$G$2:$H$9,2),0) -> 0 | BE51: =IF(AS51<>"",VLOOKUP(AS51,'valeurs casting'!$G$2:$H$9,2),0) -> 0 | BF51: =IF(AT51<>"",VLOOKUP(AT51,'valeurs casting'!$G$2:$H$9,2),0) -> 0
A52: « Braquage de Razal Wauke | B52: Re | D52: Vi | F52: =Tableau2[[#This Row],[Technique]]&IF(Tableau2[[#This Row],[req. technique]]<>"","("&Tableau2[[#This Row],[req. technique]]&")","")&Tableau2[[#This Row],[Forme]]&IF(Tableau2[[#This Row],[req. forme]]<>"","("&Tableau2[[#This Row],[req. forme]]&")","") -> ReVi | G52: 25 | H52: 10 | J52: voice | K52: momentané | L52: room | P52: -1 | S52: =IF(IF(Tableau2[[#This Row],[Niveau base]]<5,VLOOKUP(Tableau2[[#This Row],[Niveau base]],'valeurs casting'!$J$5:$K$9,2),Tableau2[[#This Row],[Niveau base]])+5*(SUM(Tableau2[[#This Row],[taille]:[valeur]])+VLOOKUP(Tableau2[[#This Row],[portée]],'valeurs casting'!$J$11:$K$16,2)+VLOOKUP(Tableau2[[#This Row],[durée]],'valeurs casting'!$J$17:$K$24,2)+VLOOKUP(Tableau2[[#This Row],[cible]],'valeurs casting'!$J$25:$K$35,2))<5,VLOOKUP(IF(Tableau2[[#This Row],[Niveau base]]<5,VLOOKUP(Tableau2[[#This Row],[Niveau base]],'valeurs casting'!$J$5:$K$9,2),Tableau2[[#This Row],[Niveau base]])+5*(SUM(Tableau2[[#This Row],[taille]:[valeur]])+VLOOKUP(Tableau2[[#This Row],[portée]],'valeurs casting'!$J$11:$K$16,2)+VLOOKUP(Tableau2[[#This Row],[durée]],'valeurs casting'!$J$17:$K$24,2)+VLOOKUP(Tableau2[[#This Row],[cible]],'valeurs casting'!$J$25:$K$35,2)),'valeurs casting'!$K$5:$L$9,2),IF(Tableau2[[#This Row],[Niveau base]]<5,VLOOKUP(Tableau2[[#This Row],[Niveau base]],'valeurs casting'!$J$5:$K$9,2),Tableau2[[#This Row],[Niveau base]])+5*(SUM(Tableau2[[#This Row],[taille]:[valeur]])+VLOOKUP(Tableau2[[#This Row],[portée]],'valeurs casting'!$J$11:$K$16,2)+VLOOKUP(Tableau2[[#This Row],[durée]],'valeurs casting'!$J$17:$K$24,2)+VLOOKUP(Tableau2[[#This Row],[cible]],'valeurs casting'!$J$25:$K$35,2))) -> 25 | U52: Redirige le vis d’une salle vers l’objet du choix de Razal qu’il touche avec mse : effet visible : les pions récoltés ressemblent à des petites bulles de fumée dense qui quittent leur lieu de stockage d’origine pour se placer dans le lieu de stockage défini par le lanceur. | W52: =IF(Tableau2[[#This Row],[XP mastery]]=0,"",TRUNC((SQRT(8*(Tableau2[[#This Row],[XP mastery]]/5)+1)-1)/2)) | AH52: ='valeurs casting'!$K$2+MIN(VLOOKUP(Tableau2[[#This Row],[Technique]],Tableau1[],3),IF(Tableau2[[#This Row],[req. technique]]="",9999,VLOOKUP(LEFT(Tableau2[[#This Row],[req. technique]],2),Tableau1[],3)),IF(LEN(Tableau2[[#This Row],[req. technique]])<=2,9999,VLOOKUP(LEFT(RIGHT(Tableau2[[#This Row],[req. technique]],-2+LEN(Tableau2[[#This Row],[req. technique]])),2),Tableau1[],3)),IF(LEN(Tableau2[[#This Row],[req. technique]])<=4,9999,VLOOKUP(RIGHT(Tableau2[[#This Row],[req. technique]],-7+LEN(Tableau2[[#This Row],[req. technique]])),Tableau1[],3))) -> 20 | AI52: =MAX(Tableau2[[#This Row],[Bonus talisman bâton 1]:[Bonus talisman dé 5]])+IF(Tableau2[[#This Row],[CT dé applicable?]]<>"",'valeurs casting'!$K$1,0) -> 4 | AJ52: control things | AV52: =IF(AJ52<>"",VLOOKUP(AJ52,'valeurs casting'!$E$2:$F$9,2),0) -> 4 | AW52: =IF(AK52<>"",VLOOKUP(AK52,'valeurs casting'!$E$2:$F$9,2),0) -> 0 | AX52: =IF(AL52<>"",VLOOKUP(AL52,'valeurs casting'!$E$2:$F$9,2),0) -> 0 | AY52: =IF(AM52<>"",VLOOKUP(AM52,'valeurs casting'!$E$2:$F$9,2),0) -> 0 | AZ52: =IF(AN52<>"",VLOOKUP(AN52,'valeurs casting'!$E$2:$F$9,2),0) -> 0 | BA52: =IF(AO52<>"",VLOOKUP(AO52,'valeurs casting'!$E$2:$F$9,2),0) -> 0 | BB52: =IF(AP52<>"",VLOOKUP(AP52,'valeurs casting'!$G$2:$H$9,2),0) -> 0 | BC52: =IF(AQ52<>"",VLOOKUP(AQ52,'valeurs casting'!$G$2:$H$9,2),0) -> 0 | BD52: =IF(AR52<>"",VLOOKUP(AR52,'valeurs casting'!$G$2:$H$9,2),0) -> 0 | BE52: =IF(AS52<>"",VLOOKUP(AS52,'valeurs casting'!$G$2:$H$9,2),0) -> 0 | BF52: =IF(AT52<>"",VLOOKUP(AT52,'valeurs casting'!$G$2:$H$9,2),0) -> 0
A53: Soothe the ferocious big bear | B53: Re | D53: An | F53: =Tableau2[[#This Row],[Technique]]&IF(Tableau2[[#This Row],[req. technique]]<>"","("&Tableau2[[#This Row],[req. technique]]&")","")&Tableau2[[#This Row],[Forme]]&IF(Tableau2[[#This Row],[req. forme]]<>"","("&Tableau2[[#This Row],[req. forme]]&")","") -> ReAn | G53: 15 | H53: 4 | J53: voice | K53: momentané | L53: individu | M53: 1 | S53: =IF(IF(Tableau2[[#This Row],[Niveau base]]<5,VLOOKUP(Tableau2[[#This Row],[Niveau base]],'valeurs casting'!$J$5:$K$9,2),Tableau2[[#This Row],[Niveau base]])+5*(SUM(Tableau2[[#This Row],[taille]:[valeur]])+VLOOKUP(Tableau2[[#This Row],[portée]],'valeurs casting'!$J$11:$K$16,2)+VLOOKUP(Tableau2[[#This Row],[durée]],'valeurs casting'!$J$17:$K$24,2)+VLOOKUP(Tableau2[[#This Row],[cible]],'valeurs casting'!$J$25:$K$35,2))<5,VLOOKUP(IF(Tableau2[[#This Row],[Niveau base]]<5,VLOOKUP(Tableau2[[#This Row],[Niveau base]],'valeurs casting'!$J$5:$K$9,2),Tableau2[[#This Row],[Niveau base]])+5*(SUM(Tableau2[[#This Row],[taille]:[valeur]])+VLOOKUP(Tableau2[[#This Row],[portée]],'valeurs casting'!$J$11:$K$16,2)+VLOOKUP(Tableau2[[#This Row],[durée]],'valeurs casting'!$J$17:$K$24,2)+VLOOKUP(Tableau2[[#This Row],[cible]],'valeurs casting'!$J$25:$K$35,2)),'valeurs casting'!$K$5:$L$9,2),IF(Tableau2[[#This Row],[Niveau base]]<5,VLOOKUP(Tableau2[[#This Row],[Niveau base]],'valeurs casting'!$J$5:$K$9,2),Tableau2[[#This Row],[Niveau base]])+5*(SUM(Tableau2[[#This Row],[taille]:[valeur]])+VLOOKUP(Tableau2[[#This Row],[portée]],'valeurs casting'!$J$11:$K$16,2)+VLOOKUP(Tableau2[[#This Row],[durée]],'valeurs casting'!$J$17:$K$24,2)+VLOOKUP(Tableau2[[#This Row],[cible]],'valeurs casting'!$J$25:$K$35,2))) -> 15 | U53: Calme un animal jusqu’à taille +4. | V53: Du fait de l’expérimentation, les poils/plumes/écailles/... des bestioles repoussées par le ward se couchent pour dessiner le sigil de Razal pendant la durée du sort (momentanée) + 1h. L'effet est clairement visible. | W53: =IF(Tableau2[[#This Row],[XP mastery]]=0,"",TRUNC((SQRT(8*(Tableau2[[#This Row],[XP mastery]]/5)+1)-1)/2)) | AH53: ='valeurs casting'!$K$2+MIN(VLOOKUP(Tableau2[[#This Row],[Technique]],Tableau1[],3),IF(Tableau2[[#This Row],[req. technique]]="",9999,VLOOKUP(LEFT(Tableau2[[#This Row],[req. technique]],2),Tableau1[],3)),IF(LEN(Tableau2[[#This Row],[req. technique]])<=2,9999,VLOOKUP(LEFT(RIGHT(Tableau2[[#This Row],[req. technique]],-2+LEN(Tableau2[[#This Row],[req. technique]])),2),Tableau1[],3)),IF(LEN(Tableau2[[#This Row],[req. technique]])<=4,9999,VLOOKUP(RIGHT(Tableau2[[#This Row],[req. technique]],-7+LEN(Tableau2[[#This Row],[req. technique]])),Tableau1[],3))) -> 20 | AI53: =MAX(Tableau2[[#This Row],[Bonus talisman bâton 1]:[Bonus talisman dé 5]])+IF(Tableau2[[#This Row],[CT dé applicable?]]<>"",'valeurs casting'!$K$1,0) -> 4 | AJ53: control things | AV53: =IF(AJ53<>"",VLOOKUP(AJ53,'valeurs casting'!$E$2:$F$9,2),0) -> 4 | AW53: =IF(AK53<>"",VLOOKUP(AK53,'valeurs casting'!$E$2:$F$9,2),0) -> 0 | AX53: =IF(AL53<>"",VLOOKUP(AL53,'valeurs casting'!$E$2:$F$9,2),0) -> 0 | AY53: =IF(AM53<>"",VLOOKUP(AM53,'valeurs casting'!$E$2:$F$9,2),0) -> 0 | AZ53: =IF(AN53<>"",VLOOKUP(AN53,'valeurs casting'!$E$2:$F$9,2),0) -> 0 | BA53: =IF(AO53<>"",VLOOKUP(AO53,'valeurs casting'!$E$2:$F$9,2),0) -> 0 | BB53: =IF(AP53<>"",VLOOKUP(AP53,'valeurs casting'!$G$2:$H$9,2),0) -> 0 | BC53: =IF(AQ53<>"",VLOOKUP(AQ53,'valeurs casting'!$G$2:$H$9,2),0) -> 0 | BD53: =IF(AR53<>"",VLOOKUP(AR53,'valeurs casting'!$G$2:$H$9,2),0) -> 0 | BE53: =IF(AS53<>"",VLOOKUP(AS53,'valeurs casting'!$G$2:$H$9,2),0) -> 0 | BF53: =IF(AT53<>"",VLOOKUP(AT53,'valeurs casting'!$G$2:$H$9,2),0) -> 0
A54: Epingle de glace de Razal Wauke | B54: Cr | C54: Re | D54: Aq | F54: =Tableau2[[#This Row],[Technique]]&IF(Tableau2[[#This Row],[req. technique]]<>"","("&Tableau2[[#This Row],[req. technique]]&")","")&Tableau2[[#This Row],[Forme]]&IF(Tableau2[[#This Row],[req. forme]]<>"","("&Tableau2[[#This Row],[req. forme]]&")","") -> Cr(Re)Aq | G54: 15 | H54: 3 | J54: sight | K54: momentané | L54: individu | N54: 1 | S54: =IF(IF(Tableau2[[#This Row],[Niveau base]]<5,VLOOKUP(Tableau2[[#This Row],[Niveau base]],'valeurs casting'!$J$5:$K$9,2),Tableau2[[#This Row],[Niveau base]])+5*(SUM(Tableau2[[#This Row],[taille]:[valeur]])+VLOOKUP(Tableau2[[#This Row],[portée]],'valeurs casting'!$J$11:$K$16,2)+VLOOKUP(Tableau2[[#This Row],[durée]],'valeurs casting'!$J$17:$K$24,2)+VLOOKUP(Tableau2[[#This Row],[cible]],'valeurs casting'!$J$25:$K$35,2))<5,VLOOKUP(IF(Tableau2[[#This Row],[Niveau base]]<5,VLOOKUP(Tableau2[[#This Row],[Niveau base]],'valeurs casting'!$J$5:$K$9,2),Tableau2[[#This Row],[Niveau base]])+5*(SUM(Tableau2[[#This Row],[taille]:[valeur]])+VLOOKUP(Tableau2[[#This Row],[portée]],'valeurs casting'!$J$11:$K$16,2)+VLOOKUP(Tableau2[[#This Row],[durée]],'valeurs casting'!$J$17:$K$24,2)+VLOOKUP(Tableau2[[#This Row],[cible]],'valeurs casting'!$J$25:$K$35,2)),'valeurs casting'!$K$5:$L$9,2),IF(Tableau2[[#This Row],[Niveau base]]<5,VLOOKUP(Tableau2[[#This Row],[Niveau base]],'valeurs casting'!$J$5:$K$9,2),Tableau2[[#This Row],[Niveau base]])+5*(SUM(Tableau2[[#This Row],[taille]:[valeur]])+VLOOKUP(Tableau2[[#This Row],[portée]],'valeurs casting'!$J$11:$K$16,2)+VLOOKUP(Tableau2[[#This Row],[durée]],'valeurs casting'!$J$17:$K$24,2)+VLOOKUP(Tableau2[[#This Row],[cible]],'valeurs casting'!$J$25:$K$35,2))) -> 15 | U54: envoie un cristal de glace qui fait +5 dégâts. | W54: =IF(Tableau2[[#This Row],[XP mastery]]=0,"",TRUNC((SQRT(8*(Tableau2[[#This Row],[XP mastery]]/5)+1)-1)/2)) | AH54: ='valeurs casting'!$K$2+MIN(VLOOKUP(Tableau2[[#This Row],[Technique]],Tableau1[],3),IF(Tableau2[[#This Row],[req. technique]]="",9999,VLOOKUP(LEFT(Tableau2[[#This Row],[req. technique]],2),Tableau1[],3)),IF(LEN(Tableau2[[#This Row],[req. technique]])<=2,9999,VLOOKUP(LEFT(RIGHT(Tableau2[[#This Row],[req. technique]],-2+LEN(Tableau2[[#This Row],[req. technique]])),2),Tableau1[],3)),IF(LEN(Tableau2[[#This Row],[req. technique]])<=4,9999,VLOOKUP(RIGHT(Tableau2[[#This Row],[req. technique]],-7+LEN(Tableau2[[#This Row],[req. technique]])),Tableau1[],3))) -> 20 | AI54: =MAX(Tableau2[[#This Row],[Bonus talisman bâton 1]:[Bonus talisman dé 5]])+IF(Tableau2[[#This Row],[CT dé applicable?]]<>"",'valeurs casting'!$K$1,0) -> 4 | AJ54: Aq | AV54: =IF(AJ54<>"",VLOOKUP(AJ54,'valeurs casting'!$E$2:$F$9,2),0) -> 4 | AW54: =IF(AK54<>"",VLOOKUP(AK54,'valeurs casting'!$E$2:$F$9,2),0) -> 0 | AX54: =IF(AL54<>"",VLOOKUP(AL54,'valeurs casting'!$E$2:$F$9,2),0) -> 0 | AY54: =IF(AM54<>"",VLOOKUP(AM54,'valeurs casting'!$E$2:$F$9,2),0) -> 0 | AZ54: =IF(AN54<>"",VLOOKUP(AN54,'valeurs casting'!$E$2:$F$9,2),0) -> 0 | BA54: =IF(AO54<>"",VLOOKUP(AO54,'valeurs casting'!$E$2:$F$9,2),0) -> 0 | BB54: =IF(AP54<>"",VLOOKUP(AP54,'valeurs casting'!$G$2:$H$9,2),0) -> 0 | BC54: =IF(AQ54<>"",VLOOKUP(AQ54,'valeurs casting'!$G$2:$H$9,2),0) -> 0 | BD54: =IF(AR54<>"",VLOOKUP(AR54,'valeurs casting'!$G$2:$H$9,2),0) -> 0 | BE54: =IF(AS54<>"",VLOOKUP(AS54,'valeurs casting'!$G$2:$H$9,2),0) -> 0 | BF54: =IF(AT54<>"",VLOOKUP(AT54,'valeurs casting'!$G$2:$H$9,2),0) -> 0
A55: Dextérité des mages habiles | B55: Cr | D55: Co | F55: =Tableau2[[#This Row],[Technique]]&IF(Tableau2[[#This Row],[req. technique]]<>"","("&Tableau2[[#This Row],[req. technique]]&")","")&Tableau2[[#This Row],[Forme]]&IF(Tableau2[[#This Row],[req. forme]]<>"","("&Tableau2[[#This Row],[req. forme]]&")","") -> CrCo | G55: 50 | H55: 35 | J55: touch | K55: momentané | L55: group | S55: =IF(IF(Tableau2[[#This Row],[Niveau base]]<5,VLOOKUP(Tableau2[[#This Row],[Niveau base]],'valeurs casting'!$J$5:$K$9,2),Tableau2[[#This Row],[Niveau base]])+5*(SUM(Tableau2[[#This Row],[taille]:[valeur]])+VLOOKUP(Tableau2[[#This Row],[portée]],'valeurs casting'!$J$11:$K$16,2)+VLOOKUP(Tableau2[[#This Row],[durée]],'valeurs casting'!$J$17:$K$24,2)+VLOOKUP(Tableau2[[#This Row],[cible]],'valeurs casting'!$J$25:$K$35,2))<5,VLOOKUP(IF(Tableau2[[#This Row],[Niveau base]]<5,VLOOKUP(Tableau2[[#This Row],[Niveau base]],'valeurs casting'!$J$5:$K$9,2),Tableau2[[#This Row],[Niveau base]])+5*(SUM(Tableau2[[#This Row],[taille]:[valeur]])+VLOOKUP(Tableau2[[#This Row],[portée]],'valeurs casting'!$J$11:$K$16,2)+VLOOKUP(Tableau2[[#This Row],[durée]],'valeurs casting'!$J$17:$K$24,2)+VLOOKUP(Tableau2[[#This Row],[cible]],'valeurs casting'!$J$25:$K$35,2)),'valeurs casting'!$K$5:$L$9,2),IF(Tableau2[[#This Row],[Niveau base]]<5,VLOOKUP(Tableau2[[#This Row],[Niveau base]],'valeurs casting'!$J$5:$K$9,2),Tableau2[[#This Row],[Niveau base]])+5*(SUM(Tableau2[[#This Row],[taille]:[valeur]])+VLOOKUP(Tableau2[[#This Row],[portée]],'valeurs casting'!$J$11:$K$16,2)+VLOOKUP(Tableau2[[#This Row],[durée]],'valeurs casting'!$J$17:$K$24,2)+VLOOKUP(Tableau2[[#This Row],[cible]],'valeurs casting'!$J$25:$K$35,2))) -> 50 | T55: x | U55: ce sortilège monte la dextérité d’un groupe de un point, jusqu’à un maximum de +1. | W55: =IF(Tableau2[[#This Row],[XP mastery]]=0,"",TRUNC((SQRT(8*(Tableau2[[#This Row],[XP mastery]]/5)+1)-1)/2)) | AH55: ='valeurs casting'!$K$2+MIN(VLOOKUP(Tableau2[[#This Row],[Technique]],Tableau1[],3),IF(Tableau2[[#This Row],[req. technique]]="",9999,VLOOKUP(LEFT(Tableau2[[#This Row],[req. technique]],2),Tableau1[],3)),IF(LEN(Tableau2[[#This Row],[req. technique]])<=2,9999,VLOOKUP(LEFT(RIGHT(Tableau2[[#This Row],[req. technique]],-2+LEN(Tableau2[[#This Row],[req. technique]])),2),Tableau1[],3)),IF(LEN(Tableau2[[#This Row],[req. technique]])<=4,9999,VLOOKUP(RIGHT(Tableau2[[#This Row],[req. technique]],-7+LEN(Tableau2[[#This Row],[req. technique]])),Tableau1[],3))) -> 27 | AI55: =MAX(Tableau2[[#This Row],[Bonus talisman bâton 1]:[Bonus talisman dé 5]])+IF(Tableau2[[#This Row],[CT dé applicable?]]<>"",'valeurs casting'!$K$1,0) -> 0 | AV55: =IF(AJ55<>"",VLOOKUP(AJ55,'valeurs casting'!$E$2:$F$9,2),0) -> 0 | AW55: =IF(AK55<>"",VLOOKUP(AK55,'valeurs casting'!$E$2:$F$9,2),0) -> 0 | AX55: =IF(AL55<>"",VLOOKUP(AL55,'valeurs casting'!$E$2:$F$9,2),0) -> 0 | AY55: =IF(AM55<>"",VLOOKUP(AM55,'valeurs casting'!$E$2:$F$9,2),0) -> 0 | AZ55: =IF(AN55<>"",VLOOKUP(AN55,'valeurs casting'!$E$2:$F$9,2),0) -> 0 | BA55: =IF(AO55<>"",VLOOKUP(AO55,'valeurs casting'!$E$2:$F$9,2),0) -> 0 | BB55: =IF(AP55<>"",VLOOKUP(AP55,'valeurs casting'!$G$2:$H$9,2),0) -> 0 | BC55: =IF(AQ55<>"",VLOOKUP(AQ55,'valeurs casting'!$G$2:$H$9,2),0) -> 0 | BD55: =IF(AR55<>"",VLOOKUP(AR55,'valeurs casting'!$G$2:$H$9,2),0) -> 0 | BE55: =IF(AS55<>"",VLOOKUP(AS55,'valeurs casting'!$G$2:$H$9,2),0) -> 0 | BF55: =IF(AT55<>"",VLOOKUP(AT55,'valeurs casting'!$G$2:$H$9,2),0) -> 0
A56: Soin du groupe de Razal Wauke | B56: Cr | D56: Co | F56: =Tableau2[[#This Row],[Technique]]&IF(Tableau2[[#This Row],[req. technique]]<>"","("&Tableau2[[#This Row],[req. technique]]&")","")&Tableau2[[#This Row],[Forme]]&IF(Tableau2[[#This Row],[req. forme]]<>"","("&Tableau2[[#This Row],[req. forme]]&")","") -> CrCo | G56: 50 | H56: 35 | J56: touch | K56: momentané | L56: group | S56: =IF(IF(Tableau2[[#This Row],[Niveau base]]<5,VLOOKUP(Tableau2[[#This Row],[Niveau base]],'valeurs casting'!$J$5:$K$9,2),Tableau2[[#This Row],[Niveau base]])+5*(SUM(Tableau2[[#This Row],[taille]:[valeur]])+VLOOKUP(Tableau2[[#This Row],[portée]],'valeurs casting'!$J$11:$K$16,2)+VLOOKUP(Tableau2[[#This Row],[durée]],'valeurs casting'!$J$17:$K$24,2)+VLOOKUP(Tableau2[[#This Row],[cible]],'valeurs casting'!$J$25:$K$35,2))<5,VLOOKUP(IF(Tableau2[[#This Row],[Niveau base]]<5,VLOOKUP(Tableau2[[#This Row],[Niveau base]],'valeurs casting'!$J$5:$K$9,2),Tableau2[[#This Row],[Niveau base]])+5*(SUM(Tableau2[[#This Row],[taille]:[valeur]])+VLOOKUP(Tableau2[[#This Row],[portée]],'valeurs casting'!$J$11:$K$16,2)+VLOOKUP(Tableau2[[#This Row],[durée]],'valeurs casting'!$J$17:$K$24,2)+VLOOKUP(Tableau2[[#This Row],[cible]],'valeurs casting'!$J$25:$K$35,2)),'valeurs casting'!$K$5:$L$9,2),IF(Tableau2[[#This Row],[Niveau base]]<5,VLOOKUP(Tableau2[[#This Row],[Niveau base]],'valeurs casting'!$J$5:$K$9,2),Tableau2[[#This Row],[Niveau base]])+5*(SUM(Tableau2[[#This Row],[taille]:[valeur]])+VLOOKUP(Tableau2[[#This Row],[portée]],'valeurs casting'!$J$11:$K$16,2)+VLOOKUP(Tableau2[[#This Row],[durée]],'valeurs casting'!$J$17:$K$24,2)+VLOOKUP(Tableau2[[#This Row],[cible]],'valeurs casting'!$J$25:$K$35,2))) -> 50 | T56: x | U56: soigne toutes les blessures du groupe. | V56: Les blessures guéries laissent des cicatrices qui ont la forme du sigil de Razal. Blessures superficielles => cicatrices discrètes ; blessures graves => cicatrices marquées | W56: =IF(Tableau2[[#This Row],[XP mastery]]=0,"",TRUNC((SQRT(8*(Tableau2[[#This Row],[XP mastery]]/5)+1)-1)/2)) -> 1 | X56: 7 | Z56: x | AH56: ='valeurs casting'!$K$2+MIN(VLOOKUP(Tableau2[[#This Row],[Technique]],Tableau1[],3),IF(Tableau2[[#This Row],[req. technique]]="",9999,VLOOKUP(LEFT(Tableau2[[#This Row],[req. technique]],2),Tableau1[],3)),IF(LEN(Tableau2[[#This Row],[req. technique]])<=2,9999,VLOOKUP(LEFT(RIGHT(Tableau2[[#This Row],[req. technique]],-2+LEN(Tableau2[[#This Row],[req. technique]])),2),Tableau1[],3)),IF(LEN(Tableau2[[#This Row],[req. technique]])<=4,9999,VLOOKUP(RIGHT(Tableau2[[#This Row],[req. technique]],-7+LEN(Tableau2[[#This Row],[req. technique]])),Tableau1[],3))) -> 27 | AI56: =MAX(Tableau2[[#This Row],[Bonus talisman bâton 1]:[Bonus talisman dé 5]])+IF(Tableau2[[#This Row],[CT dé applicable?]]<>"",'valeurs casting'!$K$1,0) -> 0 | AV56: =IF(AJ56<>"",VLOOKUP(AJ56,'valeurs casting'!$E$2:$F$9,2),0) -> 0 | AW56: =IF(AK56<>"",VLOOKUP(AK56,'valeurs casting'!$E$2:$F$9,2),0) -> 0 | AX56: =IF(AL56<>"",VLOOKUP(AL56,'valeurs casting'!$E$2:$F$9,2),0) -> 0 | AY56: =IF(AM56<>"",VLOOKUP(AM56,'valeurs casting'!$E$2:$F$9,2),0) -> 0 | AZ56: =IF(AN56<>"",VLOOKUP(AN56,'valeurs casting'!$E$2:$F$9,2),0) -> 0 | BA56: =IF(AO56<>"",VLOOKUP(AO56,'valeurs casting'!$E$2:$F$9,2),0) -> 0 | BB56: =IF(AP56<>"",VLOOKUP(AP56,'valeurs casting'!$G$2:$H$9,2),0) -> 0 | BC56: =IF(AQ56<>"",VLOOKUP(AQ56,'valeurs casting'!$G$2:$H$9,2),0) -> 0 | BD56: =IF(AR56<>"",VLOOKUP(AR56,'valeurs casting'!$G$2:$H$9,2),0) -> 0 | BE56: =IF(AS56<>"",VLOOKUP(AS56,'valeurs casting'!$G$2:$H$9,2),0) -> 0 | BF56: =IF(AT56<>"",VLOOKUP(AT56,'valeurs casting'!$G$2:$H$9,2),0) -> 0
A57: La force du groupe solide par Razal Wauke | B57: Cr | D57: Co | F57: =Tableau2[[#This Row],[Technique]]&IF(Tableau2[[#This Row],[req. technique]]<>"","("&Tableau2[[#This Row],[req. technique]]&")","")&Tableau2[[#This Row],[Forme]]&IF(Tableau2[[#This Row],[req. forme]]<>"","("&Tableau2[[#This Row],[req. forme]]&")","") -> CrCo | G57: 65 | H57: 50 | J57: touch | K57: momentané | L57: group | S57: =IF(IF(Tableau2[[#This Row],[Niveau base]]<5,VLOOKUP(Tableau2[[#This Row],[Niveau base]],'valeurs casting'!$J$5:$K$9,2),Tableau2[[#This Row],[Niveau base]])+5*(SUM(Tableau2[[#This Row],[taille]:[valeur]])+VLOOKUP(Tableau2[[#This Row],[portée]],'valeurs casting'!$J$11:$K$16,2)+VLOOKUP(Tableau2[[#This Row],[durée]],'valeurs casting'!$J$17:$K$24,2)+VLOOKUP(Tableau2[[#This Row],[cible]],'valeurs casting'!$J$25:$K$35,2))<5,VLOOKUP(IF(Tableau2[[#This Row],[Niveau base]]<5,VLOOKUP(Tableau2[[#This Row],[Niveau base]],'valeurs casting'!$J$5:$K$9,2),Tableau2[[#This Row],[Niveau base]])+5*(SUM(Tableau2[[#This Row],[taille]:[valeur]])+VLOOKUP(Tableau2[[#This Row],[portée]],'valeurs casting'!$J$11:$K$16,2)+VLOOKUP(Tableau2[[#This Row],[durée]],'valeurs casting'!$J$17:$K$24,2)+VLOOKUP(Tableau2[[#This Row],[cible]],'valeurs casting'!$J$25:$K$35,2)),'valeurs casting'!$K$5:$L$9,2),IF(Tableau2[[#This Row],[Niveau base]]<5,VLOOKUP(Tableau2[[#This Row],[Niveau base]],'valeurs casting'!$J$5:$K$9,2),Tableau2[[#This Row],[Niveau base]])+5*(SUM(Tableau2[[#This Row],[taille]:[valeur]])+VLOOKUP(Tableau2[[#This Row],[portée]],'valeurs casting'!$J$11:$K$16,2)+VLOOKUP(Tableau2[[#This Row],[durée]],'valeurs casting'!$J$17:$K$24,2)+VLOOKUP(Tableau2[[#This Row],[cible]],'valeurs casting'!$J$25:$K$35,2))) -> 65 | T57: x | U57: tous les membres d’un groupe gagnent 1 à la force, avec un maximum de +4 | W57: =IF(Tableau2[[#This Row],[XP mastery]]=0,"",TRUNC((SQRT(8*(Tableau2[[#This Row],[XP mastery]]/5)+1)-1)/2)) -> 1 | X57: 5 | Z57: x | AH57: ='valeurs casting'!$K$2+MIN(VLOOKUP(Tableau2[[#This Row],[Technique]],Tableau1[],3),IF(Tableau2[[#This Row],[req. technique]]="",9999,VLOOKUP(LEFT(Tableau2[[#This Row],[req. technique]],2),Tableau1[],3)),IF(LEN(Tableau2[[#This Row],[req. technique]])<=2,9999,VLOOKUP(LEFT(RIGHT(Tableau2[[#This Row],[req. technique]],-2+LEN(Tableau2[[#This Row],[req. technique]])),2),Tableau1[],3)),IF(LEN(Tableau2[[#This Row],[req. technique]])<=4,9999,VLOOKUP(RIGHT(Tableau2[[#This Row],[req. technique]],-7+LEN(Tableau2[[#This Row],[req. technique]])),Tableau1[],3))) -> 27 | AI57: =MAX(Tableau2[[#This Row],[Bonus talisman bâton 1]:[Bonus talisman dé 5]])+IF(Tableau2[[#This Row],[CT dé applicable?]]<>"",'valeurs casting'!$K$1,0) -> 0 | AV57: =IF(AJ57<>"",VLOOKUP(AJ57,'valeurs casting'!$E$2:$F$9,2),0) -> 0 | AW57: =IF(AK57<>"",VLOOKUP(AK57,'valeurs casting'!$E$2:$F$9,2),0) -> 0 | AX57: =IF(AL57<>"",VLOOKUP(AL57,'valeurs casting'!$E$2:$F$9,2),0) -> 0 | AY57: =IF(AM57<>"",VLOOKUP(AM57,'valeurs casting'!$E$2:$F$9,2),0) -> 0 | AZ57: =IF(AN57<>"",VLOOKUP(AN57,'valeurs casting'!$E$2:$F$9,2),0) -> 0 | BA57: =IF(AO57<>"",VLOOKUP(AO57,'valeurs casting'!$E$2:$F$9,2),0) -> 0 | BB57: =IF(AP57<>"",VLOOKUP(AP57,'valeurs casting'!$G$2:$H$9,2),0) -> 0 | BC57: =IF(AQ57<>"",VLOOKUP(AQ57,'valeurs casting'!$G$2:$H$9,2),0) -> 0 | BD57: =IF(AR57<>"",VLOOKUP(AR57,'valeurs casting'!$G$2:$H$9,2),0) -> 0 | BE57: =IF(AS57<>"",VLOOKUP(AS57,'valeurs casting'!$G$2:$H$9,2),0) -> 0 | BF57: =IF(AT57<>"",VLOOKUP(AT57,'valeurs casting'!$G$2:$H$9,2),0) -> 0
A58: Magnificence des amis de Razal Wauke | B58: Cr | D58: Me | F58: =Tableau2[[#This Row],[Technique]]&IF(Tableau2[[#This Row],[req. technique]]<>"","("&Tableau2[[#This Row],[req. technique]]&")","")&Tableau2[[#This Row],[Forme]]&IF(Tableau2[[#This Row],[req. forme]]<>"","("&Tableau2[[#This Row],[req. forme]]&")","") -> CrMe | G58: 55 | H58: 40 | J58: touch | K58: momentané | L58: group | S58: =IF(IF(Tableau2[[#This Row],[Niveau base]]<5,VLOOKUP(Tableau2[[#This Row],[Niveau base]],'valeurs casting'!$J$5:$K$9,2),Tableau2[[#This Row],[Niveau base]])+5*(SUM(Tableau2[[#This Row],[taille]:[valeur]])+VLOOKUP(Tableau2[[#This Row],[portée]],'valeurs casting'!$J$11:$K$16,2)+VLOOKUP(Tableau2[[#This Row],[durée]],'valeurs casting'!$J$17:$K$24,2)+VLOOKUP(Tableau2[[#This Row],[cible]],'valeurs casting'!$J$25:$K$35,2))<5,VLOOKUP(IF(Tableau2[[#This Row],[Niveau base]]<5,VLOOKUP(Tableau2[[#This Row],[Niveau base]],'valeurs casting'!$J$5:$K$9,2),Tableau2[[#This Row],[Niveau base]])+5*(SUM(Tableau2[[#This Row],[taille]:[valeur]])+VLOOKUP(Tableau2[[#This Row],[portée]],'valeurs casting'!$J$11:$K$16,2)+VLOOKUP(Tableau2[[#This Row],[durée]],'valeurs casting'!$J$17:$K$24,2)+VLOOKUP(Tableau2[[#This Row],[cible]],'valeurs casting'!$J$25:$K$35,2)),'valeurs casting'!$K$5:$L$9,2),IF(Tableau2[[#This Row],[Niveau base]]<5,VLOOKUP(Tableau2[[#This Row],[Niveau base]],'valeurs casting'!$J$5:$K$9,2),Tableau2[[#This Row],[Niveau base]])+5*(SUM(Tableau2[[#This Row],[taille]:[valeur]])+VLOOKUP(Tableau2[[#This Row],[portée]],'valeurs casting'!$J$11:$K$16,2)+VLOOKUP(Tableau2[[#This Row],[durée]],'valeurs casting'!$J$17:$K$24,2)+VLOOKUP(Tableau2[[#This Row],[cible]],'valeurs casting'!$J$25:$K$35,2))) -> 55 | T58: x | U58: les personnes du groupe gagnent +1 de présence jusqu’à un maximum de 2. | V58: A cause de l’expérimentation, le trait de personnalité le plus élevé des cibles augmente de 1. | W58: =IF(Tableau2[[#This Row],[XP mastery]]=0,"",TRUNC((SQRT(8*(Tableau2[[#This Row],[XP mastery]]/5)+1)-1)/2)) | AH58: ='valeurs casting'!$K$2+MIN(VLOOKUP(Tableau2[[#This Row],[Technique]],Tableau1[],3),IF(Tableau2[[#This Row],[req. technique]]="",9999,VLOOKUP(LEFT(Tableau2[[#This Row],[req. technique]],2),Tableau1[],3)),IF(LEN(Tableau2[[#This Row],[req. technique]])<=2,9999,VLOOKUP(LEFT(RIGHT(Tableau2[[#This Row],[req. technique]],-2+LEN(Tableau2[[#This Row],[req. technique]])),2),Tableau1[],3)),IF(LEN(Tableau2[[#This Row],[req. technique]])<=4,9999,VLOOKUP(RIGHT(Tableau2[[#This Row],[req. technique]],-7+LEN(Tableau2[[#This Row],[req. technique]])),Tableau1[],3))) -> 27 | AI58: =MAX(Tableau2[[#This Row],[Bonus talisman bâton 1]:[Bonus talisman dé 5]])+IF(Tableau2[[#This Row],[CT dé applicable?]]<>"",'valeurs casting'!$K$1,0) -> 0 | AV58: =IF(AJ58<>"",VLOOKUP(AJ58,'valeurs casting'!$E$2:$F$9,2),0) -> 0 | AW58: =IF(AK58<>"",VLOOKUP(AK58,'valeurs casting'!$E$2:$F$9,2),0) -> 0 | AX58: =IF(AL58<>"",VLOOKUP(AL58,'valeurs casting'!$E$2:$F$9,2),0) -> 0 | AY58: =IF(AM58<>"",VLOOKUP(AM58,'valeurs casting'!$E$2:$F$9,2),0) -> 0 | AZ58: =IF(AN58<>"",VLOOKUP(AN58,'valeurs casting'!$E$2:$F$9,2),0) -> 0 | BA58: =IF(AO58<>"",VLOOKUP(AO58,'valeurs casting'!$E$2:$F$9,2),0) -> 0 | BB58: =IF(AP58<>"",VLOOKUP(AP58,'valeurs casting'!$G$2:$H$9,2),0) -> 0 | BC58: =IF(AQ58<>"",VLOOKUP(AQ58,'valeurs casting'!$G$2:$H$9,2),0) -> 0 | BD58: =IF(AR58<>"",VLOOKUP(AR58,'valeurs casting'!$G$2:$H$9,2),0) -> 0 | BE58: =IF(AS58<>"",VLOOKUP(AS58,'valeurs casting'!$G$2:$H$9,2),0) -> 0 | BF58: =IF(AT58<>"",VLOOKUP(AT58,'valeurs casting'!$G$2:$H$9,2),0) -> 0
