Workbook
Name An: 'valeurs casting'!$C$7
Name Aq: 'valeurs casting'!$C$8
Name Au: 'valeurs casting'!$C$9
Name Co: 'valeurs casting'!$C$10
Name Cr: 'valeurs casting'!$C$2
Name He: 'valeurs casting'!$C$11
Name Ig: 'valeurs casting'!$C$12
Name Im: 'valeurs casting'!$C$13
Name In: 'valeurs casting'!$C$3
Name Me: 'valeurs casting'!$C$14
Name Mu: 'valeurs casting'!$C$4
Name Pe: 'valeurs casting'!$C$5
Name Re: 'valeurs casting'!$C$6
Name Talisman_baton: 'valeurs casting'!$E$2:$E$21
Name talisman_dé: 'valeurs casting'!$G$2:$G$21
Name Te: 'valeurs casting'!$C$15
Name Vi: 'valeurs casting'!$C$16

Sheet sorts
Q1: Spécial | W1: Mastery | AJ1: talisman bâton | AP1: talisman dé
A2: Nom | B2: Technique | C2: req. technique | D2: Forme | E2: req. forme | F2: TeFo | G2: niveau | H2: Niveau base | I2: Base forme | J2: portée | K2: durée | L2: cible | M2: taille | N2: requisite | O2: complexité | P2: Expérimentation valeur | Q2: valeur | R2: intitulé | S2: Calcul niveau automatique | T2: Rituel | U2: description | V2: Exp. | W2: niveau mastery | X2: XP mastery | Y2: FC | Z2: pén. | AA2: Multiple Casting | AB2: Precise casting (+1 finesse, -1 dé botch finesse) | AC2: MR | AD2: Subtle C | AE2: QC | AF2: imperturbable casting | AG2: stalwart casting | AH2: casting total | AI2: Meilleur bonus | AJ2: bâton1 | AK2: bâton2 | AL2: bâton3 | AM2: bâton4 | AN2: bâton5 | AO2: bâton6 | AP2: dé1 | AQ2: dé2 | AR2: dé3 | AS2: dé4 | AT2: dé5 | AU2: CT dé applicable? | AV2: Bonus talisman bâton 1 | AW2: Bonus talisman bâton 2 | AX2: Bonus talisman bâton 3 | AY2: Bonus talisman bâton 4 | AZ2: Bonus talisman bâton 5 | BA2: Bonus talisman bâton 6 | BB2: Bonus talisman dé 1 | BC2: Bonus talisman dé 2 | BD2: Bonus talisman dé 3 | BE2: Bonus talisman dé 4 | BF2: Bonus talisman dé 5 | BG2: Colonne8 | BH2: Colonne9 | BI2: Colonne10 | BJ2: Colonne11 | BK2: Colonne12
A3: Sense of magical power | B3: In | D3: Vi | F3: =Tableau2[[#This Row],[Technique]]&IF(Tableau2[[#This Row],[req. technique]]<>"","("&Tableau2[[#This Row],[req. technique]]&")","")&Tableau2[[#This Row],[Forme]]&IF(Tableau2[[#This Row],[req. forme]]<>"","("&Tableau2[[#This Row],[req. forme]]&")","") -> InVi | G3: 3 | H3: 2 | J3: touch | K3: momentané | L3: individu | S3: =IF(IF(Tableau2[[#This Row],[Niveau base]]<5,VLOOKUP(Tableau2[[#This Row],[Niveau base]],'valeurs casting'!$J$5:$K$9,2),Tableau2[[#This Row],[Niveau base]])+5*(SUM(Tableau2[[#This Row],[taille]:[valeur]])+VLOOKUP(Tableau2[[#This Row],[portée]],'valeurs casting'!$J$11:$K$16,2)+VLOOKUP(Tableau2[[#This Row],[durée]],'valeurs casting'!$J$17:$K$24,2)+VLOOKUP(Tableau2[[#This Row],[cible]],'valeurs casting'!$J$25:$K$35,2))<5,VLOOKUP(IF(Tableau2[[#This Row],[Niveau base]]<5,VLOOKUP(Tableau2[[#This Row],[Niveau base]],'valeurs casting'!$J$5:$K$9,2),Tableau2[[#This Row],[Niveau base]])+5*(SUM(Tableau2[[#This Row],[taille]:[valeur]])+VLOOKUP(Tableau2[[#This Row],[portée]],'valeurs casting'!$J$11:$K$16,2)+VLOOKUP(Tableau2[[#This Row],[durée]],'valeurs casting'!$J$17:$K$24,2)+VLOOKUP(Tableau2[[#This Row],[cible]],'valeurs casting'!$J$25:$K$35,2)),'valeurs casting'!$K$5:$L$9,2),IF(Tableau2[[#This Row],[Niveau base]]<5,VLOOKUP(Tableau2[[#This Row],[Niveau base]],'valeurs casting'!$J$5:$K$9,2),Tableau2[[#This Row],[Niveau base]])+5*(SUM(Tableau2[[#This Row],[taille]:[valeur]])+VLOOKUP(Tableau2[[#This Row],[portée]],'valeurs casting'!$J$11:$K$16,2)+VLOOKUP(Tableau2[[#This Row],[durée]],'valeurs casting'!$J$17:$K$24,2)+VLOOKUP(Tableau2[[#This Row],[cible]],'valeurs casting'!$J$25:$K$35,2))) -> 3 | U3: détermine l’aura magique | V3: donne une idée générale de la limite géographique sur laquelle l'aura en question est présente | W3: =IF(Tableau2[[#This Row],[XP mastery]]=0,"",TRUNC((SQRT(8*(Tableau2[[#This Row],[XP mastery]]/5)+1)-1)/2)) | AH3: ='valeurs casting'!$K$2+MIN(VLOOKUP(Tableau2[[#This Row],[Technique]],Tableau1[],3),IF(Tableau2[[#This Row],[req. technique]]="",9999,VLOOKUP(LEFT(Tableau2[[#This Row],[req. technique]],2),Tableau1[],3)),IF(LEN(Tableau2[[#This Row],[req. technique]])<=2,9999,VLOOKUP(LEFT(RIGHT(Tableau2[[#This Row],[req. technique]],-2+LEN(Tableau2[[#This Row],[req. technique]])),2),Tableau1[],3)),IF(LEN(Tableau2[[#This Row],[req. technique]])<=4,9999,VLOOKUP(RIGHT(Tableau2[[#This Row],[req. technique]],-7+LEN(Tableau2[[#This Row],[req. technique]])),Tableau1[],3))) -> 19 | AI3: =MAX(Tableau2[[#This Row],[Bonus talisman bâton 1]:[Bonus talisman dé 5]])+IF(Tableau2[[#This Row],[CT dé applicable?]]<>"",'valeurs casting'!$K$1,0) -> 2 | AP3: in | AV3: =IF(AJ3<>"",VLOOKUP(AJ3,'valeurs casting'!$E$2:$F$9,2),0) -> 0 | AW3: =IF(AK3<>"",VLOOKUP(AK3,'valeurs casting'!$E$2:$F$9,2),0) -> 0 | AX3: =IF(AL3<>"",VLOOKUP(AL3,'valeurs casting'!$E$2:$F$9,2),0) -> 0 | AY3: =IF(AM3<>"",VLOOKUP(AM3,'valeurs casting'!$E$2:$F$9,2),0) -> 0 | AZ3: =IF(AN3<>"",VLOOKUP(AN3,'valeurs casting'!$E$2:$F$9,2),0) -> 0 | BA3: =IF(AO3<>"",VLOOKUP(AO3,'valeurs casting'!$E$2:$F$9,2),0) -> 0 | BB3: =IF(AP3<>"",VLOOKUP(AP3,'valeurs casting'!$G$2:$H$9,2),0) -> 2 | BC3: =IF(AQ3<>"",VLOOKUP(AQ3,'valeurs casting'!$G$2:$H$9,2),0) -> 0 | BD3: =IF(AR3<>"",VLOOKUP(AR3,'valeurs casting'!$G$2:$H$9,2),0) -> 0 | BE3: =IF(AS3<>"",VLOOKUP(AS3,'valeurs casting'!$G$2:$H$9,2),0) -> 0 | BF3: =IF(AT3<>"",VLOOKUP(AT3,'valeurs casting'!$G$2:$H$9,2),0) -> 0
A4: Sense of fae power | B4: In | D4: Vi | F4: =Tableau2[[#This Row],[Technique]]&IF(Tableau2[[#This Row],[req. technique]]<>"","("&Tableau2[[#This Row],[req. technique]]&")","")&Tableau2[[#This Row],[Forme]]&IF(Tableau2[[#This Row],[req. forme]]<>"","("&Tableau2[[#This Row],[req. forme]]&")","") -> InVi | G4: 3 | H4: 2 | J4: touch | K4: momentané | L4: individu | S4: =IF(IF(Tableau2[[#This Row],[Niveau base]]<5,VLOOKUP(Tableau2[[#This Row],[Niveau base]],'valeurs casting'!$J$5:$K$9,2),Tableau2[[#This Row],[Niveau base]])+5*(SUM(Tableau2[[#This Row],[taille]:[valeur]])+VLOOKUP(Tableau2[[#This Row],[portée]],'valeurs casting'!$J$11:$K$16,2)+VLOOKUP(Tableau2[[#This Row],[durée]],'valeurs casting'!$J$17:$K$24,2)+VLOOKUP(Tableau2[[#This Row],[cible]],'valeurs casting'!$J$25:$K$35,2))<5,VLOOKUP(IF(Tableau2[[#This Row],[Niveau base]]<5,VLOOKUP(Tableau2[[#This Row],[Niveau base]],'valeurs casting'!$J$5:$K$9,2),Tableau2[[#This Row],[Niveau base]])+5*(SUM(Tableau2[[#This Row],[taille]:[valeur]])+VLOOKUP(Tableau2[[#This Row],[portée]],'valeurs casting'!$J$11:$K$16,2)+VLOOKUP(Tableau2[[#This Row],[durée]],'valeurs casting'!$J$17:$K$24,2)+VLOOKUP(Tableau2[[#This Row],[cible]],'valeurs casting'!$J$25:$K$35,2)),'valeurs casting'!$K$5:$L$9,2),IF(Tableau2[[#This Row],[Niveau base]]<5,VLOOKUP(Tableau2[[#This Row],[Niveau base]],'valeurs casting'!$J$5:$K$9,2),Tableau2[[#This Row],[Niveau base]])+5*(SUM(Tableau2[[#This Row],[taille]:[valeur]])+VLOOKUP(Tableau2[[#This Row],[portée]],'valeurs casting'!$J$11:$K$16,2)+VLOOKUP(Tableau2[[#This Row],[durée]],'valeurs casting'!$J$17:$K$24,2)+VLOOKUP(Tableau2[[#This Row],[cible]],'valeurs casting'!$J$25:$K$35,2))) -> 3 | U4: détermine l’aura féérique | V4: donne une idée générale de la limite géographique sur laquelle l'aura en question est présente | W4: =IF(Tableau2[[#This Row],[XP mastery]]=0,"",TRUNC((SQRT(8*(Tableau2[[#This Row],[XP mastery]]/5)+1)-1)/2)) | AH4: ='valeurs casting'!$K$2+MIN(VLOOKUP(Tableau2[[#This Row],[Technique]],Tableau1[],3),IF(Tableau2[[#This Row],[req. technique]]="",9999,VLOOKUP(LEFT(Tableau2[[#This Row],[req. technique]],2),Tableau1[],3)),IF(LEN(Tableau2[[#This Row],[req. technique]])<=2,9999,VLOOKUP(LEFT(RIGHT(Tableau2[[#This Row],[req. technique]],-2+LEN(Tableau2[[#This Row],[req. technique]])),2),Tableau1[],3)),IF(LEN(Tableau2[[#This Row],[req. technique]])<=4,9999,VLOOKUP(RIGHT(Tableau2[[#This Row],[req. technique]],-7+LEN(Tableau2[[#This Row],[req. technique]])),Tableau1[],3))) -> 19 | AI4: =MAX(Tableau2[[#This Row],[Bonus talisman bâton 1]:[Bonus talisman dé 5]])+IF(Tableau2[[#This Row],[CT dé applicable?]]<>"",'valeurs casting'!$K$1,0) -> 2 | AP4: in | AV4: =IF(AJ4<>"",VLOOKUP(AJ4,'valeurs casting'!$E$2:$F$9,2),0) -> 0 | AW4: =IF(AK4<>"",VLOOKUP(AK4,'valeurs casting'!$E$2:$F$9,2),0) -> 0 | AX4: =IF(AL4<>"",VLOOKUP(AL4,'valeurs casting'!$E$2:$F$9,2),0) -> 0 | AY4: =IF(AM4<>"",VLOOKUP(AM4,'valeurs casting'!$E$2:$F$9,2),0) -> 0 | AZ4: =IF(AN4<>"",VLOOKUP(AN4,'valeurs casting'!$E$2:$F$9,2),0) -> 0 | BA4: =IF(AO4<>"",VLOOKUP(AO4,'valeurs casting'!$E$2:$F$9,2),0) -> 0 | BB4: =IF(AP4<>"",VLOOKUP(AP4,'valeurs casting'!$G$2:$H$9,2),0) -> 2 | BC4: =IF(AQ4<>"",VLOOKUP(AQ4,'valeurs casting'!$G$2:$H$9,2),0) -> 0 | BD4: =IF(AR4<>"",VLOOKUP(AR4,'valeurs casting'!$G$2:$H$9,2),0) -> 0 | BE4: =IF(AS4<>"",VLOOKUP(AS4,'valeurs casting'!$G$2:$H$9,2),0) -> 0 | BF4: =IF(AT4<>"",VLOOKUP(AT4,'valeurs casting'!$G$2:$H$9,2),0) -> 0
A5: Sense of divine power | B5: In | D5: Vi | F5: =Tableau2[[#This Row],[Technique]]&IF(Tableau2[[#This Row],[req. technique]]<>"","("&Tableau2[[#This Row],[req. technique]]&")","")&Tableau2[[#This Row],[Forme]]&IF(Tableau2[[#This Row],[req. forme]]<>"","("&Tableau2[[#This Row],[req. forme]]&")","") -> InVi | G5: 3 | H5: 2 | J5: touch | K5: momentané | L5: individu | S5: =IF(IF(Tableau2[[#This Row],[Niveau base]]<5,VLOOKUP(Tableau2[[#This Row],[Niveau base]],'valeurs casting'!$J$5:$K$9,2),Tableau2[[#This Row],[Niveau base]])+5*(SUM(Tableau2[[#This Row],[taille]:[valeur]])+VLOOKUP(Tableau2[[#This Row],[portée]],'valeurs casting'!$J$11:$K$16,2)+VLOOKUP(Tableau2[[#This Row],[durée]],'valeurs casting'!$J$17:$K$24,2)+VLOOKUP(Tableau2[[#This Row],[cible]],'valeurs casting'!$J$25:$K$35,2))<5,VLOOKUP(IF(Tableau2[[#This Row],[Niveau base]]<5,VLOOKUP(Tableau2[[#This Row],[Niveau base]],'valeurs casting'!$J$5:$K$9,2),Tableau2[[#This Row],[Niveau base]])+5*(SUM(Tableau2[[#This Row],[taille]:[valeur]])+VLOOKUP(Tableau2[[#This Row],[portée]],'valeurs casting'!$J$11:$K$16,2)+VLOOKUP(Tableau2[[#This Row],[durée]],'valeurs casting'!$J$17:$K$24,2)+VLOOKUP(Tableau2[[#This Row],[cible]],'valeurs casting'!$J$25:$K$35,2)),'valeurs casting'!$K$5:$L$9,2),IF(Tableau2[[#This Row],[Niveau base]]<5,VLOOKUP(Tableau2[[#This Row],[Niveau base]],'valeurs casting'!$J$5:$K$9,2),Tableau2[[#This Row],[Niveau base]])+5*(SUM(Tableau2[[#This Row],[taille]:[valeur]])+VLOOKUP(Tableau2[[#This Row],[portée]],'valeurs casting'!$J$11:$K$16,2)+VLOOKUP(Tableau2[[#This Row],[durée]],'valeurs casting'!$J$17:$K$24,2)+VLOOKUP(Tableau2[[#This Row],[cible]],'valeurs casting'!$J$25:$K$35,2))) -> 3 | U5: détermine l’aura divine | V5: donne une idée générale de la limite géographique sur laquelle l'aura en question est présente | W5: =IF(Tableau2[[#This Row],[XP mastery]]=0,"",TRUNC((SQRT(8*(Tableau2[[#This Row],[XP mastery]]/5)+1)-1)/2)) | AH5: ='valeurs casting'!$K$2+MIN(VLOOKUP(Tableau2[[#This Row],[Technique]],Tableau1[],3),IF(Tableau2[[#This Row],[req. technique]]="",9999,VLOOKUP(LEFT(Tableau2[[#This Row],[req. technique]],2),Tableau1[],3)),IF(LEN(Tableau2[[#This Row],[req. technique]])<=2,9999,VLOOKUP(LEFT(RIGHT(Tableau2[[#This Row],[req. technique]],-2+LEN(Tableau2[[#This Row],[req. technique]])),2),Tableau1[],3)),IF(LEN(Tableau2[[#This Row],[req. technique]])<=4,9999,VLOOKUP(RIGHT(Tableau2[[#This Row],[req. technique]],-7+LEN(Tableau2[[#This Row],[req. technique]])),Tableau1[],3))) -> 19 | AI5: =MAX(Tableau2[[#This Row],[Bonus talisman bâton 1]:[Bonus talisman dé 5]])+IF(Tableau2[[#This Row],[CT dé applicable?]]<>"",'valeurs casting'!$K$1,0) -> 2 | AP5: in | AV5: =IF(AJ5<>"",VLOOKUP(AJ5,'valeurs casting'!$E$2:$F$9,2),0) -> 0 | AW5: =IF(AK5<>"",VLOOKUP(AK5,'valeurs casting'!$E$2:$F$9,2),0) -> 0 | AX5: =IF(AL5<>"",VLOOKUP(AL5,'valeurs casting'!$E$2:$F$9,2),0) -> 0 | AY5: =IF(AM5<>"",VLOOKUP(AM5,'valeurs casting'!$E$2:$F$9,2),0) -> 0 | AZ5: =IF(AN5<>"",VLOOKUP(AN5,'valeurs casting'!$E$2:$F$9,2),0) -> 0 | BA5: =IF(AO5<>"",VLOOKUP(AO5,'valeurs casting'!$E$2:$F$9,2),0) -> 0 | BB5: =IF(AP5<>"",VLOOKUP(AP5,'valeurs casting'!$G$2:$H$9,2),0) -> 2 | BC5: =IF(AQ5<>"",VLOOKUP(AQ5,'valeurs casting'!$G$2:$H$9,2),0) -> 0 | BD5: =IF(AR5<>"",VLOOKUP(AR5,'valeurs casting'!$G$2:$H$9,2),0) -> 0 | BE5: =IF(AS5<>"",VLOOKUP(AS5,'valeurs casting'!$G$2:$H$9,2),0) -> 0 | BF5: =IF(AT5<>"",VLOOKUP(AT5,'valeurs casting'!$G$2:$H$9,2),0) -> 0
A6: Sense of infernal power | B6: In | D6: Vi | F6: =Tableau2[[#This Row],[Technique]]&IF(Tableau2[[#This Row],[req. technique]]<>"","("&Tableau2[[#This Row],[req. technique]]&")","")&Tableau2[[#This Row],[Forme]]&IF(Tableau2[[#This Row],[req. forme]]<>"","("&Tableau2[[#This Row],[req. forme]]&")","") -> InVi | G6: 3 | H6: 2 | J6: touch | K6: momentané | L6: individu | S6: =IF(IF(Tableau2[[#This Row],[Niveau base]]<5,VLOOKUP(Tableau2[[#This Row],[Niveau base]],'valeurs casting'!$J$5:$K$9,2),Tableau2[[#This Row],[Niveau base]])+5*(SUM(Tableau2[[#This Row],[taille]:[valeur]])+VLOOKUP(Tableau2[[#This Row],[portée]],'valeurs casting'!$J$11:$K$16,2)+VLOOKUP(Tableau2[[#This Row],[durée]],'valeurs casting'!$J$17:$K$24,2)+VLOOKUP(Tableau2[[#This Row],[cible]],'valeurs casting'!$J$25:$K$35,2))<5,VLOOKUP(IF(Tableau2[[#This Row],[Niveau base]]<5,VLOOKUP(Tableau2[[#This Row],[Niveau base]],'valeurs casting'!$J$5:$K$9,2),Tableau2[[#This Row],[Niveau base]])+5*(SUM(Tableau2[[#This Row],[taille]:[valeur]])+VLOOKUP(Tableau2[[#This Row],[portée]],'valeurs casting'!$J$11:$K$16,2)+VLOOKUP(Tableau2[[#This Row],[durée]],'valeurs casting'!$J$17:$K$24,2)+VLOOKUP(Tableau2[[#This Row],[cible]],'valeurs casting'!$J$25:$K$35,2)),'valeurs casting'!$K$5:$L$9,2),IF(Tableau2[[#This Row],[Niveau base]]<5,VLOOKUP(Tableau2[[#This Row],[Niveau base]],'valeurs casting'!$J$5:$K$9,2),Tableau2[[#This Row],[Niveau base]])+5*(SUM(Tableau2[[#This Row],[taille]:[valeur]])+VLOOKUP(Tableau2[[#This Row],[portée]],'valeurs casting'!$J$11:$K$16,2)+VLOOKUP(Tableau2[[#This Row],[durée]],'valeurs casting'!$J$17:$K$24,2)+VLOOKUP(Tableau2[[#This Row],[cible]],'valeurs casting'!$J$25:$K$35,2))) -> 3 | U6: détermine l’aura infernale | V6: donne une idée générale de la limite géographique sur laquelle l'aura en question est présente | W6: =IF(Tableau2[[#This Row],[XP mastery]]=0,"",TRUNC((SQRT(8*(Tableau2[[#This Row],[XP mastery]]/5)+1)-1)/2)) | AH6: ='valeurs casting'!$K$2+MIN(VLOOKUP(Tableau2[[#This Row],[Technique]],Tableau1[],3),IF(Tableau2[[#This Row],[req. technique]]="",9999,VLOOKUP(LEFT(Tableau2[[#This Row],[req. technique]],2),Tableau1[],3)),IF(LEN(Tableau2[[#This Row],[req. technique]])<=2,9999,VLOOKUP(LEFT(RIGHT(Tableau2[[#This Row],[req. technique]],-2+LEN(Tableau2[[#This Row],[req. technique]])),2),Tableau1[],3)),IF(LEN(Tableau2[[#This Row],[req. technique]])<=4,9999,VLOOKUP(RIGHT(Tableau2[[#This Row],[req. technique]],-7+LEN(Tableau2[[#This Row],[req. technique]])),Tableau1[],3))) -> 19 | AI6: =MAX(Tableau2[[#This Row],[Bonus talisman bâton 1]:[Bonus talisman dé 5]])+IF(Tableau2[[#This Row],[CT dé applicable?]]<>"",'valeurs casting'!$K$1,0) -> 2 | AP6: in | AV6: =IF(AJ6<>"",VLOOKUP(AJ6,'valeurs casting'!$E$2:$F$9,2),0) -> 0 | AW6: =IF(AK6<>"",VLOOKUP(AK6,'valeurs casting'!$E$2:$F$9,2),0) -> 0 | AX6: =IF(AL6<>"",VLOOKUP(AL6,'valeurs casting'!$E$2:$F$9,2),0) -> 0 | AY6: =IF(AM6<>"",VLOOKUP(AM6,'valeurs casting'!$E$2:$F$9,2),0) -> 0 | AZ6: =IF(AN6<>"",VLOOKUP(AN6,'valeurs casting'!$E$2:$F$9,2),0) -> 0 | BA6: =IF(AO6<>"",VLOOKUP(AO6,'valeurs casting'!$E$2:$F$9,2),0) -> 0 | BB6: =IF(AP6<>"",VLOOKUP(AP6,'valeurs casting'!$G$2:$H$9,2),0) -> 2 | BC6: =IF(AQ6<>"",VLOOKUP(AQ6,'valeurs casting'!$G$2:$H$9,2),0) -> 0 | BD6: =IF(AR6<>"",VLOOKUP(AR6,'valeurs casting'!$G$2:$H$9,2),0) -> 0 | BE6: =IF(AS6<>"",VLOOKUP(AS6,'valeurs casting'!$G$2:$H$9,2),0) -> 0 | BF6: =IF(AT6<>"",VLOOKUP(AT6,'valeurs casting'!$G$2:$H$9,2),0) -> 0
A7: Déviation des animaux mondains de Razal Wauke | B7: Re | D7: An | F7: =Tableau2[[#This Row],[Technique]]&IF(Tableau2[[#This Row],[req. technique]]<>"","("&Tableau2[[#This Row],[req. technique]]&")","")&Tableau2[[#This Row],[Forme]]&IF(Tableau2[[#This Row],[req. forme]]<>"","("&Tableau2[[#This Row],[req. forme]]&")","") -> ReAn | G7: 4 | H7: 2 | J7: touch | K7: conc | L7: individu | S7: =IF(IF(Tableau2[[#This Row],[Niveau base]]<5,VLOOKUP(Tableau2[[#This Row],[Niveau base]],'valeurs casting'!$J$5:$K$9,2),Tableau2[[#This Row],[Niveau base]])+5*(SUM(Tableau2[[#This Row],[taille]:[valeur]])+VLOOKUP(Tableau2[[#This Row],[portée]],'valeurs casting'!$J$11:$K$16,2)+VLOOKUP(Tableau2[[#This Row],[durée]],'valeurs casting'!$J$17:$K$24,2)+VLOOKUP(Tableau2[[#This Row],[cible]],'valeurs casting'!$J$25:$K$35,2))<5,VLOOKUP(IF(Tableau2[[#This Row],[Niveau base]]<5,VLOOKUP(Tableau2[[#This Row],[Niveau base]],'valeurs casting'!$J$5:$K$9,2),Tableau2[[#This Row],[Niveau base]])+5*(SUM(Tableau2[[#This Row],[taille]:[valeur]])+VLOOKUP(Tableau2[[#This Row],[portée]],'valeurs casting'!$J$11:$K$16,2)+VLOOKUP(Tableau2[[#This Row],[durée]],'valeurs casting'!$J$17:$K$24,2)+VLOOKUP(Tableau2[[#This Row],[cible]],'valeurs casting'!$J$25:$K$35,2)),'valeurs casting'!$K$5:$L$9,2),IF(Tableau2[[#This Row],[Niveau base]]<5,VLOOKUP(Tableau2[[#This Row],[Niveau base]],'valeurs casting'!$J$5:$K$9,2),Tableau2[[#This Row],[Niveau base]])+5*(SUM(Tableau2[[#This Row],[taille]:[valeur]])+VLOOKUP(Tableau2[[#This Row],[portée]],'valeurs casting'!$J$11:$K$16,2)+VLOOKUP(Tableau2[[#This Row],[durée]],'valeurs casting'!$J$17:$K$24,2)+VLOOKUP(Tableau2[[#This Row],[cible]],'valeurs casting'!$J$25:$K$35,2))) -> 4 | U7: Ward contre les animaux mondains la personne cible | V7: les poils/plumes/écailles/... des bestioles repoussées par le ward se couchent pour dessiner le sigil de Razal pendant une heure. L'effet est clairement visible. | W7: =IF(Tableau2[[#This Row],[XP mastery]]=0,"",TRUNC((SQRT(8*(Tableau2[[#This Row],[XP mastery]]/5)+1)-1)/2)) | AH7: ='valeurs casting'!$K$2+MIN(VLOOKUP(Tableau2[[#This Row],[Technique]],Tableau1[],3),IF(Tableau2[[#This Row],[req. technique]]="",9999,VLOOKUP(LEFT(Tableau2[[#This Row],[req. technique]],2),Tableau1[],3)),IF(LEN(Tableau2[[#This Row],[req. technique]])<=2,9999,VLOOKUP(LEFT(RIGHT(Tableau2[[#This Row],[req. technique]],-2+LEN(Tableau2[[#This Row],[req. technique]])),2),Tableau1[],3)),IF(LEN(Tableau2[[#This Row],[req. technique]])<=4,9999,VLOOKUP(RIGHT(Tableau2[[#This Row],[req. technique]],-7+LEN(Tableau2[[#This Row],[req. technique]])),Tableau1[],3))) -> 20 | AI7: =MAX(Tableau2[[#This Row],[Bonus talisman bâton 1]:[Bonus talisman dé 5]])+IF(Tableau2[[#This Row],[CT dé applicable?]]<>"",'valeurs casting'!$K$1,0) -> 5 | AJ7: wards | AV7: =IF(AJ7<>"",VLOOKUP(AJ7,'valeurs casting'!$E$2:$F$9,2),0) -> 5 | AW7: =IF(AK7<>"",VLOOKUP(AK7,'valeurs casting'!$E$2:$F$9,2),0) -> 0 | AX7: =IF(AL7<>"",VLOOKUP(AL7,'valeurs casting'!$E$2:$F$9,2),0) -> 0 | AY7: =IF(AM7<>"",VLOOKUP(AM7,'valeurs casting'!$E$2:$F$9,2),0) -> 0 | AZ7: =IF(AN7<>"",VLOOKUP(AN7,'valeurs casting'!$E$2:$F$9,2),0) -> 0 | BA7: =IF(AO7<>"",VLOOKUP(AO7,'valeurs casting'!$E$2:$F$9,2),0) -> 0 | BB7: =IF(AP7<>"",VLOOKUP(AP7,'valeurs casting'!$G$2:$H$9,2),0) -> 0 | BC7: =IF(AQ7<>"",VLOOKUP(AQ7,'valeurs casting'!$G$2:$H$9,2),0) -> 0 | BD7: =IF(AR7<>"",VLOOKUP(AR7,'valeurs casting'!$G$2:$H$9,2),0) -> 0 | BE7: =IF(AS7<>"",VLOOKUP(AS7,'valeurs casting'!$G$2:$H$9,2),0) -> 0 | BF7: =IF(AT7<>"",VLOOKUP(AT7,'valeurs casting'!$G$2:$H$9,2),0) -> 0
A8: Force du jeune Razal | B8: Cr | D8: Co | F8: =Tableau2[[#This Row],[Technique]]&IF(Tableau2[[#This Row],[req. technique]]<>"","("&Tableau2[[#This Row],[req. technique]]&")","")&Tableau2[[#This Row],[Forme]]&IF(Tableau2[[#This Row],[req. forme]]<>"","("&Tableau2[[#This Row],[req. forme]]&")","") -> CrCo | G8: 30 | H8: 30 | J8: pers | K8: momentané | L8: individu | S8: =IF(IF(Tableau2[[#This Row],[Niveau base]]<5,VLOOKUP(Tableau2[[#This Row],[Niveau base]],'valeurs casting'!$J$5:$K$9,2),Tableau2[[#This Row],[Niveau base]])+5*(SUM(Tableau2[[#This Row],[taille]:[valeur]])+VLOOKUP(Tableau2[[#This Row],[portée]],'valeurs casting'!$J$11:$K$16,2)+VLOOKUP(Tableau2[[#This Row],[durée]],'valeurs casting'!$J$17:$K$24,2)+VLOOKUP(Tableau2[[#This Row],[cible]],'valeurs casting'!$J$25:$K$35,2))<5,VLOOKUP(IF(Tableau2[[#This Row],[Niveau base]]<5,VLOOKUP(Tableau2[[#This Row],[Niveau base]],'valeurs casting'!$J$5:$K$9,2),Tableau2[[#This Row],[Niveau base]])+5*(SUM(Tableau2[[#This Row],[taille]:[valeur]])+VLOOKUP(Tableau2[[#This Row],[portée]],'valeurs casting'!$J$11:$K$16,2)+VLOOKUP(Tableau2[[#This Row],[durée]],'valeurs casting'!$J$17:$K$24,2)+VLOOKUP(Tableau2[[#This Row],[cible]],'valeurs casting'!$J$25:$K$35,2)),'valeurs casting'!$K$5:$L$9,2),IF(Tableau2[[#This Row],[Niveau base]]<5,VLOOKUP(Tableau2[[#This Row],[Niveau base]],'valeurs casting'!$J$5:$K$9,2),Tableau2[[#This Row],[Niveau base]])+5*(SUM(Tableau2[[#This Row],[taille]:[valeur]])+VLOOKUP(Tableau2[[#This Row],[portée]],'valeurs casting'!$J$11:$K$16,2)+VLOOKUP(Tableau2[[#This Row],[durée]],'valeurs casting'!$J$17:$K$24,2)+VLOOKUP(Tableau2[[#This Row],[cible]],'valeurs casting'!$J$25:$K$35,2))) -> 30 | T8: x | U8: la force augmente de 1 jusqu’à 0, | V8: le sort coute 5 pions | W8: =IF(Tableau2[[#This Row],[XP mastery]]=0,"",TRUNC((SQRT(8*(Tableau2[[#This Row],[XP mastery]]/5)+1)-1)/2)) | AH8: ='valeurs casting'!$K$2+MIN(VLOOKUP(Tableau2[[#This Row],[Technique]],Tableau1[],3),IF(Tableau2[[#This Row],[req. technique]]="",9999,VLOOKUP(LEFT(Tableau2[[#This Row],[req. technique]],2),Tableau1[],3)),IF(LEN(Tableau2[[#This Row],[req. technique]])<=2,9999,VLOOKUP(LEFT(RIGHT(Tableau2[[#This Row],[req. technique]],-2+LEN(Tableau2[[#This Row],[req. technique]])),2),Tableau1[],3)),IF(LEN(Tableau2[[#This Row],[req. technique]])<=4,9999,VLOOKUP(RIGHT(Tableau2[[#This Row],[req. technique]],-7+LEN(Tableau2[[#This Row],[req. technique]])),Tableau1[],3))) -> 27 | AI8: =MAX(Tableau2[[#This Row],[Bonus talisman bâton 1]:[Bonus talisman dé 5]])+IF(Tableau2[[#This Row],[CT dé applicable?]]<>"",'valeurs casting'!$K$1,0) -> 0 | AV8: =IF(AJ8<>"",VLOOKUP(AJ8,'valeurs casting'!$E$2:$F$9,2),0) -> 0 | AW8: =IF(AK8<>"",VLOOKUP(AK8,'valeurs casting'!$E$2:$F$9,2),0) -> 0 | AX8: =IF(AL8<>"",VLOOKUP(AL8,'valeurs casting'!$E$2:$F$9,2),0) -> 0 | AY8: =IF(AM8<>"",VLOOKUP(AM8,'valeurs casting'!$E$2:$F$9,2),0) -> 0 | AZ8: =IF(AN8<>"",VLOOKUP(AN8,'valeurs casting'!$E$2:$F$9,2),0) -> 0 | BA8: =IF(AO8<>"",VLOOKUP(AO8,'valeurs casting'!$E$2:$F$9,2),0) -> 0 | BB8: =IF(AP8<>"",VLOOKUP(AP8,'valeurs casting'!$G$2:$H$9,2),0) -> 0 | BC8: =IF(AQ8<>"",VLOOKUP(AQ8,'valeurs casting'!$G$2:$H$9,2),0) -> 0 | BD8: =IF(AR8<>"",VLOOKUP(AR8,'valeurs casting'!$G$2:$H$9,2),0) -> 0 | BE8: =IF(AS8<>"",VLOOKUP(AS8,'valeurs casting'!$G$2:$H$9,2),0) -> 0 | BF8: =IF(AT8<>"",VLOOKUP(AT8,'valeurs casting'!$G$2:$H$9,2),0) -> 0
A9: L’endurance améliorée de Razal Wauke | B9: Cr | D9: Co | F9: =Tableau2[[#This Row],[Technique]]&IF(Tableau2[[#This Row],[req. technique]]<>"","("&Tableau2[[#This Row],[req. technique]]&")","")&Tableau2[[#This Row],[Forme]]&IF(Tableau2[[#This Row],[req. forme]]<>"","("&Tableau2[[#This Row],[req. forme]]&")","") -> CrCo | G9: 50 | H9: 50 | J9: pers | K9: momentané | L9: individu | S9: =IF(IF(Tableau2[[#This Row],[Niveau base]]<5,VLOOKUP(Tableau2[[#This Row],[Niveau base]],'valeurs casting'!$J$5:$K$9,2),Tableau2[[#This Row],[Niveau base]])+5*(SUM(Tableau2[[#This Row],[taille]:[valeur]])+VLOOKUP(Tableau2[[#This Row],[portée]],'valeurs casting'!$J$11:$K$16,2)+VLOOKUP(Tableau2[[#This Row],[durée]],'valeurs casting'!$J$17:$K$24,2)+VLOOKUP(Tableau2[[#This Row],[cible]],'valeurs casting'!$J$25:$K$35,2))<5,VLOOKUP(IF(Tableau2[[#This Row],[Niveau base]]<5,VLOOKUP(Tableau2[[#This Row],[Niveau base]],'valeurs casting'!$J$5:$K$9,2),Tableau2[[#This Row],[Niveau base]])+5*(SUM(Tableau2[[#This Row],[taille]:[valeur]])+VLOOKUP(Tableau2[[#This Row],[portée]],'valeurs casting'!$J$11:$K$16,2)+VLOOKUP(Tableau2[[#This Row],[durée]],'valeurs casting'!$J$17:$K$24,2)+VLOOKUP(Tableau2[[#This Row],[cible]],'valeurs casting'!$J$25:$K$35,2)),'valeurs casting'!$K$5:$L$9,2),IF(Tableau2[[#This Row],[Niveau base]]<5,VLOOKUP(Tableau2[[#This Row],[Niveau base]],'valeurs casting'!$J$5:$K$9,2),Tableau2[[#This Row],[Niveau base]])+5*(SUM(Tableau2[[#This Row],[taille]:[valeur]])+VLOOKUP(Tableau2[[#This Row],[portée]],'valeurs casting'!$J$11:$K$16,2)+VLOOKUP(Tableau2[[#This Row],[durée]],'valeurs casting'!$J$17:$K$24,2)+VLOOKUP(Tableau2[[#This Row],[cible]],'valeurs casting'!$J$25:$K$35,2))) -> 50 | T9: x | U9: ce sortilège monte l’endurance de Razal Wauke de 1 point jusqu’à un maximum de +4 | W9: =IF(Tableau2[[#This Row],[XP mastery]]=0,"",TRUNC((SQRT(8*(Tableau2[[#This Row],[XP mastery]]/5)+1)-1)/2)) -> 1 | X9: 5 | AH9: ='valeurs casting'!$K$2+MIN(VLOOKUP(Tableau2[[#This Row],[Technique]],Tableau1[],3),IF(Tableau2[[#This Row],[req. technique]]="",9999,VLOOKUP(LEFT(Tableau2[[#This Row],[req. technique]],2),Tableau1[],3)),IF(LEN(Tableau2[[#This Row],[req. technique]])<=2,9999,VLOOKUP(LEFT(RIGHT(Tableau2[[#This Row],[req. technique]],-2+LEN(Tableau2[[#This Row],[req. technique]])),2),Tableau1[],3)),IF(LEN(Tableau2[[#This Row],[req. technique]])<=4,9999,VLOOKUP(RIGHT(Tableau2[[#This Row],[req. technique]],-7+LEN(Tableau2[[#This Row],[req. technique]])),Tableau1[],3))) -> 27 | AI9: =MAX(Tableau2[[#This Row],[Bonus talisman bâton 1]:[Bonus talisman dé 5]])+IF(Tableau2[[#This Row],[CT dé applicable?]]<>"",'valeurs casting'!$K$1,0) -> 0 | AV9: =IF(AJ9<>"",VLOOKUP(AJ9,'valeurs casting'!$E$2:$F$9,2),0) -> 0 | AW9: =IF(AK9<>"",VLOOKUP(AK9,'valeurs casting'!$E$2:$F$9,2),0) -> 0 | AX9: =IF(AL9<>"",VLOOKUP(AL9,'valeurs casting'!$E$2:$F$9,2),0) -> 0 | AY9: =IF(AM9<>"",VLOOKUP(AM9,'valeurs casting'!$E$2:$F$9,2),0) -> 0 | AZ9: =IF(AN9<>"",VLOOKUP(AN9,'valeurs casting'!$E$2:$F$9,2),0) -> 0 | BA9: =IF(AO9<>"",VLOOKUP(AO9,'valeurs casting'!$E$2:$F$9,2),0) -> 0 | BB9: =IF(AP9<>"",VLOOKUP(AP9,'valeurs casting'!$G$2:$H$9,2),0) -> 0 | BC9: =IF(AQ9<>"",VLOOKUP(AQ9,'valeurs casting'!$G$2:$H$9,2),0) -> 0 | BD9: =IF(AR9<>"",VLOOKUP(AR9,'valeurs casting'!$G$2:$H$9,2),0) -> 0 | BE9: =IF(AS9<>"",VLOOKUP(AS9,'valeurs casting'!$G$2:$H$9,2),0) -> 0 | BF9: =IF(AT9<>"",VLOOKUP(AT9,'valeurs casting'!$G$2:$H$9,2),0) -> 0
A10: Disparition d’urgence de Razal Wauke | B10: Cr | D10: Vi | F10: =Tableau2[[#This Row],[Technique]]&IF(Tableau2[[#This Row],[req. technique]]<>"","("&Tableau2[[#This Row],[req. technique]]&")","")&Tableau2[[#This Row],[Forme]]&IF(Tableau2[[#This Row],[req. forme]]<>"","("&Tableau2[[#This Row],[req. forme]]&")","") -> CrVi | G10: 10 | H10: 10 | J10: pers | K10: momentané | L10: individu | S10: =IF(IF(Tableau2[[#This Row],[Niveau base]]<5,VLOOKUP(Tableau2[[#This Row],[Niveau base]],'valeurs casting'!$J$5:$K$9,2),Tableau2[[#This Row],[Niveau base]])+5*(SUM(Tableau2[[#This Row],[taille]:[valeur]])+VLOOKUP(Tableau2[[#This Row],[portée]],'valeurs casting'!$J$11:$K$16,2)+VLOOKUP(Tableau2[[#This Row],[durée]],'valeurs casting'!$J$17:$K$24,2)+VLOOKUP(Tableau2[[#This Row],[cible]],'valeurs casting'!$J$25:$K$35,2))<5,VLOOKUP(IF(Tableau2[[#This Row],[Niveau base]]<5,VLOOKUP(Tableau2[[#This Row],[Niveau base]],'valeurs casting'!$J$5:$K$9,2),Tableau2[[#This Row],[Niveau base]])+5*(SUM(Tableau2[[#This Row],[taille]:[valeur]])+VLOOKUP(Tableau2[[#This Row],[portée]],'valeurs casting'!$J$11:$K$16,2)+VLOOKUP(Tableau2[[#This Row],[durée]],'valeurs casting'!$J$17:$K$24,2)+VLOOKUP(Tableau2[[#This Row],[cible]],'valeurs casting'!$J$25:$K$35,2)),'valeurs casting'!$K$5:$L$9,2),IF(Tableau2[[#This Row],[Niveau base]]<5,VLOOKUP(Tableau2[[#This Row],[Niveau base]],'valeurs casting'!$J$5:$K$9,2),Tableau2[[#This Row],[Niveau base]])+5*(SUM(Tableau2[[#This Row],[taille]:[valeur]])+VLOOKUP(Tableau2[[#This Row],[portée]],'valeurs casting'!$J$11:$K$16,2)+VLOOKUP(Tableau2[[#This Row],[durée]],'valeurs casting'!$J$17:$K$24,2)+VLOOKUP(Tableau2[[#This Row],[cible]],'valeurs casting'!$J$25:$K$35,2))) -> 10 | U10: le lanceur gagne 2 points de warping. | W10: =IF(Tableau2[[#This Row],[XP mastery]]=0,"",TRUNC((SQRT(8*(Tableau2[[#This Row],[XP mastery]]/5)+1)-1)/2)) -> 1 | X10: 5 | AC10: x | AH10: ='valeurs casting'!$K$2+MIN(VLOOKUP(Tableau2[[#This Row],[Technique]],Tableau1[],3),IF(Tableau2[[#This Row],[req. technique]]="",9999,VLOOKUP(LEFT(Tableau2[[#This Row],[req. technique]],2),Tableau1[],3)),IF(LEN(Tableau2[[#This Row],[req. technique]])<=2,9999,VLOOKUP(LEFT(RIGHT(Tableau2[[#This Row],[req. technique]],-2+LEN(Tableau2[[#This Row],[req. technique]])),2),Tableau1[],3)),IF(LEN(Tableau2[[#This Row],[req. technique]])<=4,9999,VLOOKUP(RIGHT(Tableau2[[#This Row],[req. technique]],-7+LEN(Tableau2[[#This Row],[req. technique]])),Tableau1[],3))) -> 27 | AI10: =MAX(Tableau2[[#This Row],[Bonus talisman bâton 1]:[Bonus talisman dé 5]])+IF(Tableau2[[#This Row],[CT dé applicable?]]<>"",'valeurs casting'!$K$1,0) -> 0 | AV10: =IF(AJ10<>"",VLOOKUP(AJ10,'valeurs casting'!$E$2:$F$9,2),0) -> 0 | AW10: =IF(AK10<>"",VLOOKUP(AK10,'valeurs casting'!$E$2:$F$9,2),0) -> 0 | AX10: =IF(AL10<>"",VLOOKUP(AL10,'valeurs casting'!$E$2:$F$9,2),0) -> 0 | AY10: =IF(AM10<>"",VLOOKUP(AM10,'valeurs casting'!$E$2:$F$9,2),0) -> 0 | AZ10: =IF(AN10<>"",VLOOKUP(AN10,'valeurs casting'!$E$2:$F$9,2),0) -> 0 | BA10: =IF(AO10<>"",VLOOKUP(AO10,'valeurs casting'!$E$2:$F$9,2),0) -> 0 | BB10: =IF(AP10<>"",VLOOKUP(AP10,'valeurs casting'!$G$2:$H$9,2),0) -> 0 | BC10: =IF(AQ10<>"",VLOOKUP(AQ10,'valeurs casting'!$G$2:$H$9,2),0) -> 0 | BD10: =IF(AR10<>"",VLOOKUP(AR10,'valeurs casting'!$G$2:$H$9,2),0) -> 0 | BE10: =IF(AS10<>"",VLOOKUP(AS10,'valeurs casting'!$G$2:$H$9,2),0) -> 0 | BF10: =IF(AT10<>"",VLOOKUP(AT10,'valeurs casting'!$G$2:$H$9,2),0) -> 0
A11: Repel winter’s clutch | B11: Cr | D11: Ig | F11: =Tableau2[[#This Row],[Technique]]&IF(Tableau2[[#This Row],[req. technique]]<>"","("&Tableau2[[#This Row],[req. technique]]&")","")&Tableau2[[#This Row],[Forme]]&IF(Tableau2[[#This Row],[req. forme]]<>"","("&Tableau2[[#This Row],[req. forme]]&")","") -> CrIg | G11: 5 | H11: 3 | J11: touch | K11: conc | L11: individu | S11: =IF(IF(Tableau2[[#This Row],[Niveau base]]<5,VLOOKUP(Tableau2[[#This Row],[Niveau base]],'valeurs casting'!$J$5:$K$9,2),Tableau2[[#This Row],[Niveau base]])+5*(SUM(Tableau2[[#This Row],[taille]:[valeur]])+VLOOKUP(Tableau2[[#This Row],[portée]],'valeurs casting'!$J$11:$K$16,2)+VLOOKUP(Tableau2[[#This Row],[durée]],'valeurs casting'!$J$17:$K$24,2)+VLOOKUP(Tableau2[[#This Row],[cible]],'valeurs casting'!$J$25:$K$35,2))<5,VLOOKUP(IF(Tableau2[[#This Row],[Niveau base]]<5,VLOOKUP(Tableau2[[#This Row],[Niveau base]],'valeurs casting'!$J$5:$K$9,2),Tableau2[[#This Row],[Niveau base]])+5*(SUM(Tableau2[[#This Row],[taille]:[valeur]])+VLOOKUP(Tableau2[[#This Row],[portée]],'valeurs casting'!$J$11:$K$16,2)+VLOOKUP(Tableau2[[#This Row],[durée]],'valeurs casting'!$J$17:$K$24,2)+VLOOKUP(Tableau2[[#This Row],[cible]],'valeurs casting'!$J$25:$K$35,2)),'valeurs casting'!$K$5:$L$9,2),IF(Tableau2[[#This Row],[Niveau base]]<5,VLOOKUP(Tableau2[[#This Row],[Niveau base]],'valeurs casting'!$J$5:$K$9,2),Tableau2[[#This Row],[Niveau base]])+5*(SUM(Tableau2[[#This Row],[taille]:[valeur]])+VLOOKUP(Tableau2[[#This Row],[portée]],'valeurs casting'!$J$11:$K$16,2)+VLOOKUP(Tableau2[[#This Row],[durée]],'valeurs casting'!$J$17:$K$24,2)+VLOOKUP(Tableau2[[#This Row],[cible]],'valeurs casting'!$J$25:$K$35,2))) -> 5 | U11: Rapidly warms the target with an internal heat. This can be used to quickly defrost an object, or, if applied quickly enough, to save an individual from freezing to death. When using this spell in conjunction with treating hypothermia, the Medicine roll receives a bonus of +5. | W11: =IF(Tableau2[[#This Row],[XP mastery]]=0,"",TRUNC((SQRT(8*(Tableau2[[#This Row],[XP mastery]]/5)+1)-1)/2)) | AH11: ='valeurs casting'!$K$2+MIN(VLOOKUP(Tableau2[[#This Row],[Technique]],Tableau1[],3),IF(Tableau2[[#This Row],[req. technique]]="",9999,VLOOKUP(LEFT(Tableau2[[#This Row],[req. technique]],2),Tableau1[],3)),IF(LEN(Tableau2[[#This Row],[req. technique]])<=2,9999,VLOOKUP(LEFT(RIGHT(Tableau2[[#This Row],[req. technique]],-2+LEN(Tableau2[[#This Row],[req. technique]])),2),Tableau1[],3)),IF(LEN(Tableau2[[#This Row],[req. technique]])<=4,9999,VLOOKUP(RIGHT(Tableau2[[#This Row],[req. technique]],-7+LEN(Tableau2[[#This Row],[req. technique]])),Tableau1[],3))) -> 27 | AI11: =MAX(Tableau2[[#This Row],[Bonus talisman bâton 1]:[Bonus talisman dé 5]])+IF(Tableau2[[#This Row],[CT dé applicable?]]<>"",'valeurs casting'!$K$1,0) -> 11 | AP11: Ig | AU11: x | AV11: =IF(AJ11<>"",VLOOKUP(AJ11,'valeurs casting'!$E$2:$F$9,2),0) -> 0 | AW11: =IF(AK11<>"",VLOOKUP(AK11,'valeurs casting'!$E$2:$F$9,2),0) -> 0 | AX11: =IF(AL11<>"",VLOOKUP(AL11,'valeurs casting'!$E$2:$F$9,2),0) -> 0 | AY11: =IF(AM11<>"",VLOOKUP(AM11,'valeurs casting'!$E$2:$F$9,2),0) -> 0 | AZ11: =IF(AN11<>"",VLOOKUP(AN11,'valeurs casting'!$E$2:$F$9,2),0) -> 0 | BA11: =IF(AO11<>"",VLOOKUP(AO11,'valeurs casting'!$E$2:$F$9,2),0) -> 0 | BB11: =IF(AP11<>"",VLOOKUP(AP11,'valeurs casting'!$G$2:$H$9,2),0) -> 4 | BC11: =IF(AQ11<>"",VLOOKUP(AQ11,'valeurs casting'!$G$2:$H$9,2),0) -> 0 | BD11: =IF(AR11<>"",VLOOKUP(AR11,'valeurs casting'!$G$2:$H$9,2),0) -> 0 | BE11: =IF(AS11<>"",VLOOKUP(AS11,'valeurs casting'!$G$2:$H$9,2),0) -> 0 | BF11: =IF(AT11<>"",VLOOKUP(AT11,'valeurs casting'!$G$2:$H$9,2),0) -> 0
A12: Probe silver amélioré | B12: In | D12: Te | F12: =Tableau2[[#This Row],[Technique]]&IF(Tableau2[[#This Row],[req. technique]]<>"","("&Tableau2[[#This Row],[req. technique]]&")","")&Tableau2[[#This Row],[Forme]]&IF(Tableau2[[#This Row],[req. forme]]<>"","("&Tableau2[[#This Row],[req. forme]]&")","") -> InTe | G12: 5 | H12: 2 | J12: pers | K12: conc | L12: smell | S12: =IF(IF(Tableau2[[#This Row],[Niveau base]]<5,VLOOKUP(Tableau2[[#This Row],[Niveau base]],'valeurs casting'!$J$5:$K$9,2),Tableau2[[#This Row],[Niveau base]])+5*(SUM(Tableau2[[#This Row],[taille]:[valeur]])+VLOOKUP(Tableau2[[#This Row],[portée]],'valeurs casting'!$J$11:$K$16,2)+VLOOKUP(Tableau2[[#This Row],[durée]],'valeurs casting'!$J$17:$K$24,2)+VLOOKUP(Tableau2[[#This Row],[cible]],'valeurs casting'!$J$25:$K$35,2))<5,VLOOKUP(IF(Tableau2[[#This Row],[Niveau base]]<5,VLOOKUP(Tableau2[[#This Row],[Niveau base]],'valeurs casting'!$J$5:$K$9,2),Tableau2[[#This Row],[Niveau base]])+5*(SUM(Tableau2[[#This Row],[taille]:[valeur]])+VLOOKUP(Tableau2[[#This Row],[portée]],'valeurs casting'!$J$11:$K$16,2)+VLOOKUP(Tableau2[[#This Row],[durée]],'valeurs casting'!$J$17:$K$24,2)+VLOOKUP(Tableau2[[#This Row],[cible]],'valeurs casting'!$J$25:$K$35,2)),'valeurs casting'!$K$5:$L$9,2),IF(Tableau2[[#This Row],[Niveau base]]<5,VLOOKUP(Tableau2[[#This Row],[Niveau base]],'valeurs casting'!$J$5:$K$9,2),Tableau2[[#This Row],[Niveau base]])+5*(SUM(Tableau2[[#This Row],[taille]:[valeur]])+VLOOKUP(Tableau2[[#This Row],[portée]],'valeurs casting'!$J$11:$K$16,2)+VLOOKUP(Tableau2[[#This Row],[durée]],'valeurs casting'!$J$17:$K$24,2)+VLOOKUP(Tableau2[[#This Row],[cible]],'valeurs casting'!$J$25:$K$35,2))) -> 5 | U12: le lanceur sent l’argent et peut suivre la trace. | W12: =IF(Tableau2[[#This Row],[XP mastery]]=0,"",TRUNC((SQRT(8*(Tableau2[[#This Row],[XP mastery]]/5)+1)-1)/2)) | AH12: ='valeurs casting'!$K$2+MIN(VLOOKUP(Tableau2[[#This Row],[Technique]],Tableau1[],3),IF(Tableau2[[#This Row],[req. technique]]="",9999,VLOOKUP(LEFT(Tableau2[[#This Row],[req. technique]],2),Tableau1[],3)),IF(LEN(Tableau2[[#This Row],[req. technique]])<=2,9999,VLOOKUP(LEFT(RIGHT(Tableau2[[#This Row],[req. technique]],-2+LEN(Tableau2[[#This Row],[req. technique]])),2),Tableau1[],3)),IF(LEN(Tableau2[[#This Row],[req. technique]])<=4,9999,VLOOKUP(RIGHT(Tableau2[[#This Row],[req. technique]],-7+LEN(Tableau2[[#This Row],[req. technique]])),Tableau1[],3))) -> 19 | AI12: =MAX(Tableau2[[#This Row],[Bonus talisman bâton 1]:[Bonus talisman dé 5]])+IF(Tableau2[[#This Row],[CT dé applicable?]]<>"",'valeurs casting'!$K$1,0) -> 3 | AJ12: Te | AV12: =IF(AJ12<>"",VLOOKUP(AJ12,'valeurs casting'!$E$2:$F$9,2),0) -> 3 | AW12: =IF(AK12<>"",VLOOKUP(AK12,'valeurs casting'!$E$2:$F$9,2),0) -> 0 | AX12: =IF(AL12<>"",VLOOKUP(AL12,'valeurs casting'!$E$2:$F$9,2),0) -> 0 | AY12: =IF(AM12<>"",VLOOKUP(AM12,'valeurs casting'!$E$2:$F$9,2),0) -> 0 | AZ12: =IF(AN12<>"",VLOOKUP(AN12,'valeurs casting'!$E$2:$F$9,2),0) -> 0 | BA12: =IF(AO12<>"",VLOOKUP(AO12,'valeurs casting'!$E$2:$F$9,2),0) -> 0 | BB12: =IF(AP12<>"",VLOOKUP(AP12,'valeurs casting'!$G$2:$H$9,2),0) -> 0 | BC12: =IF(AQ12<>"",VLOOKUP(AQ12,'valeurs casting'!$G$2:$H$9,2),0) -> 0 | BD12: =IF(AR12<>"",VLOOKUP(AR12,'valeurs casting'!$G$2:$H$9,2),0) -> 0 | BE12: =IF(AS12<>"",VLOOKUP(AS12,'valeurs casting'!$G$2:$H$9,2),0) -> 0 | BF12: =IF(AT12<>"",VLOOKUP(AT12,'valeurs casting'!$G$2:$H$9,2),0) -> 0
A13: Unseen arm | B13: Re | D13: Te | F13: =Tableau2[[#This Row],[Technique]]&IF(Tableau2[[#This Row],[req. technique]]<>"","("&Tableau2[[#This Row],[req. technique]]&")","")&Tableau2[[#This Row],[Forme]]&IF(Tableau2[[#This Row],[req. forme]]<>"","("&Tableau2[[#This Row],[req. forme]]&")","") -> ReTe | G13: 5 | H13: 2 | J13: voice | K13: conc | L13: individu | S13: =IF(IF(Tableau2[[#This Row],[Niveau base]]<5,VLOOKUP(Tableau2[[#This Row],[Niveau base]],'valeurs casting'!$J$5:$K$9,2),Tableau2[[#This Row],[Niveau base]])+5*(SUM(Tableau2[[#This Row],[taille]:[valeur]])+VLOOKUP(Tableau2[[#This Row],[portée]],'valeurs casting'!$J$11:$K$16,2)+VLOOKUP(Tableau2[[#This Row],[durée]],'valeurs casting'!$J$17:$K$24,2)+VLOOKUP(Tableau2[[#This Row],[cible]],'valeurs casting'!$J$25:$K$35,2))<5,VLOOKUP(IF(Tableau2[[#This Row],[Niveau base]]<5,VLOOKUP(Tableau2[[#This Row],[Niveau base]],'valeurs casting'!$J$5:$K$9,2),Tableau2[[#This Row],[Niveau base]])+5*(SUM(Tableau2[[#This Row],[taille]:[valeur]])+VLOOKUP(Tableau2[[#This Row],[portée]],'valeurs casting'!$J$11:$K$16,2)+VLOOKUP(Tableau2[[#This Row],[durée]],'valeurs casting'!$J$17:$K$24,2)+VLOOKUP(Tableau2[[#This Row],[cible]],'valeurs casting'!$J$25:$K$35,2)),'valeurs casting'!$K$5:$L$9,2),IF(Tableau2[[#This Row],[Niveau base]]<5,VLOOKUP(Tableau2[[#This Row],[Niveau base]],'valeurs casting'!$J$5:$K$9,2),Tableau2[[#This Row],[Niveau base]])+5*(SUM(Tableau2[[#This Row],[taille]:[valeur]])+VLOOKUP(Tableau2[[#This Row],[portée]],'valeurs casting'!$J$11:$K$16,2)+VLOOKUP(Tableau2[[#This Row],[durée]],'valeurs casting'!$J$17:$K$24,2)+VLOOKUP(Tableau2[[#This Row],[cible]],'valeurs casting'!$J$25:$K$35,2))) -> 5 | U13: ArM5 p155 | W13: =IF(Tableau2[[#This Row],[XP mastery]]=0,"",TRUNC((SQRT(8*(Tableau2[[#This Row],[XP mastery]]/5)+1)-1)/2)) | AH13: ='valeurs casting'!$K$2+MIN(VLOOKUP(Tableau2[[#This Row],[Technique]],Tableau1[],3),IF(Tableau2[[#This Row],[req. technique]]="",9999,VLOOKUP(LEFT(Tableau2[[#This Row],[req. technique]],2),Tableau1[],3)),IF(LEN(Tableau2[[#This Row],[req. technique]])<=2,9999,VLOOKUP(LEFT(RIGHT(Tableau2[[#This Row],[req. technique]],-2+LEN(Tableau2[[#This Row],[req. technique]])),2),Tableau1[],3)),IF(LEN(Tableau2[[#This Row],[req. technique]])<=4,9999,VLOOKUP(RIGHT(Tableau2[[#This Row],[req. technique]],-7+LEN(Tableau2[[#This Row],[req. technique]])),Tableau1[],3))) -> 20 | AI13: =MAX(Tableau2[[#This Row],[Bonus talisman bâton 1]:[Bonus talisman dé 5]])+IF(Tableau2[[#This Row],[CT dé applicable?]]<>"",'valeurs casting'!$K$1,0) -> 4 | AJ13: Te | AK13: control things | AV13: =IF(AJ13<>"",VLOOKUP(AJ13,'valeurs casting'!$E$2:$F$9,2),0) -> 3 | AW13: =IF(AK13<>"",VLOOKUP(AK13,'valeurs casting'!$E$2:$F$9,2),0) -> 4 | AX13: =IF(AL13<>"",VLOOKUP(AL13,'valeurs casting'!$E$2:$F$9,2),0) -> 0 | AY13: =IF(AM13<>"",VLOOKUP(AM13,'valeurs casting'!$E$2:$F$9,2),0) -> 0 | AZ13: =IF(AN13<>"",VLOOKUP(AN13,'valeurs casting'!$E$2:$F$9,2),0) -> 0 | BA13: =IF(AO13<>"",VLOOKUP(AO13,'valeurs casting'!$E$2:$F$9,2),0) -> 0 | BB13: =IF(AP13<>"",VLOOKUP(AP13,'valeurs casting'!$G$2:$H$9,2),0) -> 0 | BC13: =IF(AQ13<>"",VLOOKUP(AQ13,'valeurs casting'!$G$2:$H$9,2),0) -> 0 | BD13: =IF(AR13<>"",VLOOKUP(AR13,'valeurs casting'!$G$2:$H$9,2),0) -> 0 | BE13: =IF(AS13<>"",VLOOKUP(AS13,'valeurs casting'!$G$2:$H$9,2),0) -> 0 | BF13: =IF(AT13<>"",VLOOKUP(AT13,'valeurs casting'!$G$2:$H$9,2),0) -> 0
A14: Tip of the tongue | B14: Pe | D14: Me | F14: =Tableau2[[#This Row],[Technique]]&IF(Tableau2[[#This Row],[req. technique]]<>"","("&Tableau2[[#This Row],[req. technique]]&")","")&Tableau2[[#This Row],[Forme]]&IF(Tableau2[[#This Row],[req. forme]]<>"","("&Tableau2[[#This Row],[req. forme]]&")","") -> PeMe | G14: 5 | H14: 3 | J14: eye | K14: diamètre | L14: individu | S14: =IF(IF(Tableau2[[#This Row],[Niveau base]]<5,VLOOKUP(Tableau2[[#This Row],[Niveau base]],'valeurs casting'!$J$5:$K$9,2),Tableau2[[#This Row],[Niveau base]])+5*(SUM(Tableau2[[#This Row],[taille]:[valeur]])+VLOOKUP(Tableau2[[#This Row],[portée]],'valeurs casting'!$J$11:$K$16,2)+VLOOKUP(Tableau2[[#This Row],[durée]],'valeurs casting'!$J$17:$K$24,2)+VLOOKUP(Tableau2[[#This Row],[cible]],'valeurs casting'!$J$25:$K$35,2))<5,VLOOKUP(IF(Tableau2[[#This Row],[Niveau base]]<5,VLOOKUP(Tableau2[[#This Row],[Niveau base]],'valeurs casting'!$J$5:$K$9,2),Tableau2[[#This Row],[Niveau base]])+5*(SUM(Tableau2[[#This Row],[taille]:[valeur]])+VLOOKUP(Tableau2[[#This Row],[portée]],'valeurs casting'!$J$11:$K$16,2)+VLOOKUP(Tableau2[[#This Row],[durée]],'valeurs casting'!$J$17:$K$24,2)+VLOOKUP(Tableau2[[#This Row],[cible]],'valeurs casting'!$J$25:$K$35,2)),'valeurs casting'!$K$5:$L$9,2),IF(Tableau2[[#This Row],[Niveau base]]<5,VLOOKUP(Tableau2[[#This Row],[Niveau base]],'valeurs casting'!$J$5:$K$9,2),Tableau2[[#This Row],[Niveau base]])+5*(SUM(Tableau2[[#This Row],[taille]:[valeur]])+VLOOKUP(Tableau2[[#This Row],[portée]],'valeurs casting'!$J$11:$K$16,2)+VLOOKUP(Tableau2[[#This Row],[durée]],'valeurs casting'!$J$17:$K$24,2)+VLOOKUP(Tableau2[[#This Row],[cible]],'valeurs casting'!$J$25:$K$35,2))) -> 5 | U14: ArM5 p150 | W14: =IF(Tableau2[[#This Row],[XP mastery]]=0,"",TRUNC((SQRT(8*(Tableau2[[#This Row],[XP mastery]]/5)+1)-1)/2)) | AH14: ='valeurs casting'!$K$2+MIN(VLOOKUP(Tableau2[[#This Row],[Technique]],Tableau1[],3),IF(Tableau2[[#This Row],[req. technique]]="",9999,VLOOKUP(LEFT(Tableau2[[#This Row],[req. technique]],2),Tableau1[],3)),IF(LEN(Tableau2[[#This Row],[req. technique]])<=2,9999,VLOOKUP(LEFT(RIGHT(Tableau2[[#This Row],[req. technique]],-2+LEN(Tableau2[[#This Row],[req. technique]])),2),Tableau1[],3)),IF(LEN(Tableau2[[#This Row],[req. technique]])<=4,9999,VLOOKUP(RIGHT(Tableau2[[#This Row],[req. technique]],-7+LEN(Tableau2[[#This Row],[req. technique]])),Tableau1[],3))) -> 13 | AI14: =MAX(Tableau2[[#This Row],[Bonus talisman bâton 1]:[Bonus talisman dé 5]])+IF(Tableau2[[#This Row],[CT dé applicable?]]<>"",'valeurs casting'!$K$1,0) -> 4 | AJ14: destroy things | AV14: =IF(AJ14<>"",VLOOKUP(AJ14,'valeurs casting'!$E$2:$F$9,2),0) -> 4 | AW14: =IF(AK14<>"",VLOOKUP(AK14,'valeurs casting'!$E$2:$F$9,2),0) -> 0 | AX14: =IF(AL14<>"",VLOOKUP(AL14,'valeurs casting'!$E$2:$F$9,2),0) -> 0 | AY14: =IF(AM14<>"",VLOOKUP(AM14,'valeurs casting'!$E$2:$F$9,2),0) -> 0 | AZ14: =IF(AN14<>"",VLOOKUP(AN14,'valeurs casting'!$E$2:$F$9,2),0) -> 0 | BA14: =IF(AO14<>"",VLOOKUP(AO14,'valeurs casting'!$E$2:$F$9,2),0) -> 0 | BB14: =IF(AP14<>"",VLOOKUP(AP14,'valeurs casting'!$G$2:$H$9,2),0) -> 0 | BC14: =IF(AQ14<>"",VLOOKUP(AQ14,'valeurs casting'!$G$2:$H$9,2),0) -> 0 | BD14: =IF(AR14<>"",VLOOKUP(AR14,'valeurs casting'!$G$2:$H$9,2),0) -> 0 | BE14: =IF(AS14<>"",VLOOKUP(AS14,'valeurs casting'!$G$2:$H$9,2),0) -> 0 | BF14: =IF(AT14<>"",VLOOKUP(AT14,'valeurs casting'!$G$2:$H$9,2),0) -> 0
A15: The chirurgeon’s healing touch | B15: Cr | D15: Co | F15: =Tableau2[[#This Row],[Technique]]&IF(Tableau2[[#This Row],[req. technique]]<>"","("&Tableau2[[#This Row],[req. technique]]&")","")&Tableau2[[#This Row],[Forme]]&IF(Tableau2[[#This Row],[req. forme]]<>"","("&Tableau2[[#This Row],[req. forme]]&")","") -> CrCo | G15: 20 | H15: 15 | J15: touch | K15: momentané | L15: individu | S15: =IF(IF(Tableau2[[#This Row],[Niveau base]]<5,VLOOKUP(Tableau2[[#This Row],[Niveau base]],'valeurs casting'!$J$5:$K$9,2),Tableau2[[#This Row],[Niveau base]])+5*(SUM(Tableau2[[#This Row],[taille]:[valeur]])+VLOOKUP(Tableau2[[#This Row],[portée]],'valeurs casting'!$J$11:$K$16,2)+VLOOKUP(Tableau2[[#This Row],[durée]],'valeurs casting'!$J$17:$K$24,2)+VLOOKUP(Tableau2[[#This Row],[cible]],'valeurs casting'!$J$25:$K$35,2))<5,VLOOKUP(IF(Tableau2[[#This Row],[Niveau base]]<5,VLOOKUP(Tableau2[[#This Row],[Niveau base]],'valeurs casting'!$J$5:$K$9,2),Tableau2[[#This Row],[Niveau base]])+5*(SUM(Tableau2[[#This Row],[taille]:[valeur]])+VLOOKUP(Tableau2[[#This Row],[portée]],'valeurs casting'!$J$11:$K$16,2)+VLOOKUP(Tableau2[[#This Row],[durée]],'valeurs casting'!$J$17:$K$24,2)+VLOOKUP(Tableau2[[#This Row],[cible]],'valeurs casting'!$J$25:$K$35,2)),'valeurs casting'!$K$5:$L$9,2),IF(Tableau2[[#This Row],[Niveau base]]<5,VLOOKUP(Tableau2[[#This Row],[Niveau base]],'valeurs casting'!$J$5:$K$9,2),Tableau2[[#This Row],[Niveau base]])+5*(SUM(Tableau2[[#This Row],[taille]:[valeur]])+VLOOKUP(Tableau2[[#This Row],[portée]],'valeurs casting'!$J$11:$K$16,2)+VLOOKUP(Tableau2[[#This Row],[durée]],'valeurs casting'!$J$17:$K$24,2)+VLOOKUP(Tableau2[[#This Row],[cible]],'valeurs casting'!$J$25:$K$35,2))) -> 20 | T15: x | U15: soigne une blessure légère due à une blessure. | W15: =IF(Tableau2[[#This Row],[XP mastery]]=0,"",TRUNC((SQRT(8*(Tableau2[[#This Row],[XP mastery]]/5)+1)-1)/2)) | AH15: ='valeurs casting'!$K$2+MIN(VLOOKUP(Tableau2[[#This Row],[Technique]],Tableau1[],3),IF(Tableau2[[#This Row],[req. technique]]="",9999,VLOOKUP(LEFT(Tableau2[[#This Row],[req. technique]],2),Tableau1[],3)),IF(LEN(Tableau2[[#This Row],[req. technique]])<=2,9999,VLOOKUP(LEFT(RIGHT(Tableau2[[#This Row],[req. technique]],-2+LEN(Tableau2[[#This Row],[req. technique]])),2),Tableau1[],3)),IF(LEN(Tableau2[[#This Row],[req. technique]])<=4,9999,VLOOKUP(RIGHT(Tableau2[[#This Row],[req. technique]],-7+LEN(Tableau2[[#This Row],[req. technique]])),Tableau1[],3))) -> 27 | AI15: =MAX(Tableau2[[#This Row],[Bonus talisman bâton 1]:[Bonus talisman dé 5]])+IF(Tableau2[[#This Row],[CT dé applicable?]]<>"",'valeurs casting'!$K$1,0) -> 0 | AV15: =IF(AJ15<>"",VLOOKUP(AJ15,'valeurs casting'!$E$2:$F$9,2),0) -> 0 | AW15: =IF(AK15<>"",VLOOKUP(AK15,'valeurs casting'!$E$2:$F$9,2),0) -> 0 | AX15: =IF(AL15<>"",VLOOKUP(AL15,'valeurs casting'!$E$2:$F$9,2),0) -> 0 | AY15: =IF(AM15<>"",VLOOKUP(AM15,'valeurs casting'!$E$2:$F$9,2),0) -> 0 | AZ15: =IF(AN15<>"",VLOOKUP(AN15,'valeurs casting'!$E$2:$F$9,2),0) -> 0 | BA15: =IF(AO15<>"",VLOOKUP(AO15,'valeurs casting'!$E$2:$F$9,2),0) -> 0 | BB15: =IF(AP15<>"",VLOOKUP(AP15,'valeurs casting'!$G$2:$H$9,2),0) -> 0 | BC15: =IF(AQ15<>"",VLOOKUP(AQ15,'valeurs casting'!$G$2:$H$9,2),0) -> 0 | BD15: =IF(AR15<>"",VLOOKUP(AR15,'valeurs casting'!$G$2:$H$9,2),0) -> 0 | BE15: =IF(AS15<>"",VLOOKUP(AS15,'valeurs casting'!$G$2:$H$9,2),0) -> 0 | BF15: =IF(AT15<>"",VLOOKUP(AT15,'valeurs casting'!$G$2:$H$9,2),0) -> 0
A16: Augmentation correcte de la dextérité | B16: Cr | D16: Co | F16: =Tableau2[[#This Row],[Technique]]&IF(Tableau2[[#This Row],[req. technique]]<>"","("&Tableau2[[#This Row],[req. technique]]&")","")&Tableau2[[#This Row],[Forme]]&IF(Tableau2[[#This Row],[req. forme]]<>"","("&Tableau2[[#This Row],[req. forme]]&")","") -> CrCo | G16: 35 | H16: 30 | J16: touch | K16: momentané | L16: individu | S16: =IF(IF(Tableau2[[#This Row],[Niveau base]]<5,VLOOKUP(Tableau2[[#This Row],[Niveau base]],'valeurs casting'!$J$5:$K$9,2),Tableau2[[#This Row],[Niveau base]])+5*(SUM(Tableau2[[#This Row],[taille]:[valeur]])+VLOOKUP(Tableau2[[#This Row],[portée]],'valeurs casting'!$J$11:$K$16,2)+VLOOKUP(Tableau2[[#This Row],[durée]],'valeurs casting'!$J$17:$K$24,2)+VLOOKUP(Tableau2[[#This Row],[cible]],'valeurs casting'!$J$25:$K$35,2))<5,VLOOKUP(IF(Tableau2[[#This Row],[Niveau base]]<5,VLOOKUP(Tableau2[[#This Row],[Niveau base]],'valeurs casting'!$J$5:$K$9,2),Tableau2[[#This Row],[Niveau base]])+5*(SUM(Tableau2[[#This Row],[taille]:[valeur]])+VLOOKUP(Tableau2[[#This Row],[portée]],'valeurs casting'!$J$11:$K$16,2)+VLOOKUP(Tableau2[[#This Row],[durée]],'valeurs casting'!$J$17:$K$24,2)+VLOOKUP(Tableau2[[#This Row],[cible]],'valeurs casting'!$J$25:$K$35,2)),'valeurs casting'!$K$5:$L$9,2),IF(Tableau2[[#This Row],[Niveau base]]<5,VLOOKUP(Tableau2[[#This Row],[Niveau base]],'valeurs casting'!$J$5:$K$9,2),Tableau2[[#This Row],[Niveau base]])+5*(SUM(Tableau2[[#This Row],[taille]:[valeur]])+VLOOKUP(Tableau2[[#This Row],[portée]],'valeurs casting'!$J$11:$K$16,2)+VLOOKUP(Tableau2[[#This Row],[durée]],'valeurs casting'!$J$17:$K$24,2)+VLOOKUP(Tableau2[[#This Row],[cible]],'valeurs casting'!$J$25:$K$35,2))) -> 35 | T16: x | U16: la dextérité de la cible augmente de 1 jusqu’à 0. | W16: =IF(Tableau2[[#This Row],[XP mastery]]=0,"",TRUNC((SQRT(8*(Tableau2[[#This Row],[XP mastery]]/5)+1)-1)/2)) | AH16: ='valeurs casting'!$K$2+MIN(VLOOKUP(Tableau2[[#This Row],[Technique]],Tableau1[],3),IF(Tableau2[[#This Row],[req. technique]]="",9999,VLOOKUP(LEFT(Tableau2[[#This Row],[req. technique]],2),Tableau1[],3)),IF(LEN(Tableau2[[#This Row],[req. technique]])<=2,9999,VLOOKUP(LEFT(RIGHT(Tableau2[[#This Row],[req. technique]],-2+LEN(Tableau2[[#This Row],[req. technique]])),2),Tableau1[],3)),IF(LEN(Tableau2[[#This Row],[req. technique]])<=4,9999,VLOOKUP(RIGHT(Tableau2[[#This Row],[req. technique]],-7+LEN(Tableau2[[#This Row],[req. technique]])),Tableau1[],3))) -> 27 | AI16: =MAX(Tableau2[[#This Row],[Bonus talisman bâton 1]:[Bonus talisman dé 5]])+IF(Tableau2[[#This Row],[CT dé applicable?]]<>"",'valeurs casting'!$K$1,0) -> 0 | AV16: =IF(AJ16<>"",VLOOKUP(AJ16,'valeurs casting'!$E$2:$F$9,2),0) -> 0 | AW16: =IF(AK16<>"",VLOOKUP(AK16,'valeurs casting'!$E$2:$F$9,2),0) -> 0 | AX16: =IF(AL16<>"",VLOOKUP(AL16,'valeurs casting'!$E$2:$F$9,2),0) -> 0 | AY16: =IF(AM16<>"",VLOOKUP(AM16,'valeurs casting'!$E$2:$F$9,2),0) -> 0 | AZ16: =IF(AN16<>"",VLOOKUP(AN16,'valeurs casting'!$E$2:$F$9,2),0) -> 0 | BA16: =IF(AO16<>"",VLOOKUP(AO16,'valeurs casting'!$E$2:$F$9,2),0) -> 0 | BB16: =IF(AP16<>"",VLOOKUP(AP16,'valeurs casting'!$G$2:$H$9,2),0) -> 0 | BC16: =IF(AQ16<>"",VLOOKUP(AQ16,'valeurs casting'!$G$2:$H$9,2),0) -> 0 | BD16: =IF(AR16<>"",VLOOKUP(AR16,'valeurs casting'!$G$2:$H$9,2),0) -> 0 | BE16: =IF(AS16<>"",VLOOKUP(AS16,'valeurs casting'!$G$2:$H$9,2),0) -> 0 | BF16: =IF(AT16<>"",VLOOKUP(AT16,'valeurs casting'!$G$2:$H$9,2),0) -> 0
A17: Force d’Hercule | B17: Cr | D17: Co | F17: =Tableau2[[#This Row],[Technique]]&IF(Tableau2[[#This Row],[req. technique]]<>"","("&Tableau2[[#This Row],[req. technique]]&")","")&Tableau2[[#This Row],[Forme]]&IF(Tableau2[[#This Row],[req. forme]]<>"","("&Tableau2[[#This Row],[req. forme]]&")","") -> CrCo | G17: 60 | H17: 55 | J17: touch | K17: momentané | L17: individu | S17: =IF(IF(Tableau2[[#This Row],[Niveau base]]<5,VLOOKUP(Tableau2[[#This Row],[Niveau base]],'valeurs casting'!$J$5:$K$9,2),Tableau2[[#This Row],[Niveau base]])+5*(SUM(Tableau2[[#This Row],[taille]:[valeur]])+VLOOKUP(Tableau2[[#This Row],[portée]],'valeurs casting'!$J$11:$K$16,2)+VLOOKUP(Tableau2[[#This Row],[durée]],'valeurs casting'!$J$17:$K$24,2)+VLOOKUP(Tableau2[[#This Row],[cible]],'valeurs casting'!$J$25:$K$35,2))<5,VLOOKUP(IF(Tableau2[[#This Row],[Niveau base]]<5,VLOOKUP(Tableau2[[#This Row],[Niveau base]],'valeurs casting'!$J$5:$K$9,2),Tableau2[[#This Row],[Niveau base]])+5*(SUM(Tableau2[[#This Row],[taille]:[valeur]])+VLOOKUP(Tableau2[[#This Row],[portée]],'valeurs casting'!$J$11:$K$16,2)+VLOOKUP(Tableau2[[#This Row],[durée]],'valeurs casting'!$J$17:$K$24,2)+VLOOKUP(Tableau2[[#This Row],[cible]],'valeurs casting'!$J$25:$K$35,2)),'valeurs casting'!$K$5:$L$9,2),IF(Tableau2[[#This Row],[Niveau base]]<5,VLOOKUP(Tableau2[[#This Row],[Niveau base]],'valeurs casting'!$J$5:$K$9,2),Tableau2[[#This Row],[Niveau base]])+5*(SUM(Tableau2[[#This Row],[taille]:[valeur]])+VLOOKUP(Tableau2[[#This Row],[portée]],'valeurs casting'!$J$11:$K$16,2)+VLOOKUP(Tableau2[[#This Row],[durée]],'valeurs casting'!$J$17:$K$24,2)+VLOOKUP(Tableau2[[#This Row],[cible]],'valeurs casting'!$J$25:$K$35,2))) -> 60 | T17: x | U17: ce sortilège augmente la force de 1 jusqu’à un maximum de +5. | W17: =IF(Tableau2[[#This Row],[XP mastery]]=0,"",TRUNC((SQRT(8*(Tableau2[[#This Row],[XP mastery]]/5)+1)-1)/2)) | AH17: ='valeurs casting'!$K$2+MIN(VLOOKUP(Tableau2[[#This Row],[Technique]],Tableau1[],3),IF(Tableau2[[#This Row],[req. technique]]="",9999,VLOOKUP(LEFT(Tableau2[[#This Row],[req. technique]],2),Tableau1[],3)),IF(LEN(Tableau2[[#This Row],[req. technique]])<=2,9999,VLOOKUP(LEFT(RIGHT(Tableau2[[#This Row],[req. technique]],-2+LEN(Tableau2[[#This Row],[req. technique]])),2),Tableau1[],3)),IF(LEN(Tableau2[[#This Row],[req. technique]])<=4,9999,VLOOKUP(RIGHT(Tableau2[[#This Row],[req. technique]],-7+LEN(Tableau2[[#This Row],[req. technique]])),Tableau1[],3))) -> 27 | AI17: =MAX(Tableau2[[#This Row],[Bonus talisman bâton 1]:[Bonus talisman dé 5]])+IF(Tableau2[[#This Row],[CT dé applicable?]]<>"",'valeurs casting'!$K$1,0) -> 0 | AV17: =IF(AJ17<>"",VLOOKUP(AJ17,'valeurs casting'!$E$2:$F$9,2),0) -> 0 | AW17: =IF(AK17<>"",VLOOKUP(AK17,'valeurs casting'!$E$2:$F$9,2),0) -> 0 | AX17: =IF(AL17<>"",VLOOKUP(AL17,'valeurs casting'!$E$2:$F$9,2),0) -> 0 | AY17: =IF(AM17<>"",VLOOKUP(AM17,'valeurs casting'!$E$2:$F$9,2),0) -> 0 | AZ17: =IF(AN17<>"",VLOOKUP(AN17,'valeurs casting'!$E$2:$F$9,2),0) -> 0 | BA17: =IF(AO17<>"",VLOOKUP(AO17,'valeurs casting'!$E$2:$F$9,2),0) -> 0 | BB17: =IF(AP17<>"",VLOOKUP(AP17,'valeurs casting'!$G$2:$H$9,2),0) -> 0 | BC17: =IF(AQ17<>"",VLOOKUP(AQ17,'valeurs casting'!$G$2:$H$9,2),0) -> 0 | BD17: =IF(AR17<>"",VLOOKUP(AR17,'valeurs casting'!$G$2:$H$9,2),0) -> 0 | BE17: =IF(AS17<>"",VLOOKUP(AS17,'valeurs casting'!$G$2:$H$9,2),0) -> 0 | BF17: =IF(AT17<>"",VLOOKUP(AT17,'valeurs casting'!$G$2:$H$9,2),0) -> 0
A18: Téléportation de Razal Wauke | B18: Re | D18: Co | F18: =Tableau2[[#This Row],[Technique]]&IF(Tableau2[[#This Row],[req. technique]]<>"","("&Tableau2[[#This Row],[req. technique]]&")","")&Tableau2[[#This Row],[Forme]]&IF(Tableau2[[#This Row],[req. forme]]<>"","("&Tableau2[[#This Row],[req. forme]]&")","") -> ReCo | G18: 40 | H18: 35 | J18: touch | K18: momentané | L18: individu | S18: =IF(IF(Tableau2[[#This Row],[Niveau base]]<5,VLOOKUP(Tableau2[[#This Row],[Niveau base]],'valeurs casting'!$J$5:$K$9,2),Tableau2[[#This Row],[Niveau base]])+5*(SUM(Tableau2[[#This Row],[taille]:[valeur]])+VLOOKUP(Tableau2[[#This Row],[portée]],'valeurs casting'!$J$11:$K$16,2)+VLOOKUP(Tableau2[[#This Row],[durée]],'valeurs casting'!$J$17:$K$24,2)+VLOOKUP(Tableau2[[#This Row],[cible]],'valeurs casting'!$J$25:$K$35,2))<5,VLOOKUP(IF(Tableau2[[#This Row],[Niveau base]]<5,VLOOKUP(Tableau2[[#This Row],[Niveau base]],'valeurs casting'!$J$5:$K$9,2),Tableau2[[#This Row],[Niveau base]])+5*(SUM(Tableau2[[#This Row],[taille]:[valeur]])+VLOOKUP(Tableau2[[#This Row],[portée]],'valeurs casting'!$J$11:$K$16,2)+VLOOKUP(Tableau2[[#This Row],[durée]],'valeurs casting'!$J$17:$K$24,2)+VLOOKUP(Tableau2[[#This Row],[cible]],'valeurs casting'!$J$25:$K$35,2)),'valeurs casting'!$K$5:$L$9,2),IF(Tableau2[[#This Row],[Niveau base]]<5,VLOOKUP(Tableau2[[#This Row],[Niveau base]],'valeurs casting'!$J$5:$K$9,2),Tableau2[[#This Row],[Niveau base]])+5*(SUM(Tableau2[[#This Row],[taille]:[valeur]])+VLOOKUP(Tableau2[[#This Row],[portée]],'valeurs casting'!$J$11:$K$16,2)+VLOOKUP(Tableau2[[#This Row],[durée]],'valeurs casting'!$J$17:$K$24,2)+VLOOKUP(Tableau2[[#This Row],[cible]],'valeurs casting'!$J$25:$K$35,2))) -> 40 | U18: téléporte un humain à arcane | W18: =IF(Tableau2[[#This Row],[XP mastery]]=0,"",TRUNC((SQRT(8*(Tableau2[[#This Row],[XP mastery]]/5)+1)-1)/2)) -> 2 | X18: 15 | Y18: x | AA18: x | AH18: ='valeurs casting'!$K$2+MIN(VLOOKUP(Tableau2[[#This Row],[Technique]],Tableau1[],3),IF(Tableau2[[#This Row],[req. technique]]="",9999,VLOOKUP(LEFT(Tableau2[[#This Row],[req. technique]],2),Tableau1[],3)),IF(LEN(Tableau2[[#This Row],[req. technique]])<=2,9999,VLOOKUP(LEFT(RIGHT(Tableau2[[#This Row],[req. technique]],-2+LEN(Tableau2[[#This Row],[req. technique]])),2),Tableau1[],3)),IF(LEN(Tableau2[[#This Row],[req. technique]])<=4,9999,VLOOKUP(RIGHT(Tableau2[[#This Row],[req. technique]],-7+LEN(Tableau2[[#This Row],[req. technique]])),Tableau1[],3))) -> 20 | AI18: =MAX(Tableau2[[#This Row],[Bonus talisman bâton 1]:[Bonus talisman dé 5]])+IF(Tableau2[[#This Row],[CT dé applicable?]]<>"",'valeurs casting'!$K$1,0) -> 4 | AJ18: ReCo | AV18: =IF(AJ18<>"",VLOOKUP(AJ18,'valeurs casting'!$E$2:$F$9,2),0) -> 4 | AW18: =IF(AK18<>"",VLOOKUP(AK18,'valeurs casting'!$E$2:$F$9,2),0) -> 0 | AX18: =IF(AL18<>"",VLOOKUP(AL18,'valeurs casting'!$E$2:$F$9,2),0) -> 0 | AY18: =IF(AM18<>"",VLOOKUP(AM18,'valeurs casting'!$E$2:$F$9,2),0) -> 0 | AZ18: =IF(AN18<>"",VLOOKUP(AN18,'valeurs casting'!$E$2:$F$9,2),0) -> 0 | BA18: =IF(AO18<>"",VLOOKUP(AO18,'valeurs casting'!$E$2:$F$9,2),0) -> 0 | BB18: =IF(AP18<>"",VLOOKUP(AP18,'valeurs casting'!$G$2:$H$9,2),0) -> 0 | BC18: =IF(AQ18<>"",VLOOKUP(AQ18,'valeurs casting'!$G$2:$H$9,2),0) -> 0 | BD18: =IF(AR18<>"",VLOOKUP(AR18,'valeurs casting'!$G$2:$H$9,2),0) -> 0 | BE18: =IF(AS18<>"",VLOOKUP(AS18,'valeurs casting'!$G$2:$H$9,2),0) -> 0 | BF18: =IF(AT18<>"",VLOOKUP(AT18,'valeurs casting'!$G$2:$H$9,2),0) -> 0
