Workbook

Sheet D200607
A1: ECOLE 2006.2007 | B1: PS | C1: MS | D1: GS
A2: alba | B2: 6 | C2: 4 | D2: 7
A3: lyon | B3: 26 | C3: 6 | D3: 10
A4: monaco | B4: 14 | C4: 7 | D4: 9
A5: paris | B5: 19 | C5: 13 | D5: 14
C11: onglet "D200607"

Sheet D200708
A1: ECOLE 2007.2008 | B1: PS | C1: MS | D1: GS
A2: alba | B2: 4 | C2: 2 | D2: 3
A3: lyon | B3: 13 | C3: 6 | D3: 10
A4: monaco | B4: 12 | C4: 7 | D4: 9
A5: paris | B5: 19 | C5: 13 | D5: 14
B10: onglet "D200608"

Sheet resultat
B1: EFFECTIFS SCOLAIRES 1D | E1: ALBA | I1: Evolution de l'effectif sur 10 ans | M1: =M17-C17 -> #REF!
E2: Tutelle | I2: Evolution du nombre de classe | M2: =M19-C19 -> 0
C4: 2006.2007 | D4: 2007.2008 | E4: 2008.2009 | F4: 2009.2010 | G4: 2010.2011 | H4: 2011.2012 | I4: 2012.2013 | J4: 2013.2014 | K4: 2014.2015 | L4: 2015.2016 | M4: 2016.2017
B5: PS | C5: =OFFSET(INDIRECT("'D"&SUBSTITUTE(C$4,".20","")&"'!$A$1"),MATCH($E$1,INDIRECT("'D"&SUBSTITUTE(C$4,".20","")&"'!$A$2:$A$5"),0),MATCH($B5,INDIRECT("'D"&SUBSTITUTE(C$4,".20","")&"'!$B$1:$D$1"),0)) -> 6 | D5: =OFFSET(INDIRECT("'D"&SUBSTITUTE(D$4,".20","")&"'!$A$1"),MATCH($E$1,INDIRECT("'D"&SUBSTITUTE(D$4,".20","")&"'!$A$2:$A$5"),0),MATCH($B5,INDIRECT("'D"&SUBSTITUTE(D$4,".20","")&"'!$B$1:$D$1"),0)) -> 4 | E5: =IF(G1='[1]20062007'!C:C,LOOKUP(D:D,'[1]20062007'!D:O,'[1]20062007'!D:O),"") | F5: =IF(H1='[1]20062007'!D:D,LOOKUP(E:E,'[1]20062007'!E:P,'[1]20062007'!E:P),"") | G5: =IF(I1='[1]20062007'!E:E,LOOKUP(F:F,'[1]20062007'!F:Q,'[1]20062007'!F:Q),"") | N5: ='D200607'!A2:A5 -> paris
B6: MS | C6: =OFFSET(INDIRECT("'D"&SUBSTITUTE(C$4,".20","")&"'!$A$1"),MATCH($E$1,INDIRECT("'D"&SUBSTITUTE(C$4,".20","")&"'!$A$2:$A$5"),0),MATCH($B6,INDIRECT("'D"&SUBSTITUTE(C$4,".20","")&"'!$B$1:$D$1"),0)) -> 4 | D6: =OFFSET(INDIRECT("'D"&SUBSTITUTE(D$4,".20","")&"'!$A$1"),MATCH($E$1,INDIRECT("'D"&SUBSTITUTE(D$4,".20","")&"'!$A$2:$A$5"),0),MATCH($B6,INDIRECT("'D"&SUBSTITUTE(D$4,".20","")&"'!$B$1:$D$1"),0)) -> 2
B7: GS | C7: =OFFSET(INDIRECT("'D"&SUBSTITUTE(C$4,".20","")&"'!$A$1"),MATCH($E$1,INDIRECT("'D"&SUBSTITUTE(C$4,".20","")&"'!$A$2:$A$5"),0),MATCH($B7,INDIRECT("'D"&SUBSTITUTE(C$4,".20","")&"'!$B$1:$D$1"),0)) -> 7 | D7: =OFFSET(INDIRECT("'D"&SUBSTITUTE(D$4,".20","")&"'!$A$1"),MATCH($E$1,INDIRECT("'D"&SUBSTITUTE(D$4,".20","")&"'!$A$2:$A$5"),0),MATCH($B7,INDIRECT("'D"&SUBSTITUTE(D$4,".20","")&"'!$B$1:$D$1"),0)) -> 3
B8: Total MAT | C8: =SUM(C5:C7) -> 17 | D8: =SUM(D5:D7) -> 9 | E8: =SUM(E5:E7) -> 0 | F8: =SUM(F5:F7) -> 0 | G8: =SUM(G5:G7) -> 0 | H8: =SUM(H5:H7) -> 0 | I8: =SUM(I5:I7) -> 0 | J8: =SUM(J5:J7) -> 0 | ... M8: =SUM(M5:M7) -> 0
B9: Nbre de classe
B10: CP | C10: =IF(B10="PS",LOOKUP($E$1,'D200607'!A:A,'D200607'!B:B),IF(B10="MS",LOOKUP($E$1,'D200607'!A:A,'D200607'!C:C),IF(B10="GS",LOOKUP($E$1,'D200607'!A:A,'D200607'!D:D),IF(B10="CP",LOOKUP($E$1,'D200607'!A:A,'D200607'!#REF!),IF(B10="CE1",LOOKUP($E$1,'D200607'!A:A,'D200607'!#REF!),IF(B10="CE2",LOOKUP($E$1,'D200607'!A:A,'D200607'!#REF!),IF(B10="CM1",LOOKUP($E$1,'D200607'!A:A,'D200607'!#REF!),IF(B10="CM2",LOOKUP($E$1,'D200607'!A:A,'D200607'!#REF!),"")))))))) -> #REF!
B11: CE1 | C11: =IF(B11="PS",LOOKUP($E$1,'D200607'!A:A,'D200607'!B:B),IF(B11="MS",LOOKUP($E$1,'D200607'!A:A,'D200607'!C:C),IF(B11="GS",LOOKUP($E$1,'D200607'!A:A,'D200607'!D:D),IF(B11="CP",LOOKUP($E$1,'D200607'!A:A,'D200607'!#REF!),IF(B11="CE1",LOOKUP($E$1,'D200607'!A:A,'D200607'!#REF!),IF(B11="CE2",LOOKUP($E$1,'D200607'!A:A,'D200607'!#REF!),IF(B11="CM1",LOOKUP($E$1,'D200607'!A:A,'D200607'!#REF!),IF(B11="CM2",LOOKUP($E$1,'D200607'!A:A,'D200607'!#REF!),"")))))))) -> #REF!
B12: CE2 | C12: =IF(B12="PS",LOOKUP($E$1,'D200607'!A:A,'D200607'!B:B),IF(B12="MS",LOOKUP($E$1,'D200607'!A:A,'D200607'!C:C),IF(B12="GS",LOOKUP($E$1,'D200607'!A:A,'D200607'!D:D),IF(B12="CP",LOOKUP($E$1,'D200607'!A:A,'D200607'!#REF!),IF(B12="CE1",LOOKUP($E$1,'D200607'!A:A,'D200607'!#REF!),IF(B12="CE2",LOOKUP($E$1,'D200607'!A:A,'D200607'!#REF!),IF(B12="CM1",LOOKUP($E$1,'D200607'!A:A,'D200607'!#REF!),IF(B12="CM2",LOOKUP($E$1,'D200607'!A:A,'D200607'!#REF!),"")))))))) -> #REF!
B13: CM1 | C13: =IF(B13="PS",LOOKUP($E$1,'D200607'!A:A,'D200607'!B:B),IF(B13="MS",LOOKUP($E$1,'D200607'!A:A,'D200607'!C:C),IF(B13="GS",LOOKUP($E$1,'D200607'!A:A,'D200607'!D:D),IF(B13="CP",LOOKUP($E$1,'D200607'!A:A,'D200607'!#REF!),IF(B13="CE1",LOOKUP($E$1,'D200607'!A:A,'D200607'!#REF!),IF(B13="CE2",LOOKUP($E$1,'D200607'!A:A,'D200607'!#REF!),IF(B13="CM1",LOOKUP($E$1,'D200607'!A:A,'D200607'!#REF!),IF(B13="CM2",LOOKUP($E$1,'D200607'!A:A,'D200607'!#REF!),"")))))))) -> #REF!
B14: CM2 | C14: =IF(B14="PS",LOOKUP($E$1,'D200607'!A:A,'D200607'!B:B),IF(B14="MS",LOOKUP($E$1,'D200607'!A:A,'D200607'!C:C),IF(B14="GS",LOOKUP($E$1,'D200607'!A:A,'D200607'!D:D),IF(B14="CP",LOOKUP($E$1,'D200607'!A:A,'D200607'!#REF!),IF(B14="CE1",LOOKUP($E$1,'D200607'!A:A,'D200607'!#REF!),IF(B14="CE2",LOOKUP($E$1,'D200607'!A:A,'D200607'!#REF!),IF(B14="CM1",LOOKUP($E$1,'D200607'!A:A,'D200607'!#REF!),IF(B14="CM2",LOOKUP($E$1,'D200607'!A:A,'D200607'!#REF!),"")))))))) -> #REF!
B15: Total PRIM | C15: =SUM(C10:C14) -> #REF! | D15: =SUM(D10:D14) -> 0 | E15: =SUM(E10:E14) -> 0 | F15: =SUM(F10:F14) -> 0 | G15: =SUM(G10:G14) -> 0 | H15: =SUM(H10:H14) -> 0 | I15: =SUM(I10:I14) -> 0 | J15: =SUM(J10:J14) -> 0 | ... M15: =SUM(M10:M14) -> 0
B16: Nbre de classe
B17: TOTAL EFFECTIF | C17: =C15+C8 -> #REF! | D17: =D15+D8 -> 9 | E17: =E15+E8 -> 0 | F17: =F15+F8 -> 0 | G17: =G15+G8 -> 0 | H17: =H15+H8 -> 0 | I17: =I15+I8 -> 0 | J17: =J15+J8 -> 0 | ... M17: =M15+M8 -> 0
B18: Evolution | D18: =D17-C17 -> #REF! | E18: =E17-D17 -> -9 | F18: =F17-E17 -> 0 | G18: =G17-F17 -> 0 | H18: =H17-G17 -> 0 | I18: =I17-H17 -> 0 | J18: =J17-I17 -> 0 | K18: =K17-J17 -> 0 | ... M18: =M17-L17 -> 0
B19: Total classe
B20: Moy / Classe | C20: =IF(C17=0,"",C17/C19) -> #REF! | D20: =IF(D17=0,"",D17/D19) -> #DIV/0! | E20: =IF(E17=0,"",E17/E19) | F20: =IF(F17=0,"",F17/F19) | G20: =IF(G17=0,"",G17/G19) | H20: =IF(H17=0,"",H17/H19) | I20: =IF(I17=0,"",I17/I19) | J20: =IF(J17=0,"",J17/J19) | ... M20: =IF(M17=0,"",M17/M19)
B23: EFFECTIFS SCOLAIRES 1D | E23: =OFFSET(INDIRECT("'D"&SUBSTITUTE(C$4,".20","")&"'!$A$1"),MATCH(E1,INDIRECT("'D"&SUBSTITUTE(C$4,".20","")&"'!$A$2:$A$5"),0)+1,0) -> lyon | I23: Evolution de l'effectif sur 10 ans | M23: =M39-C39 -> -42
E24: Tutelle | I24: Evolution du nombre de classe | M24: =M41-C41 -> 0
C26: 2006.2007 | D26: 2007.2008 | E26: 2008.2009 | F26: 2009.2010 | G26: 2010.2011 | H26: 2011.2012 | I26: 2012.2013 | J26: 2013.2014 | K26: 2014.2015 | L26: 2015.2016 | M26: 2016.2017
B27: PS | C27: =OFFSET(INDIRECT("'D"&SUBSTITUTE(C$4,".20","")&"'!$A$1"),MATCH($E$23,INDIRECT("'D"&SUBSTITUTE(C$4,".20","")&"'!$A$2:$A$5"),0),MATCH($B27,INDIRECT("'D"&SUBSTITUTE(C$4,".20","")&"'!$B$1:$D$1"),0)) -> 26 | D27: =OFFSET(INDIRECT("'D"&SUBSTITUTE(D$4,".20","")&"'!$A$1"),MATCH($E$23,INDIRECT("'D"&SUBSTITUTE(D$4,".20","")&"'!$A$2:$A$5"),0),MATCH($B27,INDIRECT("'D"&SUBSTITUTE(D$4,".20","")&"'!$B$1:$D$1"),0)) -> 13 | E27: =IF(G23='[1]20062007'!C:C,LOOKUP(D:D,'[1]20062007'!D:O,'[1]20062007'!D:O),"") | F27: =IF(H23='[1]20062007'!D:D,LOOKUP(E:E,'[1]20062007'!E:P,'[1]20062007'!E:P),"") | G27: =IF(I23='[1]20062007'!E:E,LOOKUP(F:F,'[1]20062007'!F:Q,'[1]20062007'!F:Q),"")
B28: MS | C28: =OFFSET(INDIRECT("'D"&SUBSTITUTE(C$4,".20","")&"'!$A$1"),MATCH($E$23,INDIRECT("'D"&SUBSTITUTE(C$4,".20","")&"'!$A$2:$A$5"),0),MATCH($B28,INDIRECT("'D"&SUBSTITUTE(C$4,".20","")&"'!$B$1:$D$1"),0)) -> 6 | D28: =OFFSET(INDIRECT("'D"&SUBSTITUTE(D$4,".20","")&"'!$A$1"),MATCH($E$23,INDIRECT("'D"&SUBSTITUTE(D$4,".20","")&"'!$A$2:$A$5"),0),MATCH($B28,INDIRECT("'D"&SUBSTITUTE(D$4,".20","")&"'!$B$1:$D$1"),0)) -> 6
B29: GS | C29: =OFFSET(INDIRECT("'D"&SUBSTITUTE(C$4,".20","")&"'!$A$1"),MATCH($E$23,INDIRECT("'D"&SUBSTITUTE(C$4,".20","")&"'!$A$2:$A$5"),0),MATCH($B29,INDIRECT("'D"&SUBSTITUTE(C$4,".20","")&"'!$B$1:$D$1"),0)) -> 10 | D29: =OFFSET(INDIRECT("'D"&SUBSTITUTE(D$4,".20","")&"'!$A$1"),MATCH($E$23,INDIRECT("'D"&SUBSTITUTE(D$4,".20","")&"'!$A$2:$A$5"),0),MATCH($B29,INDIRECT("'D"&SUBSTITUTE(D$4,".20","")&"'!$B$1:$D$1"),0)) -> 10
B30: Total MAT | C30: =SUM(C27:C29) -> 42 | D30: =SUM(D27:D29) -> 29 | E30: =SUM(E27:E29) -> 0 | F30: =SUM(F27:F29) -> 0 | G30: =SUM(G27:G29) -> 0 | H30: =SUM(H27:H29) -> 0 | I30: =SUM(I27:I29) -> 0 | J30: =SUM(J27:J29) -> 0 | ... M30: =SUM(M27:M29) -> 0
B31: Nbre de classe
B32: CP
B33: CE1
B34: CE2
B35: CM1
B36: CM2
B37: Total PRIM | C37: =SUM(C32:C36) -> 0 | D37: =SUM(D32:D36) -> 0 | E37: =SUM(E32:E36) -> 0 | F37: =SUM(F32:F36) -> 0 | G37: =SUM(G32:G36) -> 0 | H37: =SUM(H32:H36) -> 0 | I37: =SUM(I32:I36) -> 0 | J37: =SUM(J32:J36) -> 0 | ... M37: =SUM(M32:M36) -> 0
B38: Nbre de classe
B39: TOTAL EFFECTIF | C39: =C37+C30 -> 42 | D39: =D37+D30 -> 29 | E39: =E37+E30 -> 0 | F39: =F37+F30 -> 0 | G39: =G37+G30 -> 0 | H39: =H37+H30 -> 0 | I39: =I37+I30 -> 0 | J39: =J37+J30 -> 0 | ... M39: =M37+M30 -> 0
B40: Evolution | D40: =D39-C39 -> -13 | E40: =E39-D39 -> -29 | F40: =F39-E39 -> 0 | G40: =G39-F39 -> 0 | H40: =H39-G39 -> 0 | I40: =I39-H39 -> 0 | J40: =J39-I39 -> 0 | K40: =K39-J39 -> 0 | ... M40: =M39-L39 -> 0
B41: Total classe
B42: Moy / Classe | C42: =IF(C39=0,"",C39/C41) -> #DIV/0! | D42: =IF(D39=0,"",D39/D41) -> #DIV/0! | E42: =IF(E39=0,"",E39/E41) | F42: =IF(F39=0,"",F39/F41) | G42: =IF(G39=0,"",G39/G41) | H42: =IF(H39=0,"",H39/H41) | I42: =IF(I39=0,"",I39/I41) | J42: =IF(J39=0,"",J39/J41) | ... M42: =IF(M39=0,"",M39/M41)
