Workbook
Name ABS_AUTO_HARDRICOURT: COMMANDES!$D$3
Name NomAbrégé: OFFSET(CLIENTS!$G$3,,,COUNTA(NumClient))
Name NumClient: OFFSET(CLIENTS!$A$3,,,COUNTA(CLIENTS!$A:$A)-2)
Name Tablo1: OFFSET(CLIENTS!$A$3:$D$3,,,COUNTA(NumClient))
Name Tablo2: OFFSET(CLIENTS!$G$3:$K$3,,,COUNTA(NomAbrégé))

Sheet COMMANDES
A1: RECHERCHE PAR NUMERO DE CLIENT | C1: RECHERCHE PAR NOM DE CLIENT | F1: ADRESSE | H1: Nom Client SI NOUVEAU | I1: Adresse de Livraison (si différente) | J1: Date de Commande | K1: Date Expédition Souhaitée | L1: RECHERCHE PAR REFERENCE | N1: RECHERCHE PAR NOM D'ARTICLE | P1: Description Article (entrée manuelle) | Q1: Quantité
A2: Numéro Client | B2: Nom Client | C2: Nom Client - abrégé | D2: Nom Client - complet | E2: Numéro Client | F2: Code postal | G2: VILLE | L2: Référence Article | M2: Libellé Article | N2: Libellé Article | O2: Référence Article
A3: 002885 | B3: =IF($A3="","",INDEX(Tablo1,MATCH($A3,NumClient,0),2)) -> ABS AUTO HARDRICOURT | C3: ABS AUTO | D3: =IF($C3="","",INDEX(Tablo2,MATCH($C3,NomAbrégé,0),2)) -> ABS AUTO HARDRICOURT | E3: =IF(C3="","",INDEX(Tablo2,MATCH($D3,CLIENTS!H$3:H$12,0),3)) -> 002885 | F3: =IF(AND($A3="",$C3=""),"",IF($A3<>"",INDEX(Tablo1,MATCH($A3,NumClient,0),3),INDEX(Tablo2,MATCH($C3,NomAbrégé,0),4))) -> 62185 | G3: =IF(AND($A3="",$C3=""),"",IF($A3<>"",INDEX(Tablo1,MATCH($A3,NumClient,0),4),INDEX(Tablo2,MATCH($C3,NomAbrégé,0),5))) -> FRETHUN | M3: =IF(L3="","",INDEX(ARTICLES!B$3:'ARTICLES'!B$19,MATCH(L3,ARTICLES!A$3:'ARTICLES'!A$19,0))) | O3: =IF(N3="","",INDEX(ARTICLES!F$3:'ARTICLES'!F$19,MATCH(N3,ARTICLES!G$3:'ARTICLES'!G$19,0)))
B4: =IF($A4="","",INDEX(Tablo1,MATCH($A4,NumClient,0),2)) | D4: =IF($C4="","",INDEX(Tablo2,MATCH($C4,NomAbrégé,0),2)) | E4: =IF(C4="","",INDEX(Tablo2,MATCH($D4,CLIENTS!H$3:H$12,0),3)) | F4: =IF(AND($A4="",$C4=""),"",IF($A4<>"",INDEX(Tablo1,MATCH($A4,NumClient,0),3),INDEX(Tablo2,MATCH($C4,NomAbrégé,0),4))) | G4: =IF(AND($A4="",$C4=""),"",IF($A4<>"",INDEX(Tablo1,MATCH($A4,NumClient,0),4),INDEX(Tablo2,MATCH($C4,NomAbrégé,0),5))) | M4: =IF(L4="","",INDEX(ARTICLES!B$3:'ARTICLES'!B$19,MATCH(L4,ARTICLES!A$3:'ARTICLES'!A$19,0))) | O4: =IF(N4="","",INDEX(ARTICLES!F$3:'ARTICLES'!F$19,MATCH(N4,ARTICLES!G$3:'ARTICLES'!G$19,0)))
B5: =IF($A5="","",INDEX(Tablo1,MATCH($A5,NumClient,0),2)) | C5: 4X4 PICARDIE | D5: =IF($C5="","",INDEX(Tablo2,MATCH($C5,NomAbrégé,0),2)) -> 4X4 PICARDIE | E5: =IF(C5="","",INDEX(Tablo2,MATCH($D5,CLIENTS!H$3:H$12,0),3)) -> 002932 | F5: =IF(AND($A5="",$C5=""),"",IF($A5<>"",INDEX(Tablo1,MATCH($A5,NumClient,0),3),INDEX(Tablo2,MATCH($C5,NomAbrégé,0),4))) -> 78200 | G5: =IF(AND($A5="",$C5=""),"",IF($A5<>"",INDEX(Tablo1,MATCH($A5,NumClient,0),4),INDEX(Tablo2,MATCH($C5,NomAbrégé,0),5))) -> MANTES LA JOLIE | M5: =IF(L5="","",INDEX(ARTICLES!B$3:'ARTICLES'!B$19,MATCH(L5,ARTICLES!A$3:'ARTICLES'!A$19,0))) | O5: =IF(N5="","",INDEX(ARTICLES!F$3:'ARTICLES'!F$19,MATCH(N5,ARTICLES!G$3:'ARTICLES'!G$19,0)))
B6: =IF($A6="","",INDEX(Tablo1,MATCH($A6,NumClient,0),2)) | D6: =IF($C6="","",INDEX(Tablo2,MATCH($C6,NomAbrégé,0),2)) | E6: =IF(C6="","",INDEX(Tablo2,MATCH($D6,CLIENTS!H$3:H$12,0),3)) | F6: =IF(AND($A6="",$C6=""),"",IF($A6<>"",INDEX(Tablo1,MATCH($A6,NumClient,0),3),INDEX(Tablo2,MATCH($C6,NomAbrégé,0),4))) | G6: =IF(AND($A6="",$C6=""),"",IF($A6<>"",INDEX(Tablo1,MATCH($A6,NumClient,0),4),INDEX(Tablo2,MATCH($C6,NomAbrégé,0),5))) | M6: =IF(L6="","",INDEX(ARTICLES!B$3:'ARTICLES'!B$19,MATCH(L6,ARTICLES!A$3:'ARTICLES'!A$19,0))) | O6: =IF(N6="","",INDEX(ARTICLES!F$3:'ARTICLES'!F$19,MATCH(N6,ARTICLES!G$3:'ARTICLES'!G$19,0)))
A7: 001824 | B7: =IF($A7="","",INDEX(Tablo1,MATCH($A7,NumClient,0),2)) -> ACCESS AUTOMOBILES CHENOVE | D7: =IF($C7="","",INDEX(Tablo2,MATCH($C7,NomAbrégé,0),2)) | E7: =IF(C7="","",INDEX(Tablo2,MATCH($D7,CLIENTS!H$3:H$12,0),3)) | F7: =IF(AND($A7="",$C7=""),"",IF($A7<>"",INDEX(Tablo1,MATCH($A7,NumClient,0),3),INDEX(Tablo2,MATCH($C7,NomAbrégé,0),4))) -> 69000 | G7: =IF(AND($A7="",$C7=""),"",IF($A7<>"",INDEX(Tablo1,MATCH($A7,NumClient,0),4),INDEX(Tablo2,MATCH($C7,NomAbrégé,0),5))) -> LYON | M7: =IF(L7="","",INDEX(ARTICLES!B$3:'ARTICLES'!B$19,MATCH(L7,ARTICLES!A$3:'ARTICLES'!A$19,0))) | O7: =IF(N7="","",INDEX(ARTICLES!F$3:'ARTICLES'!F$19,MATCH(N7,ARTICLES!G$3:'ARTICLES'!G$19,0)))
B8: =IF($A8="","",INDEX(Tablo1,MATCH($A8,NumClient,0),2)) | D8: =IF($C8="","",INDEX(Tablo2,MATCH($C8,NomAbrégé,0),2)) | E8: =IF(C8="","",INDEX(Tablo2,MATCH($D8,CLIENTS!H$3:H$12,0),3)) | F8: =IF(AND($A8="",$C8=""),"",IF($A8<>"",INDEX(Tablo1,MATCH($A8,NumClient,0),3),INDEX(Tablo2,MATCH($C8,NomAbrégé,0),4))) | G8: =IF(AND($A8="",$C8=""),"",IF($A8<>"",INDEX(Tablo1,MATCH($A8,NumClient,0),4),INDEX(Tablo2,MATCH($C8,NomAbrégé,0),5))) | M8: =IF(L8="","",INDEX(ARTICLES!B$3:'ARTICLES'!B$19,MATCH(L8,ARTICLES!A$3:'ARTICLES'!A$19,0))) | O8: =IF(N8="","",INDEX(ARTICLES!F$3:'ARTICLES'!F$19,MATCH(N8,ARTICLES!G$3:'ARTICLES'!G$19,0)))
B9: =IF($A9="","",INDEX(Tablo1,MATCH($A9,NumClient,0),2)) | D9: =IF($C9="","",INDEX(Tablo2,MATCH($C9,NomAbrégé,0),2)) | E9: =IF(C9="","",INDEX(Tablo2,MATCH($D9,CLIENTS!H$3:H$12,0),3)) | F9: =IF(AND($A9="",$C9=""),"",IF($A9<>"",INDEX(Tablo1,MATCH($A9,NumClient,0),3),INDEX(Tablo2,MATCH($C9,NomAbrégé,0),4))) | G9: =IF(AND($A9="",$C9=""),"",IF($A9<>"",INDEX(Tablo1,MATCH($A9,NumClient,0),4),INDEX(Tablo2,MATCH($C9,NomAbrégé,0),5))) | M9: =IF(L9="","",INDEX(ARTICLES!B$3:'ARTICLES'!B$19,MATCH(L9,ARTICLES!A$3:'ARTICLES'!A$19,0))) | O9: =IF(N9="","",INDEX(ARTICLES!F$3:'ARTICLES'!F$19,MATCH(N9,ARTICLES!G$3:'ARTICLES'!G$19,0)))
B10: =IF($A10="","",INDEX(Tablo1,MATCH($A10,NumClient,0),2)) | D10: =IF($C10="","",INDEX(Tablo2,MATCH($C10,NomAbrégé,0),2)) | E10: =IF(C10="","",INDEX(Tablo2,MATCH($D10,CLIENTS!H$3:H$12,0),3)) | F10: =IF(AND($A10="",$C10=""),"",IF($A10<>"",INDEX(Tablo1,MATCH($A10,NumClient,0),3),INDEX(Tablo2,MATCH($C10,NomAbrégé,0),4))) | G10: =IF(AND($A10="",$C10=""),"",IF($A10<>"",INDEX(Tablo1,MATCH($A10,NumClient,0),4),INDEX(Tablo2,MATCH($C10,NomAbrégé,0),5))) | M10: =IF(L10="","",INDEX(ARTICLES!B$3:'ARTICLES'!B$19,MATCH(L10,ARTICLES!A$3:'ARTICLES'!A$19,0))) | O10: =IF(N10="","",INDEX(ARTICLES!F$3:'ARTICLES'!F$19,MATCH(N10,ARTICLES!G$3:'ARTICLES'!G$19,0)))
B11: =IF($A11="","",INDEX(Tablo1,MATCH($A11,NumClient,0),2)) | D11: =IF($C11="","",INDEX(Tablo2,MATCH($C11,NomAbrégé,0),2)) | E11: =IF(C11="","",INDEX(Tablo2,MATCH($D11,CLIENTS!H$3:H$12,0),3)) | F11: =IF(AND($A11="",$C11=""),"",IF($A11<>"",INDEX(Tablo1,MATCH($A11,NumClient,0),3),INDEX(Tablo2,MATCH($C11,NomAbrégé,0),4))) | G11: =IF(AND($A11="",$C11=""),"",IF($A11<>"",INDEX(Tablo1,MATCH($A11,NumClient,0),4),INDEX(Tablo2,MATCH($C11,NomAbrégé,0),5))) | M11: =IF(L11="","",INDEX(ARTICLES!B$3:'ARTICLES'!B$19,MATCH(L11,ARTICLES!A$3:'ARTICLES'!A$19,0))) | O11: =IF(N11="","",INDEX(ARTICLES!F$3:'ARTICLES'!F$19,MATCH(N11,ARTICLES!G$3:'ARTICLES'!G$19,0)))
B12: =IF($A12="","",INDEX(Tablo1,MATCH($A12,NumClient,0),2)) | D12: =IF($C12="","",INDEX(Tablo2,MATCH($C12,NomAbrégé,0),2)) | E12: =IF(C12="","",INDEX(Tablo2,MATCH($D12,CLIENTS!H$3:H$12,0),3)) | F12: =IF(AND($A12="",$C12=""),"",IF($A12<>"",INDEX(Tablo1,MATCH($A12,NumClient,0),3),INDEX(Tablo2,MATCH($C12,NomAbrégé,0),4))) | G12: =IF(AND($A12="",$C12=""),"",IF($A12<>"",INDEX(Tablo1,MATCH($A12,NumClient,0),4),INDEX(Tablo2,MATCH($C12,NomAbrégé,0),5))) | M12: =IF(L12="","",INDEX(ARTICLES!B$3:'ARTICLES'!B$19,MATCH(L12,ARTICLES!A$3:'ARTICLES'!A$19,0))) | O12: =IF(N12="","",INDEX(ARTICLES!F$3:'ARTICLES'!F$19,MATCH(N12,ARTICLES!G$3:'ARTICLES'!G$19,0)))
B13: =IF($A13="","",INDEX(Tablo1,MATCH($A13,NumClient,0),2)) | D13: =IF($C13="","",INDEX(Tablo2,MATCH($C13,NomAbrégé,0),2)) | E13: =IF(C13="","",INDEX(Tablo2,MATCH($D13,CLIENTS!H$3:H$12,0),3)) | F13: =IF(AND($A13="",$C13=""),"",IF($A13<>"",INDEX(Tablo1,MATCH($A13,NumClient,0),3),INDEX(Tablo2,MATCH($C13,NomAbrégé,0),4))) | G13: =IF(AND($A13="",$C13=""),"",IF($A13<>"",INDEX(Tablo1,MATCH($A13,NumClient,0),4),INDEX(Tablo2,MATCH($C13,NomAbrégé,0),5))) | M13: =IF(L13="","",INDEX(ARTICLES!B$3:'ARTICLES'!B$19,MATCH(L13,ARTICLES!A$3:'ARTICLES'!A$19,0))) | O13: =IF(N13="","",INDEX(ARTICLES!F$3:'ARTICLES'!F$19,MATCH(N13,ARTICLES!G$3:'ARTICLES'!G$19,0)))
B14: =IF($A14="","",INDEX(Tablo1,MATCH($A14,NumClient,0),2)) | D14: =IF($C14="","",INDEX(Tablo2,MATCH($C14,NomAbrégé,0),2)) | E14: =IF(C14="","",INDEX(Tablo2,MATCH($D14,CLIENTS!H$3:H$12,0),3)) | F14: =IF(AND($A14="",$C14=""),"",IF($A14<>"",INDEX(Tablo1,MATCH($A14,NumClient,0),3),INDEX(Tablo2,MATCH($C14,NomAbrégé,0),4))) | G14: =IF(AND($A14="",$C14=""),"",IF($A14<>"",INDEX(Tablo1,MATCH($A14,NumClient,0),4),INDEX(Tablo2,MATCH($C14,NomAbrégé,0),5))) | M14: =IF(L14="","",INDEX(ARTICLES!B$3:'ARTICLES'!B$19,MATCH(L14,ARTICLES!A$3:'ARTICLES'!A$19,0))) | O14: =IF(N14="","",INDEX(ARTICLES!F$3:'ARTICLES'!F$19,MATCH(N14,ARTICLES!G$3:'ARTICLES'!G$19,0)))
B15: =IF($A15="","",INDEX(Tablo1,MATCH($A15,NumClient,0),2)) | D15: =IF($C15="","",INDEX(Tablo2,MATCH($C15,NomAbrégé,0),2)) | E15: =IF(C15="","",INDEX(Tablo2,MATCH($D15,CLIENTS!H$3:H$12,0),3)) | F15: =IF(AND($A15="",$C15=""),"",IF($A15<>"",INDEX(Tablo1,MATCH($A15,NumClient,0),3),INDEX(Tablo2,MATCH($C15,NomAbrégé,0),4))) | G15: =IF(AND($A15="",$C15=""),"",IF($A15<>"",INDEX(Tablo1,MATCH($A15,NumClient,0),4),INDEX(Tablo2,MATCH($C15,NomAbrégé,0),5))) | M15: =IF(L15="","",INDEX(ARTICLES!B$3:'ARTICLES'!B$19,MATCH(L15,ARTICLES!A$3:'ARTICLES'!A$19,0))) | O15: =IF(N15="","",INDEX(ARTICLES!F$3:'ARTICLES'!F$19,MATCH(N15,ARTICLES!G$3:'ARTICLES'!G$19,0)))
B16: =IF($A16="","",INDEX(Tablo1,MATCH($A16,NumClient,0),2)) | D16: =IF($C16="","",INDEX(Tablo2,MATCH($C16,NomAbrégé,0),2)) | E16: =IF(C16="","",INDEX(Tablo2,MATCH($D16,CLIENTS!H$3:H$12,0),3)) | F16: =IF(AND($A16="",$C16=""),"",IF($A16<>"",INDEX(Tablo1,MATCH($A16,NumClient,0),3),INDEX(Tablo2,MATCH($C16,NomAbrégé,0),4))) | G16: =IF(AND($A16="",$C16=""),"",IF($A16<>"",INDEX(Tablo1,MATCH($A16,NumClient,0),4),INDEX(Tablo2,MATCH($C16,NomAbrégé,0),5))) | M16: =IF(L16="","",INDEX(ARTICLES!B$3:'ARTICLES'!B$19,MATCH(L16,ARTICLES!A$3:'ARTICLES'!A$19,0))) | O16: =IF(N16="","",INDEX(ARTICLES!F$3:'ARTICLES'!F$19,MATCH(N16,ARTICLES!G$3:'ARTICLES'!G$19,0)))
B17: =IF($A17="","",INDEX(Tablo1,MATCH($A17,NumClient,0),2)) | D17: =IF($C17="","",INDEX(Tablo2,MATCH($C17,NomAbrégé,0),2)) | E17: =IF(C17="","",INDEX(Tablo2,MATCH($D17,CLIENTS!H$3:H$12,0),3)) | F17: =IF(AND($A17="",$C17=""),"",IF($A17<>"",INDEX(Tablo1,MATCH($A17,NumClient,0),3),INDEX(Tablo2,MATCH($C17,NomAbrégé,0),4))) | G17: =IF(AND($A17="",$C17=""),"",IF($A17<>"",INDEX(Tablo1,MATCH($A17,NumClient,0),4),INDEX(Tablo2,MATCH($C17,NomAbrégé,0),5))) | M17: =IF(L17="","",INDEX(ARTICLES!B$3:'ARTICLES'!B$19,MATCH(L17,ARTICLES!A$3:'ARTICLES'!A$19,0))) | O17: =IF(N17="","",INDEX(ARTICLES!F$3:'ARTICLES'!F$19,MATCH(N17,ARTICLES!G$3:'ARTICLES'!G$19,0)))
B18: =IF($A18="","",INDEX(Tablo1,MATCH($A18,NumClient,0),2)) | D18: =IF($C18="","",INDEX(Tablo2,MATCH($C18,NomAbrégé,0),2)) | E18: =IF(C18="","",INDEX(Tablo2,MATCH($D18,CLIENTS!H$3:H$12,0),3)) | F18: =IF(AND($A18="",$C18=""),"",IF($A18<>"",INDEX(Tablo1,MATCH($A18,NumClient,0),3),INDEX(Tablo2,MATCH($C18,NomAbrégé,0),4))) | G18: =IF(AND($A18="",$C18=""),"",IF($A18<>"",INDEX(Tablo1,MATCH($A18,NumClient,0),4),INDEX(Tablo2,MATCH($C18,NomAbrégé,0),5))) | M18: =IF(L18="","",INDEX(ARTICLES!B$3:'ARTICLES'!B$19,MATCH(L18,ARTICLES!A$3:'ARTICLES'!A$19,0))) | O18: =IF(N18="","",INDEX(ARTICLES!F$3:'ARTICLES'!F$19,MATCH(N18,ARTICLES!G$3:'ARTICLES'!G$19,0)))
A21: Comment faire pour que l'on puisse écrire le début du numéro et que le reste apparaisse dans une liste plus courte ? | C21: Question IDEM que pour la colonne A | L21: Question IDEM que pour la colonne A | N21: Question IDEM que pour la colonne A
F22: comment faire pour que le code postal apparaisse (d'après une base de données en onglet clients) en se basant sur le numéro en colonne A OU/ET en colonne E… s'il y a un numéro dans l'une de ces 2 colonnes alors le numéro de CP et la ville apparaîtra en fonction
F33: A L'AIDE !!!!!!!!!!!

Sheet CLIENTS
A1: ORDRE par num client | G1: ORDRE Alphabétique
A2: Numéro Client | B2: Nom Client | C2: Code postal | D2: VILLE | G2: Nom Abrégé | H2: Nom Client complet | I2: Numéro Client | J2: Code postal | K2: VILLE
A3: 001656 | B3: A.C.V.R. AUTO | C3: 51370 | D3: THILLOIS | G3: 3R 4X4 | H3: 3 R 4X4 | I3: X2005 | J3: 51100 | K3: REIMS
A4: 001824 | B4: ACCESS AUTOMOBILES CHENOVE | C4: 69000 | D4: LYON | G4: 4X4 PICARDIE | H4: 4X4 PICARDIE | I4: 002932 | J4: 78200 | K4: MANTES LA JOLIE
A5: 001964 | B5: A.P.G. 2 | C5: 78250 | D5: HARDRICOURT | G5: A4 MOTORS LAON | H5: A4 MOTORS LAON - TOYOTA | I5: 002973 | J5: 02000 | K5: LAON
A6: 002311 | B6: A.F.L. SARL | C6: 94000 | D6: CRETEIL | G6: AAC | H6: A.C.V.R. AUTO | I6: 001656 | J6: 51370 | K6: THILLOIS
A7: 002717 | B7: A.V.M. - AUTOMOBILES VAL DE MARNE | C7: 60840 | D7: BREUIL LE SEC | G7: ABS AUTO | H7: ABS AUTO HARDRICOURT | I7: 002885 | J7: 62185 | K7: FRETHUN
A8: 002885 | B8: ABS AUTO HARDRICOURT | C8: 62185 | D8: FRETHUN | G8: ABS'TAND AUTO | H8: ABS'TAND AUTO | I8: 002913 | J8: 68000 | K8: COLMAR
A9: 002913 | B9: ABS'TAND AUTO | C9: 68000 | D9: COLMAR | G9: ACCESS AUTOMOBILE | H9: ACCESS AUTOMOBILES CHENOVE | I9: 001824 | J9: 69000 | K9: LYON
A10: 002932 | B10: 4X4 PICARDIE | C10: 78200 | D10: MANTES LA JOLIE | G10: AFL | H10: A.F.L. SARL | I10: 002311 | J10: 94000 | K10: CRETEIL
A11: 002973 | B11: A4 MOTORS LAON - TOYOTA | C11: 02000 | D11: LAON | G11: APG | H11: A.P.G. 2 | I11: 001964 | J11: 78250 | K11: HARDRICOURT
A12: X2005 | B12: 3 R 4X4 | C12: 51100 | D12: REIMS | G12: AVM | H12: A.V.M. - AUTOMOBILES VAL DE MARNE | I12: 002717 | J12: 60840 | K12: BREUIL LE SEC

Sheet ARTICLES
A1: Trié par Réf. Article | F1: Trié par Désignation Article
A2: Référence Article | B2: Désignation Article | F2: Référence Article | G2: Désignation Article
A3: 70316 | B3: FAISCEAU SPECIFIQUE CHEVROLET CAPTIVA | F3: RE50780/I | G3: = RE50782/I MARCHE PIEDS ALU S50 DAIHATSU TERIOS 97/06
A4: 101350 | B4: CHAPE MIXTE SEMI-AUTOMATIQUE ENTRAXE 90mm 2 TROUS Ø 16mm | F4: FAB6801859 | G4: ADAPTATEUR POUR BARRE DE TOIT UNIVERSELLE
A5: 101352 | B5: CHAPE MIXTE 2 TROUS ENTRAXE 90mm 2 TROUS Ø 17mm | F5: FAB6801895 | G5: ALU SKI ET BOARD PORTE SKI ET SURF A GLISSIERE
A6: 101353 | B6: CHAPE MIXTE 4 TROUS ENTRAXE 83X56mm 4 TROUS Ø 11mm | F6: AC02 | G6: ANNEAUX DE SANGLAGE INOX (6 pièces) Tonneau cover aluminium
A7: 101361 | B7: AXE POUR CHAPPE 0101352/0101353 | F7: AC01 | G7: ANNEAUX DE SANGLAGE POLYAMIDE (4pièces) tonneau cover aluminium
A8: 101372 | B8: CHAPE MIXTE 4 TROUS ENTRAXE 90X50mm 3.5T SUR BOULE 4 TROUS Ø 17mm | F8: ATL551800 | G8: ATTELAGE AUDI Q3 2011+ (décrochage rapide)
A9: 101373 | B9: CHAPE MIXTE ENTRAXE 83X56 3.5T SUR BOULE 8TO SUR AXE 4 TROUS Ø 11mm | F9: ATL551700 | G9: ATTELAGE AUDI Q3 2011+ COMPACT
A10: 101402 | B10: CHAPE MIXTE 4 TROUS ENTRAXE 90X50mm TROUS Ø 13mm | F10: AGD1749T45 | G10: ATTELAGE AUDI Q5 2009+ (col de cygne)
A11: 101412 | B11: CHAPE AGRAIRE 4 TROUS Ø 17mm ENTRAXE 90X50mm | F11: AGD1415T30 | G11: ATTELAGE AUDI Q7 / VOLKSWAGEN TOUAREG (décrochage rapide)
A12: 101413 | B12: CHAPE AGRAIRE 2 TROUS Ø 17mm ENTRAXE 90mm | F12: AGD1788T45 | G12: ATTELAGE BMW X1 E84 10-2009+ (col de cygne)
A13: 700130 | B13: CAPOTE COMPLETE SUZUKI JIMNY MAORI BLANCHE (pressions) | F13: AGD1788T36 | G13: ATTELAGE BMW X1 E84 10-2009+ (décrochage rapide)
A14: 700131 | B14: CAPOTE COMPLETE SUZUKI JIMNY MAORI NOIRE (pressions) | F14: ATL420600 | G14: ATTELAGE BMW X3 2004+ (décrochage rapide)
... A19: 732321 | B19: FAISCEAU SPECIFIQUE NISSAN TERRANO II | F19: AGD1588T38 | G19: ATTELAGE CHEVROLET CAPTIVA 06+(décrochage rapide)
