Workbook
Name Absences: Paramètres!$F$3:$F$28
Name Absences: Paramètres!$F$3:$F$28
Name Absences_2: Paramètres!$G$3:$G$10
Name Absences_2: Paramètres!$G$3:$G$10
Name Agents: Paramètres!$O$19:$O$68
Name Année: Paramètres!$J$4
Name Année: Paramètres!$J$4
Name Années: Paramètres!$K$35:$K$45
Name Années: Paramètres!$K$35:$K$45
Name Fériés: Paramètres!$K$19:$K$31
Name Fériés: Paramètres!$K$19:$K$31
Name Liste_Fériés: Paramètres!$I$19:$I$31
Name Liste_Fériés: Paramètres!$I$19:$I$31
Name ListeAbsences_1: Jan.!#REF!
Name ListeAbsences_1: Paramètres!$B$3:$B$54
Name ListeAbsences_1: #REF!
Name ListeAbsences_2: Jan.!#REF!
Name ListeAbsences_2: Paramètres!$C$3:$C$54
Name ListeAbsences_2: #REF!
Name ListeAbsences_3: Jan.!#REF!
Name ListeAbsences_3: Paramètres!$D$3:$D$54
Name ListeAbsences_3: #REF!
Name Restaurants: Paramètres!$R$19:$R$49
Name Vacances: Paramètres!$N$19:$N$88
Name Vacances: Paramètres!$N$19:$N$88

Sheet Paramètres
J2: Année | K2: Nom de l'agent | N2: Fonction | Q2: Restaurant | T2: Base 100% | U2: % temps de travail | V2: Heures à effectuer à l'année | W2: Temps de travail hebdo. | X2: Temps de travail journalier
B3: CA | D3: 0 | F3: CA
B4: CA | C4: N-1 | D4: 0 | F4: CET | G4: N-1 | J4: 2018
B5: CET | D5: 0.36458333 | F5: PONT | G5: CA
B6: CET | C6: CLSH | D6: 0.29166667 | F6: J.MAIRE | G6: CLSH
B7: CET | C7: ALSH | D7: 0.33333333 | F7: J.FÊTE | G7: ALSH
B8: PONT | D8: 0 | F8: 1/2 NOËL | G8: 1/2 N.AN
B9: J.MAIRE | D9: 0 | F9: 1/2 N.AN
B10: J.FÊTE | D10: 0 | F10: RÉCUP.
B11: 1/2 NOËL | D11: 0 | F11: MARIAGE
B12: 1/2 NOËL | C12: 1/2 N.AN | D12: 0 | F12: NAISSANCE
B13: 1/2 N.AN | D13: 0 | F13: DÉCÈS
B14: RÉCUP. | F14: MÉDAILLE
B15: MARIAGE | D15: 0.36458333 | F15: FORMATION
B16: MARIAGE | C16: CLSH | D16: 0.29166667 | F16: RÉVISION
B17: MARIAGE | C17: ALSH | D17: 0.33333333 | F17: CONCOURS
B18: NAISSANCE | D18: 0.36458333 | F18: CM
B19: NAISSANCE | C19: CLSH | D19: 0.29166667 | F19: CEM | I19: Jour de l’an | K19: =DATE(Année,1,1) -> 41639 | L19: 2017 | M19: Hiver | O19: Agent 1 | R19: Restaurant 1
B20: NAISSANCE | C20: ALSH | D20: 0.33333333 | F20: AT | I20: Pâques | K20: =IF(MOD(19*MOD(Année,19)+24,30)+MOD(2*MOD(Année,4)+4*MOD(Année,7)+6* MOD(19*MOD(Année,19)+24,30)+5,7)-9<=0,DATE(Année,3,22+MOD(19*MOD(Année, 19)+24,30)+MOD(2*MOD(Année,4)+4*MOD(Année,7)+6*MOD(19*MOD(Année,19)+24, 30)+5,7)),DATE(Année,4,MOD(19*MOD(Année,19)+24,30)+MOD(2*MOD(Année,4)+4* MOD(Année,7)+6*MOD(19*MOD(Année,19)+24,30)+5,7)-9)) -> 41729 | O20: Agent 2 | R20: Restaurant 2
B21: DÉCÈS | D21: 0.36458333 | F21: C.MAT | I21: Lundi de Pâques | K21: =K20+1 -> 41730 | M21: Printemps | O21: Agent 3 | R21: Restaurant 3
B22: DÉCÈS | C22: CLSH | D22: 0.29166667 | F22: J.NETTOYAGE | I22: Fête du travail | K22: =DATE(Année,5,1) -> 41759 | O22: Agent 4 | R22: Restaurant 4
B23: DÉCÈS | C23: ALSH | D23: 0.33333333 | F23: 1/2 J.NETTOYAGE | I23: Victoire 1945 | K23: =DATE(Année,5,8) -> 41766 | M23: Été | O23: Agent 5 | R23: Restaurant 5
B24: MÉDAILLE | D24: 0.36458333 | F24: MERCREDI | I24: Ascension | K24: =K20+39 -> 41768 | O24: Agent 6 | R24: Restaurant 6
B25: MÉDAILLE | C25: CLSH | D25: 0.29166667 | F25: RÉUNION | I25: Pentecôte | K25: =K20+49 -> 41778 | M25: Toussaint | O25: Agent 7 | R25: Restaurant 7
B26: MÉDAILLE | C26: ALSH | D26: 0.33333333 | F26: RETARD | I26: Lundi de Pentecôte | K26: =K20+50 -> 41779 | O26: Agent 8 | R26: Restaurant 8
B27: FORMATION | D27: 0.36458333 | F27: GRÈVE | I27: Fête nationale | K27: =DATE(Année,7,14) -> 41833 | M27: Noël | N27: 41630 | O27: Agent 9 | R27: Restaurant 9
B28: 1/2 FORMATION | F28: ANJ | I28: Assomption | K28: =DATE(Année,8,15) -> 41865 | N28: 41646 | O28: Agent 10 | R28: Restaurant 10
B29: RÉVISION | D29: 0.36458333 | I29: Toussaint | K29: =DATE(Année,11,1) -> 41943 | L29: 2018 | M29: Hiver | N29: 41693 | O29: Agent 11 | R29: Restaurant 11
B30: CONCOURS | D30: 0.36458333 | I30: Armistice | K30: =DATE(Année,11,11) -> 41953 | N30: 41709 | O30: Agent 12 | R30: Restaurant 12
B31: CM | D31: 0.36458333 | I31: Noël | K31: =DATE(Année,12,25) -> 41997 | M31: Printemps | N31: 41749 | O31: Agent 13 | R31: Restaurant 13
B32: CM | C32: CLSH | D32: 0.29166667 | N32: 41765 | O32: Agent 14 | R32: Restaurant 14
B33: CM | C33: ALSH | D33: 0.33333333 | M33: Été | N33: 41826 | O33: Agent 15 | R33: Restaurant 15
B34: CM | C34: CA | D34: 0 | N34: 41884 | O34: Agent 16 | R34: Restaurant 16
B35: CEM | D35: 0.36458333 | K35: 2018 | M35: Toussaint | O35: Agent 17 | R35: Restaurant 17
B36: CEM | C36: CLSH | D36: 0.29166667 | K36: 2019 | O36: Agent 18 | R36: Restaurant 18
B37: CEM | C37: ALSH | D37: 0.33333333 | K37: 2020 | M37: Noël | O37: Agent 19 | R37: Restaurant 19
B38: CEM | C38: CA | D38: 0 | K38: 2021 | O38: Agent 20 | R38: Restaurant 20
B39: AT | D39: 0.36458333 | K39: 2022 | L39: 2019 | M39: Hiver | O39: Agent 21 | R39: Restaurant 21
B40: AT | C40: CLSH | D40: 0.29166667 | K40: 2023 | O40: Agent 22 | R40: Restaurant 22
B41: AT | C41: ALSH | D41: 0.33333333 | K41: 2024 | M41: Printemps | O41: Agent 23 | R41: Restaurant 23
...

Sheet Jan.
U3: ="Récupérations au 01/01/"&Année -> Récupérations au 01/01/2018 | V3: 0
B4: DATE | D4: Observations | F4: Restaurant | G4: Prévu | H4: HORAIRES | L4: Situation | N4: Réalisé | O4: + / - | Q4: Date | R4: Heure sup./Récup. | S4: Motif pour les heures sup. | T4: + / - | U4: Payé | V4: Total
B5: =C5 -> 41639 | C5: =DATE(Année,1,1) -> 41639 | D5: {=IF(C5:C35="","",CONCATENATE(IF(ISERROR(MATCH(C5:C35,Fériés,0)),"",INDEX(Liste_Fériés,MATCH(C5:C35,Fériés,0),1))))} -> Jour de l’an | N5: {=IF(L5="",(MOD(I5-H5,1)+MOD(K5-J5,1)),IFERROR(INDEX(Paramètres!D:D,SMALL(IF((Paramètres!B:B=L5)*(Paramètres!C:C=M5),ROW(Paramètres!B:B)),ROWS(5:5)))+(MOD(I5-H5,1)+MOD(K5-J5,1)),""))} -> 0 | O5: =N5-(G5/24) -> 0 | Q5: =DATE(Année,5,1) -> 41759 | R5: =IF(O5<0,"Récupération",IF(O5>0,"Heure sup.","")) | T5: =O5 -> 0 | V5: =(V3+T5-U5)-1+1 -> 0
B6: =C6 -> 41640 | C6: =C5+1 -> 41640 | G6: 7 | H6: 0.375 | I6: 0.70833333 | N6: {=IF(L6="",(MOD(I6-H6,1)+MOD(K6-J6,1)),IFERROR(INDEX(Paramètres!D:D,SMALL(IF((Paramètres!B:B=L6)*(Paramètres!C:C=M6),ROW(Paramètres!B:B)),ROWS(6:6)))+(MOD(I6-H6,1)+MOD(K6-J6,1)),""))} -> 0.33333333 | O6: =N6-(G6/24) -> 0.041666667 | Q6: =Q5+1 -> 41760 | R6: =IF(O6<0,"Récupération",IF(O6>0,"Heure sup.","")) -> Heure sup. | T6: =O6 -> 0.041666667 | V6: =(V5+T6-U6)-1+1 -> 0.041666667
B7: =C7 -> 41641 | C7: =C6+1 -> 41641 | G7: 7 | H7: 0.35416667 | I7: 0.72916667 | N7: {=IF(L7="",(MOD(I7-H7,1)+MOD(K7-J7,1)),IFERROR(INDEX(Paramètres!D:D,SMALL(IF((Paramètres!B:B=L7)*(Paramètres!C:C=M7),ROW(Paramètres!B:B)),ROWS(7:7)))+(MOD(I7-H7,1)+MOD(K7-J7,1)),""))} -> 0.375 | O7: =N7-(G7/24) -> 0.083333333 | Q7: =Q6+1 -> 41761 | R7: =IF(O7<0,"Récupération",IF(O7>0,"Heure sup.","")) -> Heure sup. | T7: =O7 -> 0.083333333 | V7: =(V6+T7-U7)-1+1 -> 0.125
B8: =C8 -> 41642 | C8: =C7+1 -> 41642 | L8: CA | N8: {=IF(L8="",(MOD(I8-H8,1)+MOD(K8-J8,1)),IFERROR(INDEX(Paramètres!D:D,SMALL(IF((Paramètres!B:B=L8)*(Paramètres!C:C=M8),ROW(Paramètres!B:B)),ROWS(8:8)))+(MOD(I8-H8,1)+MOD(K8-J8,1)),""))} -> 0 | O8: =N8-(G8/24) -> 0 | Q8: =Q7+1 -> 41762 | R8: =IF(O8<0,"Récupération",IF(O8>0,"Heure sup.","")) | T8: =O8 -> 0 | V8: =(V7+T8-U8)-1+1 -> 0.125
B9: =C9 -> 41643 | C9: =C8+1 -> 41643 | L9: CA | N9: {=IF(L9="",(MOD(I9-H9,1)+MOD(K9-J9,1)),IFERROR(INDEX(Paramètres!D:D,SMALL(IF((Paramètres!B:B=L9)*(Paramètres!C:C=M9),ROW(Paramètres!B:B)),ROWS(9:9)))+(MOD(I9-H9,1)+MOD(K9-J9,1)),""))} -> 0 | O9: =N9-(G9/24) -> 0 | Q9: =Q8+1 -> 41763 | R9: =IF(O9<0,"Récupération",IF(O9>0,"Heure sup.","")) | T9: =O9 -> 0 | V9: =(V8+T9-U9)-1+1 -> 0.125
B10: =C10 -> 41644 | C10: =C9+1 -> 41644 | N10: {=IF(L10="",(MOD(I10-H10,1)+MOD(K10-J10,1)),IFERROR(INDEX(Paramètres!D:D,SMALL(IF((Paramètres!B:B=L10)*(Paramètres!C:C=M10),ROW(Paramètres!B:B)),ROWS(10:10)))+(MOD(I10-H10,1)+MOD(K10-J10,1)),""))} -> 0 | O10: =N10-(G10/24) -> 0 | Q10: =Q9+1 -> 41764 | R10: =IF(O10<0,"Récupération",IF(O10>0,"Heure sup.","")) | T10: =O10 -> 0 | V10: =(V9+T10-U10)-1+1 -> 0.125
B11: =C11 -> 41645 | C11: =C10+1 -> 41645 | N11: {=IF(L11="",(MOD(I11-H11,1)+MOD(K11-J11,1)),IFERROR(INDEX(Paramètres!D:D,SMALL(IF((Paramètres!B:B=L11)*(Paramètres!C:C=M11),ROW(Paramètres!B:B)),ROWS(11:11)))+(MOD(I11-H11,1)+MOD(K11-J11,1)),""))} -> 0 | O11: =N11-(G11/24) -> 0 | Q11: =Q10+1 -> 41765 | R11: =IF(O11<0,"Récupération",IF(O11>0,"Heure sup.","")) | T11: =O11 -> 0 | V11: =(V10+T11-U11)-1+1 -> 0.125
B12: =C12 -> 41646 | C12: =C11+1 -> 41646 | N12: {=IF(L12="",(MOD(I12-H12,1)+MOD(K12-J12,1)),IFERROR(INDEX(Paramètres!D:D,SMALL(IF((Paramètres!B:B=L12)*(Paramètres!C:C=M12),ROW(Paramètres!B:B)),ROWS(12:12)))+(MOD(I12-H12,1)+MOD(K12-J12,1)),""))} -> 0 | O12: =N12-(G12/24) -> 0 | Q12: =Q11+1 -> 41766 | R12: =IF(O12<0,"Récupération",IF(O12>0,"Heure sup.","")) | T12: =O12 -> 0 | V12: =(V11+T12-U12)-1+1 -> 0.125
B13: =C13 -> 41647 | C13: =C12+1 -> 41647 | N13: {=IF(L13="",(MOD(I13-H13,1)+MOD(K13-J13,1)),IFERROR(INDEX(Paramètres!D:D,SMALL(IF((Paramètres!B:B=L13)*(Paramètres!C:C=M13),ROW(Paramètres!B:B)),ROWS(13:13)))+(MOD(I13-H13,1)+MOD(K13-J13,1)),""))} -> 0 | O13: =N13-(G13/24) -> 0 | Q13: =Q12+1 -> 41767 | R13: =IF(O13<0,"Récupération",IF(O13>0,"Heure sup.","")) | T13: =O13 -> 0 | V13: =(V12+T13-U13)-1+1 -> 0.125
B14: =C14 -> 41648 | C14: =C13+1 -> 41648 | N14: {=IF(L14="",(MOD(I14-H14,1)+MOD(K14-J14,1)),IFERROR(INDEX(Paramètres!D:D,SMALL(IF((Paramètres!B:B=L14)*(Paramètres!C:C=M14),ROW(Paramètres!B:B)),ROWS(14:14)))+(MOD(I14-H14,1)+MOD(K14-J14,1)),""))} -> 0 | O14: =N14-(G14/24) -> 0 | Q14: =Q13+1 -> 41768 | R14: =IF(O14<0,"Récupération",IF(O14>0,"Heure sup.","")) | T14: =O14 -> 0 | V14: =(V13+T14-U14)-1+1 -> 0.125
B15: =C15 -> 41649 | C15: =C14+1 -> 41649 | N15: {=IF(L15="",(MOD(I15-H15,1)+MOD(K15-J15,1)),IFERROR(INDEX(Paramètres!D:D,SMALL(IF((Paramètres!B:B=L15)*(Paramètres!C:C=M15),ROW(Paramètres!B:B)),ROWS(15:15)))+(MOD(I15-H15,1)+MOD(K15-J15,1)),""))} -> 0 | O15: =N15-(G15/24) -> 0 | Q15: =Q14+1 -> 41769 | R15: =IF(O15<0,"Récupération",IF(O15>0,"Heure sup.","")) | T15: =O15 -> 0 | V15: =(V14+T15-U15)-1+1 -> 0.125
B16: =C16 -> 41650 | C16: =C15+1 -> 41650 | N16: {=IF(L16="",(MOD(I16-H16,1)+MOD(K16-J16,1)),IFERROR(INDEX(Paramètres!D:D,SMALL(IF((Paramètres!B:B=L16)*(Paramètres!C:C=M16),ROW(Paramètres!B:B)),ROWS(16:16)))+(MOD(I16-H16,1)+MOD(K16-J16,1)),""))} -> 0 | O16: =N16-(G16/24) -> 0 | Q16: =Q15+1 -> 41770 | R16: =IF(O16<0,"Récupération",IF(O16>0,"Heure sup.","")) | T16: =O16 -> 0 | V16: =(V15+T16-U16)-1+1 -> 0.125
B17: =C17 -> 41651 | C17: =C16+1 -> 41651 | N17: {=IF(L17="",(MOD(I17-H17,1)+MOD(K17-J17,1)),IFERROR(INDEX(Paramètres!D:D,SMALL(IF((Paramètres!B:B=L17)*(Paramètres!C:C=M17),ROW(Paramètres!B:B)),ROWS(17:17)))+(MOD(I17-H17,1)+MOD(K17-J17,1)),""))} -> 0 | O17: =N17-(G17/24) -> 0 | Q17: =Q16+1 -> 41771 | R17: =IF(O17<0,"Récupération",IF(O17>0,"Heure sup.","")) | T17: =O17 -> 0 | V17: =(V16+T17-U17)-1+1 -> 0.125
B18: =C18 -> 41652 | C18: =C17+1 -> 41652 | N18: {=IF(L18="",(MOD(I18-H18,1)+MOD(K18-J18,1)),IFERROR(INDEX(Paramètres!D:D,SMALL(IF((Paramètres!B:B=L18)*(Paramètres!C:C=M18),ROW(Paramètres!B:B)),ROWS(18:18)))+(MOD(I18-H18,1)+MOD(K18-J18,1)),""))} -> 0 | O18: =N18-(G18/24) -> 0 | Q18: =Q17+1 -> 41772 | R18: =IF(O18<0,"Récupération",IF(O18>0,"Heure sup.","")) | T18: =O18 -> 0 | V18: =(V17+T18-U18)-1+1 -> 0.125
B19: =C19 -> 41653 | C19: =C18+1 -> 41653 | N19: {=IF(L19="",(MOD(I19-H19,1)+MOD(K19-J19,1)),IFERROR(INDEX(Paramètres!D:D,SMALL(IF((Paramètres!B:B=L19)*(Paramètres!C:C=M19),ROW(Paramètres!B:B)),ROWS(19:19)))+(MOD(I19-H19,1)+MOD(K19-J19,1)),""))} -> 0 | O19: =N19-(G19/24) -> 0 | Q19: =Q18+1 -> 41773 | R19: =IF(O19<0,"Récupération",IF(O19>0,"Heure sup.","")) | T19: =O19 -> 0 | V19: =(V18+T19-U19)-1+1 -> 0.125
B20: =C20 -> 41654 | C20: =C19+1 -> 41654 | N20: {=IF(L20="",(MOD(I20-H20,1)+MOD(K20-J20,1)),IFERROR(INDEX(Paramètres!D:D,SMALL(IF((Paramètres!B:B=L20)*(Paramètres!C:C=M20),ROW(Paramètres!B:B)),ROWS(20:20)))+(MOD(I20-H20,1)+MOD(K20-J20,1)),""))} -> 0 | O20: =N20-(G20/24) -> 0 | Q20: =Q19+1 -> 41774 | R20: =IF(O20<0,"Récupération",IF(O20>0,"Heure sup.","")) | T20: =O20 -> 0 | V20: =(V19+T20-U20)-1+1 -> 0.125
B21: =C21 -> 41655 | C21: =C20+1 -> 41655 | G21: 8.75 | H21: 0.33333333 | I21: 0.69791667 | L21: MERCREDI | M21: ALSH | N21: {=IF(L21="",(MOD(I21-H21,1)+MOD(K21-J21,1)),IFERROR(INDEX(Paramètres!D:D,SMALL(IF((Paramètres!B:B=L21)*(Paramètres!C:C=M21),ROW(Paramètres!B:B)),ROWS(21:21)))+(MOD(I21-H21,1)+MOD(K21-J21,1)),""))} -> 0.36458333 | O21: =N21-(G21/24) -> 0 | Q21: =Q20+1 -> 41775 | R21: =IF(O21<0,"Récupération",IF(O21>0,"Heure sup.","")) | T21: =O21 -> 0 | V21: =(V20+T21-U21)-1+1 -> 0.125
B22: =C22 -> 41656 | C22: =C21+1 -> 41656 | N22: {=IF(L22="",(MOD(I22-H22,1)+MOD(K22-J22,1)),IFERROR(INDEX(Paramètres!D:D,SMALL(IF((Paramètres!B:B=L22)*(Paramètres!C:C=M22),ROW(Paramètres!B:B)),ROWS(22:22)))+(MOD(I22-H22,1)+MOD(K22-J22,1)),""))} -> 0 | O22: =N22-(G22/24) -> 0 | Q22: =Q21+1 -> 41776 | R22: =IF(O22<0,"Récupération",IF(O22>0,"Heure sup.","")) | T22: =O22 -> 0 | V22: =(V21+T22-U22)-1+1 -> 0.125
B23: =C23 -> 41657 | C23: =C22+1 -> 41657 | N23: {=IF(L23="",(MOD(I23-H23,1)+MOD(K23-J23,1)),IFERROR(INDEX(Paramètres!D:D,SMALL(IF((Paramètres!B:B=L23)*(Paramètres!C:C=M23),ROW(Paramètres!B:B)),ROWS(23:23)))+(MOD(I23-H23,1)+MOD(K23-J23,1)),""))} -> 0 | O23: =N23-(G23/24) -> 0 | Q23: =Q22+1 -> 41777 | R23: =IF(O23<0,"Récupération",IF(O23>0,"Heure sup.","")) | T23: =O23 -> 0 | V23: =(V22+T23-U23)-1+1 -> 0.125
B24: =C24 -> 41658 | C24: =C23+1 -> 41658 | N24: {=IF(L24="",(MOD(I24-H24,1)+MOD(K24-J24,1)),IFERROR(INDEX(Paramètres!D:D,SMALL(IF((Paramètres!B:B=L24)*(Paramètres!C:C=M24),ROW(Paramètres!B:B)),ROWS(24:24)))+(MOD(I24-H24,1)+MOD(K24-J24,1)),""))} -> 0 | O24: =N24-(G24/24) -> 0 | Q24: =Q23+1 -> 41778 | R24: =IF(O24<0,"Récupération",IF(O24>0,"Heure sup.","")) | T24: =O24 -> 0 | V24: =(V23+T24-U24)-1+1 -> 0.125
B25: =C25 -> 41659 | C25: =C24+1 -> 41659 | N25: {=IF(L25="",(MOD(I25-H25,1)+MOD(K25-J25,1)),IFERROR(INDEX(Paramètres!D:D,SMALL(IF((Paramètres!B:B=L25)*(Paramètres!C:C=M25),ROW(Paramètres!B:B)),ROWS(25:25)))+(MOD(I25-H25,1)+MOD(K25-J25,1)),""))} -> 0 | O25: =N25-(G25/24) -> 0 | Q25: =Q24+1 -> 41779 | R25: =IF(O25<0,"Récupération",IF(O25>0,"Heure sup.","")) | T25: =O25 -> 0 | V25: =(V24+T25-U25)-1+1 -> 0.125
B26: =C26 -> 41660 | C26: =C25+1 -> 41660 | N26: {=IF(L26="",(MOD(I26-H26,1)+MOD(K26-J26,1)),IFERROR(INDEX(Paramètres!D:D,SMALL(IF((Paramètres!B:B=L26)*(Paramètres!C:C=M26),ROW(Paramètres!B:B)),ROWS(26:26)))+(MOD(I26-H26,1)+MOD(K26-J26,1)),""))} -> 0 | O26: =N26-(G26/24) -> 0 | Q26: =Q25+1 -> 41780 | R26: =IF(O26<0,"Récupération",IF(O26>0,"Heure sup.","")) | T26: =O26 -> 0 | V26: =(V25+T26-U26)-1+1 -> 0.125
B27: =C27 -> 41661 | C27: =C26+1 -> 41661 | N27: {=IF(L27="",(MOD(I27-H27,1)+MOD(K27-J27,1)),IFERROR(INDEX(Paramètres!D:D,SMALL(IF((Paramètres!B:B=L27)*(Paramètres!C:C=M27),ROW(Paramètres!B:B)),ROWS(27:27)))+(MOD(I27-H27,1)+MOD(K27-J27,1)),""))} -> 0 | O27: =N27-(G27/24) -> 0 | Q27: =Q26+1 -> 41781 | R27: =IF(O27<0,"Récupération",IF(O27>0,"Heure sup.","")) | T27: =O27 -> 0 | V27: =(V26+T27-U27)-1+1 -> 0.125
B28: =C28 -> 41662 | C28: =C27+1 -> 41662 | N28: {=IF(L28="",(MOD(I28-H28,1)+MOD(K28-J28,1)),IFERROR(INDEX(Paramètres!D:D,SMALL(IF((Paramètres!B:B=L28)*(Paramètres!C:C=M28),ROW(Paramètres!B:B)),ROWS(28:28)))+(MOD(I28-H28,1)+MOD(K28-J28,1)),""))} -> 0 | O28: =N28-(G28/24) -> 0 | Q28: =Q27+1 -> 41782 | R28: =IF(O28<0,"Récupération",IF(O28>0,"Heure sup.","")) | T28: =O28 -> 0 | V28: =(V27+T28-U28)-1+1 -> 0.125
B29: =C29 -> 41663 | C29: =C28+1 -> 41663 | N29: {=IF(L29="",(MOD(I29-H29,1)+MOD(K29-J29,1)),IFERROR(INDEX(Paramètres!D:D,SMALL(IF((Paramètres!B:B=L29)*(Paramètres!C:C=M29),ROW(Paramètres!B:B)),ROWS(29:29)))+(MOD(I29-H29,1)+MOD(K29-J29,1)),""))} -> 0 | O29: =N29-(G29/24) -> 0 | Q29: =Q28+1 -> 41783 | R29: =IF(O29<0,"Récupération",IF(O29>0,"Heure sup.","")) | T29: =O29 -> 0 | V29: =(V28+T29-U29)-1+1 -> 0.125
B30: =C30 -> 41664 | C30: =C29+1 -> 41664 | G30: 8.75 | H30: 0.33333333 | I30: 0.57291667 | N30: {=IF(L30="",(MOD(I30-H30,1)+MOD(K30-J30,1)),IFERROR(INDEX(Paramètres!D:D,SMALL(IF((Paramètres!B:B=L30)*(Paramètres!C:C=M30),ROW(Paramètres!B:B)),ROWS(30:30)))+(MOD(I30-H30,1)+MOD(K30-J30,1)),""))} -> 0.23958333 | O30: =N30-(G30/24) -> -0.125 | Q30: =Q29+1 -> 41784 | R30: =IF(O30<0,"Récupération",IF(O30>0,"Heure sup.","")) -> Récupération | T30: =O30 -> -0.125 | V30: =(V29+T30-U30)-1+1 -> 0
B31: =C31 -> 41665 | C31: =C30+1 -> 41665 | N31: {=IF(L31="",(MOD(I31-H31,1)+MOD(K31-J31,1)),IFERROR(INDEX(Paramètres!D:D,SMALL(IF((Paramètres!B:B=L31)*(Paramètres!C:C=M31),ROW(Paramètres!B:B)),ROWS(31:31)))+(MOD(I31-H31,1)+MOD(K31-J31,1)),""))} -> 0 | O31: =N31-(G31/24) -> 0 | Q31: =Q30+1 -> 41785 | R31: =IF(O31<0,"Récupération",IF(O31>0,"Heure sup.","")) | T31: =O31 -> 0 | V31: =(V30+T31-U31)-1+1 -> 0
B32: =C32 -> 41666 | C32: =C31+1 -> 41666 | N32: {=IF(L32="",(MOD(I32-H32,1)+MOD(K32-J32,1)),IFERROR(INDEX(Paramètres!D:D,SMALL(IF((Paramètres!B:B=L32)*(Paramètres!C:C=M32),ROW(Paramètres!B:B)),ROWS(32:32)))+(MOD(I32-H32,1)+MOD(K32-J32,1)),""))} -> 0 | O32: =N32-(G32/24) -> 0 | Q32: =Q31+1 -> 41786 | R32: =IF(O32<0,"Récupération",IF(O32>0,"Heure sup.","")) | T32: =O32 -> 0 | V32: =(V31+T32-U32)-1+1 -> 0
B33: =C33 -> 41667 | C33: =IF(C32="","",IF(MONTH(C32+1)>MONTH(C32),"",C32+1)) -> 41667 | N33: {=IF(L33="",(MOD(I33-H33,1)+MOD(K33-J33,1)),IFERROR(INDEX(Paramètres!D:D,SMALL(IF((Paramètres!B:B=L33)*(Paramètres!C:C=M33),ROW(Paramètres!B:B)),ROWS(33:33)))+(MOD(I33-H33,1)+MOD(K33-J33,1)),""))} -> 0 | O33: =N33-(G33/24) -> 0 | Q33: =IF(Q32="","",IF(MONTH(Q32+1)>MONTH(Q32),"",Q32+1)) -> 41787 | R33: =IF(O33<0,"Récupération",IF(O33>0,"Heure sup.","")) | T33: =O33 -> 0 | V33: =(V32+T33-U33)-1+1 -> 0
B34: =C34 -> 41668 | C34: =IF(C33="","",IF(MONTH(C33+1)>MONTH(C33),"",C33+1)) -> 41668 | N34: {=IF(L34="",(MOD(I34-H34,1)+MOD(K34-J34,1)),IFERROR(INDEX(Paramètres!D:D,SMALL(IF((Paramètres!B:B=L34)*(Paramètres!C:C=M34),ROW(Paramètres!B:B)),ROWS(34:34)))+(MOD(I34-H34,1)+MOD(K34-J34,1)),""))} -> 0 | O34: =N34-(G34/24) -> 0 | Q34: =IF(Q33="","",IF(MONTH(Q33+1)>MONTH(Q33),"",Q33+1)) -> 41788 | R34: =IF(O34<0,"Récupération",IF(O34>0,"Heure sup.","")) | T34: =O34 -> 0 | V34: =(V33+T34-U34)-1+1 -> 0
B35: =C35 -> 41669 | C35: =IF(C34="","",IF(MONTH(C34+1)>MONTH(C34),"",C34+1)) -> 41669 | N35: {=IF(L35="",(MOD(I35-H35,1)+MOD(K35-J35,1)),IFERROR(INDEX(Paramètres!D:D,SMALL(IF((Paramètres!B:B=L35)*(Paramètres!C:C=M35),ROW(Paramètres!B:B)),ROWS(35:35)))+(MOD(I35-H35,1)+MOD(K35-J35,1)),""))} -> 0 | O35: =N35-(G35/24) -> 0 | Q35: =IF(Q34="","",IF(MONTH(Q34+1)>MONTH(Q34),"",Q34+1)) -> 41789 | R35: =IF(O35<0,"Récupération",IF(O35>0,"Heure sup.","")) | T35: =O35 -> 0 | V35: =(V34+T35-U35)-1+1 -> 0
T36: =SUM(T5:T35) -> -5.5511151e-17
F37: Prévu | G37: =SUM(G5:G35)/24 -> 1.3125 | M37: Réalisé | N37: =SUM(N5:N35) -> 1.3125 | O37: =SUM(O5:O35) -> -5.5511151e-17 | T37: =SUM(T5:T35)-U37-1+1 -> 0 | U37: =SUM(U5:U35) -> 0 | V37: =V35 -> 0
N38: Heures payées | O38: =U37 -> 0
N39: Total +/- janvier 2018 | O39: =O37-O38 -> -5.5511151e-17
