Workbook

Sheet Feuil1
B1: ANNEE 2008 | F1: ANNEE 2009 | J1: ANNEE 2010
B2: AVGAS 100 LL | D2: JET A1 | F2: AVGAS 100 LL | H2: JET A1 | J2: AVGAS 100 LL | L2: JET A1
B3: TIC | C3: Sans TIC | D3: TIC | E3: Sans TIC | F3: TIC | G3: Sans TIC | H3: TIC | I3: Sans TIC | J3: TIC | K3: Sans TIC | L3: TIC | M3: Sans TIC
A4: 1er TRIMESTRE | B4: 9329 | C4: 0 | D4: 14690 | E4: 0 | F4: 7913 | G4: 0 | H4: 8479 | I4: 14002 | J4: 4668 | K4: 2784 | L4: 1952 | M4: 30540
A5: TOTAL TRIM. | B5: =SUM(B4:C4) -> 9329 | D5: =SUM(D4:E4) -> 14690 | F5: =SUM(F4:G4) -> 7913 | H5: =SUM(H4:I4) -> 22481 | J5: =SUM(J4:K4) -> 7452 | L5: =SUM(L4:M4) -> 32492
A6: 2ème TRIMESTRE | B6: 13078 | C6: 0 | D6: 15133 | E6: 4550 | F6: 9789 | G6: 0 | H6: 6765 | I6: 20470
A7: TOTAL TRIM. | B7: =SUM(B6:C6) -> 13078 | D7: =SUM(D6:E6) -> 19683 | F7: =SUM(F6:G6) -> 9789 | H7: =SUM(H6:I6) -> 27235 | J7: =SUM(J6:K6) -> 0 | L7: =SUM(L6:M6) -> 0
A8: 3ème TRIMESTE | B8: 14740 | C8: 0 | D8: 36227 | E8: 23179 | F8: 16237 | G8: 0 | H8: 1724 | I8: 22797
A9: TOTAL TRIM. | B9: =SUM(B8:C8) -> 14740 | D9: =SUM(D8:E8) -> 59406 | F9: =SUM(F8:G8) -> 16237 | H9: =SUM(H8:I8) -> 24521 | J9: =SUM(J8:K8) -> 0 | L9: =SUM(L8:M8) -> 0
A10: 4ème TRIMESTRE | B10: 6676 | C10: 0 | D10: 11726 | E10: 11217 | F10: 7755 | G10: 0 | H10: 24017 | I10: 21141
A11: TOTAL TRIM. | B11: =SUM(B10:C10) -> 6676 | D11: =SUM(D10:E10) -> 22943 | F11: =SUM(F10:G10) -> 7755 | H11: =SUM(H10:I10) -> 45158 | J11: =SUM(J10:K10) -> 0 | L11: =SUM(L10:M10) -> 0
A12: SOUS TOTAL ANNUELLE | B12: =SUM(B4,B6,B8,B10) -> 43823 | C12: =SUM(C4,C6,C8,C10) -> 0 | D12: =SUM(D4,D6,D8,D10) -> 77776 | E12: =SUM(E4,E6,E8,E10) -> 38946 | F12: =SUM( F4,F6,F8,F10) -> 41694 | G12: =SUM(G4,G6,G8,G10) -> 0 | H12: =SUM(H4,H6,H8,H10) -> 40985 | I12: =SUM(I4,I6,I8,I10) -> 78410 | J12: =SUM(J4,J6,J8,J10) -> 4668 | K12: =SUM( K4,K6,K8,K10) -> 2784 | L12: =SUM(L4,L6,L8,L10) -> 1952 | M12: =SUM(M4,M6,M8,M10) -> 30540
A13: TOTAL ANNUELLE | B13: =SUM(B12,C12) -> 43823 | D13: =SUM(D12,E12) -> 116722 | F13: =SUM(F12,G12) -> 41694 | H13: =SUM(H12,I12) -> 119395 | J13: =SUM(J12,K12) -> 7452 | L13: =SUM(L12,M12) -> 32492

Sheet Feuil2
B1: AVGAS 100 LL | F1: JET A1
B3: 2008 | C3: 2009 | D3: 2010 | F3: 2008 | G3: 2009 | H3: 2010
B4: =Feuil1!B13 -> 43823 | C4: =Feuil1!F13 -> 41694 | D4: =Feuil1!J13 -> 7452 | F4: =Feuil1!D13 -> 116722 | G4: =Feuil1!H13 -> 119395 | H4: =Feuil1!L13 -> 32492
