Workbook
Name Data1: Data!$A$3:$D$21
Name Data2: Data!$B$3:$B$21
Name Data3: Data!$C$3:$C$21
Name Data4: Data!$D$3:$D$21

Sheet A
A1: A
A3: {=IF(ISERROR(SMALL(IF((Data!$A$3:$A$21=$A$1)*(Data2<>""),ROW(Data2)),ROW()-2)),"",INDEX(Data!B$1:B$21,SMALL(IF((Data!$A$3:$A$21=$A$1)*(Data2<>""),ROW(Data2)),ROW()-2)))} -> a1 | B3: {=IF(ISERROR(SMALL(IF((Data!$A$3:$A$21=$A$1)*(Data3<>""),ROW(Data3)),ROW()-2)),"",INDEX(Data!C$1:C$21,SMALL(IF((Data!$A$3:$A$21=$A$1)*(Data3<>""),ROW(Data3)),ROW()-2)))} -> a13 | C3: {=IF(ISERROR(SMALL(IF((Data!$A$3:$A$21=$A$1)*(Data4<>""),ROW(Data4)),ROW()-2)),"",INDEX(Data!D$1:D$21,SMALL(IF((Data!$A$3:$A$21=$A$1)*(Data4<>""),ROW(Data4)),ROW()-2)))} -> a111
A4: {=IF(ISERROR(SMALL(IF((Data!$A$3:$A$21=$A$1)*(Data2<>""),ROW(Data2)),ROW()-2)),"",INDEX(Data!B$1:B$21,SMALL(IF((Data!$A$3:$A$21=$A$1)*(Data2<>""),ROW(Data2)),ROW()-2)))} -> a2 | B4: {=IF(ISERROR(SMALL(IF((Data!$A$3:$A$21=$A$1)*(Data3<>""),ROW(Data3)),ROW()-2)),"",INDEX(Data!C$1:C$21,SMALL(IF((Data!$A$3:$A$21=$A$1)*(Data3<>""),ROW(Data3)),ROW()-2)))} -> a14 | C4: {=IF(ISERROR(SMALL(IF((Data!$A$3:$A$21=$A$1)*(Data4<>""),ROW(Data4)),ROW()-2)),"",INDEX(Data!D$1:D$21,SMALL(IF((Data!$A$3:$A$21=$A$1)*(Data4<>""),ROW(Data4)),ROW()-2)))} -> a112
A5: {=IF(ISERROR(SMALL(IF((Data!$A$3:$A$21=$A$1)*(Data2<>""),ROW(Data2)),ROW()-2)),"",INDEX(Data!B$1:B$21,SMALL(IF((Data!$A$3:$A$21=$A$1)*(Data2<>""),ROW(Data2)),ROW()-2)))} -> a3 | B5: {=IF(ISERROR(SMALL(IF((Data!$A$3:$A$21=$A$1)*(Data3<>""),ROW(Data3)),ROW()-2)),"",INDEX(Data!C$1:C$21,SMALL(IF((Data!$A$3:$A$21=$A$1)*(Data3<>""),ROW(Data3)),ROW()-2)))} | C5: {=IF(ISERROR(SMALL(IF((Data!$A$3:$A$21=$A$1)*(Data4<>""),ROW(Data4)),ROW()-2)),"",INDEX(Data!D$1:D$21,SMALL(IF((Data!$A$3:$A$21=$A$1)*(Data4<>""),ROW(Data4)),ROW()-2)))} -> a113
A6: {=IF(ISERROR(SMALL(IF((Data!$A$3:$A$21=$A$1)*(Data2<>""),ROW(Data2)),ROW()-2)),"",INDEX(Data!B$1:B$21,SMALL(IF((Data!$A$3:$A$21=$A$1)*(Data2<>""),ROW(Data2)),ROW()-2)))} -> a4 | B6: {=IF(ISERROR(SMALL(IF((Data!$A$3:$A$21=$A$1)*(Data3<>""),ROW(Data3)),ROW()-2)),"",INDEX(Data!C$1:C$21,SMALL(IF((Data!$A$3:$A$21=$A$1)*(Data3<>""),ROW(Data3)),ROW()-2)))} | C6: {=IF(ISERROR(SMALL(IF((Data!$A$3:$A$21=$A$1)*(Data4<>""),ROW(Data4)),ROW()-2)),"",INDEX(Data!D$1:D$21,SMALL(IF((Data!$A$3:$A$21=$A$1)*(Data4<>""),ROW(Data4)),ROW()-2)))} -> a114
A7: {=IF(ISERROR(SMALL(IF((Data!$A$3:$A$21=$A$1)*(Data2<>""),ROW(Data2)),ROW()-2)),"",INDEX(Data!B$1:B$21,SMALL(IF((Data!$A$3:$A$21=$A$1)*(Data2<>""),ROW(Data2)),ROW()-2)))} | B7: {=IF(ISERROR(SMALL(IF((Data!$A$3:$A$21=$A$1)*(Data3<>""),ROW(Data3)),ROW()-2)),"",INDEX(Data!C$1:C$21,SMALL(IF((Data!$A$3:$A$21=$A$1)*(Data3<>""),ROW(Data3)),ROW()-2)))} | C7: {=IF(ISERROR(SMALL(IF((Data!$A$3:$A$21=$A$1)*(Data4<>""),ROW(Data4)),ROW()-2)),"",INDEX(Data!D$1:D$21,SMALL(IF((Data!$A$3:$A$21=$A$1)*(Data4<>""),ROW(Data4)),ROW()-2)))}
A8: {=IF(ISERROR(SMALL(IF((Data!$A$3:$A$21=$A$1)*(Data2<>""),ROW(Data2)),ROW()-2)),"",INDEX(Data!B$1:B$21,SMALL(IF((Data!$A$3:$A$21=$A$1)*(Data2<>""),ROW(Data2)),ROW()-2)))} | B8: {=IF(ISERROR(SMALL(IF((Data!$A$3:$A$21=$A$1)*(Data3<>""),ROW(Data3)),ROW()-2)),"",INDEX(Data!C$1:C$21,SMALL(IF((Data!$A$3:$A$21=$A$1)*(Data3<>""),ROW(Data3)),ROW()-2)))} | C8: {=IF(ISERROR(SMALL(IF((Data!$A$3:$A$21=$A$1)*(Data4<>""),ROW(Data4)),ROW()-2)),"",INDEX(Data!D$1:D$21,SMALL(IF((Data!$A$3:$A$21=$A$1)*(Data4<>""),ROW(Data4)),ROW()-2)))}
A9: {=IF(ISERROR(SMALL(IF((Data!$A$3:$A$21=$A$1)*(Data2<>""),ROW(Data2)),ROW()-2)),"",INDEX(Data!B$1:B$21,SMALL(IF((Data!$A$3:$A$21=$A$1)*(Data2<>""),ROW(Data2)),ROW()-2)))} | B9: {=IF(ISERROR(SMALL(IF((Data!$A$3:$A$21=$A$1)*(Data3<>""),ROW(Data3)),ROW()-2)),"",INDEX(Data!C$1:C$21,SMALL(IF((Data!$A$3:$A$21=$A$1)*(Data3<>""),ROW(Data3)),ROW()-2)))} | C9: {=IF(ISERROR(SMALL(IF((Data!$A$3:$A$21=$A$1)*(Data4<>""),ROW(Data4)),ROW()-2)),"",INDEX(Data!D$1:D$21,SMALL(IF((Data!$A$3:$A$21=$A$1)*(Data4<>""),ROW(Data4)),ROW()-2)))}
A10: =IF(ISNA(VLOOKUP($A$1,OFFSET(Data1,MATCH(A9,Data2,0),),2,FALSE)),"",VLOOKUP($A$1,OFFSET(Data1,MATCH(A9,Data2,0),),2,FALSE))
A11: =IF(ISNA(VLOOKUP($A$1,OFFSET(Data1,MATCH(A10,Data2,0),),2,FALSE)),"",VLOOKUP($A$1,OFFSET(Data1,MATCH(A10,Data2,0),),2,FALSE))
A12: =IF(ISNA(VLOOKUP($A$1,OFFSET(Data1,MATCH(A11,Data2,0),),2,FALSE)),"",VLOOKUP($A$1,OFFSET(Data1,MATCH(A11,Data2,0),),2,FALSE))
A13: =IF(ISNA(VLOOKUP($A$1,OFFSET(Data1,MATCH(A12,Data2,0),),2,FALSE)),"",VLOOKUP($A$1,OFFSET(Data1,MATCH(A12,Data2,0),),2,FALSE))
A14: =IF(ISNA(VLOOKUP($A$1,OFFSET(Data1,MATCH(A13,Data2,0),),2,FALSE)),"",VLOOKUP($A$1,OFFSET(Data1,MATCH(A13,Data2,0),),2,FALSE))
A15: =IF(ISNA(VLOOKUP($A$1,OFFSET(Data1,MATCH(A14,Data2,0),),2,FALSE)),"",VLOOKUP($A$1,OFFSET(Data1,MATCH(A14,Data2,0),),2,FALSE))
A16: =IF(ISNA(VLOOKUP($A$1,OFFSET(Data1,MATCH(A15,Data2,0),),2,FALSE)),"",VLOOKUP($A$1,OFFSET(Data1,MATCH(A15,Data2,0),),2,FALSE))
A17: =IF(ISNA(VLOOKUP($A$1,OFFSET(Data1,MATCH(A16,Data2,0),),2,FALSE)),"",VLOOKUP($A$1,OFFSET(Data1,MATCH(A16,Data2,0),),2,FALSE))
A18: =IF(ISNA(VLOOKUP($A$1,OFFSET(Data1,MATCH(A17,Data2,0),),2,FALSE)),"",VLOOKUP($A$1,OFFSET(Data1,MATCH(A17,Data2,0),),2,FALSE))
A19: =IF(ISNA(VLOOKUP($A$1,OFFSET(Data1,MATCH(A18,Data2,0),),2,FALSE)),"",VLOOKUP($A$1,OFFSET(Data1,MATCH(A18,Data2,0),),2,FALSE))
A20: =IF(ISNA(VLOOKUP($A$1,OFFSET(Data1,MATCH(A19,Data2,0),),2,FALSE)),"",VLOOKUP($A$1,OFFSET(Data1,MATCH(A19,Data2,0),),2,FALSE))
A21: =IF(ISNA(VLOOKUP($A$1,OFFSET(Data1,MATCH(A20,Data2,0),),2,FALSE)),"",VLOOKUP($A$1,OFFSET(Data1,MATCH(A20,Data2,0),),2,FALSE))
... A23: =IF(ISNA(VLOOKUP($A$1,OFFSET(Data1,MATCH(A22,Data2,0),),2,FALSE)),"",VLOOKUP($A$1,OFFSET(Data1,MATCH(A22,Data2,0),),2,FALSE))

Sheet B
A1: B
A3: {=IF(ISERROR(SMALL(IF((Data!$A$3:$A$21=$A$1)*(Data2<>""),ROW(Data2)),ROW()-2)),"",INDEX(Data!B$1:B$21,SMALL(IF((Data!$A$3:$A$21=$A$1)*(Data2<>""),ROW(Data2)),ROW()-2)))} -> b1 | B3: {=IF(ISERROR(SMALL(IF((Data!$A$3:$A$21=$A$1)*(Data3<>""),ROW(Data3)),ROW()-2)),"",INDEX(Data!C$1:C$21,SMALL(IF((Data!$A$3:$A$21=$A$1)*(Data3<>""),ROW(Data3)),ROW()-2)))} -> b11 | C3: {=IF(ISERROR(SMALL(IF((Data!$A$3:$A$21=$A$1)*(Data4<>""),ROW(Data4)),ROW()-2)),"",INDEX(Data!D$1:D$21,SMALL(IF((Data!$A$3:$A$21=$A$1)*(Data4<>""),ROW(Data4)),ROW()-2)))} -> b111
A4: {=IF(ISERROR(SMALL(IF((Data!$A$3:$A$21=$A$1)*(Data2<>""),ROW(Data2)),ROW()-2)),"",INDEX(Data!B$1:B$21,SMALL(IF((Data!$A$3:$A$21=$A$1)*(Data2<>""),ROW(Data2)),ROW()-2)))} -> b2 | B4: {=IF(ISERROR(SMALL(IF((Data!$A$3:$A$21=$A$1)*(Data3<>""),ROW(Data3)),ROW()-2)),"",INDEX(Data!C$1:C$21,SMALL(IF((Data!$A$3:$A$21=$A$1)*(Data3<>""),ROW(Data3)),ROW()-2)))} -> b12 | C4: {=IF(ISERROR(SMALL(IF((Data!$A$3:$A$21=$A$1)*(Data4<>""),ROW(Data4)),ROW()-2)),"",INDEX(Data!D$1:D$21,SMALL(IF((Data!$A$3:$A$21=$A$1)*(Data4<>""),ROW(Data4)),ROW()-2)))} -> b112
A5: {=IF(ISERROR(SMALL(IF((Data!$A$3:$A$21=$A$1)*(Data2<>""),ROW(Data2)),ROW()-2)),"",INDEX(Data!B$1:B$21,SMALL(IF((Data!$A$3:$A$21=$A$1)*(Data2<>""),ROW(Data2)),ROW()-2)))} | B5: {=IF(ISERROR(SMALL(IF((Data!$A$3:$A$21=$A$1)*(Data3<>""),ROW(Data3)),ROW()-2)),"",INDEX(Data!C$1:C$21,SMALL(IF((Data!$A$3:$A$21=$A$1)*(Data3<>""),ROW(Data3)),ROW()-2)))} | C5: {=IF(ISERROR(SMALL(IF((Data!$A$3:$A$21=$A$1)*(Data4<>""),ROW(Data4)),ROW()-2)),"",INDEX(Data!D$1:D$21,SMALL(IF((Data!$A$3:$A$21=$A$1)*(Data4<>""),ROW(Data4)),ROW()-2)))}
A6: {=IF(ISERROR(SMALL(IF((Data!$A$3:$A$21=$A$1)*(Data2<>""),ROW(Data2)),ROW()-2)),"",INDEX(Data!B$1:B$21,SMALL(IF((Data!$A$3:$A$21=$A$1)*(Data2<>""),ROW(Data2)),ROW()-2)))} | B6: {=IF(ISERROR(SMALL(IF((Data!$A$3:$A$21=$A$1)*(Data3<>""),ROW(Data3)),ROW()-2)),"",INDEX(Data!C$1:C$21,SMALL(IF((Data!$A$3:$A$21=$A$1)*(Data3<>""),ROW(Data3)),ROW()-2)))} | C6: {=IF(ISERROR(SMALL(IF((Data!$A$3:$A$21=$A$1)*(Data4<>""),ROW(Data4)),ROW()-2)),"",INDEX(Data!D$1:D$21,SMALL(IF((Data!$A$3:$A$21=$A$1)*(Data4<>""),ROW(Data4)),ROW()-2)))}
A7: {=IF(ISERROR(SMALL(IF((Data!$A$3:$A$21=$A$1)*(Data2<>""),ROW(Data2)),ROW()-2)),"",INDEX(Data!B$1:B$21,SMALL(IF((Data!$A$3:$A$21=$A$1)*(Data2<>""),ROW(Data2)),ROW()-2)))} | B7: {=IF(ISERROR(SMALL(IF((Data!$A$3:$A$21=$A$1)*(Data3<>""),ROW(Data3)),ROW()-2)),"",INDEX(Data!C$1:C$21,SMALL(IF((Data!$A$3:$A$21=$A$1)*(Data3<>""),ROW(Data3)),ROW()-2)))} | C7: {=IF(ISERROR(SMALL(IF((Data!$A$3:$A$21=$A$1)*(Data4<>""),ROW(Data4)),ROW()-2)),"",INDEX(Data!D$1:D$21,SMALL(IF((Data!$A$3:$A$21=$A$1)*(Data4<>""),ROW(Data4)),ROW()-2)))}
A8: {=IF(ISERROR(SMALL(IF((Data!$A$3:$A$21=$A$1)*(Data2<>""),ROW(Data2)),ROW()-2)),"",INDEX(Data!B$1:B$21,SMALL(IF((Data!$A$3:$A$21=$A$1)*(Data2<>""),ROW(Data2)),ROW()-2)))} | B8: {=IF(ISERROR(SMALL(IF((Data!$A$3:$A$21=$A$1)*(Data3<>""),ROW(Data3)),ROW()-2)),"",INDEX(Data!C$1:C$21,SMALL(IF((Data!$A$3:$A$21=$A$1)*(Data3<>""),ROW(Data3)),ROW()-2)))} | C8: {=IF(ISERROR(SMALL(IF((Data!$A$3:$A$21=$A$1)*(Data4<>""),ROW(Data4)),ROW()-2)),"",INDEX(Data!D$1:D$21,SMALL(IF((Data!$A$3:$A$21=$A$1)*(Data4<>""),ROW(Data4)),ROW()-2)))}
A9: {=IF(ISERROR(SMALL(IF((Data!$A$3:$A$21=$A$1)*(Data2<>""),ROW(Data2)),ROW()-2)),"",INDEX(Data!B$1:B$21,SMALL(IF((Data!$A$3:$A$21=$A$1)*(Data2<>""),ROW(Data2)),ROW()-2)))} | B9: {=IF(ISERROR(SMALL(IF((Data!$A$3:$A$21=$A$1)*(Data3<>""),ROW(Data3)),ROW()-2)),"",INDEX(Data!C$1:C$21,SMALL(IF((Data!$A$3:$A$21=$A$1)*(Data3<>""),ROW(Data3)),ROW()-2)))} | C9: {=IF(ISERROR(SMALL(IF((Data!$A$3:$A$21=$A$1)*(Data4<>""),ROW(Data4)),ROW()-2)),"",INDEX(Data!D$1:D$21,SMALL(IF((Data!$A$3:$A$21=$A$1)*(Data4<>""),ROW(Data4)),ROW()-2)))}
A10: =IF(ISNA(VLOOKUP($A$1,OFFSET(Data1,MATCH(A9,Data2,0),),2,FALSE)),"",VLOOKUP($A$1,OFFSET(Data1,MATCH(A9,Data2,0),),2,FALSE)) | B10: =IF(ISNA(VLOOKUP($A$1,OFFSET(Data1,MATCH(B9,Data3,0),),3,FALSE)),"",VLOOKUP($A$1,OFFSET(Data1,MATCH(B9,Data3,0),),3,FALSE)) | C10: =IF(ISNA(VLOOKUP($A$1,OFFSET(Data1,MATCH(C9,Data4,0),),4,FALSE)),"",VLOOKUP($A$1,OFFSET(Data1,MATCH(C9,Data4,0),),4,FALSE))
A11: =IF(ISNA(VLOOKUP($A$1,OFFSET(Data1,MATCH(A10,Data2,0),),2,FALSE)),"",VLOOKUP($A$1,OFFSET(Data1,MATCH(A10,Data2,0),),2,FALSE)) | B11: =IF(ISNA(VLOOKUP($A$1,OFFSET(Data1,MATCH(B10,Data3,0),),3,FALSE)),"",VLOOKUP($A$1,OFFSET(Data1,MATCH(B10,Data3,0),),3,FALSE)) | C11: =IF(ISNA(VLOOKUP($A$1,OFFSET(Data1,MATCH(C10,Data4,0),),4,FALSE)),"",VLOOKUP($A$1,OFFSET(Data1,MATCH(C10,Data4,0),),4,FALSE))
A12: =IF(ISNA(VLOOKUP($A$1,OFFSET(Data1,MATCH(A11,Data2,0),),2,FALSE)),"",VLOOKUP($A$1,OFFSET(Data1,MATCH(A11,Data2,0),),2,FALSE)) | B12: =IF(ISNA(VLOOKUP($A$1,OFFSET(Data1,MATCH(B11,Data3,0),),3,FALSE)),"",VLOOKUP($A$1,OFFSET(Data1,MATCH(B11,Data3,0),),3,FALSE)) | C12: =IF(ISNA(VLOOKUP($A$1,OFFSET(Data1,MATCH(C11,Data4,0),),4,FALSE)),"",VLOOKUP($A$1,OFFSET(Data1,MATCH(C11,Data4,0),),4,FALSE))
A13: =IF(ISNA(VLOOKUP($A$1,OFFSET(Data1,MATCH(A12,Data2,0),),2,FALSE)),"",VLOOKUP($A$1,OFFSET(Data1,MATCH(A12,Data2,0),),2,FALSE)) | C13: =IF(ISNA(VLOOKUP($A$1,OFFSET(Data1,MATCH(C12,Data4,0),),4,FALSE)),"",VLOOKUP($A$1,OFFSET(Data1,MATCH(C12,Data4,0),),4,FALSE))
A14: =IF(ISNA(VLOOKUP($A$1,OFFSET(Data1,MATCH(A13,Data2,0),),2,FALSE)),"",VLOOKUP($A$1,OFFSET(Data1,MATCH(A13,Data2,0),),2,FALSE))
A15: =IF(ISNA(VLOOKUP($A$1,OFFSET(Data1,MATCH(A14,Data2,0),),2,FALSE)),"",VLOOKUP($A$1,OFFSET(Data1,MATCH(A14,Data2,0),),2,FALSE))
A16: =IF(ISNA(VLOOKUP($A$1,OFFSET(Data1,MATCH(A15,Data2,0),),2,FALSE)),"",VLOOKUP($A$1,OFFSET(Data1,MATCH(A15,Data2,0),),2,FALSE))
A17: =IF(ISNA(VLOOKUP($A$1,OFFSET(Data1,MATCH(A16,Data2,0),),2,FALSE)),"",VLOOKUP($A$1,OFFSET(Data1,MATCH(A16,Data2,0),),2,FALSE))
A18: =IF(ISNA(VLOOKUP($A$1,OFFSET(Data1,MATCH(A17,Data2,0),),2,FALSE)),"",VLOOKUP($A$1,OFFSET(Data1,MATCH(A17,Data2,0),),2,FALSE))
A19: =IF(ISNA(VLOOKUP($A$1,OFFSET(Data1,MATCH(A18,Data2,0),),2,FALSE)),"",VLOOKUP($A$1,OFFSET(Data1,MATCH(A18,Data2,0),),2,FALSE))
A20: =IF(ISNA(VLOOKUP($A$1,OFFSET(Data1,MATCH(A19,Data2,0),),2,FALSE)),"",VLOOKUP($A$1,OFFSET(Data1,MATCH(A19,Data2,0),),2,FALSE))
A21: =IF(ISNA(VLOOKUP($A$1,OFFSET(Data1,MATCH(A20,Data2,0),),2,FALSE)),"",VLOOKUP($A$1,OFFSET(Data1,MATCH(A20,Data2,0),),2,FALSE))
A22: =IF(ISNA(VLOOKUP($A$1,OFFSET(Data1,MATCH(A21,Data2,0),),2,FALSE)),"",VLOOKUP($A$1,OFFSET(Data1,MATCH(A21,Data2,0),),2,FALSE))
A23: =IF(ISNA(VLOOKUP($A$1,OFFSET(Data1,MATCH(A22,Data2,0),),2,FALSE)),"",VLOOKUP($A$1,OFFSET(Data1,MATCH(A22,Data2,0),),2,FALSE))

Sheet C
A1: C
A3: {=IF(ISERROR(SMALL(IF((Data!$A$3:$A$21=$A$1)*(Data2<>""),ROW(Data2)),ROW()-2)),"",INDEX(Data!B$1:B$21,SMALL(IF((Data!$A$3:$A$21=$A$1)*(Data2<>""),ROW(Data2)),ROW()-2)))} -> c1 | B3: {=IF(ISERROR(SMALL(IF((Data!$A$3:$A$21=$A$1)*(Data3<>""),ROW(Data3)),ROW()-2)),"",INDEX(Data!C$1:C$21,SMALL(IF((Data!$A$3:$A$21=$A$1)*(Data3<>""),ROW(Data3)),ROW()-2)))} -> c11 | C3: {=IF(ISERROR(SMALL(IF((Data!$A$3:$A$21=$A$1)*(Data4<>""),ROW(Data4)),ROW()-2)),"",INDEX(Data!D$1:D$21,SMALL(IF((Data!$A$3:$A$21=$A$1)*(Data4<>""),ROW(Data4)),ROW()-2)))} -> c111
A4: {=IF(ISERROR(SMALL(IF((Data!$A$3:$A$21=$A$1)*(Data2<>""),ROW(Data2)),ROW()-2)),"",INDEX(Data!B$1:B$21,SMALL(IF((Data!$A$3:$A$21=$A$1)*(Data2<>""),ROW(Data2)),ROW()-2)))} -> c2 | B4: {=IF(ISERROR(SMALL(IF((Data!$A$3:$A$21=$A$1)*(Data3<>""),ROW(Data3)),ROW()-2)),"",INDEX(Data!C$1:C$21,SMALL(IF((Data!$A$3:$A$21=$A$1)*(Data3<>""),ROW(Data3)),ROW()-2)))} -> c13 | C4: {=IF(ISERROR(SMALL(IF((Data!$A$3:$A$21=$A$1)*(Data4<>""),ROW(Data4)),ROW()-2)),"",INDEX(Data!D$1:D$21,SMALL(IF((Data!$A$3:$A$21=$A$1)*(Data4<>""),ROW(Data4)),ROW()-2)))} -> c112
A5: {=IF(ISERROR(SMALL(IF((Data!$A$3:$A$21=$A$1)*(Data2<>""),ROW(Data2)),ROW()-2)),"",INDEX(Data!B$1:B$21,SMALL(IF((Data!$A$3:$A$21=$A$1)*(Data2<>""),ROW(Data2)),ROW()-2)))} -> c3 | B5: {=IF(ISERROR(SMALL(IF((Data!$A$3:$A$21=$A$1)*(Data3<>""),ROW(Data3)),ROW()-2)),"",INDEX(Data!C$1:C$21,SMALL(IF((Data!$A$3:$A$21=$A$1)*(Data3<>""),ROW(Data3)),ROW()-2)))} | C5: {=IF(ISERROR(SMALL(IF((Data!$A$3:$A$21=$A$1)*(Data4<>""),ROW(Data4)),ROW()-2)),"",INDEX(Data!D$1:D$21,SMALL(IF((Data!$A$3:$A$21=$A$1)*(Data4<>""),ROW(Data4)),ROW()-2)))} -> c113
A6: {=IF(ISERROR(SMALL(IF((Data!$A$3:$A$21=$A$1)*(Data2<>""),ROW(Data2)),ROW()-2)),"",INDEX(Data!B$1:B$21,SMALL(IF((Data!$A$3:$A$21=$A$1)*(Data2<>""),ROW(Data2)),ROW()-2)))} | B6: {=IF(ISERROR(SMALL(IF((Data!$A$3:$A$21=$A$1)*(Data3<>""),ROW(Data3)),ROW()-2)),"",INDEX(Data!C$1:C$21,SMALL(IF((Data!$A$3:$A$21=$A$1)*(Data3<>""),ROW(Data3)),ROW()-2)))} | C6: {=IF(ISERROR(SMALL(IF((Data!$A$3:$A$21=$A$1)*(Data4<>""),ROW(Data4)),ROW()-2)),"",INDEX(Data!D$1:D$21,SMALL(IF((Data!$A$3:$A$21=$A$1)*(Data4<>""),ROW(Data4)),ROW()-2)))}
A7: {=IF(ISERROR(SMALL(IF((Data!$A$3:$A$21=$A$1)*(Data2<>""),ROW(Data2)),ROW()-2)),"",INDEX(Data!B$1:B$21,SMALL(IF((Data!$A$3:$A$21=$A$1)*(Data2<>""),ROW(Data2)),ROW()-2)))} | B7: {=IF(ISERROR(SMALL(IF((Data!$A$3:$A$21=$A$1)*(Data3<>""),ROW(Data3)),ROW()-2)),"",INDEX(Data!C$1:C$21,SMALL(IF((Data!$A$3:$A$21=$A$1)*(Data3<>""),ROW(Data3)),ROW()-2)))} | C7: {=IF(ISERROR(SMALL(IF((Data!$A$3:$A$21=$A$1)*(Data4<>""),ROW(Data4)),ROW()-2)),"",INDEX(Data!D$1:D$21,SMALL(IF((Data!$A$3:$A$21=$A$1)*(Data4<>""),ROW(Data4)),ROW()-2)))}
A8: {=IF(ISERROR(SMALL(IF((Data!$A$3:$A$21=$A$1)*(Data2<>""),ROW(Data2)),ROW()-2)),"",INDEX(Data!B$1:B$21,SMALL(IF((Data!$A$3:$A$21=$A$1)*(Data2<>""),ROW(Data2)),ROW()-2)))} | B8: {=IF(ISERROR(SMALL(IF((Data!$A$3:$A$21=$A$1)*(Data3<>""),ROW(Data3)),ROW()-2)),"",INDEX(Data!C$1:C$21,SMALL(IF((Data!$A$3:$A$21=$A$1)*(Data3<>""),ROW(Data3)),ROW()-2)))} | C8: {=IF(ISERROR(SMALL(IF((Data!$A$3:$A$21=$A$1)*(Data4<>""),ROW(Data4)),ROW()-2)),"",INDEX(Data!D$1:D$21,SMALL(IF((Data!$A$3:$A$21=$A$1)*(Data4<>""),ROW(Data4)),ROW()-2)))}
A9: {=IF(ISERROR(SMALL(IF((Data!$A$3:$A$21=$A$1)*(Data2<>""),ROW(Data2)),ROW()-2)),"",INDEX(Data!B$1:B$21,SMALL(IF((Data!$A$3:$A$21=$A$1)*(Data2<>""),ROW(Data2)),ROW()-2)))} | B9: {=IF(ISERROR(SMALL(IF((Data!$A$3:$A$21=$A$1)*(Data3<>""),ROW(Data3)),ROW()-2)),"",INDEX(Data!C$1:C$21,SMALL(IF((Data!$A$3:$A$21=$A$1)*(Data3<>""),ROW(Data3)),ROW()-2)))} | C9: {=IF(ISERROR(SMALL(IF((Data!$A$3:$A$21=$A$1)*(Data4<>""),ROW(Data4)),ROW()-2)),"",INDEX(Data!D$1:D$21,SMALL(IF((Data!$A$3:$A$21=$A$1)*(Data4<>""),ROW(Data4)),ROW()-2)))}
A10: =IF(ISNA(VLOOKUP($A$1,OFFSET(Data1,MATCH(A9,Data2,0),),2,FALSE)),"",VLOOKUP($A$1,OFFSET(Data1,MATCH(A9,Data2,0),),2,FALSE)) | B10: =IF(ISNA(VLOOKUP($A$1,OFFSET(Data1,MATCH(B9,Data3,0),),3,FALSE)),"",VLOOKUP($A$1,OFFSET(Data1,MATCH(B9,Data3,0),),3,FALSE)) | C10: =IF(ISNA(VLOOKUP($A$1,OFFSET(Data1,MATCH(C9,Data4,0),),4,FALSE)),"",VLOOKUP($A$1,OFFSET(Data1,MATCH(C9,Data4,0),),4,FALSE))
A11: =IF(ISNA(VLOOKUP($A$1,OFFSET(Data1,MATCH(A10,Data2,0),),2,FALSE)),"",VLOOKUP($A$1,OFFSET(Data1,MATCH(A10,Data2,0),),2,FALSE)) | B11: =IF(ISNA(VLOOKUP($A$1,OFFSET(Data1,MATCH(B10,Data3,0),),3,FALSE)),"",VLOOKUP($A$1,OFFSET(Data1,MATCH(B10,Data3,0),),3,FALSE)) | C11: =IF(ISNA(VLOOKUP($A$1,OFFSET(Data1,MATCH(C10,Data4,0),),4,FALSE)),"",VLOOKUP($A$1,OFFSET(Data1,MATCH(C10,Data4,0),),4,FALSE))
A12: =IF(ISNA(VLOOKUP($A$1,OFFSET(Data1,MATCH(A11,Data2,0),),2,FALSE)),"",VLOOKUP($A$1,OFFSET(Data1,MATCH(A11,Data2,0),),2,FALSE)) | B12: =IF(ISNA(VLOOKUP($A$1,OFFSET(Data1,MATCH(B11,Data3,0),),3,FALSE)),"",VLOOKUP($A$1,OFFSET(Data1,MATCH(B11,Data3,0),),3,FALSE)) | C12: =IF(ISNA(VLOOKUP($A$1,OFFSET(Data1,MATCH(C11,Data4,0),),4,FALSE)),"",VLOOKUP($A$1,OFFSET(Data1,MATCH(C11,Data4,0),),4,FALSE))
A13: =IF(ISNA(VLOOKUP($A$1,OFFSET(Data1,MATCH(A12,Data2,0),),2,FALSE)),"",VLOOKUP($A$1,OFFSET(Data1,MATCH(A12,Data2,0),),2,FALSE)) | C13: =IF(ISNA(VLOOKUP($A$1,OFFSET(Data1,MATCH(C12,Data4,0),),4,FALSE)),"",VLOOKUP($A$1,OFFSET(Data1,MATCH(C12,Data4,0),),4,FALSE))
A14: =IF(ISNA(VLOOKUP($A$1,OFFSET(Data1,MATCH(A13,Data2,0),),2,FALSE)),"",VLOOKUP($A$1,OFFSET(Data1,MATCH(A13,Data2,0),),2,FALSE))
A15: =IF(ISNA(VLOOKUP($A$1,OFFSET(Data1,MATCH(A14,Data2,0),),2,FALSE)),"",VLOOKUP($A$1,OFFSET(Data1,MATCH(A14,Data2,0),),2,FALSE))
A16: =IF(ISNA(VLOOKUP($A$1,OFFSET(Data1,MATCH(A15,Data2,0),),2,FALSE)),"",VLOOKUP($A$1,OFFSET(Data1,MATCH(A15,Data2,0),),2,FALSE))
A17: =IF(ISNA(VLOOKUP($A$1,OFFSET(Data1,MATCH(A16,Data2,0),),2,FALSE)),"",VLOOKUP($A$1,OFFSET(Data1,MATCH(A16,Data2,0),),2,FALSE))
A18: =IF(ISNA(VLOOKUP($A$1,OFFSET(Data1,MATCH(A17,Data2,0),),2,FALSE)),"",VLOOKUP($A$1,OFFSET(Data1,MATCH(A17,Data2,0),),2,FALSE))
A19: =IF(ISNA(VLOOKUP($A$1,OFFSET(Data1,MATCH(A18,Data2,0),),2,FALSE)),"",VLOOKUP($A$1,OFFSET(Data1,MATCH(A18,Data2,0),),2,FALSE))
A20: =IF(ISNA(VLOOKUP($A$1,OFFSET(Data1,MATCH(A19,Data2,0),),2,FALSE)),"",VLOOKUP($A$1,OFFSET(Data1,MATCH(A19,Data2,0),),2,FALSE))
A21: =IF(ISNA(VLOOKUP($A$1,OFFSET(Data1,MATCH(A20,Data2,0),),2,FALSE)),"",VLOOKUP($A$1,OFFSET(Data1,MATCH(A20,Data2,0),),2,FALSE))
A22: =IF(ISNA(VLOOKUP($A$1,OFFSET(Data1,MATCH(A21,Data2,0),),2,FALSE)),"",VLOOKUP($A$1,OFFSET(Data1,MATCH(A21,Data2,0),),2,FALSE))
A23: =IF(ISNA(VLOOKUP($A$1,OFFSET(Data1,MATCH(A22,Data2,0),),2,FALSE)),"",VLOOKUP($A$1,OFFSET(Data1,MATCH(A22,Data2,0),),2,FALSE))

Sheet D
A1: D
A3: {=IF(ISERROR(SMALL(IF((Data!$A$3:$A$21=$A$1)*(Data2<>""),ROW(Data2)),ROW()-2)),"",INDEX(Data!B$1:B$21,SMALL(IF((Data!$A$3:$A$21=$A$1)*(Data2<>""),ROW(Data2)),ROW()-2)))} -> d1 | B3: {=IF(ISERROR(SMALL(IF((Data!$A$3:$A$21=$A$1)*(Data3<>""),ROW(Data3)),ROW()-2)),"",INDEX(Data!C$1:C$21,SMALL(IF((Data!$A$3:$A$21=$A$1)*(Data3<>""),ROW(Data3)),ROW()-2)))} -> d12 | C3: {=IF(ISERROR(SMALL(IF((Data!$A$3:$A$21=$A$1)*(Data4<>""),ROW(Data4)),ROW()-2)),"",INDEX(Data!D$1:D$21,SMALL(IF((Data!$A$3:$A$21=$A$1)*(Data4<>""),ROW(Data4)),ROW()-2)))} -> d111
A4: {=IF(ISERROR(SMALL(IF((Data!$A$3:$A$21=$A$1)*(Data2<>""),ROW(Data2)),ROW()-2)),"",INDEX(Data!B$1:B$21,SMALL(IF((Data!$A$3:$A$21=$A$1)*(Data2<>""),ROW(Data2)),ROW()-2)))} -> d2 | B4: {=IF(ISERROR(SMALL(IF((Data!$A$3:$A$21=$A$1)*(Data3<>""),ROW(Data3)),ROW()-2)),"",INDEX(Data!C$1:C$21,SMALL(IF((Data!$A$3:$A$21=$A$1)*(Data3<>""),ROW(Data3)),ROW()-2)))} -> d13 | C4: {=IF(ISERROR(SMALL(IF((Data!$A$3:$A$21=$A$1)*(Data4<>""),ROW(Data4)),ROW()-2)),"",INDEX(Data!D$1:D$21,SMALL(IF((Data!$A$3:$A$21=$A$1)*(Data4<>""),ROW(Data4)),ROW()-2)))} -> d112
A5: {=IF(ISERROR(SMALL(IF((Data!$A$3:$A$21=$A$1)*(Data2<>""),ROW(Data2)),ROW()-2)),"",INDEX(Data!B$1:B$21,SMALL(IF((Data!$A$3:$A$21=$A$1)*(Data2<>""),ROW(Data2)),ROW()-2)))} -> d3 | B5: {=IF(ISERROR(SMALL(IF((Data!$A$3:$A$21=$A$1)*(Data3<>""),ROW(Data3)),ROW()-2)),"",INDEX(Data!C$1:C$21,SMALL(IF((Data!$A$3:$A$21=$A$1)*(Data3<>""),ROW(Data3)),ROW()-2)))} -> d15 | C5: {=IF(ISERROR(SMALL(IF((Data!$A$3:$A$21=$A$1)*(Data4<>""),ROW(Data4)),ROW()-2)),"",INDEX(Data!D$1:D$21,SMALL(IF((Data!$A$3:$A$21=$A$1)*(Data4<>""),ROW(Data4)),ROW()-2)))} -> d113
A6: {=IF(ISERROR(SMALL(IF((Data!$A$3:$A$21=$A$1)*(Data2<>""),ROW(Data2)),ROW()-2)),"",INDEX(Data!B$1:B$21,SMALL(IF((Data!$A$3:$A$21=$A$1)*(Data2<>""),ROW(Data2)),ROW()-2)))} -> d4 | B6: {=IF(ISERROR(SMALL(IF((Data!$A$3:$A$21=$A$1)*(Data3<>""),ROW(Data3)),ROW()-2)),"",INDEX(Data!C$1:C$21,SMALL(IF((Data!$A$3:$A$21=$A$1)*(Data3<>""),ROW(Data3)),ROW()-2)))} -> d16 | C6: {=IF(ISERROR(SMALL(IF((Data!$A$3:$A$21=$A$1)*(Data4<>""),ROW(Data4)),ROW()-2)),"",INDEX(Data!D$1:D$21,SMALL(IF((Data!$A$3:$A$21=$A$1)*(Data4<>""),ROW(Data4)),ROW()-2)))} -> d114
A7: {=IF(ISERROR(SMALL(IF((Data!$A$3:$A$21=$A$1)*(Data2<>""),ROW(Data2)),ROW()-2)),"",INDEX(Data!B$1:B$21,SMALL(IF((Data!$A$3:$A$21=$A$1)*(Data2<>""),ROW(Data2)),ROW()-2)))} -> d5 | B7: {=IF(ISERROR(SMALL(IF((Data!$A$3:$A$21=$A$1)*(Data3<>""),ROW(Data3)),ROW()-2)),"",INDEX(Data!C$1:C$21,SMALL(IF((Data!$A$3:$A$21=$A$1)*(Data3<>""),ROW(Data3)),ROW()-2)))} | C7: {=IF(ISERROR(SMALL(IF((Data!$A$3:$A$21=$A$1)*(Data4<>""),ROW(Data4)),ROW()-2)),"",INDEX(Data!D$1:D$21,SMALL(IF((Data!$A$3:$A$21=$A$1)*(Data4<>""),ROW(Data4)),ROW()-2)))} -> d115
A8: {=IF(ISERROR(SMALL(IF((Data!$A$3:$A$21=$A$1)*(Data2<>""),ROW(Data2)),ROW()-2)),"",INDEX(Data!B$1:B$21,SMALL(IF((Data!$A$3:$A$21=$A$1)*(Data2<>""),ROW(Data2)),ROW()-2)))} -> d6 | B8: {=IF(ISERROR(SMALL(IF((Data!$A$3:$A$21=$A$1)*(Data3<>""),ROW(Data3)),ROW()-2)),"",INDEX(Data!C$1:C$21,SMALL(IF((Data!$A$3:$A$21=$A$1)*(Data3<>""),ROW(Data3)),ROW()-2)))} | C8: {=IF(ISERROR(SMALL(IF((Data!$A$3:$A$21=$A$1)*(Data4<>""),ROW(Data4)),ROW()-2)),"",INDEX(Data!D$1:D$21,SMALL(IF((Data!$A$3:$A$21=$A$1)*(Data4<>""),ROW(Data4)),ROW()-2)))} -> d116
A9: {=IF(ISERROR(SMALL(IF((Data!$A$3:$A$21=$A$1)*(Data2<>""),ROW(Data2)),ROW()-2)),"",INDEX(Data!B$1:B$21,SMALL(IF((Data!$A$3:$A$21=$A$1)*(Data2<>""),ROW(Data2)),ROW()-2)))} | B9: {=IF(ISERROR(SMALL(IF((Data!$A$3:$A$21=$A$1)*(Data3<>""),ROW(Data3)),ROW()-2)),"",INDEX(Data!C$1:C$21,SMALL(IF((Data!$A$3:$A$21=$A$1)*(Data3<>""),ROW(Data3)),ROW()-2)))} | C9: {=IF(ISERROR(SMALL(IF((Data!$A$3:$A$21=$A$1)*(Data4<>""),ROW(Data4)),ROW()-2)),"",INDEX(Data!D$1:D$21,SMALL(IF((Data!$A$3:$A$21=$A$1)*(Data4<>""),ROW(Data4)),ROW()-2)))}
A10: =IF(ISNA(VLOOKUP($A$1,OFFSET(Data1,MATCH(A9,Data2,0),),2,FALSE)),"",VLOOKUP($A$1,OFFSET(Data1,MATCH(A9,Data2,0),),2,FALSE)) | B10: =IF(ISNA(VLOOKUP($A$1,OFFSET(Data1,MATCH(B9,Data3,0),),3,FALSE)),"",VLOOKUP($A$1,OFFSET(Data1,MATCH(B9,Data3,0),),3,FALSE)) | C10: =IF(ISNA(VLOOKUP($A$1,OFFSET(Data1,MATCH(C9,Data4,0),),4,FALSE)),"",VLOOKUP($A$1,OFFSET(Data1,MATCH(C9,Data4,0),),4,FALSE))
A11: =IF(ISNA(VLOOKUP($A$1,OFFSET(Data1,MATCH(A10,Data2,0),),2,FALSE)),"",VLOOKUP($A$1,OFFSET(Data1,MATCH(A10,Data2,0),),2,FALSE)) | B11: =IF(ISNA(VLOOKUP($A$1,OFFSET(Data1,MATCH(B10,Data3,0),),3,FALSE)),"",VLOOKUP($A$1,OFFSET(Data1,MATCH(B10,Data3,0),),3,FALSE)) | C11: =IF(ISNA(VLOOKUP($A$1,OFFSET(Data1,MATCH(C10,Data4,0),),4,FALSE)),"",VLOOKUP($A$1,OFFSET(Data1,MATCH(C10,Data4,0),),4,FALSE))
A12: =IF(ISNA(VLOOKUP($A$1,OFFSET(Data1,MATCH(A11,Data2,0),),2,FALSE)),"",VLOOKUP($A$1,OFFSET(Data1,MATCH(A11,Data2,0),),2,FALSE)) | B12: =IF(ISNA(VLOOKUP($A$1,OFFSET(Data1,MATCH(B11,Data3,0),),3,FALSE)),"",VLOOKUP($A$1,OFFSET(Data1,MATCH(B11,Data3,0),),3,FALSE)) | C12: =IF(ISNA(VLOOKUP($A$1,OFFSET(Data1,MATCH(C11,Data4,0),),4,FALSE)),"",VLOOKUP($A$1,OFFSET(Data1,MATCH(C11,Data4,0),),4,FALSE))
A13: =IF(ISNA(VLOOKUP($A$1,OFFSET(Data1,MATCH(A12,Data2,0),),2,FALSE)),"",VLOOKUP($A$1,OFFSET(Data1,MATCH(A12,Data2,0),),2,FALSE)) | C13: =IF(ISNA(VLOOKUP($A$1,OFFSET(Data1,MATCH(C12,Data4,0),),4,FALSE)),"",VLOOKUP($A$1,OFFSET(Data1,MATCH(C12,Data4,0),),4,FALSE))
A14: =IF(ISNA(VLOOKUP($A$1,OFFSET(Data1,MATCH(A13,Data2,0),),2,FALSE)),"",VLOOKUP($A$1,OFFSET(Data1,MATCH(A13,Data2,0),),2,FALSE))
A15: =IF(ISNA(VLOOKUP($A$1,OFFSET(Data1,MATCH(A14,Data2,0),),2,FALSE)),"",VLOOKUP($A$1,OFFSET(Data1,MATCH(A14,Data2,0),),2,FALSE))
A16: =IF(ISNA(VLOOKUP($A$1,OFFSET(Data1,MATCH(A15,Data2,0),),2,FALSE)),"",VLOOKUP($A$1,OFFSET(Data1,MATCH(A15,Data2,0),),2,FALSE))
A17: =IF(ISNA(VLOOKUP($A$1,OFFSET(Data1,MATCH(A16,Data2,0),),2,FALSE)),"",VLOOKUP($A$1,OFFSET(Data1,MATCH(A16,Data2,0),),2,FALSE))
A18: =IF(ISNA(VLOOKUP($A$1,OFFSET(Data1,MATCH(A17,Data2,0),),2,FALSE)),"",VLOOKUP($A$1,OFFSET(Data1,MATCH(A17,Data2,0),),2,FALSE))
A19: =IF(ISNA(VLOOKUP($A$1,OFFSET(Data1,MATCH(A18,Data2,0),),2,FALSE)),"",VLOOKUP($A$1,OFFSET(Data1,MATCH(A18,Data2,0),),2,FALSE))
A20: =IF(ISNA(VLOOKUP($A$1,OFFSET(Data1,MATCH(A19,Data2,0),),2,FALSE)),"",VLOOKUP($A$1,OFFSET(Data1,MATCH(A19,Data2,0),),2,FALSE))
A21: =IF(ISNA(VLOOKUP($A$1,OFFSET(Data1,MATCH(A20,Data2,0),),2,FALSE)),"",VLOOKUP($A$1,OFFSET(Data1,MATCH(A20,Data2,0),),2,FALSE))
A22: =IF(ISNA(VLOOKUP($A$1,OFFSET(Data1,MATCH(A21,Data2,0),),2,FALSE)),"",VLOOKUP($A$1,OFFSET(Data1,MATCH(A21,Data2,0),),2,FALSE))
A23: =IF(ISNA(VLOOKUP($A$1,OFFSET(Data1,MATCH(A22,Data2,0),),2,FALSE)),"",VLOOKUP($A$1,OFFSET(Data1,MATCH(A22,Data2,0),),2,FALSE))

Sheet E
A1: E
A3: {=IF(ISERROR(SMALL(IF((Data!$A$3:$A$21=$A$1)*(Data2<>""),ROW(Data2)),ROW()-2)),"",INDEX(Data!B$1:B$21,SMALL(IF((Data!$A$3:$A$21=$A$1)*(Data2<>""),ROW(Data2)),ROW()-2)))} -> e1 | B3: {=IF(ISERROR(SMALL(IF((Data!$A$3:$A$21=$A$1)*(Data3<>""),ROW(Data3)),ROW()-2)),"",INDEX(Data!C$1:C$21,SMALL(IF((Data!$A$3:$A$21=$A$1)*(Data3<>""),ROW(Data3)),ROW()-2)))} -> e11 | C3: {=IF(ISERROR(SMALL(IF((Data!$A$3:$A$21=$A$1)*(Data4<>""),ROW(Data4)),ROW()-2)),"",INDEX(Data!D$1:D$21,SMALL(IF((Data!$A$3:$A$21=$A$1)*(Data4<>""),ROW(Data4)),ROW()-2)))} -> e111
A4: {=IF(ISERROR(SMALL(IF((Data!$A$3:$A$21=$A$1)*(Data2<>""),ROW(Data2)),ROW()-2)),"",INDEX(Data!B$1:B$21,SMALL(IF((Data!$A$3:$A$21=$A$1)*(Data2<>""),ROW(Data2)),ROW()-2)))} -> e2 | B4: {=IF(ISERROR(SMALL(IF((Data!$A$3:$A$21=$A$1)*(Data3<>""),ROW(Data3)),ROW()-2)),"",INDEX(Data!C$1:C$21,SMALL(IF((Data!$A$3:$A$21=$A$1)*(Data3<>""),ROW(Data3)),ROW()-2)))} -> e14 | C4: {=IF(ISERROR(SMALL(IF((Data!$A$3:$A$21=$A$1)*(Data4<>""),ROW(Data4)),ROW()-2)),"",INDEX(Data!D$1:D$21,SMALL(IF((Data!$A$3:$A$21=$A$1)*(Data4<>""),ROW(Data4)),ROW()-2)))} -> e112
A5: {=IF(ISERROR(SMALL(IF((Data!$A$3:$A$21=$A$1)*(Data2<>""),ROW(Data2)),ROW()-2)),"",INDEX(Data!B$1:B$21,SMALL(IF((Data!$A$3:$A$21=$A$1)*(Data2<>""),ROW(Data2)),ROW()-2)))} -> e3 | B5: {=IF(ISERROR(SMALL(IF((Data!$A$3:$A$21=$A$1)*(Data3<>""),ROW(Data3)),ROW()-2)),"",INDEX(Data!C$1:C$21,SMALL(IF((Data!$A$3:$A$21=$A$1)*(Data3<>""),ROW(Data3)),ROW()-2)))} | C5: {=IF(ISERROR(SMALL(IF((Data!$A$3:$A$21=$A$1)*(Data4<>""),ROW(Data4)),ROW()-2)),"",INDEX(Data!D$1:D$21,SMALL(IF((Data!$A$3:$A$21=$A$1)*(Data4<>""),ROW(Data4)),ROW()-2)))} -> e113
A6: {=IF(ISERROR(SMALL(IF((Data!$A$3:$A$21=$A$1)*(Data2<>""),ROW(Data2)),ROW()-2)),"",INDEX(Data!B$1:B$21,SMALL(IF((Data!$A$3:$A$21=$A$1)*(Data2<>""),ROW(Data2)),ROW()-2)))} -> e4 | B6: {=IF(ISERROR(SMALL(IF((Data!$A$3:$A$21=$A$1)*(Data3<>""),ROW(Data3)),ROW()-2)),"",INDEX(Data!C$1:C$21,SMALL(IF((Data!$A$3:$A$21=$A$1)*(Data3<>""),ROW(Data3)),ROW()-2)))} | C6: {=IF(ISERROR(SMALL(IF((Data!$A$3:$A$21=$A$1)*(Data4<>""),ROW(Data4)),ROW()-2)),"",INDEX(Data!D$1:D$21,SMALL(IF((Data!$A$3:$A$21=$A$1)*(Data4<>""),ROW(Data4)),ROW()-2)))} -> e114
A7: {=IF(ISERROR(SMALL(IF((Data!$A$3:$A$21=$A$1)*(Data2<>""),ROW(Data2)),ROW()-2)),"",INDEX(Data!B$1:B$21,SMALL(IF((Data!$A$3:$A$21=$A$1)*(Data2<>""),ROW(Data2)),ROW()-2)))} | B7: {=IF(ISERROR(SMALL(IF((Data!$A$3:$A$21=$A$1)*(Data3<>""),ROW(Data3)),ROW()-2)),"",INDEX(Data!C$1:C$21,SMALL(IF((Data!$A$3:$A$21=$A$1)*(Data3<>""),ROW(Data3)),ROW()-2)))} | C7: {=IF(ISERROR(SMALL(IF((Data!$A$3:$A$21=$A$1)*(Data4<>""),ROW(Data4)),ROW()-2)),"",INDEX(Data!D$1:D$21,SMALL(IF((Data!$A$3:$A$21=$A$1)*(Data4<>""),ROW(Data4)),ROW()-2)))}
A8: {=IF(ISERROR(SMALL(IF((Data!$A$3:$A$21=$A$1)*(Data2<>""),ROW(Data2)),ROW()-2)),"",INDEX(Data!B$1:B$21,SMALL(IF((Data!$A$3:$A$21=$A$1)*(Data2<>""),ROW(Data2)),ROW()-2)))} | B8: {=IF(ISERROR(SMALL(IF((Data!$A$3:$A$21=$A$1)*(Data3<>""),ROW(Data3)),ROW()-2)),"",INDEX(Data!C$1:C$21,SMALL(IF((Data!$A$3:$A$21=$A$1)*(Data3<>""),ROW(Data3)),ROW()-2)))} | C8: {=IF(ISERROR(SMALL(IF((Data!$A$3:$A$21=$A$1)*(Data4<>""),ROW(Data4)),ROW()-2)),"",INDEX(Data!D$1:D$21,SMALL(IF((Data!$A$3:$A$21=$A$1)*(Data4<>""),ROW(Data4)),ROW()-2)))}
A9: {=IF(ISERROR(SMALL(IF((Data!$A$3:$A$21=$A$1)*(Data2<>""),ROW(Data2)),ROW()-2)),"",INDEX(Data!B$1:B$21,SMALL(IF((Data!$A$3:$A$21=$A$1)*(Data2<>""),ROW(Data2)),ROW()-2)))} | B9: {=IF(ISERROR(SMALL(IF((Data!$A$3:$A$21=$A$1)*(Data3<>""),ROW(Data3)),ROW()-2)),"",INDEX(Data!C$1:C$21,SMALL(IF((Data!$A$3:$A$21=$A$1)*(Data3<>""),ROW(Data3)),ROW()-2)))} | C9: {=IF(ISERROR(SMALL(IF((Data!$A$3:$A$21=$A$1)*(Data4<>""),ROW(Data4)),ROW()-2)),"",INDEX(Data!D$1:D$21,SMALL(IF((Data!$A$3:$A$21=$A$1)*(Data4<>""),ROW(Data4)),ROW()-2)))}
A10: =IF(ISNA(VLOOKUP($A$1,OFFSET(Data1,MATCH(A9,Data2,0),),2,FALSE)),"",VLOOKUP($A$1,OFFSET(Data1,MATCH(A9,Data2,0),),2,FALSE)) | B10: =IF(ISNA(VLOOKUP($A$1,OFFSET(Data1,MATCH(B9,Data3,0),),3,FALSE)),"",VLOOKUP($A$1,OFFSET(Data1,MATCH(B9,Data3,0),),3,FALSE)) | C10: =IF(ISNA(VLOOKUP($A$1,OFFSET(Data1,MATCH(C9,Data4,0),),4,FALSE)),"",VLOOKUP($A$1,OFFSET(Data1,MATCH(C9,Data4,0),),4,FALSE))
A11: =IF(ISNA(VLOOKUP($A$1,OFFSET(Data1,MATCH(A10,Data2,0),),2,FALSE)),"",VLOOKUP($A$1,OFFSET(Data1,MATCH(A10,Data2,0),),2,FALSE)) | B11: =IF(ISNA(VLOOKUP($A$1,OFFSET(Data1,MATCH(B10,Data3,0),),3,FALSE)),"",VLOOKUP($A$1,OFFSET(Data1,MATCH(B10,Data3,0),),3,FALSE)) | C11: =IF(ISNA(VLOOKUP($A$1,OFFSET(Data1,MATCH(C10,Data4,0),),4,FALSE)),"",VLOOKUP($A$1,OFFSET(Data1,MATCH(C10,Data4,0),),4,FALSE))
A12: =IF(ISNA(VLOOKUP($A$1,OFFSET(Data1,MATCH(A11,Data2,0),),2,FALSE)),"",VLOOKUP($A$1,OFFSET(Data1,MATCH(A11,Data2,0),),2,FALSE)) | B12: =IF(ISNA(VLOOKUP($A$1,OFFSET(Data1,MATCH(B11,Data3,0),),3,FALSE)),"",VLOOKUP($A$1,OFFSET(Data1,MATCH(B11,Data3,0),),3,FALSE)) | C12: =IF(ISNA(VLOOKUP($A$1,OFFSET(Data1,MATCH(C11,Data4,0),),4,FALSE)),"",VLOOKUP($A$1,OFFSET(Data1,MATCH(C11,Data4,0),),4,FALSE))
A13: =IF(ISNA(VLOOKUP($A$1,OFFSET(Data1,MATCH(A12,Data2,0),),2,FALSE)),"",VLOOKUP($A$1,OFFSET(Data1,MATCH(A12,Data2,0),),2,FALSE)) | C13: =IF(ISNA(VLOOKUP($A$1,OFFSET(Data1,MATCH(C12,Data4,0),),4,FALSE)),"",VLOOKUP($A$1,OFFSET(Data1,MATCH(C12,Data4,0),),4,FALSE))
A14: =IF(ISNA(VLOOKUP($A$1,OFFSET(Data1,MATCH(A13,Data2,0),),2,FALSE)),"",VLOOKUP($A$1,OFFSET(Data1,MATCH(A13,Data2,0),),2,FALSE))
A15: =IF(ISNA(VLOOKUP($A$1,OFFSET(Data1,MATCH(A14,Data2,0),),2,FALSE)),"",VLOOKUP($A$1,OFFSET(Data1,MATCH(A14,Data2,0),),2,FALSE))
A16: =IF(ISNA(VLOOKUP($A$1,OFFSET(Data1,MATCH(A15,Data2,0),),2,FALSE)),"",VLOOKUP($A$1,OFFSET(Data1,MATCH(A15,Data2,0),),2,FALSE))
A17: =IF(ISNA(VLOOKUP($A$1,OFFSET(Data1,MATCH(A16,Data2,0),),2,FALSE)),"",VLOOKUP($A$1,OFFSET(Data1,MATCH(A16,Data2,0),),2,FALSE))
A18: =IF(ISNA(VLOOKUP($A$1,OFFSET(Data1,MATCH(A17,Data2,0),),2,FALSE)),"",VLOOKUP($A$1,OFFSET(Data1,MATCH(A17,Data2,0),),2,FALSE))
A19: =IF(ISNA(VLOOKUP($A$1,OFFSET(Data1,MATCH(A18,Data2,0),),2,FALSE)),"",VLOOKUP($A$1,OFFSET(Data1,MATCH(A18,Data2,0),),2,FALSE))
A20: =IF(ISNA(VLOOKUP($A$1,OFFSET(Data1,MATCH(A19,Data2,0),),2,FALSE)),"",VLOOKUP($A$1,OFFSET(Data1,MATCH(A19,Data2,0),),2,FALSE))
A21: =IF(ISNA(VLOOKUP($A$1,OFFSET(Data1,MATCH(A20,Data2,0),),2,FALSE)),"",VLOOKUP($A$1,OFFSET(Data1,MATCH(A20,Data2,0),),2,FALSE))
A22: =IF(ISNA(VLOOKUP($A$1,OFFSET(Data1,MATCH(A21,Data2,0),),2,FALSE)),"",VLOOKUP($A$1,OFFSET(Data1,MATCH(A21,Data2,0),),2,FALSE))
A23: =IF(ISNA(VLOOKUP($A$1,OFFSET(Data1,MATCH(A22,Data2,0),),2,FALSE)),"",VLOOKUP($A$1,OFFSET(Data1,MATCH(A22,Data2,0),),2,FALSE))

Sheet Data
A3: A | B3: a1 | D3: a111
A4: A | B4: a2 | D4: a112
A5: A | B5: a3 | C5: a13 | D5: a113
A6: A | B6: a4 | C6: a14 | D6: a114
A7: B | B7: b1 | C7: b11 | D7: b111
A8: B | B8: b2 | C8: b12 | D8: b112
A9: C | B9: c1 | C9: c11 | D9: c111
A10: C | B10: c2 | D10: c112
A11: C | B11: c3 | C11: c13 | D11: c113
A12: D | B12: d1 | D12: d111
A13: D | B13: d2 | C13: d12 | D13: d112
A14: D | B14: d3 | C14: d13 | D14: d113
A15: D | B15: d4 | D15: d114
A16: D | B16: d5 | C16: d15 | D16: d115
A17: D | B17: d6 | C17: d16 | D17: d116
A18: E | B18: e1 | C18: e11 | D18: e111
A19: E | B19: e2 | D19: e112
A20: E | B20: e3 | D20: e113
A21: E | B21: e4 | C21: e14 | D21: e114
