Workbook
Name An: Emargement!$F$2
Name Fériés: Fériés!$D$4:$D$16
Name Jours: DAY(DATE(YEAR(Emargement!$B$8),MONTH(Emargement!$B$8)+1,0))

Sheet Récap
B8: =Emargement!C5 -> Ouvrier 1 | C8: =Emargement!I5 -> Ouvrier 2 | D8: =Emargement!O5 -> Ouvrier 3 | E8: =Emargement!U5 -> Ouvrier 4 | F8: =Emargement!AA5 -> Ouvrier 5 | G8: =Emargement!AG5 -> Ouvrier 6 | H8: =Emargement!AM5 -> Ouvrier 7 | I8: =Emargement!AS5 -> Ouvrier 8 | J8: =Emargement!AY5 -> Ouvrier 9 | K8: =Emargement!BE5 -> Ouvrier 10
A9: Heure Travaillé | B9: =Emargement!F39*24 -> 73 | C9: =Emargement!L39*24 -> 0 | D9: =Emargement!R39*24 -> 0 | E9: =Emargement!X39*24 -> 0 | F9: =Emargement!AD39*24 -> 0 | G9: =Emargement!AJ39*24 -> 0 | H9: =Emargement!AP39*24 -> 0 | I9: =Emargement!AV39*24 -> 0 | J9: =Emargement!BB39*24 -> 0 | K9: =Emargement!BH39*24 -> 0
A11: Heure de Base | B11: 151.67 | C11: 151.67 | D11: 151.67 | E11: 151.67 | F11: 151.67 | G11: 151.67 | H11: 151.67 | I11: 151.67 | J11: 151.67 | K11: 151.67
A12: Heure de Nuit
A13: Heure Dimanche | B13: =SUMPRODUCT((WEEKDAY(OFFSET(Emargement!$B$8,,,Jours-1,),2)=7)*(OFFSET(Emargement!$F$8,,,Jours-1,)))*24 -> 8
A14: Heure jour férié
A15: Heure sup. | B15: =B9-B11 -> -78.67 | C15: =C9-C11 -> -151.67 | D15: =D9-D11 -> -151.67 | E15: =E9-E11 -> -151.67 | F15: =F9-F11 -> -151.67 | G15: =G9-G11 -> -151.67 | H15: =H9-H11 -> -151.67 | I15: =I9-I11 -> -151.67 | ... K15: =K9-K11 -> -151.67
A17: Jours de vacances
B19: =DAY(DATE(YEAR(Emargement!$B$8),MONTH(Emargement!$B$8)+1,0)) -> 30

Sheet Emargement
E1: Mois | F1: Année
E2: Juin | F2: 2011
C5: Ouvrier 1 | I5: Ouvrier 2 | O5: Ouvrier 3 | U5: Ouvrier 4 | AA5: Ouvrier 5 | AG5: Ouvrier 6 | AM5: Ouvrier 7 | AS5: Ouvrier 8 | AY5: Ouvrier 9 | BE5: Ouvrier 10
B7: Jours | C7: Date | D7: Heure début | E7: Heure fin | F7: Total journée | H7: Jours | I7: Date | J7: Heure début | K7: Heure fin | L7: Total journée | N7: Jours | O7: Date | P7: Heure début | Q7: Heure fin | R7: Total journée | T7: Jours | U7: Date | V7: Heure début | W7: Heure fin | X7: Total journée | Z7: Jours | AA7: Date | AB7: Heure début | AC7: Heure fin | AD7: Total journée | AF7: Jours | AG7: Date | AH7: Heure début | AI7: Heure fin | AJ7: Total journée | AL7: Jours | AM7: Date | AN7: Heure début | AO7: Heure fin | AP7: Total journée | AR7: Jours | AS7: Date | AT7: Heure début | AU7: Heure fin | AV7: Total journée | AX7: Jours | AY7: Date | AZ7: Heure début | BA7: Heure fin | BB7: Total journée | BD7: Jours | BE7: Date | BF7: Heure début | BG7: Heure fin | BH7: Total journée
B8: =DATE(An,MONTH("1/"&$E$2),1) -> 40695 | C8: =B8 -> 40695 | D8: 0.33333333 | E8: 0.75 | F8: =E8-D8 -> 0.41666667 | H8: =$B8 -> 40695 | I8: =$C8 -> 40695 | N8: =$B8 -> 40695 | O8: =$C8 -> 40695 | T8: =$B8 -> 40695 | U8: =$C8 -> 40695 | Z8: =$B8 -> 40695 | AA8: =$C8 -> 40695 | AF8: =$B8 -> 40695 | AG8: =$C8 -> 40695 | AL8: =$B8 -> 40695 | AM8: =$C8 -> 40695 | AR8: =$B8 -> 40695 | AS8: =$C8 -> 40695 | AX8: =$B8 -> 40695 | AY8: =$C8 -> 40695 | BD8: =$B8 -> 40695 | BE8: =$C8 -> 40695
B9: =B8+1 -> 40696 | C9: =B9 -> 40696 | D9: 0.25 | E9: 0.41666667 | F9: =E9-D9 -> 0.16666667 | H9: =$B9 -> 40696 | I9: =$C9 -> 40696 | N9: =$B9 -> 40696 | O9: =$C9 -> 40696 | T9: =$B9 -> 40696 | U9: =$C9 -> 40696 | Z9: =$B9 -> 40696 | AA9: =$C9 -> 40696 | AF9: =$B9 -> 40696 | AG9: =$C9 -> 40696 | AL9: =$B9 -> 40696 | AM9: =$C9 -> 40696 | AR9: =$B9 -> 40696 | AS9: =$C9 -> 40696 | AX9: =$B9 -> 40696 | AY9: =$C9 -> 40696 | BD9: =$B9 -> 40696 | BE9: =$C9 -> 40696
B10: =B9+1 -> 40697 | C10: =B10 -> 40697 | D10: 0.25 | E10: 0.41666667 | F10: =E10-D10 -> 0.16666667 | H10: =$B10 -> 40697 | I10: =$C10 -> 40697 | N10: =$B10 -> 40697 | O10: =$C10 -> 40697 | T10: =$B10 -> 40697 | U10: =$C10 -> 40697 | Z10: =$B10 -> 40697 | AA10: =$C10 -> 40697 | AF10: =$B10 -> 40697 | AG10: =$C10 -> 40697 | AL10: =$B10 -> 40697 | AM10: =$C10 -> 40697 | AR10: =$B10 -> 40697 | AS10: =$C10 -> 40697 | AX10: =$B10 -> 40697 | AY10: =$C10 -> 40697 | BD10: =$B10 -> 40697 | BE10: =$C10 -> 40697
B11: =B10+1 -> 40698 | C11: =B11 -> 40698 | D11: 0.25 | E11: 0.41666667 | F11: =E11-D11 -> 0.16666667 | H11: =$B11 -> 40698 | I11: =$C11 -> 40698 | N11: =$B11 -> 40698 | O11: =$C11 -> 40698 | T11: =$B11 -> 40698 | U11: =$C11 -> 40698 | Z11: =$B11 -> 40698 | AA11: =$C11 -> 40698 | AF11: =$B11 -> 40698 | AG11: =$C11 -> 40698 | AL11: =$B11 -> 40698 | AM11: =$C11 -> 40698 | AR11: =$B11 -> 40698 | AS11: =$C11 -> 40698 | AX11: =$B11 -> 40698 | AY11: =$C11 -> 40698 | BD11: =$B11 -> 40698 | BE11: =$C11 -> 40698
B12: =B11+1 -> 40699 | C12: =B12 -> 40699 | D12: 0.25 | E12: 0.41666667 | F12: =E12-D12 -> 0.16666667 | H12: =$B12 -> 40699 | I12: =$C12 -> 40699 | N12: =$B12 -> 40699 | O12: =$C12 -> 40699 | T12: =$B12 -> 40699 | U12: =$C12 -> 40699 | Z12: =$B12 -> 40699 | AA12: =$C12 -> 40699 | AF12: =$B12 -> 40699 | AG12: =$C12 -> 40699 | AL12: =$B12 -> 40699 | AM12: =$C12 -> 40699 | AR12: =$B12 -> 40699 | AS12: =$C12 -> 40699 | AX12: =$B12 -> 40699 | AY12: =$C12 -> 40699 | BD12: =$B12 -> 40699 | BE12: =$C12 -> 40699
B13: =B12+1 -> 40700 | C13: =B13 -> 40700 | D13: 0.125 | E13: 0.41666667 | F13: =E13-D13 -> 0.29166667 | H13: =$B13 -> 40700 | I13: =$C13 -> 40700 | N13: =$B13 -> 40700 | O13: =$C13 -> 40700 | T13: =$B13 -> 40700 | U13: =$C13 -> 40700 | Z13: =$B13 -> 40700 | AA13: =$C13 -> 40700 | AF13: =$B13 -> 40700 | AG13: =$C13 -> 40700 | AL13: =$B13 -> 40700 | AM13: =$C13 -> 40700 | AR13: =$B13 -> 40700 | AS13: =$C13 -> 40700 | AX13: =$B13 -> 40700 | AY13: =$C13 -> 40700 | BD13: =$B13 -> 40700 | BE13: =$C13 -> 40700
B14: =B13+1 -> 40701 | C14: =B14 -> 40701 | D14: 0.25 | E14: 0.41666667 | F14: =E14-D14 -> 0.16666667 | H14: =$B14 -> 40701 | I14: =$C14 -> 40701 | N14: =$B14 -> 40701 | O14: =$C14 -> 40701 | T14: =$B14 -> 40701 | U14: =$C14 -> 40701 | Z14: =$B14 -> 40701 | AA14: =$C14 -> 40701 | AF14: =$B14 -> 40701 | AG14: =$C14 -> 40701 | AL14: =$B14 -> 40701 | AM14: =$C14 -> 40701 | AR14: =$B14 -> 40701 | AS14: =$C14 -> 40701 | AX14: =$B14 -> 40701 | AY14: =$C14 -> 40701 | BD14: =$B14 -> 40701 | BE14: =$C14 -> 40701
B15: =B14+1 -> 40702 | C15: =B15 -> 40702 | D15: 0.125 | E15: 0.41666667 | F15: =E15-D15 -> 0.29166667 | H15: =$B15 -> 40702 | I15: =$C15 -> 40702 | N15: =$B15 -> 40702 | O15: =$C15 -> 40702 | T15: =$B15 -> 40702 | U15: =$C15 -> 40702 | Z15: =$B15 -> 40702 | AA15: =$C15 -> 40702 | AF15: =$B15 -> 40702 | AG15: =$C15 -> 40702 | AL15: =$B15 -> 40702 | AM15: =$C15 -> 40702 | AR15: =$B15 -> 40702 | AS15: =$C15 -> 40702 | AX15: =$B15 -> 40702 | AY15: =$C15 -> 40702 | BD15: =$B15 -> 40702 | BE15: =$C15 -> 40702
B16: =B15+1 -> 40703 | C16: =B16 -> 40703 | D16: 0.25 | E16: 0.41666667 | F16: =E16-D16 -> 0.16666667 | H16: =$B16 -> 40703 | I16: =$C16 -> 40703 | N16: =$B16 -> 40703 | O16: =$C16 -> 40703 | T16: =$B16 -> 40703 | U16: =$C16 -> 40703 | Z16: =$B16 -> 40703 | AA16: =$C16 -> 40703 | AF16: =$B16 -> 40703 | AG16: =$C16 -> 40703 | AL16: =$B16 -> 40703 | AM16: =$C16 -> 40703 | AR16: =$B16 -> 40703 | AS16: =$C16 -> 40703 | AX16: =$B16 -> 40703 | AY16: =$C16 -> 40703 | BD16: =$B16 -> 40703 | BE16: =$C16 -> 40703
B17: =B16+1 -> 40704 | C17: =B17 -> 40704 | D17: 0.25 | E17: 0.41666667 | F17: =E17-D17 -> 0.16666667 | H17: =$B17 -> 40704 | I17: =$C17 -> 40704 | N17: =$B17 -> 40704 | O17: =$C17 -> 40704 | T17: =$B17 -> 40704 | U17: =$C17 -> 40704 | Z17: =$B17 -> 40704 | AA17: =$C17 -> 40704 | AF17: =$B17 -> 40704 | AG17: =$C17 -> 40704 | AL17: =$B17 -> 40704 | AM17: =$C17 -> 40704 | AR17: =$B17 -> 40704 | AS17: =$C17 -> 40704 | AX17: =$B17 -> 40704 | AY17: =$C17 -> 40704 | BD17: =$B17 -> 40704 | BE17: =$C17 -> 40704
B18: =B17+1 -> 40705 | C18: =B18 -> 40705 | D18: 0.25 | E18: 0.41666667 | F18: =E18-D18 -> 0.16666667 | H18: =$B18 -> 40705 | I18: =$C18 -> 40705 | N18: =$B18 -> 40705 | O18: =$C18 -> 40705 | T18: =$B18 -> 40705 | U18: =$C18 -> 40705 | Z18: =$B18 -> 40705 | AA18: =$C18 -> 40705 | AF18: =$B18 -> 40705 | AG18: =$C18 -> 40705 | AL18: =$B18 -> 40705 | AM18: =$C18 -> 40705 | AR18: =$B18 -> 40705 | AS18: =$C18 -> 40705 | AX18: =$B18 -> 40705 | AY18: =$C18 -> 40705 | BD18: =$B18 -> 40705 | BE18: =$C18 -> 40705
B19: =B18+1 -> 40706 | C19: =B19 -> 40706 | D19: 0.25 | E19: 0.41666667 | F19: =E19-D19 -> 0.16666667 | H19: =$B19 -> 40706 | I19: =$C19 -> 40706 | N19: =$B19 -> 40706 | O19: =$C19 -> 40706 | T19: =$B19 -> 40706 | U19: =$C19 -> 40706 | Z19: =$B19 -> 40706 | AA19: =$C19 -> 40706 | AF19: =$B19 -> 40706 | AG19: =$C19 -> 40706 | AL19: =$B19 -> 40706 | AM19: =$C19 -> 40706 | AR19: =$B19 -> 40706 | AS19: =$C19 -> 40706 | AX19: =$B19 -> 40706 | AY19: =$C19 -> 40706 | BD19: =$B19 -> 40706 | BE19: =$C19 -> 40706
B20: =B19+1 -> 40707 | C20: =B20 -> 40707 | D20: 0.25 | E20: 0.41666667 | F20: =E20-D20 -> 0.16666667 | H20: =$B20 -> 40707 | I20: =$C20 -> 40707 | N20: =$B20 -> 40707 | O20: =$C20 -> 40707 | T20: =$B20 -> 40707 | U20: =$C20 -> 40707 | Z20: =$B20 -> 40707 | AA20: =$C20 -> 40707 | AF20: =$B20 -> 40707 | AG20: =$C20 -> 40707 | AL20: =$B20 -> 40707 | AM20: =$C20 -> 40707 | AR20: =$B20 -> 40707 | AS20: =$C20 -> 40707 | AX20: =$B20 -> 40707 | AY20: =$C20 -> 40707 | BD20: =$B20 -> 40707 | BE20: =$C20 -> 40707
... B22: =B21+1 -> 40709 | C22: =B22 -> 40709 | D22: 0.16666667 | E22: 0.375 | F22: =E22-D22 -> 0.20833333 | H22: =$B22 -> 40709 | I22: =$C22 -> 40709 | N22: =$B22 -> 40709 | O22: =$C22 -> 40709 | T22: =$B22 -> 40709 | U22: =$C22 -> 40709 | Z22: =$B22 -> 40709 | AA22: =$C22 -> 40709 | AF22: =$B22 -> 40709 | AG22: =$C22 -> 40709 | AL22: =$B22 -> 40709 | AM22: =$C22 -> 40709 | AR22: =$B22 -> 40709 | AS22: =$C22 -> 40709 | AX22: =$B22 -> 40709 | AY22: =$C22 -> 40709 | BD22: =$B22 -> 40709 | BE22: =$C22 -> 40709
B23: =B22+1 -> 40710 | C23: =B23 -> 40710 | F23: =E23-D23 -> 0 | H23: =$B23 -> 40710 | I23: =$C23 -> 40710 | N23: =$B23 -> 40710 | O23: =$C23 -> 40710 | T23: =$B23 -> 40710 | U23: =$C23 -> 40710 | Z23: =$B23 -> 40710 | AA23: =$C23 -> 40710 | AF23: =$B23 -> 40710 | AG23: =$C23 -> 40710 | AL23: =$B23 -> 40710 | AM23: =$C23 -> 40710 | AR23: =$B23 -> 40710 | AS23: =$C23 -> 40710 | AX23: =$B23 -> 40710 | AY23: =$C23 -> 40710 | BD23: =$B23 -> 40710 | BE23: =$C23 -> 40710
B24: =B23+1 -> 40711 | C24: =B24 -> 40711 | F24: =E24-D24 -> 0 | H24: =$B24 -> 40711 | I24: =$C24 -> 40711 | N24: =$B24 -> 40711 | O24: =$C24 -> 40711 | T24: =$B24 -> 40711 | U24: =$C24 -> 40711 | Z24: =$B24 -> 40711 | AA24: =$C24 -> 40711 | AF24: =$B24 -> 40711 | AG24: =$C24 -> 40711 | AL24: =$B24 -> 40711 | AM24: =$C24 -> 40711 | AR24: =$B24 -> 40711 | AS24: =$C24 -> 40711 | AX24: =$B24 -> 40711 | AY24: =$C24 -> 40711 | BD24: =$B24 -> 40711 | BE24: =$C24 -> 40711
B25: =B24+1 -> 40712 | C25: =B25 -> 40712 | F25: =E25-D25 -> 0 | H25: =$B25 -> 40712 | I25: =$C25 -> 40712 | N25: =$B25 -> 40712 | O25: =$C25 -> 40712 | T25: =$B25 -> 40712 | U25: =$C25 -> 40712 | Z25: =$B25 -> 40712 | AA25: =$C25 -> 40712 | AF25: =$B25 -> 40712 | AG25: =$C25 -> 40712 | AL25: =$B25 -> 40712 | AM25: =$C25 -> 40712 | AR25: =$B25 -> 40712 | AS25: =$C25 -> 40712 | AX25: =$B25 -> 40712 | AY25: =$C25 -> 40712 | BD25: =$B25 -> 40712 | BE25: =$C25 -> 40712
B26: =B25+1 -> 40713 | C26: =B26 -> 40713 | F26: =E26-D26 -> 0 | H26: =$B26 -> 40713 | I26: =$C26 -> 40713 | N26: =$B26 -> 40713 | O26: =$C26 -> 40713 | T26: =$B26 -> 40713 | U26: =$C26 -> 40713 | Z26: =$B26 -> 40713 | AA26: =$C26 -> 40713 | AF26: =$B26 -> 40713 | AG26: =$C26 -> 40713 | AL26: =$B26 -> 40713 | AM26: =$C26 -> 40713 | AR26: =$B26 -> 40713 | AS26: =$C26 -> 40713 | AX26: =$B26 -> 40713 | AY26: =$C26 -> 40713 | BD26: =$B26 -> 40713 | BE26: =$C26 -> 40713
B27: =B26+1 -> 40714 | C27: =B27 -> 40714 | F27: =E27-D27 -> 0 | H27: =$B27 -> 40714 | I27: =$C27 -> 40714 | N27: =$B27 -> 40714 | O27: =$C27 -> 40714 | T27: =$B27 -> 40714 | U27: =$C27 -> 40714 | Z27: =$B27 -> 40714 | AA27: =$C27 -> 40714 | AF27: =$B27 -> 40714 | AG27: =$C27 -> 40714 | AL27: =$B27 -> 40714 | AM27: =$C27 -> 40714 | AR27: =$B27 -> 40714 | AS27: =$C27 -> 40714 | AX27: =$B27 -> 40714 | AY27: =$C27 -> 40714 | BD27: =$B27 -> 40714 | BE27: =$C27 -> 40714
B28: =B27+1 -> 40715 | C28: =B28 -> 40715 | F28: =E28-D28 -> 0 | H28: =$B28 -> 40715 | I28: =$C28 -> 40715 | N28: =$B28 -> 40715 | O28: =$C28 -> 40715 | T28: =$B28 -> 40715 | U28: =$C28 -> 40715 | Z28: =$B28 -> 40715 | AA28: =$C28 -> 40715 | AF28: =$B28 -> 40715 | AG28: =$C28 -> 40715 | AL28: =$B28 -> 40715 | AM28: =$C28 -> 40715 | AR28: =$B28 -> 40715 | AS28: =$C28 -> 40715 | AX28: =$B28 -> 40715 | AY28: =$C28 -> 40715 | BD28: =$B28 -> 40715 | BE28: =$C28 -> 40715
B29: =B28+1 -> 40716 | C29: =B29 -> 40716 | F29: =E29-D29 -> 0 | H29: =$B29 -> 40716 | I29: =$C29 -> 40716 | N29: =$B29 -> 40716 | O29: =$C29 -> 40716 | T29: =$B29 -> 40716 | U29: =$C29 -> 40716 | Z29: =$B29 -> 40716 | AA29: =$C29 -> 40716 | AF29: =$B29 -> 40716 | AG29: =$C29 -> 40716 | AL29: =$B29 -> 40716 | AM29: =$C29 -> 40716 | AR29: =$B29 -> 40716 | AS29: =$C29 -> 40716 | AX29: =$B29 -> 40716 | AY29: =$C29 -> 40716 | BD29: =$B29 -> 40716 | BE29: =$C29 -> 40716
B30: =B29+1 -> 40717 | C30: =B30 -> 40717 | F30: =E30-D30 -> 0 | H30: =$B30 -> 40717 | I30: =$C30 -> 40717 | N30: =$B30 -> 40717 | O30: =$C30 -> 40717 | T30: =$B30 -> 40717 | U30: =$C30 -> 40717 | Z30: =$B30 -> 40717 | AA30: =$C30 -> 40717 | AF30: =$B30 -> 40717 | AG30: =$C30 -> 40717 | AL30: =$B30 -> 40717 | AM30: =$C30 -> 40717 | AR30: =$B30 -> 40717 | AS30: =$C30 -> 40717 | AX30: =$B30 -> 40717 | AY30: =$C30 -> 40717 | BD30: =$B30 -> 40717 | BE30: =$C30 -> 40717
B31: =B30+1 -> 40718 | C31: =B31 -> 40718 | F31: =E31-D31 -> 0 | H31: =$B31 -> 40718 | I31: =$C31 -> 40718 | N31: =$B31 -> 40718 | O31: =$C31 -> 40718 | T31: =$B31 -> 40718 | U31: =$C31 -> 40718 | Z31: =$B31 -> 40718 | AA31: =$C31 -> 40718 | AF31: =$B31 -> 40718 | AG31: =$C31 -> 40718 | AL31: =$B31 -> 40718 | AM31: =$C31 -> 40718 | AR31: =$B31 -> 40718 | AS31: =$C31 -> 40718 | AX31: =$B31 -> 40718 | AY31: =$C31 -> 40718 | BD31: =$B31 -> 40718 | BE31: =$C31 -> 40718
B32: =B31+1 -> 40719 | C32: =B32 -> 40719 | F32: =E32-D32 -> 0 | H32: =$B32 -> 40719 | I32: =$C32 -> 40719 | N32: =$B32 -> 40719 | O32: =$C32 -> 40719 | T32: =$B32 -> 40719 | U32: =$C32 -> 40719 | Z32: =$B32 -> 40719 | AA32: =$C32 -> 40719 | AF32: =$B32 -> 40719 | AG32: =$C32 -> 40719 | AL32: =$B32 -> 40719 | AM32: =$C32 -> 40719 | AR32: =$B32 -> 40719 | AS32: =$C32 -> 40719 | AX32: =$B32 -> 40719 | AY32: =$C32 -> 40719 | BD32: =$B32 -> 40719 | BE32: =$C32 -> 40719
B33: =B32+1 -> 40720 | C33: =B33 -> 40720 | F33: =E33-D33 -> 0 | H33: =$B33 -> 40720 | I33: =$C33 -> 40720 | N33: =$B33 -> 40720 | O33: =$C33 -> 40720 | T33: =$B33 -> 40720 | U33: =$C33 -> 40720 | Z33: =$B33 -> 40720 | AA33: =$C33 -> 40720 | AF33: =$B33 -> 40720 | AG33: =$C33 -> 40720 | AL33: =$B33 -> 40720 | AM33: =$C33 -> 40720 | AR33: =$B33 -> 40720 | AS33: =$C33 -> 40720 | AX33: =$B33 -> 40720 | AY33: =$C33 -> 40720 | BD33: =$B33 -> 40720 | BE33: =$C33 -> 40720
B34: =B33+1 -> 40721 | C34: =B34 -> 40721 | F34: =E34-D34 -> 0 | H34: =$B34 -> 40721 | I34: =$C34 -> 40721 | N34: =$B34 -> 40721 | O34: =$C34 -> 40721 | T34: =$B34 -> 40721 | U34: =$C34 -> 40721 | Z34: =$B34 -> 40721 | AA34: =$C34 -> 40721 | AF34: =$B34 -> 40721 | AG34: =$C34 -> 40721 | AL34: =$B34 -> 40721 | AM34: =$C34 -> 40721 | AR34: =$B34 -> 40721 | AS34: =$C34 -> 40721 | AX34: =$B34 -> 40721 | AY34: =$C34 -> 40721 | BD34: =$B34 -> 40721 | BE34: =$C34 -> 40721
B35: =B34+1 -> 40722 | C35: =B35 -> 40722 | F35: =E35-D35 -> 0 | H35: =$B35 -> 40722 | I35: =$C35 -> 40722 | N35: =$B35 -> 40722 | O35: =$C35 -> 40722 | T35: =$B35 -> 40722 | U35: =$C35 -> 40722 | Z35: =$B35 -> 40722 | AA35: =$C35 -> 40722 | AF35: =$B35 -> 40722 | AG35: =$C35 -> 40722 | AL35: =$B35 -> 40722 | AM35: =$C35 -> 40722 | AR35: =$B35 -> 40722 | AS35: =$C35 -> 40722 | AX35: =$B35 -> 40722 | AY35: =$C35 -> 40722 | BD35: =$B35 -> 40722 | BE35: =$C35 -> 40722
B36: =IF(MONTH($B$35+1)=MONTH($B$35),$B$35+1,"") -> 40723 | C36: =IF(B36="","",C35+1) -> 40723 | F36: =IF(B36="","",E36-D36) -> 0 | H36: =$B36 -> 40723 | I36: =$C36 -> 40723 | N36: =$B36 -> 40723 | O36: =$C36 -> 40723 | T36: =$B36 -> 40723 | U36: =$C36 -> 40723 | Z36: =$B36 -> 40723 | AA36: =$C36 -> 40723 | AF36: =$B36 -> 40723 | AG36: =$C36 -> 40723 | AL36: =$B36 -> 40723 | AM36: =$C36 -> 40723 | AR36: =$B36 -> 40723 | AS36: =$C36 -> 40723 | AX36: =$B36 -> 40723 | AY36: =$C36 -> 40723 | BD36: =$B36 -> 40723 | BE36: =$C36 -> 40723
B37: =IF(MONTH($B$35+2)=MONTH($B$35),$B$35+2,"") -> 40724 | C37: =IF(B37="","",C36+1) -> 40724 | F37: =IF(B37="","",E37-D37) -> 0 | H37: =$B37 -> 40724 | I37: =$C37 -> 40724 | N37: =$B37 -> 40724 | O37: =$C37 -> 40724 | T37: =$B37 -> 40724 | U37: =$C37 -> 40724 | Z37: =$B37 -> 40724 | AA37: =$C37 -> 40724 | AF37: =$B37 -> 40724 | AG37: =$C37 -> 40724 | AL37: =$B37 -> 40724 | AM37: =$C37 -> 40724 | AR37: =$B37 -> 40724 | AS37: =$C37 -> 40724 | AX37: =$B37 -> 40724 | AY37: =$C37 -> 40724 | BD37: =$B37 -> 40724 | BE37: =$C37 -> 40724
B38: =IF(MONTH($B$35+3)=MONTH($B$35),$B$35+3,"") | C38: =IF(B38="","",C37+1) | F38: =IF(B38="","",E38-D38) | H38: =$B38 | I38: =$C38 | N38: =$B38 | O38: =$C38 | T38: =$B38 | U38: =$C38 | Z38: =$B38 | AA38: =$C38 | AF38: =$B38 | AG38: =$C38 | AL38: =$B38 | AM38: =$C38 | AR38: =$B38 | AS38: =$C38 | AX38: =$B38 | AY38: =$C38 | BD38: =$B38 | BE38: =$C38
E39: Total | F39: =SUM(F8:F38) -> 3.0416667 | K39: Total | L39: =SUM(L8:L38) -> 0 | Q39: Total | R39: =SUM(R8:R38) -> 0 | W39: Total | X39: =SUM(X8:X38) -> 0 | AC39: Total | AD39: =SUM(AD8:AD38) -> 0 | AI39: Total | AJ39: =SUM(AJ8:AJ38) -> 0 | AO39: Total | AP39: =SUM(AP8:AP38) -> 0 | AU39: Total | AV39: =SUM(AV8:AV38) -> 0 | BA39: Total | BB39: =SUM(BB8:BB38) -> 0 | BG39: Total | BH39: =SUM(BH8:BH38) -> 0

Sheet Fériés
K1: 2000
K2: 2001
K3: 2002
B4: Jour de l'an | D4: =DATE(An,1,1) -> 40544 | K4: 2003
B5: Pâques | D5: =FLOOR(DATE(An,5,DAY(MINUTE(An/38)/2+56)),7)-34+7*(An=2079) -> 40657 | K5: 2004
B6: Lundi de Pâques | D6: =D5+1 -> 40658 | K6: 2005
B7: Fête du travail | D7: =DATE(An,5,1) -> 40664 | K7: 2006
B8: Armistice 1945 | D8: =DATE(An,5,8) -> 40671 | K8: 2007
B9: Ascension | D9: =D5+39 -> 40696 | K9: 2008
B10: Pentecôte | D10: =D5+49 -> 40706 | K10: 2009
B11: Lundi de Pentecote | D11: =D10+1 -> 40707 | K11: 2010
B12: Fête nationale | D12: =DATE(An,7,14) -> 40738 | K12: 2011
B13: Assomption | D13: =DATE(An,8,15) -> 40770 | K13: 2012
B14: Toussaint | D14: =DATE(An,11,1) -> 40848 | K14: 2013
B15: Armistice 1918 | D15: =DATE(An,11,11) -> 40858 | K15: 2014
B16: NOEL | D16: =DATE(An,12,25) -> 40902 | K16: 2015
