Workbook

Sheet Sheet1
A1: Tâches | B1: Début | C1: Fin
A2: Appel d'offre | B2: 41279 | C2: 41288
A3: Réponse | B3: 41288 | C3: 41308
A4: Contrat
A5: Etude et développement
A6: Livrable

Sheet Sheet2
D1: Janvier | G1: Février | J1: Mars | M1: Avril | P1: Mai | S1: Juin
A2: 1 | B2: =DATE(2013,MONTH("1/"&D$1),$A2) -> 41275 | C2: =UPPER(LEFT(TEXT(B2,"jjj"),1)) -> M | E2: =DATE(2013,MONTH("1/"&G$1),$A2) -> 41306 | F2: =UPPER(LEFT(TEXT(E2,"jjj"),1)) -> V | G2: =IF(WEEKDAY(E2,2)>5,"",IF(SUMPRODUCT(--((ROW(INDIRECT(Sheet1!$B$2&":"&Sheet1!$C$2)))=E2))=1,"Appel d'offre",IF(SUMPRODUCT(--((ROW(INDIRECT(Sheet1!$B$3&":"&Sheet1!$C$3)))=E2))=1,"Réponse",""))) -> Réponse | H2: =DATE(2013,MONTH("1/"&J$1),$A2) -> 41334 | I2: =UPPER(LEFT(TEXT(H2,"jjj"),1)) -> V | J2: =IF(WEEKDAY(H2,2)>5,"",IF(SUMPRODUCT(--((ROW(INDIRECT(Sheet1!$B$2&":"&Sheet1!$C$2)))=H2))=1,"Appel d'offre",IF(SUMPRODUCT(--((ROW(INDIRECT(Sheet1!$B$3&":"&Sheet1!$C$3)))=H2))=1,"Réponse",""))) | K2: =DATE(2013,MONTH("1/"&M$1),$A2) -> 41365 | L2: =UPPER(LEFT(TEXT(K2,"jjj"),1)) -> L | M2: =IF(WEEKDAY(K2,2)>5,"",IF(SUMPRODUCT(--((ROW(INDIRECT(Sheet1!$B$2&":"&Sheet1!$C$2)))=K2))=1,"Appel d'offre",IF(SUMPRODUCT(--((ROW(INDIRECT(Sheet1!$B$3&":"&Sheet1!$C$3)))=K2))=1,"Réponse",""))) | N2: =DATE(2013,MONTH("1/"&P$1),$A2) -> 41395 | O2: =UPPER(LEFT(TEXT(N2,"jjj"),1)) -> M | P2: =IF(WEEKDAY(N2,2)>5,"",IF(SUMPRODUCT(--((ROW(INDIRECT(Sheet1!$B$2&":"&Sheet1!$C$2)))=N2))=1,"Appel d'offre",IF(SUMPRODUCT(--((ROW(INDIRECT(Sheet1!$B$3&":"&Sheet1!$C$3)))=N2))=1,"Réponse",""))) | Q2: =DATE(2013,MONTH("1/"&S$1),$A2) -> 41426 | R2: =UPPER(LEFT(TEXT(Q2,"jjj"),1)) -> S | S2: =IF(WEEKDAY(Q2,2)>5,"",IF(SUMPRODUCT(--((ROW(INDIRECT(Sheet1!$B$2&":"&Sheet1!$C$2)))=Q2))=1,"Appel d'offre",IF(SUMPRODUCT(--((ROW(INDIRECT(Sheet1!$B$3&":"&Sheet1!$C$3)))=Q2))=1,"Réponse","")))
A3: 2 | B3: =B2+1 -> 41276 | C3: =UPPER(LEFT(TEXT(B3,"jjj"),1)) -> M | D3: =IF(WEEKDAY(B3,2)>5,"",IF(SUMPRODUCT(--((ROW(INDIRECT(Sheet1!$B$2&":"&Sheet1!$C$2)))=B3))=1,"Appel d'offre",IF(SUMPRODUCT(--((ROW(INDIRECT(Sheet1!$B$3&":"&Sheet1!$C$3)))=B3))=1,"Réponse",""))) | E3: =E2+1 -> 41307 | F3: =UPPER(LEFT(TEXT(E3,"jjj"),1)) -> S | G3: =IF(WEEKDAY(E3,2)>5,"",IF(SUMPRODUCT(--((ROW(INDIRECT(Sheet1!$B$2&":"&Sheet1!$C$2)))=E3))=1,"Appel d'offre",IF(SUMPRODUCT(--((ROW(INDIRECT(Sheet1!$B$3&":"&Sheet1!$C$3)))=E3))=1,"Réponse",""))) | H3: =H2+1 -> 41335 | I3: =UPPER(LEFT(TEXT(H3,"jjj"),1)) -> S | J3: =IF(WEEKDAY(H3,2)>5,"",IF(SUMPRODUCT(--((ROW(INDIRECT(Sheet1!$B$2&":"&Sheet1!$C$2)))=H3))=1,"Appel d'offre",IF(SUMPRODUCT(--((ROW(INDIRECT(Sheet1!$B$3&":"&Sheet1!$C$3)))=H3))=1,"Réponse",""))) | K3: =K2+1 -> 41366 | L3: =UPPER(LEFT(TEXT(K3,"jjj"),1)) -> M | M3: =IF(WEEKDAY(K3,2)>5,"",IF(SUMPRODUCT(--((ROW(INDIRECT(Sheet1!$B$2&":"&Sheet1!$C$2)))=K3))=1,"Appel d'offre",IF(SUMPRODUCT(--((ROW(INDIRECT(Sheet1!$B$3&":"&Sheet1!$C$3)))=K3))=1,"Réponse",""))) | N3: =N2+1 -> 41396 | O3: =UPPER(LEFT(TEXT(N3,"jjj"),1)) -> J | P3: =IF(WEEKDAY(N3,2)>5,"",IF(SUMPRODUCT(--((ROW(INDIRECT(Sheet1!$B$2&":"&Sheet1!$C$2)))=N3))=1,"Appel d'offre",IF(SUMPRODUCT(--((ROW(INDIRECT(Sheet1!$B$3&":"&Sheet1!$C$3)))=N3))=1,"Réponse",""))) | Q3: =Q2+1 -> 41427 | R3: =UPPER(LEFT(TEXT(Q3,"jjj"),1)) -> D | S3: =IF(WEEKDAY(Q3,2)>5,"",IF(SUMPRODUCT(--((ROW(INDIRECT(Sheet1!$B$2&":"&Sheet1!$C$2)))=Q3))=1,"Appel d'offre",IF(SUMPRODUCT(--((ROW(INDIRECT(Sheet1!$B$3&":"&Sheet1!$C$3)))=Q3))=1,"Réponse","")))
A4: 3 | B4: =B3+1 -> 41277 | C4: =UPPER(LEFT(TEXT(B4,"jjj"),1)) -> J | D4: =IF(WEEKDAY(B4,2)>5,"",IF(SUMPRODUCT(--((ROW(INDIRECT(Sheet1!$B$2&":"&Sheet1!$C$2)))=B4))=1,"Appel d'offre",IF(SUMPRODUCT(--((ROW(INDIRECT(Sheet1!$B$3&":"&Sheet1!$C$3)))=B4))=1,"Réponse",""))) | E4: =E3+1 -> 41308 | F4: =UPPER(LEFT(TEXT(E4,"jjj"),1)) -> D | G4: =IF(WEEKDAY(E4,2)>5,"",IF(SUMPRODUCT(--((ROW(INDIRECT(Sheet1!$B$2&":"&Sheet1!$C$2)))=E4))=1,"Appel d'offre",IF(SUMPRODUCT(--((ROW(INDIRECT(Sheet1!$B$3&":"&Sheet1!$C$3)))=E4))=1,"Réponse",""))) | H4: =H3+1 -> 41336 | I4: =UPPER(LEFT(TEXT(H4,"jjj"),1)) -> D | J4: =IF(WEEKDAY(H4,2)>5,"",IF(SUMPRODUCT(--((ROW(INDIRECT(Sheet1!$B$2&":"&Sheet1!$C$2)))=H4))=1,"Appel d'offre",IF(SUMPRODUCT(--((ROW(INDIRECT(Sheet1!$B$3&":"&Sheet1!$C$3)))=H4))=1,"Réponse",""))) | K4: =K3+1 -> 41367 | L4: =UPPER(LEFT(TEXT(K4,"jjj"),1)) -> M | M4: =IF(WEEKDAY(K4,2)>5,"",IF(SUMPRODUCT(--((ROW(INDIRECT(Sheet1!$B$2&":"&Sheet1!$C$2)))=K4))=1,"Appel d'offre",IF(SUMPRODUCT(--((ROW(INDIRECT(Sheet1!$B$3&":"&Sheet1!$C$3)))=K4))=1,"Réponse",""))) | N4: =N3+1 -> 41397 | O4: =UPPER(LEFT(TEXT(N4,"jjj"),1)) -> V | P4: =IF(WEEKDAY(N4,2)>5,"",IF(SUMPRODUCT(--((ROW(INDIRECT(Sheet1!$B$2&":"&Sheet1!$C$2)))=N4))=1,"Appel d'offre",IF(SUMPRODUCT(--((ROW(INDIRECT(Sheet1!$B$3&":"&Sheet1!$C$3)))=N4))=1,"Réponse",""))) | Q4: =Q3+1 -> 41428 | R4: =UPPER(LEFT(TEXT(Q4,"jjj"),1)) -> L | S4: =IF(WEEKDAY(Q4,2)>5,"",IF(SUMPRODUCT(--((ROW(INDIRECT(Sheet1!$B$2&":"&Sheet1!$C$2)))=Q4))=1,"Appel d'offre",IF(SUMPRODUCT(--((ROW(INDIRECT(Sheet1!$B$3&":"&Sheet1!$C$3)))=Q4))=1,"Réponse","")))
A5: 4 | B5: =B4+1 -> 41278 | C5: =UPPER(LEFT(TEXT(B5,"jjj"),1)) -> V | D5: =IF(WEEKDAY(B5,2)>5,"",IF(SUMPRODUCT(--((ROW(INDIRECT(Sheet1!$B$2&":"&Sheet1!$C$2)))=B5))=1,"Appel d'offre",IF(SUMPRODUCT(--((ROW(INDIRECT(Sheet1!$B$3&":"&Sheet1!$C$3)))=B5))=1,"Réponse",""))) | E5: =E4+1 -> 41309 | F5: =UPPER(LEFT(TEXT(E5,"jjj"),1)) -> L | G5: =IF(WEEKDAY(E5,2)>5,"",IF(SUMPRODUCT(--((ROW(INDIRECT(Sheet1!$B$2&":"&Sheet1!$C$2)))=E5))=1,"Appel d'offre",IF(SUMPRODUCT(--((ROW(INDIRECT(Sheet1!$B$3&":"&Sheet1!$C$3)))=E5))=1,"Réponse",""))) | H5: =H4+1 -> 41337 | I5: =UPPER(LEFT(TEXT(H5,"jjj"),1)) -> L | J5: =IF(WEEKDAY(H5,2)>5,"",IF(SUMPRODUCT(--((ROW(INDIRECT(Sheet1!$B$2&":"&Sheet1!$C$2)))=H5))=1,"Appel d'offre",IF(SUMPRODUCT(--((ROW(INDIRECT(Sheet1!$B$3&":"&Sheet1!$C$3)))=H5))=1,"Réponse",""))) | K5: =K4+1 -> 41368 | L5: =UPPER(LEFT(TEXT(K5,"jjj"),1)) -> J | M5: =IF(WEEKDAY(K5,2)>5,"",IF(SUMPRODUCT(--((ROW(INDIRECT(Sheet1!$B$2&":"&Sheet1!$C$2)))=K5))=1,"Appel d'offre",IF(SUMPRODUCT(--((ROW(INDIRECT(Sheet1!$B$3&":"&Sheet1!$C$3)))=K5))=1,"Réponse",""))) | N5: =N4+1 -> 41398 | O5: =UPPER(LEFT(TEXT(N5,"jjj"),1)) -> S | P5: =IF(WEEKDAY(N5,2)>5,"",IF(SUMPRODUCT(--((ROW(INDIRECT(Sheet1!$B$2&":"&Sheet1!$C$2)))=N5))=1,"Appel d'offre",IF(SUMPRODUCT(--((ROW(INDIRECT(Sheet1!$B$3&":"&Sheet1!$C$3)))=N5))=1,"Réponse",""))) | Q5: =Q4+1 -> 41429 | R5: =UPPER(LEFT(TEXT(Q5,"jjj"),1)) -> M | S5: =IF(WEEKDAY(Q5,2)>5,"",IF(SUMPRODUCT(--((ROW(INDIRECT(Sheet1!$B$2&":"&Sheet1!$C$2)))=Q5))=1,"Appel d'offre",IF(SUMPRODUCT(--((ROW(INDIRECT(Sheet1!$B$3&":"&Sheet1!$C$3)))=Q5))=1,"Réponse","")))
A6: 5 | B6: =B5+1 -> 41279 | C6: =UPPER(LEFT(TEXT(B6,"jjj"),1)) -> S | D6: =IF(WEEKDAY(B6,2)>5,"",IF(SUMPRODUCT(--((ROW(INDIRECT(Sheet1!$B$2&":"&Sheet1!$C$2)))=B6))=1,"Appel d'offre",IF(SUMPRODUCT(--((ROW(INDIRECT(Sheet1!$B$3&":"&Sheet1!$C$3)))=B6))=1,"Réponse",""))) | E6: =E5+1 -> 41310 | F6: =UPPER(LEFT(TEXT(E6,"jjj"),1)) -> M | G6: =IF(WEEKDAY(E6,2)>5,"",IF(SUMPRODUCT(--((ROW(INDIRECT(Sheet1!$B$2&":"&Sheet1!$C$2)))=E6))=1,"Appel d'offre",IF(SUMPRODUCT(--((ROW(INDIRECT(Sheet1!$B$3&":"&Sheet1!$C$3)))=E6))=1,"Réponse",""))) | H6: =H5+1 -> 41338 | I6: =UPPER(LEFT(TEXT(H6,"jjj"),1)) -> M | J6: =IF(WEEKDAY(H6,2)>5,"",IF(SUMPRODUCT(--((ROW(INDIRECT(Sheet1!$B$2&":"&Sheet1!$C$2)))=H6))=1,"Appel d'offre",IF(SUMPRODUCT(--((ROW(INDIRECT(Sheet1!$B$3&":"&Sheet1!$C$3)))=H6))=1,"Réponse",""))) | K6: =K5+1 -> 41369 | L6: =UPPER(LEFT(TEXT(K6,"jjj"),1)) -> V | M6: =IF(WEEKDAY(K6,2)>5,"",IF(SUMPRODUCT(--((ROW(INDIRECT(Sheet1!$B$2&":"&Sheet1!$C$2)))=K6))=1,"Appel d'offre",IF(SUMPRODUCT(--((ROW(INDIRECT(Sheet1!$B$3&":"&Sheet1!$C$3)))=K6))=1,"Réponse",""))) | N6: =N5+1 -> 41399 | O6: =UPPER(LEFT(TEXT(N6,"jjj"),1)) -> D | P6: =IF(WEEKDAY(N6,2)>5,"",IF(SUMPRODUCT(--((ROW(INDIRECT(Sheet1!$B$2&":"&Sheet1!$C$2)))=N6))=1,"Appel d'offre",IF(SUMPRODUCT(--((ROW(INDIRECT(Sheet1!$B$3&":"&Sheet1!$C$3)))=N6))=1,"Réponse",""))) | Q6: =Q5+1 -> 41430 | R6: =UPPER(LEFT(TEXT(Q6,"jjj"),1)) -> M | S6: =IF(WEEKDAY(Q6,2)>5,"",IF(SUMPRODUCT(--((ROW(INDIRECT(Sheet1!$B$2&":"&Sheet1!$C$2)))=Q6))=1,"Appel d'offre",IF(SUMPRODUCT(--((ROW(INDIRECT(Sheet1!$B$3&":"&Sheet1!$C$3)))=Q6))=1,"Réponse","")))
A7: 6 | B7: =B6+1 -> 41280 | C7: =UPPER(LEFT(TEXT(B7,"jjj"),1)) -> D | D7: =IF(WEEKDAY(B7,2)>5,"",IF(SUMPRODUCT(--((ROW(INDIRECT(Sheet1!$B$2&":"&Sheet1!$C$2)))=B7))=1,"Appel d'offre",IF(SUMPRODUCT(--((ROW(INDIRECT(Sheet1!$B$3&":"&Sheet1!$C$3)))=B7))=1,"Réponse",""))) | E7: =E6+1 -> 41311 | F7: =UPPER(LEFT(TEXT(E7,"jjj"),1)) -> M | G7: =IF(WEEKDAY(E7,2)>5,"",IF(SUMPRODUCT(--((ROW(INDIRECT(Sheet1!$B$2&":"&Sheet1!$C$2)))=E7))=1,"Appel d'offre",IF(SUMPRODUCT(--((ROW(INDIRECT(Sheet1!$B$3&":"&Sheet1!$C$3)))=E7))=1,"Réponse",""))) | H7: =H6+1 -> 41339 | I7: =UPPER(LEFT(TEXT(H7,"jjj"),1)) -> M | J7: =IF(WEEKDAY(H7,2)>5,"",IF(SUMPRODUCT(--((ROW(INDIRECT(Sheet1!$B$2&":"&Sheet1!$C$2)))=H7))=1,"Appel d'offre",IF(SUMPRODUCT(--((ROW(INDIRECT(Sheet1!$B$3&":"&Sheet1!$C$3)))=H7))=1,"Réponse",""))) | K7: =K6+1 -> 41370 | L7: =UPPER(LEFT(TEXT(K7,"jjj"),1)) -> S | M7: =IF(WEEKDAY(K7,2)>5,"",IF(SUMPRODUCT(--((ROW(INDIRECT(Sheet1!$B$2&":"&Sheet1!$C$2)))=K7))=1,"Appel d'offre",IF(SUMPRODUCT(--((ROW(INDIRECT(Sheet1!$B$3&":"&Sheet1!$C$3)))=K7))=1,"Réponse",""))) | N7: =N6+1 -> 41400 | O7: =UPPER(LEFT(TEXT(N7,"jjj"),1)) -> L | P7: =IF(WEEKDAY(N7,2)>5,"",IF(SUMPRODUCT(--((ROW(INDIRECT(Sheet1!$B$2&":"&Sheet1!$C$2)))=N7))=1,"Appel d'offre",IF(SUMPRODUCT(--((ROW(INDIRECT(Sheet1!$B$3&":"&Sheet1!$C$3)))=N7))=1,"Réponse",""))) | Q7: =Q6+1 -> 41431 | R7: =UPPER(LEFT(TEXT(Q7,"jjj"),1)) -> J | S7: =IF(WEEKDAY(Q7,2)>5,"",IF(SUMPRODUCT(--((ROW(INDIRECT(Sheet1!$B$2&":"&Sheet1!$C$2)))=Q7))=1,"Appel d'offre",IF(SUMPRODUCT(--((ROW(INDIRECT(Sheet1!$B$3&":"&Sheet1!$C$3)))=Q7))=1,"Réponse","")))
A8: 7 | B8: =B7+1 -> 41281 | C8: =UPPER(LEFT(TEXT(B8,"jjj"),1)) -> L | D8: =IF(WEEKDAY(B8,2)>5,"",IF(SUMPRODUCT(--((ROW(INDIRECT(Sheet1!$B$2&":"&Sheet1!$C$2)))=B8))=1,"Appel d'offre",IF(SUMPRODUCT(--((ROW(INDIRECT(Sheet1!$B$3&":"&Sheet1!$C$3)))=B8))=1,"Réponse",""))) -> Appel d'offre | E8: =E7+1 -> 41312 | F8: =UPPER(LEFT(TEXT(E8,"jjj"),1)) -> J | G8: =IF(WEEKDAY(E8,2)>5,"",IF(SUMPRODUCT(--((ROW(INDIRECT(Sheet1!$B$2&":"&Sheet1!$C$2)))=E8))=1,"Appel d'offre",IF(SUMPRODUCT(--((ROW(INDIRECT(Sheet1!$B$3&":"&Sheet1!$C$3)))=E8))=1,"Réponse",""))) | H8: =H7+1 -> 41340 | I8: =UPPER(LEFT(TEXT(H8,"jjj"),1)) -> J | J8: =IF(WEEKDAY(H8,2)>5,"",IF(SUMPRODUCT(--((ROW(INDIRECT(Sheet1!$B$2&":"&Sheet1!$C$2)))=H8))=1,"Appel d'offre",IF(SUMPRODUCT(--((ROW(INDIRECT(Sheet1!$B$3&":"&Sheet1!$C$3)))=H8))=1,"Réponse",""))) | K8: =K7+1 -> 41371 | L8: =UPPER(LEFT(TEXT(K8,"jjj"),1)) -> D | M8: =IF(WEEKDAY(K8,2)>5,"",IF(SUMPRODUCT(--((ROW(INDIRECT(Sheet1!$B$2&":"&Sheet1!$C$2)))=K8))=1,"Appel d'offre",IF(SUMPRODUCT(--((ROW(INDIRECT(Sheet1!$B$3&":"&Sheet1!$C$3)))=K8))=1,"Réponse",""))) | N8: =N7+1 -> 41401 | O8: =UPPER(LEFT(TEXT(N8,"jjj"),1)) -> M | P8: =IF(WEEKDAY(N8,2)>5,"",IF(SUMPRODUCT(--((ROW(INDIRECT(Sheet1!$B$2&":"&Sheet1!$C$2)))=N8))=1,"Appel d'offre",IF(SUMPRODUCT(--((ROW(INDIRECT(Sheet1!$B$3&":"&Sheet1!$C$3)))=N8))=1,"Réponse",""))) | Q8: =Q7+1 -> 41432 | R8: =UPPER(LEFT(TEXT(Q8,"jjj"),1)) -> V | S8: =IF(WEEKDAY(Q8,2)>5,"",IF(SUMPRODUCT(--((ROW(INDIRECT(Sheet1!$B$2&":"&Sheet1!$C$2)))=Q8))=1,"Appel d'offre",IF(SUMPRODUCT(--((ROW(INDIRECT(Sheet1!$B$3&":"&Sheet1!$C$3)))=Q8))=1,"Réponse","")))
A9: 8 | B9: =B8+1 -> 41282 | C9: =UPPER(LEFT(TEXT(B9,"jjj"),1)) -> M | D9: =IF(WEEKDAY(B9,2)>5,"",IF(SUMPRODUCT(--((ROW(INDIRECT(Sheet1!$B$2&":"&Sheet1!$C$2)))=B9))=1,"Appel d'offre",IF(SUMPRODUCT(--((ROW(INDIRECT(Sheet1!$B$3&":"&Sheet1!$C$3)))=B9))=1,"Réponse",""))) -> Appel d'offre | E9: =E8+1 -> 41313 | F9: =UPPER(LEFT(TEXT(E9,"jjj"),1)) -> V | G9: =IF(WEEKDAY(E9,2)>5,"",IF(SUMPRODUCT(--((ROW(INDIRECT(Sheet1!$B$2&":"&Sheet1!$C$2)))=E9))=1,"Appel d'offre",IF(SUMPRODUCT(--((ROW(INDIRECT(Sheet1!$B$3&":"&Sheet1!$C$3)))=E9))=1,"Réponse",""))) | H9: =H8+1 -> 41341 | I9: =UPPER(LEFT(TEXT(H9,"jjj"),1)) -> V | J9: =IF(WEEKDAY(H9,2)>5,"",IF(SUMPRODUCT(--((ROW(INDIRECT(Sheet1!$B$2&":"&Sheet1!$C$2)))=H9))=1,"Appel d'offre",IF(SUMPRODUCT(--((ROW(INDIRECT(Sheet1!$B$3&":"&Sheet1!$C$3)))=H9))=1,"Réponse",""))) | K9: =K8+1 -> 41372 | L9: =UPPER(LEFT(TEXT(K9,"jjj"),1)) -> L | M9: =IF(WEEKDAY(K9,2)>5,"",IF(SUMPRODUCT(--((ROW(INDIRECT(Sheet1!$B$2&":"&Sheet1!$C$2)))=K9))=1,"Appel d'offre",IF(SUMPRODUCT(--((ROW(INDIRECT(Sheet1!$B$3&":"&Sheet1!$C$3)))=K9))=1,"Réponse",""))) | N9: =N8+1 -> 41402 | O9: =UPPER(LEFT(TEXT(N9,"jjj"),1)) -> M | P9: =IF(WEEKDAY(N9,2)>5,"",IF(SUMPRODUCT(--((ROW(INDIRECT(Sheet1!$B$2&":"&Sheet1!$C$2)))=N9))=1,"Appel d'offre",IF(SUMPRODUCT(--((ROW(INDIRECT(Sheet1!$B$3&":"&Sheet1!$C$3)))=N9))=1,"Réponse",""))) | Q9: =Q8+1 -> 41433 | R9: =UPPER(LEFT(TEXT(Q9,"jjj"),1)) -> S | S9: =IF(WEEKDAY(Q9,2)>5,"",IF(SUMPRODUCT(--((ROW(INDIRECT(Sheet1!$B$2&":"&Sheet1!$C$2)))=Q9))=1,"Appel d'offre",IF(SUMPRODUCT(--((ROW(INDIRECT(Sheet1!$B$3&":"&Sheet1!$C$3)))=Q9))=1,"Réponse","")))
A10: 9 | B10: =B9+1 -> 41283 | C10: =UPPER(LEFT(TEXT(B10,"jjj"),1)) -> M | D10: =IF(WEEKDAY(B10,2)>5,"",IF(SUMPRODUCT(--((ROW(INDIRECT(Sheet1!$B$2&":"&Sheet1!$C$2)))=B10))=1,"Appel d'offre",IF(SUMPRODUCT(--((ROW(INDIRECT(Sheet1!$B$3&":"&Sheet1!$C$3)))=B10))=1,"Réponse",""))) -> Appel d'offre | E10: =E9+1 -> 41314 | F10: =UPPER(LEFT(TEXT(E10,"jjj"),1)) -> S | G10: =IF(WEEKDAY(E10,2)>5,"",IF(SUMPRODUCT(--((ROW(INDIRECT(Sheet1!$B$2&":"&Sheet1!$C$2)))=E10))=1,"Appel d'offre",IF(SUMPRODUCT(--((ROW(INDIRECT(Sheet1!$B$3&":"&Sheet1!$C$3)))=E10))=1,"Réponse",""))) | H10: =H9+1 -> 41342 | I10: =UPPER(LEFT(TEXT(H10,"jjj"),1)) -> S | J10: =IF(WEEKDAY(H10,2)>5,"",IF(SUMPRODUCT(--((ROW(INDIRECT(Sheet1!$B$2&":"&Sheet1!$C$2)))=H10))=1,"Appel d'offre",IF(SUMPRODUCT(--((ROW(INDIRECT(Sheet1!$B$3&":"&Sheet1!$C$3)))=H10))=1,"Réponse",""))) | K10: =K9+1 -> 41373 | L10: =UPPER(LEFT(TEXT(K10,"jjj"),1)) -> M | M10: =IF(WEEKDAY(K10,2)>5,"",IF(SUMPRODUCT(--((ROW(INDIRECT(Sheet1!$B$2&":"&Sheet1!$C$2)))=K10))=1,"Appel d'offre",IF(SUMPRODUCT(--((ROW(INDIRECT(Sheet1!$B$3&":"&Sheet1!$C$3)))=K10))=1,"Réponse",""))) | N10: =N9+1 -> 41403 | O10: =UPPER(LEFT(TEXT(N10,"jjj"),1)) -> J | P10: =IF(WEEKDAY(N10,2)>5,"",IF(SUMPRODUCT(--((ROW(INDIRECT(Sheet1!$B$2&":"&Sheet1!$C$2)))=N10))=1,"Appel d'offre",IF(SUMPRODUCT(--((ROW(INDIRECT(Sheet1!$B$3&":"&Sheet1!$C$3)))=N10))=1,"Réponse",""))) | Q10: =Q9+1 -> 41434 | R10: =UPPER(LEFT(TEXT(Q10,"jjj"),1)) -> D | S10: =IF(WEEKDAY(Q10,2)>5,"",IF(SUMPRODUCT(--((ROW(INDIRECT(Sheet1!$B$2&":"&Sheet1!$C$2)))=Q10))=1,"Appel d'offre",IF(SUMPRODUCT(--((ROW(INDIRECT(Sheet1!$B$3&":"&Sheet1!$C$3)))=Q10))=1,"Réponse","")))
A11: 10 | B11: =B10+1 -> 41284 | C11: =UPPER(LEFT(TEXT(B11,"jjj"),1)) -> J | D11: =IF(WEEKDAY(B11,2)>5,"",IF(SUMPRODUCT(--((ROW(INDIRECT(Sheet1!$B$2&":"&Sheet1!$C$2)))=B11))=1,"Appel d'offre",IF(SUMPRODUCT(--((ROW(INDIRECT(Sheet1!$B$3&":"&Sheet1!$C$3)))=B11))=1,"Réponse",""))) -> Appel d'offre | E11: =E10+1 -> 41315 | F11: =UPPER(LEFT(TEXT(E11,"jjj"),1)) -> D | G11: =IF(WEEKDAY(E11,2)>5,"",IF(SUMPRODUCT(--((ROW(INDIRECT(Sheet1!$B$2&":"&Sheet1!$C$2)))=E11))=1,"Appel d'offre",IF(SUMPRODUCT(--((ROW(INDIRECT(Sheet1!$B$3&":"&Sheet1!$C$3)))=E11))=1,"Réponse",""))) | H11: =H10+1 -> 41343 | I11: =UPPER(LEFT(TEXT(H11,"jjj"),1)) -> D | J11: =IF(WEEKDAY(H11,2)>5,"",IF(SUMPRODUCT(--((ROW(INDIRECT(Sheet1!$B$2&":"&Sheet1!$C$2)))=H11))=1,"Appel d'offre",IF(SUMPRODUCT(--((ROW(INDIRECT(Sheet1!$B$3&":"&Sheet1!$C$3)))=H11))=1,"Réponse",""))) | K11: =K10+1 -> 41374 | L11: =UPPER(LEFT(TEXT(K11,"jjj"),1)) -> M | M11: =IF(WEEKDAY(K11,2)>5,"",IF(SUMPRODUCT(--((ROW(INDIRECT(Sheet1!$B$2&":"&Sheet1!$C$2)))=K11))=1,"Appel d'offre",IF(SUMPRODUCT(--((ROW(INDIRECT(Sheet1!$B$3&":"&Sheet1!$C$3)))=K11))=1,"Réponse",""))) | N11: =N10+1 -> 41404 | O11: =UPPER(LEFT(TEXT(N11,"jjj"),1)) -> V | P11: =IF(WEEKDAY(N11,2)>5,"",IF(SUMPRODUCT(--((ROW(INDIRECT(Sheet1!$B$2&":"&Sheet1!$C$2)))=N11))=1,"Appel d'offre",IF(SUMPRODUCT(--((ROW(INDIRECT(Sheet1!$B$3&":"&Sheet1!$C$3)))=N11))=1,"Réponse",""))) | Q11: =Q10+1 -> 41435 | R11: =UPPER(LEFT(TEXT(Q11,"jjj"),1)) -> L | S11: =IF(WEEKDAY(Q11,2)>5,"",IF(SUMPRODUCT(--((ROW(INDIRECT(Sheet1!$B$2&":"&Sheet1!$C$2)))=Q11))=1,"Appel d'offre",IF(SUMPRODUCT(--((ROW(INDIRECT(Sheet1!$B$3&":"&Sheet1!$C$3)))=Q11))=1,"Réponse","")))
A12: 11 | B12: =B11+1 -> 41285 | C12: =UPPER(LEFT(TEXT(B12,"jjj"),1)) -> V | D12: =IF(WEEKDAY(B12,2)>5,"",IF(SUMPRODUCT(--((ROW(INDIRECT(Sheet1!$B$2&":"&Sheet1!$C$2)))=B12))=1,"Appel d'offre",IF(SUMPRODUCT(--((ROW(INDIRECT(Sheet1!$B$3&":"&Sheet1!$C$3)))=B12))=1,"Réponse",""))) -> Appel d'offre | E12: =E11+1 -> 41316 | F12: =UPPER(LEFT(TEXT(E12,"jjj"),1)) -> L | G12: =IF(WEEKDAY(E12,2)>5,"",IF(SUMPRODUCT(--((ROW(INDIRECT(Sheet1!$B$2&":"&Sheet1!$C$2)))=E12))=1,"Appel d'offre",IF(SUMPRODUCT(--((ROW(INDIRECT(Sheet1!$B$3&":"&Sheet1!$C$3)))=E12))=1,"Réponse",""))) | H12: =H11+1 -> 41344 | I12: =UPPER(LEFT(TEXT(H12,"jjj"),1)) -> L | J12: =IF(WEEKDAY(H12,2)>5,"",IF(SUMPRODUCT(--((ROW(INDIRECT(Sheet1!$B$2&":"&Sheet1!$C$2)))=H12))=1,"Appel d'offre",IF(SUMPRODUCT(--((ROW(INDIRECT(Sheet1!$B$3&":"&Sheet1!$C$3)))=H12))=1,"Réponse",""))) | K12: =K11+1 -> 41375 | L12: =UPPER(LEFT(TEXT(K12,"jjj"),1)) -> J | M12: =IF(WEEKDAY(K12,2)>5,"",IF(SUMPRODUCT(--((ROW(INDIRECT(Sheet1!$B$2&":"&Sheet1!$C$2)))=K12))=1,"Appel d'offre",IF(SUMPRODUCT(--((ROW(INDIRECT(Sheet1!$B$3&":"&Sheet1!$C$3)))=K12))=1,"Réponse",""))) | N12: =N11+1 -> 41405 | O12: =UPPER(LEFT(TEXT(N12,"jjj"),1)) -> S | P12: =IF(WEEKDAY(N12,2)>5,"",IF(SUMPRODUCT(--((ROW(INDIRECT(Sheet1!$B$2&":"&Sheet1!$C$2)))=N12))=1,"Appel d'offre",IF(SUMPRODUCT(--((ROW(INDIRECT(Sheet1!$B$3&":"&Sheet1!$C$3)))=N12))=1,"Réponse",""))) | Q12: =Q11+1 -> 41436 | R12: =UPPER(LEFT(TEXT(Q12,"jjj"),1)) -> M | S12: =IF(WEEKDAY(Q12,2)>5,"",IF(SUMPRODUCT(--((ROW(INDIRECT(Sheet1!$B$2&":"&Sheet1!$C$2)))=Q12))=1,"Appel d'offre",IF(SUMPRODUCT(--((ROW(INDIRECT(Sheet1!$B$3&":"&Sheet1!$C$3)))=Q12))=1,"Réponse","")))
A13: 12 | B13: =B12+1 -> 41286 | C13: =UPPER(LEFT(TEXT(B13,"jjj"),1)) -> S | D13: =IF(WEEKDAY(B13,2)>5,"",IF(SUMPRODUCT(--((ROW(INDIRECT(Sheet1!$B$2&":"&Sheet1!$C$2)))=B13))=1,"Appel d'offre",IF(SUMPRODUCT(--((ROW(INDIRECT(Sheet1!$B$3&":"&Sheet1!$C$3)))=B13))=1,"Réponse",""))) | E13: =E12+1 -> 41317 | F13: =UPPER(LEFT(TEXT(E13,"jjj"),1)) -> M | G13: =IF(WEEKDAY(E13,2)>5,"",IF(SUMPRODUCT(--((ROW(INDIRECT(Sheet1!$B$2&":"&Sheet1!$C$2)))=E13))=1,"Appel d'offre",IF(SUMPRODUCT(--((ROW(INDIRECT(Sheet1!$B$3&":"&Sheet1!$C$3)))=E13))=1,"Réponse",""))) | H13: =H12+1 -> 41345 | I13: =UPPER(LEFT(TEXT(H13,"jjj"),1)) -> M | J13: =IF(WEEKDAY(H13,2)>5,"",IF(SUMPRODUCT(--((ROW(INDIRECT(Sheet1!$B$2&":"&Sheet1!$C$2)))=H13))=1,"Appel d'offre",IF(SUMPRODUCT(--((ROW(INDIRECT(Sheet1!$B$3&":"&Sheet1!$C$3)))=H13))=1,"Réponse",""))) | K13: =K12+1 -> 41376 | L13: =UPPER(LEFT(TEXT(K13,"jjj"),1)) -> V | M13: =IF(WEEKDAY(K13,2)>5,"",IF(SUMPRODUCT(--((ROW(INDIRECT(Sheet1!$B$2&":"&Sheet1!$C$2)))=K13))=1,"Appel d'offre",IF(SUMPRODUCT(--((ROW(INDIRECT(Sheet1!$B$3&":"&Sheet1!$C$3)))=K13))=1,"Réponse",""))) | N13: =N12+1 -> 41406 | O13: =UPPER(LEFT(TEXT(N13,"jjj"),1)) -> D | P13: =IF(WEEKDAY(N13,2)>5,"",IF(SUMPRODUCT(--((ROW(INDIRECT(Sheet1!$B$2&":"&Sheet1!$C$2)))=N13))=1,"Appel d'offre",IF(SUMPRODUCT(--((ROW(INDIRECT(Sheet1!$B$3&":"&Sheet1!$C$3)))=N13))=1,"Réponse",""))) | Q13: =Q12+1 -> 41437 | R13: =UPPER(LEFT(TEXT(Q13,"jjj"),1)) -> M | S13: =IF(WEEKDAY(Q13,2)>5,"",IF(SUMPRODUCT(--((ROW(INDIRECT(Sheet1!$B$2&":"&Sheet1!$C$2)))=Q13))=1,"Appel d'offre",IF(SUMPRODUCT(--((ROW(INDIRECT(Sheet1!$B$3&":"&Sheet1!$C$3)))=Q13))=1,"Réponse","")))
A14: 13 | B14: =B13+1 -> 41287 | C14: =UPPER(LEFT(TEXT(B14,"jjj"),1)) -> D | D14: =IF(WEEKDAY(B14,2)>5,"",IF(SUMPRODUCT(--((ROW(INDIRECT(Sheet1!$B$2&":"&Sheet1!$C$2)))=B14))=1,"Appel d'offre",IF(SUMPRODUCT(--((ROW(INDIRECT(Sheet1!$B$3&":"&Sheet1!$C$3)))=B14))=1,"Réponse",""))) | E14: =E13+1 -> 41318 | F14: =UPPER(LEFT(TEXT(E14,"jjj"),1)) -> M | G14: =IF(WEEKDAY(E14,2)>5,"",IF(SUMPRODUCT(--((ROW(INDIRECT(Sheet1!$B$2&":"&Sheet1!$C$2)))=E14))=1,"Appel d'offre",IF(SUMPRODUCT(--((ROW(INDIRECT(Sheet1!$B$3&":"&Sheet1!$C$3)))=E14))=1,"Réponse",""))) | H14: =H13+1 -> 41346 | I14: =UPPER(LEFT(TEXT(H14,"jjj"),1)) -> M | J14: =IF(WEEKDAY(H14,2)>5,"",IF(SUMPRODUCT(--((ROW(INDIRECT(Sheet1!$B$2&":"&Sheet1!$C$2)))=H14))=1,"Appel d'offre",IF(SUMPRODUCT(--((ROW(INDIRECT(Sheet1!$B$3&":"&Sheet1!$C$3)))=H14))=1,"Réponse",""))) | K14: =K13+1 -> 41377 | L14: =UPPER(LEFT(TEXT(K14,"jjj"),1)) -> S | M14: =IF(WEEKDAY(K14,2)>5,"",IF(SUMPRODUCT(--((ROW(INDIRECT(Sheet1!$B$2&":"&Sheet1!$C$2)))=K14))=1,"Appel d'offre",IF(SUMPRODUCT(--((ROW(INDIRECT(Sheet1!$B$3&":"&Sheet1!$C$3)))=K14))=1,"Réponse",""))) | N14: =N13+1 -> 41407 | O14: =UPPER(LEFT(TEXT(N14,"jjj"),1)) -> L | P14: =IF(WEEKDAY(N14,2)>5,"",IF(SUMPRODUCT(--((ROW(INDIRECT(Sheet1!$B$2&":"&Sheet1!$C$2)))=N14))=1,"Appel d'offre",IF(SUMPRODUCT(--((ROW(INDIRECT(Sheet1!$B$3&":"&Sheet1!$C$3)))=N14))=1,"Réponse",""))) | Q14: =Q13+1 -> 41438 | R14: =UPPER(LEFT(TEXT(Q14,"jjj"),1)) -> J | S14: =IF(WEEKDAY(Q14,2)>5,"",IF(SUMPRODUCT(--((ROW(INDIRECT(Sheet1!$B$2&":"&Sheet1!$C$2)))=Q14))=1,"Appel d'offre",IF(SUMPRODUCT(--((ROW(INDIRECT(Sheet1!$B$3&":"&Sheet1!$C$3)))=Q14))=1,"Réponse","")))
... A29: 28 | B29: =B28+1 -> 41302 | C29: =UPPER(LEFT(TEXT(B29,"jjj"),1)) -> L | D29: =IF(WEEKDAY(B29,2)>5,"",IF(SUMPRODUCT(--((ROW(INDIRECT(Sheet1!$B$2&":"&Sheet1!$C$2)))=B29))=1,"Appel d'offre",IF(SUMPRODUCT(--((ROW(INDIRECT(Sheet1!$B$3&":"&Sheet1!$C$3)))=B29))=1,"Réponse",""))) -> Réponse | E29: =E28+1 -> 41333 | F29: =UPPER(LEFT(TEXT(E29,"jjj"),1)) -> J | G29: =IF(WEEKDAY(E29,2)>5,"",IF(SUMPRODUCT(--((ROW(INDIRECT(Sheet1!$B$2&":"&Sheet1!$C$2)))=E29))=1,"Appel d'offre",IF(SUMPRODUCT(--((ROW(INDIRECT(Sheet1!$B$3&":"&Sheet1!$C$3)))=E29))=1,"Réponse",""))) | H29: =H28+1 -> 41361 | I29: =UPPER(LEFT(TEXT(H29,"jjj"),1)) -> J | J29: =IF(WEEKDAY(H29,2)>5,"",IF(SUMPRODUCT(--((ROW(INDIRECT(Sheet1!$B$2&":"&Sheet1!$C$2)))=H29))=1,"Appel d'offre",IF(SUMPRODUCT(--((ROW(INDIRECT(Sheet1!$B$3&":"&Sheet1!$C$3)))=H29))=1,"Réponse",""))) | K29: =K28+1 -> 41392 | L29: =UPPER(LEFT(TEXT(K29,"jjj"),1)) -> D | M29: =IF(WEEKDAY(K29,2)>5,"",IF(SUMPRODUCT(--((ROW(INDIRECT(Sheet1!$B$2&":"&Sheet1!$C$2)))=K29))=1,"Appel d'offre",IF(SUMPRODUCT(--((ROW(INDIRECT(Sheet1!$B$3&":"&Sheet1!$C$3)))=K29))=1,"Réponse",""))) | N29: =N28+1 -> 41422 | O29: =UPPER(LEFT(TEXT(N29,"jjj"),1)) -> M | P29: =IF(WEEKDAY(N29,2)>5,"",IF(SUMPRODUCT(--((ROW(INDIRECT(Sheet1!$B$2&":"&Sheet1!$C$2)))=N29))=1,"Appel d'offre",IF(SUMPRODUCT(--((ROW(INDIRECT(Sheet1!$B$3&":"&Sheet1!$C$3)))=N29))=1,"Réponse",""))) | Q29: =Q28+1 -> 41453 | R29: =UPPER(LEFT(TEXT(Q29,"jjj"),1)) -> V | S29: =IF(WEEKDAY(Q29,2)>5,"",IF(SUMPRODUCT(--((ROW(INDIRECT(Sheet1!$B$2&":"&Sheet1!$C$2)))=Q29))=1,"Appel d'offre",IF(SUMPRODUCT(--((ROW(INDIRECT(Sheet1!$B$3&":"&Sheet1!$C$3)))=Q29))=1,"Réponse","")))
A30: 29 | B30: =IF(MONTH(B$29+1)=MONTH(B$28),B$29+1,"") -> 41303 | C30: =UPPER(LEFT(TEXT(B30,"jjj"),1)) -> M | D30: =IF(WEEKDAY(B30,2)>5,"",IF(SUMPRODUCT(--((ROW(INDIRECT(Sheet1!$B$2&":"&Sheet1!$C$2)))=B30))=1,"Appel d'offre",IF(SUMPRODUCT(--((ROW(INDIRECT(Sheet1!$B$3&":"&Sheet1!$C$3)))=B30))=1,"Réponse",""))) -> Réponse | E30: =IF(MONTH(E$29+1)=MONTH(E$28),E$29+1,"") | F30: =UPPER(LEFT(TEXT(E30,"jjj"),1)) | G30: =IF(E30="","",IF(WEEKDAY(E30,2)>5,"",IF(SUMPRODUCT(--((ROW(INDIRECT(Sheet1!$B$2&":"&Sheet1!$C$2)))=E30))=1,"Appel d'offre",IF(SUMPRODUCT(--((ROW(INDIRECT(Sheet1!$B$3&":"&Sheet1!$C$3)))=E30))=1,"Réponse","")))) | H30: =IF(MONTH(H$29+1)=MONTH(H$28),H$29+1,"") -> 41362 | I30: =UPPER(LEFT(TEXT(H30,"jjj"),1)) -> V | J30: =IF(H30="","",IF(WEEKDAY(H30,2)>5,"",IF(SUMPRODUCT(--((ROW(INDIRECT(Sheet1!$B$2&":"&Sheet1!$C$2)))=H30))=1,"Appel d'offre",IF(SUMPRODUCT(--((ROW(INDIRECT(Sheet1!$B$3&":"&Sheet1!$C$3)))=H30))=1,"Réponse","")))) | K30: =IF(MONTH(K$29+1)=MONTH(K$28),K$29+1,"") -> 41393 | L30: =UPPER(LEFT(TEXT(K30,"jjj"),1)) -> L | M30: =IF(K30="","",IF(WEEKDAY(K30,2)>5,"",IF(SUMPRODUCT(--((ROW(INDIRECT(Sheet1!$B$2&":"&Sheet1!$C$2)))=K30))=1,"Appel d'offre",IF(SUMPRODUCT(--((ROW(INDIRECT(Sheet1!$B$3&":"&Sheet1!$C$3)))=K30))=1,"Réponse","")))) | N30: =IF(MONTH(N$29+1)=MONTH(N$28),N$29+1,"") -> 41423 | O30: =UPPER(LEFT(TEXT(N30,"jjj"),1)) -> M | P30: =IF(N30="","",IF(WEEKDAY(N30,2)>5,"",IF(SUMPRODUCT(--((ROW(INDIRECT(Sheet1!$B$2&":"&Sheet1!$C$2)))=N30))=1,"Appel d'offre",IF(SUMPRODUCT(--((ROW(INDIRECT(Sheet1!$B$3&":"&Sheet1!$C$3)))=N30))=1,"Réponse","")))) | Q30: =IF(MONTH(Q$29+1)=MONTH(Q$28),Q$29+1,"") -> 41454 | R30: =UPPER(LEFT(TEXT(Q30,"jjj"),1)) -> S | S30: =IF(Q30="","",IF(WEEKDAY(Q30,2)>5,"",IF(SUMPRODUCT(--((ROW(INDIRECT(Sheet1!$B$2&":"&Sheet1!$C$2)))=Q30))=1,"Appel d'offre",IF(SUMPRODUCT(--((ROW(INDIRECT(Sheet1!$B$3&":"&Sheet1!$C$3)))=Q30))=1,"Réponse",""))))
A31: 30 | B31: =IF(MONTH(B$29+2)=MONTH(B$28),B$29+2,"") -> 41304 | C31: =UPPER(LEFT(TEXT(B31,"jjj"),1)) -> M | D31: =IF(WEEKDAY(B31,2)>5,"",IF(SUMPRODUCT(--((ROW(INDIRECT(Sheet1!$B$2&":"&Sheet1!$C$2)))=B31))=1,"Appel d'offre",IF(SUMPRODUCT(--((ROW(INDIRECT(Sheet1!$B$3&":"&Sheet1!$C$3)))=B31))=1,"Réponse",""))) -> Réponse | E31: =IF(MONTH(E$29+2)=MONTH(E$28),E$29+2,"") | F31: =UPPER(LEFT(TEXT(E31,"jjj"),1)) | G31: =IF(E31="","",IF(WEEKDAY(E31,2)>5,"",IF(SUMPRODUCT(--((ROW(INDIRECT(Sheet1!$B$2&":"&Sheet1!$C$2)))=E31))=1,"Appel d'offre",IF(SUMPRODUCT(--((ROW(INDIRECT(Sheet1!$B$3&":"&Sheet1!$C$3)))=E31))=1,"Réponse","")))) | H31: =IF(MONTH(H$29+2)=MONTH(H$28),H$29+2,"") -> 41363 | I31: =UPPER(LEFT(TEXT(H31,"jjj"),1)) -> S | J31: =IF(H31="","",IF(WEEKDAY(H31,2)>5,"",IF(SUMPRODUCT(--((ROW(INDIRECT(Sheet1!$B$2&":"&Sheet1!$C$2)))=H31))=1,"Appel d'offre",IF(SUMPRODUCT(--((ROW(INDIRECT(Sheet1!$B$3&":"&Sheet1!$C$3)))=H31))=1,"Réponse","")))) | K31: =IF(MONTH(K$29+2)=MONTH(K$28),K$29+2,"") -> 41394 | L31: =UPPER(LEFT(TEXT(K31,"jjj"),1)) -> M | M31: =IF(K31="","",IF(WEEKDAY(K31,2)>5,"",IF(SUMPRODUCT(--((ROW(INDIRECT(Sheet1!$B$2&":"&Sheet1!$C$2)))=K31))=1,"Appel d'offre",IF(SUMPRODUCT(--((ROW(INDIRECT(Sheet1!$B$3&":"&Sheet1!$C$3)))=K31))=1,"Réponse","")))) | N31: =IF(MONTH(N$29+2)=MONTH(N$28),N$29+2,"") -> 41424 | O31: =UPPER(LEFT(TEXT(N31,"jjj"),1)) -> J | P31: =IF(N31="","",IF(WEEKDAY(N31,2)>5,"",IF(SUMPRODUCT(--((ROW(INDIRECT(Sheet1!$B$2&":"&Sheet1!$C$2)))=N31))=1,"Appel d'offre",IF(SUMPRODUCT(--((ROW(INDIRECT(Sheet1!$B$3&":"&Sheet1!$C$3)))=N31))=1,"Réponse","")))) | Q31: =IF(MONTH(Q$29+2)=MONTH(Q$28),Q$29+2,"") -> 41455 | R31: =UPPER(LEFT(TEXT(Q31,"jjj"),1)) -> D | S31: =IF(Q31="","",IF(WEEKDAY(Q31,2)>5,"",IF(SUMPRODUCT(--((ROW(INDIRECT(Sheet1!$B$2&":"&Sheet1!$C$2)))=Q31))=1,"Appel d'offre",IF(SUMPRODUCT(--((ROW(INDIRECT(Sheet1!$B$3&":"&Sheet1!$C$3)))=Q31))=1,"Réponse",""))))
A32: 31 | B32: =IF(MONTH(B$29+3)=MONTH(B$28),B$29+3,"") -> 41305 | C32: =UPPER(LEFT(TEXT(B32,"jjj"),1)) -> J | D32: =IF(WEEKDAY(B32,2)>5,"",IF(SUMPRODUCT(--((ROW(INDIRECT(Sheet1!$B$2&":"&Sheet1!$C$2)))=B32))=1,"Appel d'offre",IF(SUMPRODUCT(--((ROW(INDIRECT(Sheet1!$B$3&":"&Sheet1!$C$3)))=B32))=1,"Réponse",""))) -> Réponse | E32: =IF(MONTH(E$29+3)=MONTH(E$28),E$29+3,"") | F32: =UPPER(LEFT(TEXT(E32,"jjj"),1)) | G32: =IF(E32="","",IF(WEEKDAY(E32,2)>5,"",IF(SUMPRODUCT(--((ROW(INDIRECT(Sheet1!$B$2&":"&Sheet1!$C$2)))=E32))=1,"Appel d'offre",IF(SUMPRODUCT(--((ROW(INDIRECT(Sheet1!$B$3&":"&Sheet1!$C$3)))=E32))=1,"Réponse","")))) | H32: =IF(MONTH(H$29+3)=MONTH(H$28),H$29+3,"") -> 41364 | I32: =UPPER(LEFT(TEXT(H32,"jjj"),1)) -> D | J32: =IF(H32="","",IF(WEEKDAY(H32,2)>5,"",IF(SUMPRODUCT(--((ROW(INDIRECT(Sheet1!$B$2&":"&Sheet1!$C$2)))=H32))=1,"Appel d'offre",IF(SUMPRODUCT(--((ROW(INDIRECT(Sheet1!$B$3&":"&Sheet1!$C$3)))=H32))=1,"Réponse","")))) | K32: =IF(MONTH(K$29+3)=MONTH(K$28),K$29+3,"") | L32: =UPPER(LEFT(TEXT(K32,"jjj"),1)) | M32: =IF(K32="","",IF(WEEKDAY(K32,2)>5,"",IF(SUMPRODUCT(--((ROW(INDIRECT(Sheet1!$B$2&":"&Sheet1!$C$2)))=K32))=1,"Appel d'offre",IF(SUMPRODUCT(--((ROW(INDIRECT(Sheet1!$B$3&":"&Sheet1!$C$3)))=K32))=1,"Réponse","")))) | N32: =IF(MONTH(N$29+3)=MONTH(N$28),N$29+3,"") -> 41425 | O32: =UPPER(LEFT(TEXT(N32,"jjj"),1)) -> V | P32: =IF(N32="","",IF(WEEKDAY(N32,2)>5,"",IF(SUMPRODUCT(--((ROW(INDIRECT(Sheet1!$B$2&":"&Sheet1!$C$2)))=N32))=1,"Appel d'offre",IF(SUMPRODUCT(--((ROW(INDIRECT(Sheet1!$B$3&":"&Sheet1!$C$3)))=N32))=1,"Réponse","")))) | Q32: =IF(MONTH(Q$29+3)=MONTH(Q$28),Q$29+3,"") | R32: =UPPER(LEFT(TEXT(Q32,"jjj"),1)) | S32: =IF(Q32="","",IF(WEEKDAY(Q32,2)>5,"",IF(SUMPRODUCT(--((ROW(INDIRECT(Sheet1!$B$2&":"&Sheet1!$C$2)))=Q32))=1,"Appel d'offre",IF(SUMPRODUCT(--((ROW(INDIRECT(Sheet1!$B$3&":"&Sheet1!$C$3)))=Q32))=1,"Réponse",""))))
