Workbook
Name MonChoix: COLIS!$BH$4:$BH$9

Sheet TOTAUX
B2: SEMAINES | C2: Entrées | D2: Déjeuners | E2: Colis | F2: Permanences | G2: Hommes | H2: Femmes | K2: WEEKENDS | L2: Entrées | M2: Déjeuners | N2: Hommes | O2: Femmes | Q2: SEM + WE | R2: Entrées | S2: Déjeuners | T2: Hommes | U2: Femmes
B3: sem 01 | C3: =' ACCUEIL'!C8 -> 61 | D3: =' ACCUEIL'!D8 -> 51 | E3: =' ACCUEIL'!E8 -> 0 | F3: =' ACCUEIL'!F8 -> 0 | G3: =' ACCUEIL'!G8 -> 56 | H3: =' ACCUEIL'!H8 -> 5 | K3: we 01 | L3: =' ACCUEIL'!C11 -> 151 | M3: =' ACCUEIL'!D11 -> 132 | N3: =' ACCUEIL'!G11 -> 143 | O3: =' ACCUEIL'!H11 -> 8 | Q3: sem+we 01 | R3: =C3+L3 -> 212 | S3: =D3+M3 -> 183 | T3: =G3+N3 -> 199 | U3: =H3+O3 -> 13
B4: sem 02 | C4: =' ACCUEIL'!C20 -> 646 | D4: =' ACCUEIL'!D20 -> 459 | E4: =' ACCUEIL'!E20 -> 54 | F4: =' ACCUEIL'!F20 -> 20 | G4: =' ACCUEIL'!G20 -> 558 | H4: =' ACCUEIL'!H20 -> 88 | K4: we 02 | L4: =' ACCUEIL'!C23 -> 154 | M4: =' ACCUEIL'!D23 -> 139 | N4: =' ACCUEIL'!G23 -> 144 | O4: =' ACCUEIL'!H23 -> 10 | Q4: sem+we 02 | R4: =C4+L4 -> 800 | S4: =D4+M4 -> 598 | T4: =G4+N4 -> 702 | U4: =H4+O4 -> 98
B5: sem 03 | C5: =' ACCUEIL'!C32 -> 599 | D5: =' ACCUEIL'!D32 -> 454 | E5: =' ACCUEIL'!E32 -> 87 | F5: =' ACCUEIL'!F32 -> 23 | G5: =' ACCUEIL'!G32 -> 507 | H5: =' ACCUEIL'!H32 -> 92 | K5: we 03 | L5: =' ACCUEIL'!C35 -> 202 | M5: =' ACCUEIL'!D35 -> 141 | N5: =' ACCUEIL'!G35 -> 182 | O5: =' ACCUEIL'!H35 -> 20 | Q5: sem+we 03 | R5: =C5+L5 -> 801 | S5: =D5+M5 -> 595 | T5: =G5+N5 -> 689 | U5: =H5+O5 -> 112
B6: sem 04 | C6: =' ACCUEIL'!C56 -> 647 | D6: =' ACCUEIL'!D56 -> 448 | E6: =' ACCUEIL'!E56 -> 87 | F6: =' ACCUEIL'!F56 -> 34 | G6: =' ACCUEIL'!G44 -> 604 | H6: =' ACCUEIL'!H44 -> 105 | K6: we 04 | L6: =' ACCUEIL'!C47 -> 191 | M6: =' ACCUEIL'!D47 -> 162 | N6: =' ACCUEIL'!G47 -> 178 | O6: =' ACCUEIL'!H47 -> 13 | Q6: sem+we 04 | R6: =C6+L6 -> 838 | S6: =D6+M6 -> 610 | T6: =G6+N6 -> 782 | U6: =H6+O6 -> 118
B7: sem 05 | C7: =' ACCUEIL'!C44 -> 709 | D7: =' ACCUEIL'!D44 -> 575 | E7: =' ACCUEIL'!E44 -> 100 | F7: =' ACCUEIL'!F44 -> 32 | G7: =' ACCUEIL'!G56 -> 551 | H7: =' ACCUEIL'!H56 -> 96 | K7: we 05 | L7: =' ACCUEIL'!C59 -> 143 | M7: =' ACCUEIL'!D59 -> 124 | N7: =' ACCUEIL'!G59 -> 134 | O7: =' ACCUEIL'!H59 -> 9 | Q7: sem+we 05 | R7: =C7+L7 -> 852 | S7: =D7+M7 -> 699 | T7: =G7+N7 -> 685 | U7: =H7+O7 -> 105
B8: sem 06 | C8: =' ACCUEIL'!C68 -> 573 | D8: =' ACCUEIL'!D68 -> 371 | E8: =' ACCUEIL'!E68 -> 84 | F8: =' ACCUEIL'!F68 -> 6 | G8: =' ACCUEIL'!G68 -> 487 | H8: =' ACCUEIL'!H68 -> 86 | K8: we 06 | L8: =' ACCUEIL'!C71 -> 161 | M8: =' ACCUEIL'!D71 -> 127 | N8: =' ACCUEIL'!G71 -> 149 | O8: =' ACCUEIL'!H71 -> 12 | Q8: sem+we 06 | R8: =C8+L8 -> 734 | S8: =D8+M8 -> 498 | T8: =G8+N8 -> 636 | U8: =H8+O8 -> 98
B9: sem 07 | C9: =' ACCUEIL'!C80 -> 660 | D9: =' ACCUEIL'!D80 -> 424 | E9: =' ACCUEIL'!E80 -> 87 | F9: =' ACCUEIL'!F80 -> 0 | G9: =' ACCUEIL'!G80 -> 542 | H9: =' ACCUEIL'!H80 -> 118 | K9: we 07 | L9: =' ACCUEIL'!C83 -> 180 | M9: =' ACCUEIL'!D83 -> 147 | N9: =' ACCUEIL'!G83 -> 160 | O9: =' ACCUEIL'!H83 -> 20 | Q9: sem+we 07 | R9: =C9+L9 -> 840 | S9: =D9+M9 -> 571 | T9: =G9+N9 -> 702 | U9: =H9+O9 -> 138
B10: sem 08 | C10: =' ACCUEIL'!C92 -> 710 | D10: =' ACCUEIL'!D92 -> 497 | E10: =' ACCUEIL'!E92 -> 92 | F10: =' ACCUEIL'!F92 -> 0 | G10: =' ACCUEIL'!G92 -> 569 | H10: =' ACCUEIL'!H92 -> 141 | K10: we 08 | L10: =' ACCUEIL'!C95 -> 202 | M10: =' ACCUEIL'!D95 -> 167 | N10: =' ACCUEIL'!G95 -> 180 | O10: =' ACCUEIL'!H95 -> 22 | Q10: sem+we 08 | R10: =C10+L10 -> 912 | S10: =D10+M10 -> 664 | T10: =G10+N10 -> 749 | U10: =H10+O10 -> 163
B11: sem 09 | C11: =' ACCUEIL'!C104 -> 649 | D11: =' ACCUEIL'!D104 -> 463 | E11: =' ACCUEIL'!E104 -> 82 | F11: =' ACCUEIL'!F104 -> 0 | G11: =' ACCUEIL'!G104 -> 547 | H11: =' ACCUEIL'!H104 -> 102 | K11: we 09 | L11: =' ACCUEIL'!C107 -> 175 | M11: =' ACCUEIL'!D107 -> 154 | N11: =' ACCUEIL'!G107 -> 160 | O11: =' ACCUEIL'!H107 -> 15 | Q11: sem+we 09 | R11: =C11+L11 -> 824 | S11: =D11+M11 -> 617 | T11: =G11+N11 -> 707 | U11: =H11+O11 -> 117
B12: sem 10 | C12: =' ACCUEIL'!C116 -> 644 | D12: =' ACCUEIL'!D116 -> 434 | E12: =' ACCUEIL'!E116 -> 77 | F12: =' ACCUEIL'!F116 -> 9 | G12: =' ACCUEIL'!G116 -> 556 | H12: =' ACCUEIL'!H116 -> 88 | K12: we 10 | L12: =' ACCUEIL'!C119 -> 144 | M12: =' ACCUEIL'!D119 -> 130 | N12: =' ACCUEIL'!G119 -> 127 | O12: =' ACCUEIL'!H119 -> 17 | Q12: sem+we 10 | R12: =C12+L12 -> 788 | S12: =D12+M12 -> 564 | T12: =G12+N12 -> 683 | U12: =H12+O12 -> 105
B13: sem 11 | C13: =' ACCUEIL'!K8 -> 573 | D13: =' ACCUEIL'!L8 -> 402 | E13: =' ACCUEIL'!M8 -> 81 | F13: =' ACCUEIL'!N8 -> 7 | G13: =' ACCUEIL'!O8 -> 497 | H13: =' ACCUEIL'!P8 -> 76 | K13: we 11 | L13: =' ACCUEIL'!K11 -> 179 | M13: =' ACCUEIL'!L11 -> 137 | N13: =' ACCUEIL'!O11 -> 169 | O13: =' ACCUEIL'!P11 -> 10 | Q13: sem+we 11 | R13: =C13+L13 -> 752 | S13: =D13+M13 -> 539 | T13: =G13+N13 -> 666 | U13: =H13+O13 -> 86
B14: sem 12 | C14: =' ACCUEIL'!K20 -> 634 | D14: =' ACCUEIL'!L20 -> 445 | E14: =' ACCUEIL'!M20 -> 100 | F14: =' ACCUEIL'!N20 -> 15 | G14: =' ACCUEIL'!O20 -> 564 | H14: =' ACCUEIL'!P20 -> 70 | K14: we 12 | L14: =' ACCUEIL'!K23 -> 175 | M14: =' ACCUEIL'!L23 -> 137 | N14: =' ACCUEIL'!O23 -> 163 | O14: =' ACCUEIL'!P23 -> 12 | Q14: sem+we 12 | R14: =C14+L14 -> 809 | S14: =D14+M14 -> 582 | T14: =G14+N14 -> 727 | U14: =H14+O14 -> 82
B15: sem 13 | C15: =' ACCUEIL'!K32 -> 619 | D15: =' ACCUEIL'!L32 -> 440 | E15: =' ACCUEIL'!M32 -> 102 | F15: =' ACCUEIL'!N32 -> 14 | G15: =' ACCUEIL'!O32 -> 541 | H15: =' ACCUEIL'!P32 -> 78 | K15: we 13 | L15: =' ACCUEIL'!K35 -> 179 | M15: =' ACCUEIL'!L35 -> 142 | N15: =' ACCUEIL'!O35 -> 162 | O15: =' ACCUEIL'!P35 -> 17 | Q15: sem+we 13 | R15: =C15+L15 -> 798 | S15: =D15+M15 -> 582 | T15: =G15+N15 -> 703 | U15: =H15+O15 -> 95
B16: sem 14 | C16: =' ACCUEIL'!K44 -> 589 | D16: =' ACCUEIL'!L44 -> 413 | E16: =' ACCUEIL'!M44 -> 88 | F16: =' ACCUEIL'!N44 -> 15 | G16: =' ACCUEIL'!O44 -> 518 | H16: =' ACCUEIL'!P44 -> 71 | K16: we 14 | L16: =' ACCUEIL'!K47 -> 0 | M16: =' ACCUEIL'!L47 -> 0 | N16: =' ACCUEIL'!O47 -> 0 | O16: =' ACCUEIL'!P47 -> 0 | Q16: sem+we 14 | R16: =C16+L16 -> 589 | S16: =D16+M16 -> 413 | T16: =G16+N16 -> 518 | U16: =H16+O16 -> 71
B17: sem 15 | C17: =' ACCUEIL'!K56 -> 456 | D17: =' ACCUEIL'!L56 -> 325 | E17: =' ACCUEIL'!M56 -> 95 | F17: =' ACCUEIL'!N56 -> 8 | G17: =' ACCUEIL'!O56 -> 401 | H17: =' ACCUEIL'!P56 -> 55 | K17: we 15 | L17: =' ACCUEIL'!K59 -> 0 | M17: =' ACCUEIL'!L59 -> 0 | N17: =' ACCUEIL'!O59 -> 0 | O17: =' ACCUEIL'!P59 -> 0 | Q17: sem+we 15 | R17: =C17+L17 -> 456 | S17: =D17+M17 -> 325 | T17: =G17+N17 -> 401 | U17: =H17+O17 -> 55
B18: sem 16 | C18: =' ACCUEIL'!K68 -> 490 | D18: =' ACCUEIL'!L68 -> 346 | E18: =' ACCUEIL'!M68 -> 98 | F18: =' ACCUEIL'!N68 -> 14 | G18: =' ACCUEIL'!O68 -> 426 | H18: =' ACCUEIL'!P68 -> 64 | K18: we 16 | L18: =' ACCUEIL'!K71 -> 0 | M18: =' ACCUEIL'!L71 -> 0 | N18: =' ACCUEIL'!O71 -> 0 | O18: =' ACCUEIL'!P71 -> 0 | Q18: sem+we 16 | R18: =C18+L18 -> 490 | S18: =D18+M18 -> 346 | T18: =G18+N18 -> 426 | U18: =H18+O18 -> 64
B19: sem 17 | C19: =' ACCUEIL'!K80 -> 514 | D19: =' ACCUEIL'!L80 -> 359 | E19: =' ACCUEIL'!M80 -> 94 | F19: =' ACCUEIL'!N80 -> 3 | G19: =' ACCUEIL'!O80 -> 465 | H19: =' ACCUEIL'!P80 -> 49 | K19: we 17 | L19: =' ACCUEIL'!K83 -> 0 | M19: =' ACCUEIL'!L83 -> 0 | N19: =' ACCUEIL'!O83 -> 0 | O19: =' ACCUEIL'!P83 -> 0 | Q19: sem+we 17 | R19: =C19+L19 -> 514 | S19: =D19+M19 -> 359 | T19: =G19+N19 -> 465 | U19: =H19+O19 -> 49
B20: sem 18 | C20: =' ACCUEIL'!K92 -> 478 | D20: =' ACCUEIL'!L92 -> 347 | E20: =' ACCUEIL'!M92 -> 100 | F20: =' ACCUEIL'!N92 -> 6 | G20: =' ACCUEIL'!O92 -> 418 | H20: =' ACCUEIL'!P92 -> 60 | K20: we 18 | L20: =' ACCUEIL'!K95 -> 0 | M20: =' ACCUEIL'!L95 -> 0 | N20: =' ACCUEIL'!O95 -> 0 | O20: =' ACCUEIL'!P95 -> 0 | Q20: sem+we 18 | R20: =C20+L20 -> 478 | S20: =D20+M20 -> 347 | T20: =G20+N20 -> 418 | U20: =H20+O20 -> 60
B21: sem 19 | C21: =' ACCUEIL'!K104 -> 341 | D21: =' ACCUEIL'!L104 -> 222 | E21: =' ACCUEIL'!M104 -> 84 | F21: =' ACCUEIL'!N104 -> 6 | G21: =' ACCUEIL'!O104 -> 288 | H21: =' ACCUEIL'!P104 -> 53 | K21: we 19 | L21: =' ACCUEIL'!K107 -> 0 | M21: =' ACCUEIL'!L107 -> 0 | N21: =' ACCUEIL'!O107 -> 0 | O21: =' ACCUEIL'!P107 -> 0 | Q21: sem+we 19 | R21: =C21+L21 -> 341 | S21: =D21+M21 -> 222 | T21: =G21+N21 -> 288 | U21: =H21+O21 -> 53
B22: sem 20 | C22: =' ACCUEIL'!K116 -> 471 | D22: =' ACCUEIL'!L116 -> 322 | E22: =' ACCUEIL'!M116 -> 89 | F22: =' ACCUEIL'!N116 -> 10 | G22: =' ACCUEIL'!O116 -> 410 | H22: =' ACCUEIL'!P116 -> 61 | K22: we 20 | L22: =' ACCUEIL'!K119 -> 0 | M22: =' ACCUEIL'!L119 -> 0 | N22: =' ACCUEIL'!O119 -> 0 | O22: =' ACCUEIL'!P119 -> 0 | Q22: sem+we 20 | R22: =C22+L22 -> 471 | S22: =D22+M22 -> 322 | T22: =G22+N22 -> 410 | U22: =H22+O22 -> 61
B23: sem 21 | C23: =' ACCUEIL'!S8 -> 412 | D23: =' ACCUEIL'!T8 -> 312 | E23: =' ACCUEIL'!U8 -> 107 | F23: =' ACCUEIL'!V8 -> 3 | G23: =' ACCUEIL'!W8 -> 347 | H23: =' ACCUEIL'!X8 -> 65 | K23: we 21 | L23: =' ACCUEIL'!S11 -> 0 | M23: =' ACCUEIL'!T11 -> 0 | N23: =' ACCUEIL'!W11 -> 0 | O23: =' ACCUEIL'!X11 -> 0 | Q23: sem+we 21 | R23: =C23+L23 -> 412 | S23: =D23+M23 -> 312 | T23: =G23+N23 -> 347 | U23: =H23+O23 -> 65
B24: sem 22 | C24: =' ACCUEIL'!S20 -> 495 | D24: =' ACCUEIL'!T20 -> 363 | E24: =' ACCUEIL'!U20 -> 110 | F24: =' ACCUEIL'!V20 -> 4 | G24: =' ACCUEIL'!W20 -> 424 | H24: =' ACCUEIL'!X20 -> 71 | K24: we 22 | L24: =' ACCUEIL'!S23 -> 0 | M24: =' ACCUEIL'!T23 -> 0 | N24: =' ACCUEIL'!W23 -> 0 | O24: =' ACCUEIL'!X23 -> 0 | Q24: sem+we 22 | R24: =C24+L24 -> 495 | S24: =D24+M24 -> 363 | T24: =G24+N24 -> 424 | U24: =H24+O24 -> 71
B25: sem 23 | C25: =' ACCUEIL'!S32 -> 418 | D25: =' ACCUEIL'!T32 -> 305 | E25: =' ACCUEIL'!U32 -> 92 | F25: =' ACCUEIL'!V32 -> 9 | G25: =' ACCUEIL'!W32 -> 363 | H25: =' ACCUEIL'!X32 -> 55 | K25: we 23 | L25: =' ACCUEIL'!S35 -> 0 | M25: =' ACCUEIL'!T35 -> 0 | N25: =' ACCUEIL'!W35 -> 0 | O25: =' ACCUEIL'!X35 -> 0 | Q25: sem+we 23 | R25: =C25+L25 -> 418 | S25: =D25+M25 -> 305 | T25: =G25+N25 -> 363 | U25: =H25+O25 -> 55
B26: sem 24 | C26: =' ACCUEIL'!S44 -> 379 | D26: =' ACCUEIL'!T44 -> 272 | E26: =' ACCUEIL'!U44 -> 99 | F26: =' ACCUEIL'!V44 -> 8 | G26: =' ACCUEIL'!W44 -> 316 | H26: =' ACCUEIL'!X44 -> 63 | K26: we 24 | L26: =' ACCUEIL'!S47 -> 0 | M26: =' ACCUEIL'!T47 -> 0 | N26: =' ACCUEIL'!W47 -> 0 | O26: =' ACCUEIL'!X47 -> 0 | Q26: sem+we 24 | R26: =C26+L26 -> 379 | S26: =D26+M26 -> 272 | T26: =G26+N26 -> 316 | U26: =H26+O26 -> 63
B27: sem 25 | C27: =' ACCUEIL'!S56 -> 462 | D27: =' ACCUEIL'!T56 -> 298 | E27: =' ACCUEIL'!U56 -> 102 | F27: =' ACCUEIL'!V56 -> 2 | G27: =' ACCUEIL'!W56 -> 379 | H27: =' ACCUEIL'!X56 -> 83 | K27: we 25 | L27: =' ACCUEIL'!S59 -> 0 | M27: =' ACCUEIL'!T59 -> 0 | N27: =' ACCUEIL'!W59 -> 0 | O27: =' ACCUEIL'!X59 -> 0 | Q27: sem+we 25 | R27: =C27+L27 -> 462 | S27: =D27+M27 -> 298 | T27: =G27+N27 -> 379 | U27: =H27+O27 -> 83
B28: sem 26 | C28: =' ACCUEIL'!S68 -> 0 | D28: =' ACCUEIL'!T68 -> 0 | E28: =' ACCUEIL'!U68 -> 0 | F28: =' ACCUEIL'!V68 -> 0 | G28: =' ACCUEIL'!W68 -> 0 | H28: =' ACCUEIL'!X68 -> 0 | K28: we 26 | L28: =' ACCUEIL'!S71 -> 0 | M28: =' ACCUEIL'!T71 -> 0 | N28: =' ACCUEIL'!W71 -> 0 | O28: =' ACCUEIL'!X71 -> 0 | Q28: sem+we 26 | R28: =C28+L28 -> 0 | S28: =D28+M28 -> 0 | T28: =G28+N28 -> 0 | U28: =H28+O28 -> 0
B29: sem 27 | C29: =' ACCUEIL'!S80 -> 0 | D29: =' ACCUEIL'!T80 -> 0 | E29: =' ACCUEIL'!U80 -> 0 | F29: =' ACCUEIL'!V80 -> 0 | G29: =' ACCUEIL'!W80 -> 0 | H29: =' ACCUEIL'!X80 -> 0 | K29: we 27 | L29: =' ACCUEIL'!S83 -> 0 | M29: =' ACCUEIL'!T83 -> 0 | N29: =' ACCUEIL'!W83 -> 0 | O29: =' ACCUEIL'!X83 -> 0 | Q29: sem+we 27 | R29: =C29+L29 -> 0 | S29: =D29+M29 -> 0 | T29: =G29+N29 -> 0 | U29: =H29+O29 -> 0
B30: sem 28 | C30: =' ACCUEIL'!S92 -> 406 | D30: =' ACCUEIL'!T92 -> 268 | E30: =' ACCUEIL'!U92 -> 77 | F30: =' ACCUEIL'!V92 -> 11 | G30: =' ACCUEIL'!W92 -> 336 | H30: =' ACCUEIL'!X92 -> 70 | K30: we 28 | L30: =' ACCUEIL'!S95 -> 0 | M30: =' ACCUEIL'!T95 -> 0 | N30: =' ACCUEIL'!W95 -> 0 | O30: =' ACCUEIL'!X95 -> 0 | Q30: sem+we 28 | R30: =C30+L30 -> 406 | S30: =D30+M30 -> 268 | T30: =G30+N30 -> 336 | U30: =H30+O30 -> 70
B31: sem 29 | C31: =' ACCUEIL'!S104 -> 472 | D31: =' ACCUEIL'!T104 -> 360 | E31: =' ACCUEIL'!U104 -> 84 | F31: =' ACCUEIL'!V104 -> 15 | G31: =' ACCUEIL'!W104 -> 405 | H31: =' ACCUEIL'!X104 -> 67 | K31: we 29 | L31: =' ACCUEIL'!S107 -> 0 | M31: =' ACCUEIL'!T107 -> 0 | N31: =' ACCUEIL'!W107 -> 0 | O31: =' ACCUEIL'!X107 -> 0 | Q31: sem+we 29 | R31: =C31+L31 -> 472 | S31: =D31+M31 -> 360 | T31: =G31+N31 -> 405 | U31: =H31+O31 -> 67
B32: sem 30 | C32: =' ACCUEIL'!S116 -> 424 | D32: =' ACCUEIL'!T116 -> 340 | E32: =' ACCUEIL'!U116 -> 91 | F32: =' ACCUEIL'!V116 -> 0 | G32: =' ACCUEIL'!W116 -> 362 | H32: =' ACCUEIL'!X116 -> 62 | K32: we 30 | L32: =' ACCUEIL'!S119 -> 0 | M32: =' ACCUEIL'!T119 -> 0 | N32: =' ACCUEIL'!W119 -> 0 | O32: =' ACCUEIL'!X119 -> 0 | Q32: sem+we 30 | R32: =C32+L32 -> 424 | S32: =D32+M32 -> 340 | T32: =G32+N32 -> 362 | U32: =H32+O32 -> 62
B33: sem 31 | C33: =' ACCUEIL'!AA8 -> 475 | D33: =' ACCUEIL'!AB8 -> 375 | E33: =' ACCUEIL'!AC8 -> 101 | F33: =' ACCUEIL'!AD8 -> 0 | G33: =' ACCUEIL'!AE8 -> 416 | H33: =' ACCUEIL'!AF8 -> 59 | K33: we 31 | L33: =' ACCUEIL'!AA11 -> 0 | M33: =' ACCUEIL'!AB11 -> 0 | N33: =' ACCUEIL'!AE11 -> 0 | O33: =' ACCUEIL'!AF11 -> 0 | Q33: sem+we 31 | R33: =C33+L33 -> 475 | S33: =D33+M33 -> 375 | T33: =G33+N33 -> 416 | U33: =H33+O33 -> 59
B34: sem 32 | C34: =' ACCUEIL'!AA20 -> 437 | D34: =' ACCUEIL'!AB20 -> 323 | E34: =' ACCUEIL'!AC20 -> 95 | F34: =' ACCUEIL'!AD20 -> 12 | G34: =' ACCUEIL'!AE20 -> 369 | H34: =' ACCUEIL'!AF20 -> 68 | K34: we 32 | L34: =' ACCUEIL'!AA23 -> 0 | M34: =' ACCUEIL'!AB23 -> 0 | N34: =' ACCUEIL'!AE23 -> 0 | O34: =' ACCUEIL'!AF23 -> 0 | Q34: sem+we 32 | R34: =C34+L34 -> 437 | S34: =D34+M34 -> 323 | T34: =G34+N34 -> 369 | U34: =H34+O34 -> 68
B35: sem 33 | C35: =' ACCUEIL'!AA32 -> 396 | D35: =' ACCUEIL'!AB32 -> 336 | E35: =' ACCUEIL'!AC32 -> 95 | F35: =' ACCUEIL'!AD32 -> 18 | G35: =' ACCUEIL'!AE32 -> 342 | H35: =' ACCUEIL'!AF32 -> 54 | K35: we 33 | L35: =' ACCUEIL'!AA35 -> 0 | M35: =' ACCUEIL'!AB35 -> 0 | N35: =' ACCUEIL'!AE35 -> 0 | O35: =' ACCUEIL'!AF35 -> 0 | Q35: sem+we 33 | R35: =C35+L35 -> 396 | S35: =D35+M35 -> 336 | T35: =G35+N35 -> 342 | U35: =H35+O35 -> 54
B36: sem 34 | C36: =' ACCUEIL'!AA44 -> 0 | D36: =' ACCUEIL'!AB44 -> 0 | E36: =' ACCUEIL'!AC44 -> 95 | F36: =' ACCUEIL'!AD44 -> 0 | G36: =' ACCUEIL'!AE44 -> 0 | H36: =' ACCUEIL'!AF44 -> 0 | K36: we 34 | L36: =' ACCUEIL'!AA47 -> 0 | M36: =' ACCUEIL'!AB47 -> 0 | N36: =' ACCUEIL'!AE47 -> 0 | O36: =' ACCUEIL'!AF47 -> 0 | Q36: sem+we 34 | R36: =C36+L36 -> 0 | S36: =D36+M36 -> 0 | T36: =G36+N36 -> 0 | U36: =H36+O36 -> 0
B37: sem 35 | C37: =' ACCUEIL'!AA56 -> 0 | D37: =' ACCUEIL'!AB56 -> 0 | E37: =' ACCUEIL'!AC56 -> 77 | F37: =' ACCUEIL'!AD56 -> 0 | G37: =' ACCUEIL'!AE56 -> 0 | H37: =' ACCUEIL'!AF56 -> 0 | K37: we 35 | L37: =' ACCUEIL'!AA59 -> 0 | M37: =' ACCUEIL'!AB59 -> 0 | N37: =' ACCUEIL'!AE59 -> 0 | O37: =' ACCUEIL'!AF59 -> 0 | Q37: sem+we 35 | R37: =C37+L37 -> 0 | S37: =D37+M37 -> 0 | T37: =G37+N37 -> 0 | U37: =H37+O37 -> 0
B38: sem 36 | C38: =' ACCUEIL'!AA68 -> 434 | D38: =' ACCUEIL'!AB68 -> 320 | E38: =' ACCUEIL'!AC68 -> 79 | F38: =' ACCUEIL'!AD68 -> 18 | G38: =' ACCUEIL'!AE68 -> 375 | H38: =' ACCUEIL'!AF68 -> 59 | K38: we 36 | L38: =' ACCUEIL'!AA71 -> 0 | M38: =' ACCUEIL'!AB71 -> 0 | N38: =' ACCUEIL'!AE71 -> 0 | O38: =' ACCUEIL'!AF71 -> 0 | Q38: sem+we 36 | R38: =C38+L38 -> 434 | S38: =D38+M38 -> 320 | T38: =G38+N38 -> 375 | U38: =H38+O38 -> 59
B39: sem 37 | C39: =' ACCUEIL'!AA80 -> 371 | D39: =' ACCUEIL'!AB80 -> 256 | E39: =' ACCUEIL'!AC80 -> 65 | F39: =' ACCUEIL'!AD80 -> 17 | G39: =' ACCUEIL'!AE80 -> 311 | H39: =' ACCUEIL'!AF80 -> 60 | K39: we 37 | L39: =' ACCUEIL'!AA83 -> 0 | M39: =' ACCUEIL'!AB83 -> 0 | N39: =' ACCUEIL'!AE83 -> 0 | O39: =' ACCUEIL'!AF83 -> 0 | Q39: sem+we 37 | R39: =C39+L39 -> 371 | S39: =D39+M39 -> 256 | T39: =G39+N39 -> 311 | U39: =H39+O39 -> 60
B40: sem 38 | C40: =' ACCUEIL'!AA92 -> 410 | D40: =' ACCUEIL'!AB92 -> 297 | E40: =' ACCUEIL'!AC92 -> 79 | F40: =' ACCUEIL'!AD92 -> 14 | G40: =' ACCUEIL'!AE92 -> 345 | H40: =' ACCUEIL'!AF92 -> 65 | K40: we 38 | L40: =' ACCUEIL'!AA95 -> 0 | M40: =' ACCUEIL'!AB95 -> 0 | N40: =' ACCUEIL'!AE95 -> 0 | O40: =' ACCUEIL'!AF95 -> 0 | Q40: sem+we 38 | R40: =C40+L40 -> 410 | S40: =D40+M40 -> 297 | T40: =G40+N40 -> 345 | U40: =H40+O40 -> 65
B41: sem 39 | C41: =' ACCUEIL'!AA104 -> 497 | D41: =' ACCUEIL'!AB104 -> 360 | E41: =' ACCUEIL'!AC104 -> 77 | F41: =' ACCUEIL'!AD104 -> 13 | G41: =' ACCUEIL'!AE104 -> 417 | H41: =' ACCUEIL'!AF104 -> 80 | K41: we 39 | L41: =' ACCUEIL'!AA107 -> 0 | M41: =' ACCUEIL'!AB107 -> 0 | N41: =' ACCUEIL'!AE107 -> 0 | O41: =' ACCUEIL'!AF107 -> 0 | Q41: sem+we 39 | R41: =C41+L41 -> 497 | S41: =D41+M41 -> 360 | T41: =G41+N41 -> 417 | U41: =H41+O41 -> 80
...

Sheet  ACCUEIL
B2: sem 01 | C2: Entrées | D2: Déjeuners | E2: Colis | F2: Permanences | G2: Hommes | H2: Femmes | J2: sem 11 | K2: Entrées | L2: Déjeuners | M2: Colis | N2: Permanences | O2: Hommes | P2: Femmes | R2: sem 21 | S2: Entrées | T2: Déjeuners | U2: Colis | V2: Permanences | W2: Hommes | X2: Femmes | Z2: sem 31 | AA2: Entrées | AB2: Déjeuners | AC2: Colis | AD2: Permanences | AE2: Hommes | AF2: Femmes | AH2: sem 41 | AI2: Entrées | AJ2: Déjeuners | AK2: Colis | AL2: Permanences | AM2: Hommes | AN2: Femmes | AP2: sem 51 | AQ2: Entrées | AR2: Déjeuners | AS2: Colis | AT2: Permanences | AU2: Hommes | AV2: Femmes
B3: lundi | H3: =C3-G3 -> 0 | J3: lundi | K3: 114 | L3: 79 | M3: 14 | N3: 2 | O3: 95 | P3: =K3-O3 -> 19 | R3: lundi | S3: 0 | T3: 0 | U3: 0 | V3: 0 | W3: 0 | X3: =S3-W3 -> 0 | Z3: lundi | AA3: 96 | AB3: 79 | AC3: 24 | AD3: 0 | AE3: 83 | AF3: =AA3-AE3 -> 13 | AH3: lundi | AI3: 92 | AJ3: 69 | AK3: 13 | AL3: 0 | AM3: 79 | AN3: =AI3-AM3 -> 13 | AP3: lundi | AQ3: 117 | AR3: 85 | AS3: 19 | AT3: 0 | AU3: 101 | AV3: =AQ3-AU3 -> 16
B4: mardi | H4: =C4-G4 -> 0 | J4: mardi | K4: 101 | L4: 71 | M4: 23 | N4: 0 | O4: 91 | P4: =K4-O4 -> 10 | R4: mardi | S4: 98 | T4: 76 | U4: 30 | V4: 3 | W4: 85 | X4: =S4-W4 -> 13 | Z4: mardi | AA4: 91 | AB4: 78 | AC4: 22 | AD4: 0 | AE4: 79 | AF4: =AA4-AE4 -> 12 | AH4: mardi | AI4: 92 | AJ4: 64 | AK4: 14 | AL4: 3 | AM4: 81 | AN4: =AI4-AM4 -> 11 | AP4: mardi | AQ4: 122 | AR4: 80 | AS4: 16 | AT4: 6 | AU4: 112 | AV4: =AQ4-AU4 -> 10
B5: mercredi | H5: =C5-G5 -> 0 | J5: mercredi | K5: 131 | L5: 88 | M5: 10 | N5: 0 | O5: 113 | P5: =K5-O5 -> 18 | R5: mercredi | S5: 103 | T5: 83 | U5: 23 | V5: 0 | W5: 83 | X5: =S5-W5 -> 20 | Z5: mercredi | AA5: 101 | AB5: 82 | AC5: 18 | AD5: 0 | AE5: 88 | AF5: =AA5-AE5 -> 13 | AH5: mercredi | AI5: 98 | AJ5: 68 | AK5: 22 | AL5: 2 | AM5: 86 | AN5: =AI5-AM5 -> 12 | AP5: mercredi | AQ5: 127 | AR5: 85 | AS5: 18 | AT5: 2 | AU5: 111 | AV5: =AQ5-AU5 -> 16
B6: jeudi | H6: =C6-G6 -> 0 | J6: jeudi | K6: 110 | L6: 86 | M6: 19 | N6: 5 | O6: 92 | P6: =K6-O6 -> 18 | R6: jeudi | S6: 94 | T6: 70 | U6: 25 | V6: 0 | W6: 81 | X6: =S6-W6 -> 13 | Z6: jeudi | AA6: 94 | AB6: 67 | AC6: 14 | AD6: 0 | AE6: 80 | AF6: =AA6-AE6 -> 14 | AH6: jeudi | AI6: 81 | AJ6: 62 | AK6: 21 | AL6: 7 | AM6: 66 | AN6: =AI6-AM6 -> 15 | AP6: jeudi | AQ6: 102 | AR6: 77 | AS6: 19 | AT6: 5 | AU6: 85 | AV6: =AQ6-AU6 -> 17
B7: vendredi | C7: 61 | D7: 51 | E7: 0 | F7: 0 | G7: 56 | H7: =C7-G7 -> 5 | J7: vendredi | K7: 117 | L7: 78 | M7: 15 | N7: 0 | O7: 106 | P7: =K7-O7 -> 11 | R7: vendredi | S7: 117 | T7: 83 | U7: 29 | V7: 0 | W7: 98 | X7: =S7-W7 -> 19 | Z7: vendredi | AA7: 93 | AB7: 69 | AC7: 23 | AD7: 0 | AE7: 86 | AF7: =AA7-AE7 -> 7 | AH7: vendredi | AI7: 78 | AJ7: 49 | AK7: 14 | AL7: 0 | AM7: 59 | AN7: =AI7-AM7 -> 19 | AP7: vendredi | AQ7: 113 | AR7: 80 | AS7: 18 | AT7: 0 | AU7: 99 | AV7: =AQ7-AU7 -> 14
B8: TOTAL | C8: =SUM(C3:C7) -> 61 | D8: =SUM(D3:D7) -> 51 | E8: =SUM(E3:E7) -> 0 | F8: =SUM(F3:F7) -> 0 | G8: =SUM(G3:G7) -> 56 | H8: =SUM(H3:H7) -> 5 | J8: TOTAL | K8: =SUM(K3:K7) -> 573 | L8: =SUM(L3:L7) -> 402 | M8: =SUM(M3:M7) -> 81 | N8: =SUM(N3:N7) -> 7 | O8: =SUM(O3:O7) -> 497 | P8: =SUM(P3:P7) -> 76 | R8: TOTAL | S8: =SUM(S3:S7) -> 412 | T8: =SUM(T3:T7) -> 312 | U8: =SUM(U3:U7) -> 107 | V8: =SUM(V3:V7) -> 3 | W8: =SUM(W3:W7) -> 347 | X8: =SUM(X3:X7) -> 65 | Z8: TOTAL | AA8: =SUM(AA3:AA7) -> 475 | AB8: =SUM(AB3:AB7) -> 375 | AC8: =SUM(AC3:AC7) -> 101 | AD8: =SUM(AD3:AD7) -> 0 | AE8: =SUM(AE3:AE7) -> 416 | AF8: =SUM(AF3:AF7) -> 59 | AH8: TOTAL | AI8: =SUM(AI3:AI7) -> 441 | AJ8: =SUM(AJ3:AJ7) -> 312 | AK8: =SUM(AK3:AK7) -> 84 | AL8: =SUM(AL3:AL7) -> 12 | AM8: =SUM(AM3:AM7) -> 371 | AN8: =SUM(AN3:AN7) -> 70 | AP8: TOTAL | AQ8: =SUM(AQ3:AQ7) -> 581 | AR8: =SUM(AR3:AR7) -> 407 | AS8: =SUM(AS3:AS7) -> 90 | AT8: =SUM(AT3:AT7) -> 13 | AU8: =SUM(AU3:AU7) -> 508 | AV8: =SUM(AV3:AV7) -> 73
B9: samedi | C9: 71 | D9: 61 | E9: 0 | F9: 0 | G9: 68 | H9: =C9-G9 -> 3 | J9: samedi | K9: 92 | L9: 65 | M9: 0 | N9: 0 | O9: 86 | P9: =K9-O9 -> 6 | R9: samedi | X9: =S9-W9 -> 0 | Z9: samedi | AF9: =AA9-AE9 -> 0 | AH9: samedi | AN9: =AI9-AM9 -> 0 | AP9: samedi | AQ9: 77 | AR9: 75 | AS9: 0 | AT9: 0 | AU9: 71 | AV9: =AQ9-AU9 -> 6
B10: dimanche | C10: 80 | D10: 71 | E10: 0 | F10: 0 | G10: 75 | H10: =C10-G10 -> 5 | J10: dimanche | K10: 87 | L10: 72 | M10: 0 | N10: 0 | O10: 83 | P10: =K10-O10 -> 4 | R10: dimanche | X10: =S10-W10 -> 0 | Z10: dimanche | AF10: =AA10-AE10 -> 0 | AH10: dimanche | AN10: =AI10-AM10 -> 0 | AP10: dimanche | AQ10: 77 | AR10: 67 | AS10: 0 | AT10: 0 | AU10: 71 | AV10: =AQ10-AU10 -> 6
B11: TOTAL we | C11: =SUBTOTAL(109,C9:C10) -> 151 | D11: =SUBTOTAL(109,D9:D10) -> 132 | E11: =SUBTOTAL(109,E9:E10) -> 0 | F11: =SUBTOTAL(109,F9:F10) -> 0 | G11: =SUBTOTAL(109,G9:G10) -> 143 | H11: =SUBTOTAL(109,H9:H10) -> 8 | J11: TOTAL we | K11: =SUBTOTAL(109,K9:K10) -> 179 | L11: =SUBTOTAL(109,L9:L10) -> 137 | M11: =SUBTOTAL(109,M9:M10) -> 0 | N11: =SUBTOTAL(109,N9:N10) -> 0 | O11: =SUBTOTAL(109,O9:O10) -> 169 | P11: =SUBTOTAL(109,P9:P10) -> 10 | R11: TOTAL we | S11: =SUBTOTAL(109,S9:S10) -> 0 | T11: =SUBTOTAL(109,T9:T10) -> 0 | U11: =SUBTOTAL(109,U9:U10) -> 0 | V11: =SUBTOTAL(109,V9:V10) -> 0 | W11: =SUBTOTAL(109,W9:W10) -> 0 | X11: =SUBTOTAL(109,X9:X10) -> 0 | Z11: TOTAL we | AA11: =SUBTOTAL(109,AA9:AA10) -> 0 | AB11: =SUBTOTAL(109,AB9:AB10) -> 0 | AC11: =SUBTOTAL(109,AC9:AC10) -> 0 | AD11: =SUBTOTAL(109,AD9:AD10) -> 0 | AE11: =SUBTOTAL(109,AE9:AE10) -> 0 | AF11: =SUBTOTAL(109,AF9:AF10) -> 0 | AH11: TOTAL we | AI11: =SUBTOTAL(109,AI9:AI10) -> 0 | AJ11: =SUBTOTAL(109,AJ9:AJ10) -> 0 | AK11: =SUBTOTAL(109,AK9:AK10) -> 0 | AL11: =SUBTOTAL(109,AL9:AL10) -> 0 | AM11: =SUBTOTAL(109,AM9:AM10) -> 0 | AN11: =SUBTOTAL(109,AN9:AN10) -> 0 | AP11: TOTAL we | AQ11: =SUBTOTAL(109,AQ9:AQ10) -> 154 | AR11: =SUBTOTAL(109,AR9:AR10) -> 142 | AS11: =SUBTOTAL(109,AS9:AS10) -> 0 | AT11: =SUBTOTAL(109,AT9:AT10) -> 0 | AU11: =SUBTOTAL(109,AU9:AU10) -> 142 | AV11: =SUBTOTAL(109,AV9:AV10) -> 12
B12: TOTAL s+we | C12: =SUM(C8,C11) -> 212 | D12: =SUM(D8,D11) -> 183 | E12: =SUM(E8,E11) -> 0 | F12: =SUM(F8,F11) -> 0 | G12: =SUM(G8,G11) -> 199 | H12: =SUM(H8,H11) -> 13 | J12: TOTAL s+we | K12: =SUM(K8,K11) -> 752 | L12: =SUM(L8,L11) -> 539 | M12: =SUM(M8,M11) -> 81 | N12: =SUM(N8,N11) -> 7 | O12: =SUM(O8,O11) -> 666 | P12: =SUM(P8,P11) -> 86 | R12: TOTAL s+we | S12: =SUM(S8,S11) -> 412 | T12: =SUM(T8,T11) -> 312 | U12: =SUM(U8,U11) -> 107 | V12: =SUM(V8,V11) -> 3 | W12: =SUM(W8,W11) -> 347 | X12: =SUM(X8,X11) -> 65 | Z12: TOTAL s+we | AA12: =SUM(AA8,AA11) -> 475 | AB12: =SUM(AB8,AB11) -> 375 | AC12: =SUM(AC8,AC11) -> 101 | AD12: =SUM(AD8,AD11) -> 0 | AE12: =SUM(AE8,AE11) -> 416 | AF12: =SUM(AF8,AF11) -> 59 | AH12: TOTAL s+we | AI12: =SUM(AI8,AI11) -> 441 | AJ12: =SUM(AJ8,AJ11) -> 312 | AK12: =SUM(AK8,AK11) -> 84 | AL12: =SUM(AL8,AL11) -> 12 | AM12: =SUM(AM8,AM11) -> 371 | AN12: =SUM(AN8,AN11) -> 70 | AP12: TOTAL s+we | AQ12: =SUM(AQ8,AQ11) -> 735 | AR12: =SUM(AR8,AR11) -> 549 | AS12: =SUM(AS8,AS11) -> 90 | AT12: =SUM(AT8,AT11) -> 13 | AU12: =SUM(AU8,AU11) -> 650 | AV12: =SUM(AV8,AV11) -> 85
B14: sem 02 | C14: Entrées | D14: Déjeuners | E14: Colis | F14: Permanences | G14: Hommes | H14: Femmes | J14: sem 12 | K14: Entrées | L14: Déjeuners | M14: Colis | N14: Permanences | O14: Hommes | P14: Femmes | R14: sem 22 | S14: Entrées | T14: Déjeuners | U14: Colis | V14: Permanences | W14: Hommes | X14: Femmes | Z14: sem 32 | AA14: Entrées | AB14: Déjeuners | AC14: Colis | AD14: Permanences | AE14: Hommes | AF14: Femmes | AH14: sem 42 | AI14: Entrées | AJ14: Déjeuners | AK14: Colis | AL14: Permanences | AM14: Hommes | AN14: Femmes | AP14: sem 52 | AQ14: Entrées | AR14: Déjeuners | AS14: Colis | AT14: Permanences | AU14: Hommes | AV14: Femmes
B15: lundi | C15: 157 | D15: 90 | E15: 17 | F15: 6 | G15: 133 | H15: =C15-G15 -> 24 | J15: lundi | K15: 130 | L15: 90 | M15: 17 | N15: 2 | O15: 114 | P15: =K15-O15 -> 16 | R15: lundi | S15: 101 | T15: 83 | U15: 16 | V15: 1 | W15: 92 | X15: =S15-W15 -> 9 | Z15: lundi | AA15: 91 | AB15: 58 | AC15: 22 | AD15: 0 | AE15: 74 | AF15: =AA15-AE15 -> 17 | AH15: lundi | AI15: 83 | AJ15: 70 | AK15: 15 | AL15: 2 | AM15: 72 | AN15: =AI15-AM15 -> 11 | AP15: lundi | AQ15: 137 | AR15: 94 | AS15: 19 | AT15: 0 | AU15: 120 | AV15: =AQ15-AU15 -> 17
B16: mardi | C16: 123 | D16: 88 | E16: 17 | F16: 6 | G16: 111 | H16: =C16-G16 -> 12 | J16: mardi | K16: 123 | L16: 87 | M16: 25 | N16: 2 | O16: 111 | P16: =K16-O16 -> 12 | R16: mardi | S16: 103 | T16: 69 | U16: 21 | V16: 0 | W16: 90 | X16: =S16-W16 -> 13 | Z16: mardi | AA16: 80 | AB16: 65 | AC16: 20 | AD16: 0 | AE16: 66 | AF16: =AA16-AE16 -> 14 | AH16: mardi | AI16: 89 | AJ16: 57 | AK16: 20 | AL16: 7 | AM16: 72 | AN16: =AI16-AM16 -> 17 | AP16: mardi | AQ16: 120 | AR16: 85 | AS16: 19 | AT16: 3 | AU16: 106 | AV16: =AQ16-AU16 -> 14
B17: mercredi | C17: 117 | D17: 85 | E17: 5 | F17: 0 | G17: 105 | H17: =C17-G17 -> 12 | J17: mercredi | K17: 117 | L17: 89 | M17: 12 | N17: 8 | O17: 100 | P17: =K17-O17 -> 17 | R17: mercredi | S17: 98 | T17: 74 | U17: 26 | V17: 2 | W17: 82 | X17: =S17-W17 -> 16 | Z17: mercredi | AA17: 94 | AB17: 68 | AC17: 18 | AD17: 0 | AE17: 83 | AF17: =AA17-AE17 -> 11 | AH17: mercredi | AI17: 86 | AJ17: 60 | AK17: 17 | AL17: 5 | AM17: 86 | AN17: =AI17-AM17 -> 0 | AP17: mercredi | AQ17: 128 | AR17: 124 | AS17: 21 | AT17: 1 | AU17: 114 | AV17: =AQ17-AU17 -> 14
B18: jeudi | C18: 127 | D18: 98 | E18: 15 | F18: 8 | G18: 101 | H18: =C18-G18 -> 26 | J18: jeudi | K18: 133 | L18: 100 | M18: 24 | N18: 3 | O18: 122 | P18: =K18-O18 -> 11 | R18: jeudi | S18: 94 | T18: 69 | U18: 24 | V18: 0 | W18: 77 | X18: =S18-W18 -> 17 | Z18: jeudi | AA18: 88 | AB18: 68 | AC18: 18 | AD18: 10 | AE18: 76 | AF18: =AA18-AE18 -> 12 | AH18: jeudi | AI18: 94 | AJ18: 70 | AK18: 20 | AL18: 8 | AM18: 75 | AN18: =AI18-AM18 -> 19 | AP18: jeudi | AQ18: 108 | AR18: 82 | AS18: 12 | AT18: 5 | AU18: 95 | AV18: =AQ18-AU18 -> 13
B19: vendredi | C19: 122 | D19: 98 | E19: 0 | F19: 0 | G19: 108 | H19: =C19-G19 -> 14 | J19: vendredi | K19: 131 | L19: 79 | M19: 22 | N19: 0 | O19: 117 | P19: =K19-O19 -> 14 | R19: vendredi | S19: 99 | T19: 68 | U19: 23 | V19: 1 | W19: 83 | X19: =S19-W19 -> 16 | Z19: vendredi | AA19: 84 | AB19: 64 | AC19: 17 | AD19: 2 | AE19: 70 | AF19: =AA19-AE19 -> 14 | AH19: vendredi | AI19: 96 | AJ19: 70 | AK19: 22 | AL19: 0 | AM19: 78 | AN19: =AI19-AM19 -> 18 | AP19: vendredi | AQ19: 110 | AR19: 73 | AS19: 21 | AT19: 0 | AU19: 100 | AV19: =AQ19-AU19 -> 10
B20: TOTAL sem | C20: =SUM(C15:C19) -> 646 | D20: =SUM(D15:D19) -> 459 | E20: =SUM(E15:E19) -> 54 | F20: =SUM(F15:F19) -> 20 | G20: =SUM(G15:G19) -> 558 | H20: =SUM(H15:H19) -> 88 | J20: TOTAL sem | K20: =SUM(K15:K19) -> 634 | L20: =SUM(L15:L19) -> 445 | M20: =SUM(M15:M19) -> 100 | N20: =SUM(N15:N19) -> 15 | O20: =SUM(O15:O19) -> 564 | P20: =SUM(P15:P19) -> 70 | R20: TOTAL sem | S20: =SUM(S15:S19) -> 495 | T20: =SUM(T15:T19) -> 363 | U20: =SUM(U15:U19) -> 110 | V20: =SUM(V15:V19) -> 4 | W20: =SUM(W15:W19) -> 424 | X20: =SUM(X15:X19) -> 71 | Z20: TOTAL sem | AA20: =SUM(AA15:AA19) -> 437 | AB20: =SUM(AB15:AB19) -> 323 | AC20: =SUM(AC15:AC19) -> 95 | AD20: =SUM(AD15:AD19) -> 12 | AE20: =SUM(AE15:AE19) -> 369 | AF20: =SUM(AF15:AF19) -> 68 | AH20: TOTAL sem | AI20: =SUM(AI15:AI19) -> 448 | AJ20: =SUM(AJ15:AJ19) -> 327 | AK20: =SUM(AK15:AK19) -> 94 | AL20: =SUM(AL15:AL19) -> 22 | AM20: =SUM(AM15:AM19) -> 383 | AN20: =SUM(AN15:AN19) -> 65 | AP20: TOTAL sem | AQ20: =SUM(AQ15:AQ19) -> 603 | AR20: =SUM(AR15:AR19) -> 458 | AS20: =SUM(AS15:AS19) -> 92 | AT20: =SUM(AT15:AT19) -> 9 | AU20: =SUM(AU15:AU19) -> 535 | AV20: =SUM(AV15:AV19) -> 68
B21: samedi | C21: 80 | D21: 70 | E21: 0 | F21: 0 | G21: 74 | H21: =C21-G21 -> 6 | J21: samedi | K21: 93 | L21: 80 | M21: 0 | N21: 0 | O21: 86 | P21: =K21-O21 -> 7 | R21: samedi | X21: =S21-W21 -> 0 | Z21: samedi | AF21: =AA21-AE21 -> 0 | AH21: samedi | AN21: =AI21-AM21 -> 0 | AP21: samedi | AQ21: 63 | AR21: 63 | AU21: 58 | AV21: =AQ21-AU21 -> 5
B22: dimanche | C22: 74 | D22: 69 | E22: 0 | F22: 0 | G22: 70 | H22: =C22-G22 -> 4 | J22: dimanche | K22: 82 | L22: 57 | M22: 0 | N22: 0 | O22: 77 | P22: =K22-O22 -> 5 | R22: dimanche | X22: =S22-W22 -> 0 | Z22: dimanche | AF22: =AA22-AE22 -> 0 | AH22: dimanche | AN22: =AI22-AM22 -> 0 | AP22: dimanche | AQ22: 61 | AR22: 61 | AU22: 59 | AV22: =AQ22-AU22 -> 2
B23: TOTAL we | C23: =SUBTOTAL(109,C21:C22) -> 154 | D23: =SUBTOTAL(109,D21:D22) -> 139 | E23: =SUBTOTAL(109,E21:E22) -> 0 | F23: =SUBTOTAL(109,F21:F22) -> 0 | G23: =SUBTOTAL(109,G21:G22) -> 144 | H23: =SUBTOTAL(109,H21:H22) -> 10 | J23: TOTAL we | K23: =SUBTOTAL(109,K21:K22) -> 175 | L23: =SUBTOTAL(109,L21:L22) -> 137 | M23: =SUBTOTAL(109,M21:M22) -> 0 | N23: =SUBTOTAL(109,N21:N22) -> 0 | O23: =SUBTOTAL(109,O21:O22) -> 163 | P23: =SUBTOTAL(109,P21:P22) -> 12 | R23: TOTAL we | S23: =SUBTOTAL(109,S21:S22) -> 0 | T23: =SUBTOTAL(109,T21:T22) -> 0 | U23: =SUBTOTAL(109,U21:U22) -> 0 | V23: =SUBTOTAL(109,V21:V22) -> 0 | W23: =SUBTOTAL(109,W21:W22) -> 0 | X23: =SUBTOTAL(109,X21:X22) -> 0 | Z23: TOTAL we | AA23: =SUBTOTAL(109,AA21:AA22) -> 0 | AB23: =SUBTOTAL(109,AB21:AB22) -> 0 | AC23: =SUBTOTAL(109,AC21:AC22) -> 0 | AD23: =SUBTOTAL(109,AD21:AD22) -> 0 | AE23: =SUBTOTAL(109,AE21:AE22) -> 0 | AF23: =SUBTOTAL(109,AF21:AF22) -> 0 | AH23: TOTAL we | AI23: =SUBTOTAL(109,AI21:AI22) -> 0 | AJ23: =SUBTOTAL(109,AJ21:AJ22) -> 0 | AK23: =SUBTOTAL(109,AK21:AK22) -> 0 | AL23: =SUBTOTAL(109,AL21:AL22) -> 0 | AM23: =SUBTOTAL(109,AM21:AM22) -> 0 | AN23: =SUBTOTAL(109,AN21:AN22) -> 0 | AP23: TOTAL we | AQ23: =SUBTOTAL(109,AQ21:AQ22) -> 124 | AR23: =SUBTOTAL(109,AR21:AR22) -> 124 | AS23: =SUBTOTAL(109,AS21:AS22) -> 0 | AT23: =SUBTOTAL(109,AT21:AT22) -> 0 | AU23: =SUBTOTAL(109,AU21:AU22) -> 117 | AV23: =SUBTOTAL(109,AV21:AV22) -> 7
B24: TOTAL s+we | C24: =SUM(C20,C23) -> 800 | D24: =SUM(D20,D23) -> 598 | E24: =SUM(E20,E23) -> 54 | F24: =SUM(F20,F23) -> 20 | G24: =SUM(G20,G23) -> 702 | H24: =SUM(H20,H23) -> 98 | J24: TOTAL s+we | K24: =SUM(K20,K23) -> 809 | L24: =SUM(L20,L23) -> 582 | M24: =SUM(M20,M23) -> 100 | N24: =SUM(N20,N23) -> 15 | O24: =SUM(O20,O23) -> 727 | P24: =SUM(P20,P23) -> 82 | R24: TOTAL s+we | S24: =SUM(S20,S23) -> 495 | T24: =SUM(T20,T23) -> 363 | U24: =SUM(U20,U23) -> 110 | V24: =SUM(V20,V23) -> 4 | W24: =SUM(W20,W23) -> 424 | X24: =SUM(X20,X23) -> 71 | Z24: TOTAL s+we | AA24: =SUM(AA20,AA23) -> 437 | AB24: =SUM(AB20,AB23) -> 323 | AC24: =SUM(AC20,AC23) -> 95 | AD24: =SUM(AD20,AD23) -> 12 | AE24: =SUM(AE20,AE23) -> 369 | AF24: =SUM(AF20,AF23) -> 68 | AH24: TOTAL s+we | AI24: =SUM(AI20,AI23) -> 448 | AJ24: =SUM(AJ20,AJ23) -> 327 | AK24: =SUM(AK20,AK23) -> 94 | AL24: =SUM(AL20,AL23) -> 22 | AM24: =SUM(AM20,AM23) -> 383 | AN24: =SUM(AN20,AN23) -> 65 | AP24: TOTAL s+we | AQ24: =SUM(AQ20,AQ23) -> 727 | AR24: =SUM(AR20,AR23) -> 582 | AS24: =SUM(AS20,AS23) -> 92 | AT24: =SUM(AT20,AT23) -> 9 | AU24: =SUM(AU20,AU23) -> 652 | AV24: =SUM(AV20,AV23) -> 75
B26: sem 03 | C26: Entrées | D26: Déjeuners | E26: Colis | F26: Permanences | G26: Hommes | H26: Femmes | J26: sem 13 | K26: Entrées | L26: Déjeuners | M26: Colis | N26: Permanences | O26: Hommes | P26: Femmes | R26: sem 23 | S26: Entrées | T26: Déjeuners | U26: Colis | V26: Permanences | W26: Hommes | X26: Femmes | Z26: sem 33 | AA26: Entrées | AB26: Déjeuners | AC26: Colis | AD26: Permanences | AE26: Hommes | AF26: Femmes | AH26: sem 43 | AI26: Entrées | AJ26: Déjeuners | AK26: Colis | AL26: Permanences | AM26: Hommes | AN26: Femmes | AP26: sem 53 | AQ26: Entrées | AR26: Déjeuners | AS26: Colis | AT26: Permanences | AU26: Hommes | AV26: Femmes
B27: lundi | C27: 125 | D27: 85 | E27: 20 | F27: 5 | G27: 105 | H27: =C27-G27 -> 20 | J27: lundi | K27: 139 | L27: 94 | M27: 21 | N27: 4 | O27: 116 | P27: =K27-O27 -> 23 | R27: lundi | S27: 91 | T27: 70 | U27: 16 | V27: 1 | W27: 75 | X27: =S27-W27 -> 16 | Z27: lundi | AA27: 73 | AB27: 65 | AC27: 17 | AD27: 2 | AE27: 61 | AF27: =AA27-AE27 -> 12 | AH27: lundi | AI27: 101 | AJ27: 80 | AK27: 20 | AL27: 3 | AM27: 86 | AN27: =AI27-AM27 -> 15 | AP27: lundi | AQ27: 97 | AR27: 74 | AS27: 13 | AT27: 0 | AU27: 74 | AV27: =AQ27-AU27 -> 23
B28: mardi | C28: 130 | D28: 88 | E28: 16 | F28: 8 | G28: 106 | H28: =C28-G28 -> 24 | J28: mardi | K28: 131 | L28: 95 | M28: 23 | N28: 0 | O28: 114 | P28: =K28-O28 -> 17 | R28: mardi | S28: 80 | T28: 61 | U28: 15 | V28: 0 | W28: 71 | X28: =S28-W28 -> 9 | Z28: mardi | AA28: 82 | AB28: 68 | AC28: 20 | AD28: 6 | AE28: 68 | AF28: =AA28-AE28 -> 14 | AH28: mardi | AI28: 93 | AJ28: 74 | AK28: 17 | AL28: 3 | AM28: 78 | AN28: =AI28-AM28 -> 15 | AP28: mardi | AQ28: 97 | AR28: 64 | AS28: 17 | AT28: 5 | AU28: 90 | AV28: =AQ28-AU28 -> 7
B29: mercredi | C29: 102 | D29: 83 | E29: 8 | F29: 0 | G29: 93 | H29: =C29-G29 -> 9 | J29: mercredi | K29: 123 | L29: 91 | M29: 11 | N29: 3 | O29: 111 | P29: =K29-O29 -> 12 | R29: mercredi | S29: 92 | T29: 60 | U29: 18 | V29: 1 | W29: 84 | X29: =S29-W29 -> 8 | Z29: mercredi | AA29: 80 | AB29: 70 | AC29: 19 | AD29: 3 | AE29: 72 | AF29: =AA29-AE29 -> 8 | AH29: mercredi | AI29: 106 | AJ29: 80 | AK29: 18 | AL29: 3 | AM29: 92 | AN29: =AI29-AM29 -> 14 | AP29: mercredi | AQ29: 121 | AR29: 62 | AS29: 17 | AT29: 0 | AU29: 107 | AV29: =AQ29-AU29 -> 14
B30: jeudi | C30: 116 | D30: 97 | E30: 22 | F30: 7 | G30: 100 | H30: =C30-G30 -> 16 | J30: jeudi | K30: 114 | L30: 84 | M30: 25 | N30: 4 | O30: 103 | P30: =K30-O30 -> 11 | R30: jeudi | S30: 72 | T30: 57 | U30: 21 | V30: 4 | W30: 63 | X30: =S30-W30 -> 9 | Z30: jeudi | AA30: 79 | AB30: 63 | AC30: 17 | AD30: 6 | AE30: 67 | AF30: =AA30-AE30 -> 12 | AH30: jeudi | AI30: 99 | AJ30: 92 | AK30: 17 | AL30: 0 | AM30: 85 | AN30: =AI30-AM30 -> 14 | AP30: jeudi | AQ30: 104 | AR30: 66 | AS30: 14 | AT30: 6 | AU30: 87 | AV30: =AQ30-AU30 -> 17
B31: vendredi | C31: 126 | D31: 101 | E31: 21 | F31: 3 | G31: 103 | H31: =C31-G31 -> 23 | J31: vendredi | K31: 112 | L31: 76 | M31: 22 | N31: 3 | O31: 97 | P31: =K31-O31 -> 15 | R31: vendredi | S31: 83 | T31: 57 | U31: 22 | V31: 3 | W31: 70 | X31: =S31-W31 -> 13 | Z31: vendredi | AA31: 82 | AB31: 70 | AC31: 22 | AD31: 1 | AE31: 74 | AF31: =AA31-AE31 -> 8 | AH31: vendredi | AI31: 89 | AJ31: 69 | AK31: 21 | AL31: 0 | AM31: 78 | AN31: =AI31-AM31 -> 11 | AP31: vendredi | AQ31: 103 | AR31: 65 | AS31: 16 | AT31: 0 | AU31: 90 | AV31: =AQ31-AU31 -> 13
B32: TOTAL | C32: =SUM(C27:C31) -> 599 | D32: =SUM(D27:D31) -> 454 | E32: =SUM(E27:E31) -> 87 | F32: =SUM(F27:F31) -> 23 | G32: =SUM(G27:G31) -> 507 | H32: =SUM(H27:H31) -> 92 | J32: TOTAL | K32: =SUM(K27:K31) -> 619 | L32: =SUM(L27:L31) -> 440 | M32: =SUM(M27:M31) -> 102 | N32: =SUM(N27:N31) -> 14 | O32: =SUM(O27:O31) -> 541 | P32: =SUM(P27:P31) -> 78 | R32: TOTAL | S32: =SUM(S27:S31) -> 418 | T32: =SUM(T27:T31) -> 305 | U32: =SUM(U27:U31) -> 92 | V32: =SUM(V27:V31) -> 9 | W32: =SUM(W27:W31) -> 363 | X32: =SUM(X27:X31) -> 55 | Z32: TOTAL | AA32: =SUM(AA27:AA31) -> 396 | AB32: =SUM(AB27:AB31) -> 336 | AC32: =SUM(AC27:AC31) -> 95 | AD32: =SUM(AD27:AD31) -> 18 | AE32: =SUM(AE27:AE31) -> 342 | AF32: =SUM(AF27:AF31) -> 54 | AH32: TOTAL | AI32: =SUM(AI27:AI31) -> 488 | AJ32: =SUM(AJ27:AJ31) -> 395 | AK32: =SUM(AK27:AK31) -> 93 | AL32: =SUM(AL27:AL31) -> 9 | AM32: =SUM(AM27:AM31) -> 419 | AN32: =SUM(AN27:AN31) -> 69 | AP32: TOTAL sem | AQ32: =SUM(AQ27:AQ31) -> 522 | AR32: =SUM(AR27:AR31) -> 331 | AS32: =SUM(AS27:AS31) -> 77 | AT32: =SUM(AT27:AT31) -> 11 | AU32: =SUM(AU27:AU31) -> 448 | AV32: =SUM(AV27:AV31) -> 74
B33: samedi | C33: 105 | D33: 72 | E33: 0 | F33: 0 | G33: 93 | H33: =C33-G33 -> 12 | J33: samedi | K33: 90 | L33: 76 | M33: 0 | N33: 0 | O33: 79 | P33: =K33-O33 -> 11 | R33: samedi | X33: =S33-W33 -> 0 | Z33: samedi | AF33: =AA33-AE33 -> 0 | AH33: samedi | AN33: =AI33-AM33 -> 0 | AP33: samedi | AQ33: 79 | AR33: 79 | AS33: 0 | AT33: 0 | AU33: 70 | AV33: =AQ33-AU33 -> 9
B34: dimanche | C34: 97 | D34: 69 | E34: 0 | F34: 0 | G34: 89 | H34: =C34-G34 -> 8 | J34: dimanche | K34: 89 | L34: 66 | M34: 0 | N34: 0 | O34: 83 | P34: =K34-O34 -> 6 | R34: dimanche | X34: =S34-W34 -> 0 | Z34: dimanche | AF34: =AA34-AE34 -> 0 | AH34: dimanche | AN34: =AI34-AM34 -> 0 | AP34: dimanche | AV34: =AQ34-AU34 -> 0
B35: TOTAL we | C35: =SUBTOTAL(109,C33:C34) -> 202 | D35: =SUBTOTAL(109,D33:D34) -> 141 | E35: =SUBTOTAL(109,E33:E34) -> 0 | F35: =SUBTOTAL(109,F33:F34) -> 0 | G35: =SUBTOTAL(109,G33:G34) -> 182 | H35: =SUBTOTAL(109,H33:H34) -> 20 | J35: TOTAL we | K35: =SUBTOTAL(109,K33:K34) -> 179 | L35: =SUBTOTAL(109,L33:L34) -> 142 | M35: =SUBTOTAL(109,M33:M34) -> 0 | N35: =SUBTOTAL(109,N33:N34) -> 0 | O35: =SUBTOTAL(109,O33:O34) -> 162 | P35: =SUBTOTAL(109,P33:P34) -> 17 | R35: TOTAL we | S35: =SUBTOTAL(109,S33:S34) -> 0 | T35: =SUBTOTAL(109,T33:T34) -> 0 | U35: =SUBTOTAL(109,U33:U34) -> 0 | V35: =SUBTOTAL(109,V33:V34) -> 0 | W35: =SUBTOTAL(109,W33:W34) -> 0 | X35: =SUBTOTAL(109,X33:X34) -> 0 | Z35: TOTAL we | AA35: =SUBTOTAL(109,AA33:AA34) -> 0 | AB35: =SUBTOTAL(109,AB33:AB34) -> 0 | AC35: =SUBTOTAL(109,AC33:AC34) -> 0 | AD35: =SUBTOTAL(109,AD33:AD34) -> 0 | AE35: =SUBTOTAL(109,AE33:AE34) -> 0 | AF35: =SUBTOTAL(109,AF33:AF34) -> 0 | AH35: TOTAL we | AI35: =SUBTOTAL(109,AI33:AI34) -> 0 | AJ35: =SUBTOTAL(109,AJ33:AJ34) -> 0 | AK35: =SUBTOTAL(109,AK33:AK34) -> 0 | AL35: =SUBTOTAL(109,AL33:AL34) -> 0 | AM35: =SUBTOTAL(109,AM33:AM34) -> 0 | AN35: =SUBTOTAL(109,AN33:AN34) -> 0 | AP35: TOTAL we | AQ35: =SUBTOTAL(109,AQ33:AQ34) -> 79 | AR35: =SUBTOTAL(109,AR33:AR34) -> 79 | AS35: =SUBTOTAL(109,AS33:AS34) -> 0 | AT35: =SUBTOTAL(109,AT33:AT34) -> 0 | AU35: =SUBTOTAL(109,AU33:AU34) -> 70 | AV35: =SUBTOTAL(109,AV33:AV34) -> 9
B36: TOTAL s+we | C36: =SUM(C32,C35) -> 801 | D36: =SUM(D32,D35) -> 595 | E36: =SUM(E32,E35) -> 87 | F36: =SUM(F32,F35) -> 23 | G36: =SUM(G32,G35) -> 689 | H36: =SUM(H32,H35) -> 112 | J36: TOTAL s+we | K36: =SUM(K32,K35) -> 798 | L36: =SUM(L32,L35) -> 582 | M36: =SUM(M32,M35) -> 102 | N36: =SUM(N32,N35) -> 14 | O36: =SUM(O32,O35) -> 703 | P36: =SUM(P32,P35) -> 95 | R36: TOTAL s+we | S36: =SUM(S32,S35) -> 418 | T36: =SUM(T32,T35) -> 305 | U36: =SUM(U32,U35) -> 92 | V36: =SUM(V32,V35) -> 9 | W36: =SUM(W32,W35) -> 363 | X36: =SUM(X32,X35) -> 55 | Z36: TOTAL s+we | AA36: =SUM(AA32,AA35) -> 396 | AB36: =SUM(AB32,AB35) -> 336 | AC36: =SUM(AC32,AC35) -> 95 | AD36: =SUM(AD32,AD35) -> 18 | AE36: =SUM(AE32,AE35) -> 342 | AF36: =SUM(AF32,AF35) -> 54 | AH36: TOTAL s+we | AI36: =SUM(AI32,AI35) -> 488 | AJ36: =SUM(AJ32,AJ35) -> 395 | AK36: =SUM(AK32,AK35) -> 93 | AL36: =SUM(AL32,AL35) -> 9 | AM36: =SUM(AM32,AM35) -> 419 | AN36: =SUM(AN32,AN35) -> 69 | AP36: TOTAL s+we | AQ36: =SUM(AQ32,AQ35) -> 601 | AR36: =SUM(AR32,AR35) -> 410 | AS36: =SUM(AS32,AS35) -> 77 | AT36: =SUM(AT32,AT35) -> 11 | AU36: =SUM(AU32,AU35) -> 518 | AV36: =SUM(AV32,AV35) -> 83
B38: sem 04 | C38: Entrées | D38: Déjeuners | E38: Colis | F38: Permanences | G38: Hommes | H38: Femmes | J38: sem 14 | K38: Entrées | L38: Déjeuners | M38: Colis | N38: Permanences | O38: Hommes | P38: Femmes | R38: sem 24 | S38: Entrées | T38: Déjeuners | U38: Colis | V38: Permanences | W38: Hommes | X38: Femmes | Z38: sem 34 | AA38: Entrées | AB38: Déjeuners | AC38: Colis | AD38: Permanences | AE38: Hommes | AF38: Femmes | AH38: sem 44 | AI38: Entrées | AJ38: Déjeuners | AK38: Colis | AL38: Permanences | AM38: Hommes | AN38: Femmes
B39: lundi | C39: 163 | D39: 113 | E39: 29 | F39: 10 | G39: 141 | H39: =C39-G39 -> 22 | J39: lundi | K39: 114 | L39: 103 | M39: 0 | N39: 0 | O39: 103 | P39: =K39-O39 -> 11 | R39: lundi | S39: 79 | T39: 50 | U39: 17 | V39: 2 | W39: 68 | X39: =S39-W39 -> 11 | Z39: lundi | AA39: 0 | AB39: 0 | AC39: 21 | AD39: 0 | AE39: 0 | AF39: =AA39-AE39 -> 0 | AH39: lundi | AI39: 118 | AJ39: 108 | AK39: 13 | AL39: 2 | AM39: 100 | AN39: =AI39-AM39 -> 18
B40: mardi | C40: 136 | D40: 102 | E40: 19 | F40: 8 | G40: 121 | H40: =C40-G40 -> 15 | J40: mardi | K40: 134 | L40: 84 | M40: 24 | N40: 4 | O40: 115 | P40: =K40-O40 -> 19 | R40: mardi | S40: 71 | T40: 54 | U40: 26 | V40: 0 | W40: 64 | X40: =S40-W40 -> 7 | Z40: mardi | AA40: 0 | AB40: 0 | AC40: 21 | AD40: 0 | AE40: 0 | AF40: =AA40-AE40 -> 0 | AH40: mardi | AI40: 94 | AJ40: 68 | AK40: 16 | AL40: 2 | AM40: 85 | AN40: =AI40-AM40 -> 9
B41: mercredi | C41: 126 | D41: 76 | E41: 8 | F41: 0 | G41: 99 | H41: =C41-G41 -> 27 | J41: mercredi | K41: 127 | L41: 82 | M41: 16 | N41: 6 | O41: 116 | P41: =K41-O41 -> 11 | R41: mercredi | S41: 74 | T41: 53 | U41: 17 | V41: 2 | W41: 65 | X41: =S41-W41 -> 9 | Z41: mercredi | AA41: 0 | AB41: 0 | AC41: 17 | AD41: 0 | AE41: 0 | AF41: =AA41-AE41 -> 0 | AH41: mercredi | AI41: 103 | AJ41: 75 | AK41: 25 | AL41: 0 | AM41: 85 | AN41: =AI41-AM41 -> 18
B42: jeudi | C42: 142 | D42: 104 | E42: 17 | F42: 9 | G42: 125 | H42: =C42-G42 -> 17 | J42: jeudi | K42: 112 | L42: 78 | M42: 26 | N42: 1 | O42: 97 | P42: =K42-O42 -> 15 | R42: jeudi | S42: 78 | T42: 54 | U42: 15 | V42: 0 | W42: 57 | X42: =S42-W42 -> 21 | Z42: jeudi | AA42: 0 | AB42: 0 | AC42: 19 | AD42: 0 | AE42: 0 | AF42: =AA42-AE42 -> 0 | AH42: jeudi | AI42: 86 | AJ42: 61 | AK42: 12 | AL42: 5 | AM42: 60 | AN42: =AI42-AM42 -> 26
B43: vendredi | C43: 142 | D43: 180 | E43: 27 | F43: 5 | G43: 118 | H43: =C43-G43 -> 24 | J43: vendredi | K43: 102 | L43: 66 | M43: 22 | N43: 4 | O43: 87 | P43: =K43-O43 -> 15 | R43: vendredi | S43: 77 | T43: 61 | U43: 24 | V43: 4 | W43: 62 | X43: =S43-W43 -> 15 | Z43: vendredi | AA43: 0 | AB43: 0 | AC43: 17 | AD43: 0 | AE43: 0 | AF43: =AA43-AE43 -> 0 | AH43: vendredi | AI43: 99 | AJ43: 65 | AK43: 20 | AL43: 0 | AM43: 73 | AN43: =AI43-AM43 -> 26
B44: TOTAL | C44: =SUM(C39:C43) -> 709 | D44: =SUM(D39:D43) -> 575 | E44: =SUM(E39:E43) -> 100 | F44: =SUM(F39:F43) -> 32 | G44: =SUM(G39:G43) -> 604 | H44: =SUM(H39:H43) -> 105 | J44: TOTAL | K44: =SUM(K39:K43) -> 589 | L44: =SUM(L39:L43) -> 413 | M44: =SUM(M39:M43) -> 88 | N44: =SUM(N39:N43) -> 15 | O44: =SUM(O39:O43) -> 518 | P44: =SUM(P39:P43) -> 71 | R44: TOTAL | S44: =SUM(S39:S43) -> 379 | T44: =SUM(T39:T43) -> 272 | U44: =SUM(U39:U43) -> 99 | V44: =SUM(V39:V43) -> 8 | W44: =SUM(W39:W43) -> 316 | X44: =SUM(X39:X43) -> 63 | Z44: TOTAL | AA44: =SUM(AA39:AA43) -> 0 | AB44: =SUM(AB39:AB43) -> 0 | AC44: =SUM(AC39:AC43) -> 95 | AD44: =SUM(AD39:AD43) -> 0 | AE44: =SUM(AE39:AE43) -> 0 | AF44: =SUM(AF39:AF43) -> 0 | AH44: TOTAL | AI44: =SUM(AI39:AI43) -> 500 | AJ44: =SUM(AJ39:AJ43) -> 377 | AK44: =SUM(AK39:AK43) -> 86 | AL44: =SUM(AL39:AL43) -> 9 | AM44: =SUM(AM39:AM43) -> 403 | AN44: =SUM(AN39:AN43) -> 97
...

Sheet COLIS
T1: Permanences | U1: =MATCH($T$1,MonChoix,0)+1 -> 5
A3: SEMAINE | B3: 1 | C3: 2 | D3: 3 | E3: 4 | F3: 5 | G3: 6 | H3: 7 | I3: 8 | J3: 9 | K3: 10 | L3: 11 | M3: 12 | N3: 13 | O3: 14 | P3: 15 | Q3: 16 | R3: 17 | S3: 18 | T3: 19 | U3: 20 | V3: 21 | W3: 22 | X3: 23 | Y3: 24 | Z3: 25 | AA3: 26 | AB3: 27 | AC3: 28 | AD3: 29 | AE3: 30 | AF3: 31 | AG3: 32 | AH3: 33 | AI3: 34 | AJ3: 35 | AK3: 36 | AL3: 37 | AM3: 38 | AN3: 39 | AO3: 40 | AP3: 41 | AQ3: 42 | AR3: 43 | AS3: 44 | AT3: 45 | AU3: 46 | AV3: 47 | AW3: 48 | AX3: 49 | AY3: 50 | AZ3: 51 | BA3: 52 | BB3: 53 | BC3: MOYENNE
A4: lundi | B4: =OFFSET(' ACCUEIL'!$A$1,ROW()-3+MATCH(IF(MOD(B$3,10)=0,"sem 10","sem "&TEXT(RIGHT(B$3,1),"00")),' ACCUEIL'!$B$2:$B$120,0),(INT((B$3-1)/10)*8)+$U$1) -> 0 | C4: =OFFSET(' ACCUEIL'!$A$1,ROW()-3+MATCH(IF(MOD(C$3,10)=0,"sem 10","sem "&TEXT(RIGHT(C$3,1),"00")),' ACCUEIL'!$B$2:$B$120,0),(INT((C$3-1)/10)*8)+$U$1) -> 6 | D4: =OFFSET(' ACCUEIL'!$A$1,ROW()-3+MATCH(IF(MOD(D$3,10)=0,"sem 10","sem "&TEXT(RIGHT(D$3,1),"00")),' ACCUEIL'!$B$2:$B$120,0),(INT((D$3-1)/10)*8)+$U$1) -> 5 | E4: =OFFSET(' ACCUEIL'!$A$1,ROW()-3+MATCH(IF(MOD(E$3,10)=0,"sem 10","sem "&TEXT(RIGHT(E$3,1),"00")),' ACCUEIL'!$B$2:$B$120,0),(INT((E$3-1)/10)*8)+$U$1) -> 10 | F4: =OFFSET(' ACCUEIL'!$A$1,ROW()-3+MATCH(IF(MOD(F$3,10)=0,"sem 10","sem "&TEXT(RIGHT(F$3,1),"00")),' ACCUEIL'!$B$2:$B$120,0),(INT((F$3-1)/10)*8)+$U$1) -> 8 | G4: =OFFSET(' ACCUEIL'!$A$1,ROW()-3+MATCH(IF(MOD(G$3,10)=0,"sem 10","sem "&TEXT(RIGHT(G$3,1),"00")),' ACCUEIL'!$B$2:$B$120,0),(INT((G$3-1)/10)*8)+$U$1) -> 0 | H4: =OFFSET(' ACCUEIL'!$A$1,ROW()-3+MATCH(IF(MOD(H$3,10)=0,"sem 10","sem "&TEXT(RIGHT(H$3,1),"00")),' ACCUEIL'!$B$2:$B$120,0),(INT((H$3-1)/10)*8)+$U$1) -> 0 | I4: =OFFSET(' ACCUEIL'!$A$1,ROW()-3+MATCH(IF(MOD(I$3,10)=0,"sem 10","sem "&TEXT(RIGHT(I$3,1),"00")),' ACCUEIL'!$B$2:$B$120,0),(INT((I$3-1)/10)*8)+$U$1) -> 0 | ... BB4: =OFFSET(' ACCUEIL'!$A$1,ROW()-3+MATCH(IF(MOD(BB$3,10)=0,"sem 10","sem "&TEXT(RIGHT(BB$3,1),"00")),' ACCUEIL'!$B$2:$B$120,0),(INT((BB$3-1)/10)*8)+$U$1) -> 0 | BC4: =AVERAGEIF(Q4:BB4,">0") -> 2.375 | BD4: =AVERAGE(BC4:BC8) -> 3.2100303 | BH4: Entrées
A5: mardi | B5: =OFFSET(' ACCUEIL'!$A$1,ROW()-3+MATCH(IF(MOD(B$3,10)=0,"sem 10","sem "&TEXT(RIGHT(B$3,1),"00")),' ACCUEIL'!$B$2:$B$120,0),(INT((B$3-1)/10)*8)+$U$1) -> 0 | C5: =OFFSET(' ACCUEIL'!$A$1,ROW()-3+MATCH(IF(MOD(C$3,10)=0,"sem 10","sem "&TEXT(RIGHT(C$3,1),"00")),' ACCUEIL'!$B$2:$B$120,0),(INT((C$3-1)/10)*8)+$U$1) -> 6 | D5: =OFFSET(' ACCUEIL'!$A$1,ROW()-3+MATCH(IF(MOD(D$3,10)=0,"sem 10","sem "&TEXT(RIGHT(D$3,1),"00")),' ACCUEIL'!$B$2:$B$120,0),(INT((D$3-1)/10)*8)+$U$1) -> 8 | E5: =OFFSET(' ACCUEIL'!$A$1,ROW()-3+MATCH(IF(MOD(E$3,10)=0,"sem 10","sem "&TEXT(RIGHT(E$3,1),"00")),' ACCUEIL'!$B$2:$B$120,0),(INT((E$3-1)/10)*8)+$U$1) -> 8 | F5: =OFFSET(' ACCUEIL'!$A$1,ROW()-3+MATCH(IF(MOD(F$3,10)=0,"sem 10","sem "&TEXT(RIGHT(F$3,1),"00")),' ACCUEIL'!$B$2:$B$120,0),(INT((F$3-1)/10)*8)+$U$1) -> 10 | G5: =OFFSET(' ACCUEIL'!$A$1,ROW()-3+MATCH(IF(MOD(G$3,10)=0,"sem 10","sem "&TEXT(RIGHT(G$3,1),"00")),' ACCUEIL'!$B$2:$B$120,0),(INT((G$3-1)/10)*8)+$U$1) -> 6 | H5: =OFFSET(' ACCUEIL'!$A$1,ROW()-3+MATCH(IF(MOD(H$3,10)=0,"sem 10","sem "&TEXT(RIGHT(H$3,1),"00")),' ACCUEIL'!$B$2:$B$120,0),(INT((H$3-1)/10)*8)+$U$1) -> 0 | I5: =OFFSET(' ACCUEIL'!$A$1,ROW()-3+MATCH(IF(MOD(I$3,10)=0,"sem 10","sem "&TEXT(RIGHT(I$3,1),"00")),' ACCUEIL'!$B$2:$B$120,0),(INT((I$3-1)/10)*8)+$U$1) -> 0 | ... BB5: =OFFSET(' ACCUEIL'!$A$1,ROW()-3+MATCH(IF(MOD(BB$3,10)=0,"sem 10","sem "&TEXT(RIGHT(BB$3,1),"00")),' ACCUEIL'!$B$2:$B$120,0),(INT((BB$3-1)/10)*8)+$U$1) -> 5 | BC5: =AVERAGEIF(Q5:BB5,">0") -> 3.9545455 | BH5: Déjeuners
A6: mercredi | B6: =OFFSET(' ACCUEIL'!$A$1,ROW()-3+MATCH(IF(MOD(B$3,10)=0,"sem 10","sem "&TEXT(RIGHT(B$3,1),"00")),' ACCUEIL'!$B$2:$B$120,0),(INT((B$3-1)/10)*8)+$U$1) -> 0 | C6: =OFFSET(' ACCUEIL'!$A$1,ROW()-3+MATCH(IF(MOD(C$3,10)=0,"sem 10","sem "&TEXT(RIGHT(C$3,1),"00")),' ACCUEIL'!$B$2:$B$120,0),(INT((C$3-1)/10)*8)+$U$1) -> 0 | D6: =OFFSET(' ACCUEIL'!$A$1,ROW()-3+MATCH(IF(MOD(D$3,10)=0,"sem 10","sem "&TEXT(RIGHT(D$3,1),"00")),' ACCUEIL'!$B$2:$B$120,0),(INT((D$3-1)/10)*8)+$U$1) -> 0 | E6: =OFFSET(' ACCUEIL'!$A$1,ROW()-3+MATCH(IF(MOD(E$3,10)=0,"sem 10","sem "&TEXT(RIGHT(E$3,1),"00")),' ACCUEIL'!$B$2:$B$120,0),(INT((E$3-1)/10)*8)+$U$1) -> 0 | F6: =OFFSET(' ACCUEIL'!$A$1,ROW()-3+MATCH(IF(MOD(F$3,10)=0,"sem 10","sem "&TEXT(RIGHT(F$3,1),"00")),' ACCUEIL'!$B$2:$B$120,0),(INT((F$3-1)/10)*8)+$U$1) -> 0 | G6: =OFFSET(' ACCUEIL'!$A$1,ROW()-3+MATCH(IF(MOD(G$3,10)=0,"sem 10","sem "&TEXT(RIGHT(G$3,1),"00")),' ACCUEIL'!$B$2:$B$120,0),(INT((G$3-1)/10)*8)+$U$1) -> 0 | H6: =OFFSET(' ACCUEIL'!$A$1,ROW()-3+MATCH(IF(MOD(H$3,10)=0,"sem 10","sem "&TEXT(RIGHT(H$3,1),"00")),' ACCUEIL'!$B$2:$B$120,0),(INT((H$3-1)/10)*8)+$U$1) -> 0 | I6: =OFFSET(' ACCUEIL'!$A$1,ROW()-3+MATCH(IF(MOD(I$3,10)=0,"sem 10","sem "&TEXT(RIGHT(I$3,1),"00")),' ACCUEIL'!$B$2:$B$120,0),(INT((I$3-1)/10)*8)+$U$1) -> 0 | ... BB6: =OFFSET(' ACCUEIL'!$A$1,ROW()-3+MATCH(IF(MOD(BB$3,10)=0,"sem 10","sem "&TEXT(RIGHT(BB$3,1),"00")),' ACCUEIL'!$B$2:$B$120,0),(INT((BB$3-1)/10)*8)+$U$1) -> 0 | BC6: =AVERAGEIF(Q6:BB6,">0") -> 2.2272727 | BH6: Colis
A7: jeudi | B7: =OFFSET(' ACCUEIL'!$A$1,ROW()-3+MATCH(IF(MOD(B$3,10)=0,"sem 10","sem "&TEXT(RIGHT(B$3,1),"00")),' ACCUEIL'!$B$2:$B$120,0),(INT((B$3-1)/10)*8)+$U$1) -> 0 | C7: =OFFSET(' ACCUEIL'!$A$1,ROW()-3+MATCH(IF(MOD(C$3,10)=0,"sem 10","sem "&TEXT(RIGHT(C$3,1),"00")),' ACCUEIL'!$B$2:$B$120,0),(INT((C$3-1)/10)*8)+$U$1) -> 8 | D7: =OFFSET(' ACCUEIL'!$A$1,ROW()-3+MATCH(IF(MOD(D$3,10)=0,"sem 10","sem "&TEXT(RIGHT(D$3,1),"00")),' ACCUEIL'!$B$2:$B$120,0),(INT((D$3-1)/10)*8)+$U$1) -> 7 | E7: =OFFSET(' ACCUEIL'!$A$1,ROW()-3+MATCH(IF(MOD(E$3,10)=0,"sem 10","sem "&TEXT(RIGHT(E$3,1),"00")),' ACCUEIL'!$B$2:$B$120,0),(INT((E$3-1)/10)*8)+$U$1) -> 9 | F7: =OFFSET(' ACCUEIL'!$A$1,ROW()-3+MATCH(IF(MOD(F$3,10)=0,"sem 10","sem "&TEXT(RIGHT(F$3,1),"00")),' ACCUEIL'!$B$2:$B$120,0),(INT((F$3-1)/10)*8)+$U$1) -> 9 | G7: =OFFSET(' ACCUEIL'!$A$1,ROW()-3+MATCH(IF(MOD(G$3,10)=0,"sem 10","sem "&TEXT(RIGHT(G$3,1),"00")),' ACCUEIL'!$B$2:$B$120,0),(INT((G$3-1)/10)*8)+$U$1) -> 0 | H7: =OFFSET(' ACCUEIL'!$A$1,ROW()-3+MATCH(IF(MOD(H$3,10)=0,"sem 10","sem "&TEXT(RIGHT(H$3,1),"00")),' ACCUEIL'!$B$2:$B$120,0),(INT((H$3-1)/10)*8)+$U$1) -> 0 | I7: =OFFSET(' ACCUEIL'!$A$1,ROW()-3+MATCH(IF(MOD(I$3,10)=0,"sem 10","sem "&TEXT(RIGHT(I$3,1),"00")),' ACCUEIL'!$B$2:$B$120,0),(INT((I$3-1)/10)*8)+$U$1) -> 0 | ... BB7: =OFFSET(' ACCUEIL'!$A$1,ROW()-3+MATCH(IF(MOD(BB$3,10)=0,"sem 10","sem "&TEXT(RIGHT(BB$3,1),"00")),' ACCUEIL'!$B$2:$B$120,0),(INT((BB$3-1)/10)*8)+$U$1) -> 6 | BC7: =AVERAGEIF(Q7:BB7,">0") -> 5.36 | BH7: Permanences
A8: vendredi | B8: =OFFSET(' ACCUEIL'!$A$1,ROW()-3+MATCH(IF(MOD(B$3,10)=0,"sem 10","sem "&TEXT(RIGHT(B$3,1),"00")),' ACCUEIL'!$B$2:$B$120,0),(INT((B$3-1)/10)*8)+$U$1) -> 0 | C8: =OFFSET(' ACCUEIL'!$A$1,ROW()-3+MATCH(IF(MOD(C$3,10)=0,"sem 10","sem "&TEXT(RIGHT(C$3,1),"00")),' ACCUEIL'!$B$2:$B$120,0),(INT((C$3-1)/10)*8)+$U$1) -> 0 | D8: =OFFSET(' ACCUEIL'!$A$1,ROW()-3+MATCH(IF(MOD(D$3,10)=0,"sem 10","sem "&TEXT(RIGHT(D$3,1),"00")),' ACCUEIL'!$B$2:$B$120,0),(INT((D$3-1)/10)*8)+$U$1) -> 3 | E8: =OFFSET(' ACCUEIL'!$A$1,ROW()-3+MATCH(IF(MOD(E$3,10)=0,"sem 10","sem "&TEXT(RIGHT(E$3,1),"00")),' ACCUEIL'!$B$2:$B$120,0),(INT((E$3-1)/10)*8)+$U$1) -> 5 | F8: =OFFSET(' ACCUEIL'!$A$1,ROW()-3+MATCH(IF(MOD(F$3,10)=0,"sem 10","sem "&TEXT(RIGHT(F$3,1),"00")),' ACCUEIL'!$B$2:$B$120,0),(INT((F$3-1)/10)*8)+$U$1) -> 7 | G8: =OFFSET(' ACCUEIL'!$A$1,ROW()-3+MATCH(IF(MOD(G$3,10)=0,"sem 10","sem "&TEXT(RIGHT(G$3,1),"00")),' ACCUEIL'!$B$2:$B$120,0),(INT((G$3-1)/10)*8)+$U$1) -> 0 | H8: =OFFSET(' ACCUEIL'!$A$1,ROW()-3+MATCH(IF(MOD(H$3,10)=0,"sem 10","sem "&TEXT(RIGHT(H$3,1),"00")),' ACCUEIL'!$B$2:$B$120,0),(INT((H$3-1)/10)*8)+$U$1) -> 0 | I8: =OFFSET(' ACCUEIL'!$A$1,ROW()-3+MATCH(IF(MOD(I$3,10)=0,"sem 10","sem "&TEXT(RIGHT(I$3,1),"00")),' ACCUEIL'!$B$2:$B$120,0),(INT((I$3-1)/10)*8)+$U$1) -> 0 | ... BB8: =OFFSET(' ACCUEIL'!$A$1,ROW()-3+MATCH(IF(MOD(BB$3,10)=0,"sem 10","sem "&TEXT(RIGHT(BB$3,1),"00")),' ACCUEIL'!$B$2:$B$120,0),(INT((BB$3-1)/10)*8)+$U$1) -> 0 | BC8: =AVERAGEIF(Q8:BB8,">0") -> 2.1333333 | BH8: Hommes
A9: Total | B9: =SUM(B4:B8) -> 0 | C9: =SUM(C4:C8) -> 20 | D9: =SUM(D4:D8) -> 23 | E9: =SUM(E4:E8) -> 32 | F9: =SUM(F4:F8) -> 34 | G9: =SUM(G4:G8) -> 6 | H9: =SUM(H4:H8) -> 0 | I9: =SUM(I4:I8) -> 0 | ... BB9: =SUM(BB4:BB8) -> 11 | BC9: =SUM(B9:BB9)/COUNTIF(B9:BB9,">0") -> 12.162791 | BH9: Femmes
A10: moyennes | B10: =AVERAGE(B4:B8) -> 0 | C10: =AVERAGE(C4:C8) -> 4 | D10: =AVERAGE(D4:D8) -> 4.6 | E10: =AVERAGE(E4:E8) -> 6.4 | F10: =AVERAGE(F4:F8) -> 6.8 | G10: =AVERAGE(G4:G8) -> 1.2 | H10: =AVERAGE(H4:H8) -> 0 | I10: =AVERAGE(I4:I8) -> 0 | ... BB10: =AVERAGE(BB4:BB8) -> 2.2 | BC10: =AVERAGE(B4:BB8) -> 1.9735849
AH14: ="Nombre de "&$T$1&"/jour"&CHAR(10)&"2016" -> Nombre de Permanences/jour 2016
AA17: =HYPERLINK("https://forum.excel-pratique.com/excel/decaler-et-formule-recuperee-dans-une-cellule-t90020.html","Jonathan") -> Jonathan
A22: SEMAINE | B22: 1 | C22: 2 | D22: 3 | E22: 4 | F22: 5 | G22: 6 | H22: 7 | I22: 8 | J22: 9 | K22: 10 | L22: 11 | M22: 12 | N22: 13 | O22: 14 | P22: 15 | Q22: 16 | R22: 17 | S22: 18 | T22: 19 | U22: 20 | V22: 21 | W22: 22 | X22: 23 | Y22: 24 | Z22: 25 | AA22: 26 | AB22: 27 | AC22: 28 | AD22: 29 | AE22: 30 | AF22: 31 | AG22: 32 | AH22: 33 | AI22: 34 | AJ22: 35 | AK22: 36 | AL22: 37 | AM22: 38 | AN22: 39 | AO22: 40 | AP22: 41 | AQ22: 42 | AR22: 43 | AS22: 44 | AT22: 45 | AU22: 46 | AV22: 47 | AW22: 48 | AX22: 49 | AY22: 50 | AZ22: 51 | BA22: 52 | BB22: 53
A23: Total | B23: =OFFSET(' ACCUEIL'!$A$1,ROW()-17+MATCH(IF(MOD(B$3,10)=0,"sem 10","sem "&TEXT(RIGHT(B$3,1),"00")),' ACCUEIL'!$B$2:$B$120,0),(INT((B$3-1)/10)*8)+$U$1) -> 0 | C23: =OFFSET(' ACCUEIL'!$A$1,ROW()-17+MATCH(IF(MOD(C$3,10)=0,"sem 10","sem "&TEXT(RIGHT(C$3,1),"00")),' ACCUEIL'!$B$2:$B$120,0),(INT((C$3-1)/10)*8)+$U$1) -> 20 | D23: =OFFSET(' ACCUEIL'!$A$1,ROW()-17+MATCH(IF(MOD(D$3,10)=0,"sem 10","sem "&TEXT(RIGHT(D$3,1),"00")),' ACCUEIL'!$B$2:$B$120,0),(INT((D$3-1)/10)*8)+$U$1) -> 23 | E23: =OFFSET(' ACCUEIL'!$A$1,ROW()-17+MATCH(IF(MOD(E$3,10)=0,"sem 10","sem "&TEXT(RIGHT(E$3,1),"00")),' ACCUEIL'!$B$2:$B$120,0),(INT((E$3-1)/10)*8)+$U$1) -> 32 | F23: =OFFSET(' ACCUEIL'!$A$1,ROW()-17+MATCH(IF(MOD(F$3,10)=0,"sem 10","sem "&TEXT(RIGHT(F$3,1),"00")),' ACCUEIL'!$B$2:$B$120,0),(INT((F$3-1)/10)*8)+$U$1) -> 34 | G23: =OFFSET(' ACCUEIL'!$A$1,ROW()-17+MATCH(IF(MOD(G$3,10)=0,"sem 10","sem "&TEXT(RIGHT(G$3,1),"00")),' ACCUEIL'!$B$2:$B$120,0),(INT((G$3-1)/10)*8)+$U$1) -> 6 | H23: =OFFSET(' ACCUEIL'!$A$1,ROW()-17+MATCH(IF(MOD(H$3,10)=0,"sem 10","sem "&TEXT(RIGHT(H$3,1),"00")),' ACCUEIL'!$B$2:$B$120,0),(INT((H$3-1)/10)*8)+$U$1) -> 0 | I23: =OFFSET(' ACCUEIL'!$A$1,ROW()-17+MATCH(IF(MOD(I$3,10)=0,"sem 10","sem "&TEXT(RIGHT(I$3,1),"00")),' ACCUEIL'!$B$2:$B$120,0),(INT((I$3-1)/10)*8)+$U$1) -> 0 | ... BB23: =OFFSET(' ACCUEIL'!$A$1,ROW()-17+MATCH(IF(MOD(BB$3,10)=0,"sem 10","sem "&TEXT(RIGHT(BB$3,1),"00")),' ACCUEIL'!$B$2:$B$120,0),(INT((BB$3-1)/10)*8)+$U$1) -> 11
B28: ! Ligne "mercredi" masquée dans le tableau Excel pcq aucun colis donné ce jour là.
B29: moyennes calculées en ignorant les valeurs nulles
