Workbook

Sheet CHANTIER
A2: Maitre d'ouvrage | D2: Maitre d'œuvre
A3: Nom | D3: Nom
A4: Adresse | D4: Adresse
A5: Mail | D5: Mail
A6: N° de téléphone | D6: N° de téléphone
A8: Date de validation devis:
A10: Date de Validation plans:
A13: Commande:
B14: Fournisseur | C14: telephone | D14: mail | E14: date commande | F14: Date de livraison
A15: MENUISERIE | B15: RCN
A16: PLIAGE | B16: Laude
A17: VERRES | B17: TVITEC
A18: EQUERRES ET CLAMEAUX | B18: Louineaux

Sheet MENUISERIE
A4: ZONE A REMPLIR
A5: Désignation | G5: Dimensions Fini(Devis) | I5: Dimension Brut | K5: Dimension hors tout | M5: Verres | S5: Bacs passage | V5: Bacs refoulement | Y5: Bande fillante | AA5: Equerres d'accroche | AC5: CLAMEAUX | AE5: Dimension Talons passage | AG5: Dimension talons refoulement | AI5: hauteur des talons /Niveau fini +1,00m | AJ5: BOIS
A6: N° | B6: Type | C6: Nombre de rails | D6: Nombre de vantaux | E6: Ep vue dormant | F6: Allège | G6: largeur | H6: hauteur | I6: largeur | J6: hauteur | K6: largeur | L6: hauteur | M6: Type | N6: largeur | O6: hauteur | P6: Quantité | Q6: ep | R6: Collage | S6: Type | T6: longueur | U6: Quantité | V6: type | W6: longueur | X6: Quantité | Y6: Type | Z6: longueur | AA6: Type | AB6: Quantité | AC6: Type | AD6: Quantité | AE6: largeur | AF6: longueur | AG6: largeur | AH6: longueur | AJ6: largeur | AK6: hauteur
A7: ME01 | B7: Galandage | C7: 2 | D7: 2 | E7: 25 | F7: oui | G7: 2000 | H7: 2500 | I7: =G7+20 -> 2020 | J7: =CHOOSE(MATCH(B7,{"Galandage";"Oscilotbattant";"Fixe";"Coulissant";"Frappe";"Porte"},0),H7+124,H7+100,H7+100,H7+124,H7+100,H7+100,"") -> 2624 | K7: =CHOOSE(MATCH(B7,{"Galandage";"Oscilotbattant";"Fixe";"Coulissant";"Frappe";"Porte"},0),50+(G7*2.03),100+G7-E7,100+G7-(E7*2),100+G7-(E7*2),100+G7-(E7*2),100+G7-(E7*2),"") -> 4110 | L7: =CHOOSE(MATCH(B7,{"Galandage";"Oscilotbattant";"Fixe";"Coulissant";"Frappe";"Porte"},0),124+H7,100+H7-E7,100+H7-E7,124+H7-E7,100+H7-E7,60+H7-E7,"") -> 2624 | P7: =D7 -> 2 | Z7: =IF(F7="non","",L7+20) -> 2644 | AF7: =I7 -> 2020 | AH7: =K7-I7+50 -> 2140 | AI7: =CHOOSE(MATCH(B7,{"Galandage";"Oscilotbattant";"Fixe";"Coulissant";"Frappe";"Porte"},0),1080,1020,1020,1080,1020,1010,"") -> 1080
A8: ME02 | B8: Coulissant | C8: 2 | D8: 2 | E8: 25 | F8: non | G8: 1800 | H8: 2500 | I8: =G8+20 -> 1820 | J8: =CHOOSE(MATCH(B8,{"Galandage";"Oscilotbattant";"Fixe";"Coulissant";"Frappe";"Porte"},0),H8+124,H8+100,H8+100,H8+124,H8+100,H8+100,"") -> 2624 | K8: =CHOOSE(MATCH(B8,{"Galandage";"Oscilotbattant";"Fixe";"Coulissant";"Frappe";"Porte"},0),50+(G8*2.03),100+G8-E8,100+G8-(E8*2),100+G8-(E8*2),100+G8-(E8*2),100+G8-(E8*2),"") -> 1850 | L8: =CHOOSE(MATCH(B8,{"Galandage";"Oscilotbattant";"Fixe";"Coulissant";"Frappe";"Porte"},0),124+H8,100+H8-E8,100+H8-E8,124+H8-E8,100+H8-E8,60+H8-E8,"") -> 2599 | P8: =D8 -> 2 | Z8: =IF(F8="non","",L8+20) | AF8: =I8 -> 1820 | AH8: =K8-I8+50 -> 80 | AI8: =CHOOSE(MATCH(B8,{"Galandage";"Oscilotbattant";"Fixe";"Coulissant";"Frappe";"Porte"},0),1080,1020,1020,1080,1020,1010,"") -> 1080
A9: ME03 | B9: Frappe | C9: 2 | D9: 1 | E9: 25 | F9: oui | G9: 1000 | H9: 2500 | I9: =G9+20 -> 1020 | J9: =CHOOSE(MATCH(B9,{"Galandage";"Oscilotbattant";"Fixe";"Coulissant";"Frappe";"Porte"},0),H9+124,H9+100,H9+100,H9+124,H9+100,H9+100,"") -> 2600 | K9: =CHOOSE(MATCH(B9,{"Galandage";"Oscilotbattant";"Fixe";"Coulissant";"Frappe";"Porte"},0),50+(G9*2.03),100+G9-E9,100+G9-(E9*2),100+G9-(E9*2),100+G9-(E9*2),100+G9-(E9*2),"") -> 1050 | L9: =CHOOSE(MATCH(B9,{"Galandage";"Oscilotbattant";"Fixe";"Coulissant";"Frappe";"Porte"},0),124+H9,100+H9-E9,100+H9-E9,124+H9-E9,100+H9-E9,60+H9-E9,"") -> 2575 | P9: =D9 -> 1 | Z9: =IF(F9="non","",L9+20) -> 2595 | AF9: =I9 -> 1020 | AH9: =K9-I9+50 -> 80 | AI9: =CHOOSE(MATCH(B9,{"Galandage";"Oscilotbattant";"Fixe";"Coulissant";"Frappe";"Porte"},0),1080,1020,1020,1080,1020,1010,"") -> 1020
A10: ME04 | B10: Fixe | C10: 1 | D10: 1 | E10: 25 | F10: non | G10: 1500 | H10: 2500 | I10: =G10+20 -> 1520 | J10: =CHOOSE(MATCH(B10,{"Galandage";"Oscilotbattant";"Fixe";"Coulissant";"Frappe";"Porte"},0),H10+124,H10+100,H10+100,H10+124,H10+100,H10+100,"") -> 2600 | K10: =CHOOSE(MATCH(B10,{"Galandage";"Oscilotbattant";"Fixe";"Coulissant";"Frappe";"Porte"},0),50+(G10*2.03),100+G10-E10,100+G10-(E10*2),100+G10-(E10*2),100+G10-(E10*2),100+G10-(E10*2),"") -> 1550 | L10: =CHOOSE(MATCH(B10,{"Galandage";"Oscilotbattant";"Fixe";"Coulissant";"Frappe";"Porte"},0),124+H10,100+H10-E10,100+H10-E10,124+H10-E10,100+H10-E10,60+H10-E10,"") -> 2575 | P10: =D10 -> 1 | Z10: =IF(F10="non","",L10+20) | AF10: =I10 -> 1520 | AH10: =K10-I10+50 -> 80 | AI10: =CHOOSE(MATCH(B10,{"Galandage";"Oscilotbattant";"Fixe";"Coulissant";"Frappe";"Porte"},0),1080,1020,1020,1080,1020,1010,"") -> 1020
A11: ME05 | B11: Oscilotbattant | C11: 1 | D11: 1 | E11: 25 | F11: non | G11: 600 | H11: 2500 | I11: =G11+20 -> 620 | J11: =CHOOSE(MATCH(B11,{"Galandage";"Oscilotbattant";"Fixe";"Coulissant";"Frappe";"Porte"},0),H11+124,H11+100,H11+100,H11+124,H11+100,H11+100,"") -> 2600 | K11: =CHOOSE(MATCH(B11,{"Galandage";"Oscilotbattant";"Fixe";"Coulissant";"Frappe";"Porte"},0),50+(G11*2.03),100+G11-E11,100+G11-(E11*2),100+G11-(E11*2),100+G11-(E11*2),100+G11-(E11*2),"") -> 675 | L11: =CHOOSE(MATCH(B11,{"Galandage";"Oscilotbattant";"Fixe";"Coulissant";"Frappe";"Porte"},0),124+H11,100+H11-E11,100+H11-E11,124+H11-E11,100+H11-E11,60+H11-E11,"") -> 2575 | P11: =D11 -> 1 | Z11: =IF(F11="non","",L11+20) | AF11: =I11 -> 620 | AH11: =K11-I11+50 -> 105 | AI11: =CHOOSE(MATCH(B11,{"Galandage";"Oscilotbattant";"Fixe";"Coulissant";"Frappe";"Porte"},0),1080,1020,1020,1080,1020,1010,"") -> 1020
A12: ME06 | B12: porte | C12: 1 | D12: 1 | E12: 25 | F12: non | G12: 1000 | H12: 2500 | I12: =G12+20 -> 1020 | J12: =CHOOSE(MATCH(B12,{"Galandage";"Oscilotbattant";"Fixe";"Coulissant";"Frappe";"Porte"},0),H12+124,H12+100,H12+100,H12+124,H12+100,H12+100,"") -> 2600 | K12: =CHOOSE(MATCH(B12,{"Galandage";"Oscilotbattant";"Fixe";"Coulissant";"Frappe";"Porte"},0),50+(G12*2.03),100+G12-E12,100+G12-(E12*2),100+G12-(E12*2),100+G12-(E12*2),100+G12-(E12*2),"") -> 1050 | L12: =CHOOSE(MATCH(B12,{"Galandage";"Oscilotbattant";"Fixe";"Coulissant";"Frappe";"Porte"},0),124+H12,100+H12-E12,100+H12-E12,124+H12-E12,100+H12-E12,60+H12-E12,"") -> 2535 | P12: =D12 -> 1 | Z12: =IF(F12="non","",L12+20) | AF12: =I12 -> 1020 | AH12: =K12-I12+50 -> 80 | AI12: =CHOOSE(MATCH(B12,{"Galandage";"Oscilotbattant";"Fixe";"Coulissant";"Frappe";"Porte"},0),1080,1020,1020,1080,1020,1010,"") -> 1010
B16: Galandage | C16: 2 | D16: 2 | G16: 2000 | K16: {=INDEX($K$7:$K$12,MATCH(1,($B$7:$B$12=B16)*($C$7:$C$12=C16)*($D$7:$D$12=D16)*($G$7:$G$12=G16),0))} -> 4110

Sheet COMMANDE MENUISERIES
A3: COMMANDE MENUISERIE :
A7: Désignation | G7: Dimensions Fini(Devis) | I7: Dimension Brut | K7: Dimension hors tout
A8: N° | B8: Type | C8: Nombre de rails | D8: Nombre de vantaux | E8: Ep vue dormant | F8: Allège | G8: largeur | H8: hauteur | I8: largeur | J8: hauteur | K8: largeur | L8: hauteur
A9: =MENUISERIE!A7 -> ME01 | B9: =MENUISERIE!B7 -> Galandage | C9: =MENUISERIE!C7 -> 2 | D9: =MENUISERIE!D7 -> 2 | E9: =MENUISERIE!E7 -> 25 | F9: =MENUISERIE!F7 -> oui | G9: =MENUISERIE!G7 -> 2000 | H9: =MENUISERIE!H7 -> 2500 | ... J9: =MENUISERIE!J7 -> 2624 | K9: =CHOOSE(MATCH(B9,{"Galandage";"Oscilotbattant";"Fixe";"Coulissant";"Frappe";"Porte"},0),50+(G9*2.03),100+G9-E9,100+G9-(E9*2),100+G9-(E9*2),100+G9-(E9*2),100+G9-(E9*2),"") -> 4110 | L9: =CHOOSE(MATCH(B9,{"Galandage";"Oscilotbattant";"Fixe";"Coulissant";"Frappe";"Porte"},0),124+H9,100+H9-E9,100+H9-E9,124+H9-E9,100+H9-E9,60+H9-E9,"") -> 2624
A10: =MENUISERIE!A8 -> ME02 | B10: =MENUISERIE!B8 -> Coulissant | C10: =MENUISERIE!C8 -> 2 | D10: =MENUISERIE!D8 -> 2 | E10: =MENUISERIE!E8 -> 25 | F10: =MENUISERIE!F8 -> non | G10: =MENUISERIE!G8 -> 1800 | H10: =MENUISERIE!H8 -> 2500 | ... J10: =MENUISERIE!J8 -> 2624 | K10: =CHOOSE(MATCH(B10,{"Galandage";"Oscilotbattant";"Fixe";"Coulissant";"Frappe";"Porte"},0),50+(G10*2.03),100+G10-E10,100+G10-(E10*2),100+G10-(E10*2),100+G10-(E10*2),100+G10-(E10*2),"") -> 1850 | L10: =CHOOSE(MATCH(B10,{"Galandage";"Oscilotbattant";"Fixe";"Coulissant";"Frappe";"Porte"},0),124+H10,100+H10-E10,100+H10-E10,124+H10-E10,100+H10-E10,60+H10-E10,"") -> 2599
A11: =MENUISERIE!A9 -> ME03 | B11: =MENUISERIE!B9 -> Frappe | C11: =MENUISERIE!C9 -> 2 | D11: =MENUISERIE!D9 -> 1 | E11: =MENUISERIE!E9 -> 25 | F11: =MENUISERIE!F9 -> oui | G11: =MENUISERIE!G9 -> 1000 | H11: =MENUISERIE!H9 -> 2500 | ... J11: =MENUISERIE!J9 -> 2600 | K11: =CHOOSE(MATCH(B11,{"Galandage";"Oscilotbattant";"Fixe";"Coulissant";"Frappe";"Porte"},0),50+(G11*2.03),100+G11-E11,100+G11-(E11*2),100+G11-(E11*2),100+G11-(E11*2),100+G11-(E11*2),"") -> 1050 | L11: =CHOOSE(MATCH(B11,{"Galandage";"Oscilotbattant";"Fixe";"Coulissant";"Frappe";"Porte"},0),124+H11,100+H11-E11,100+H11-E11,124+H11-E11,100+H11-E11,60+H11-E11,"") -> 2575
A12: =MENUISERIE!A10 -> ME04 | B12: =MENUISERIE!B10 -> Fixe | C12: =MENUISERIE!C10 -> 1 | D12: =MENUISERIE!D10 -> 1 | E12: =MENUISERIE!E10 -> 25 | F12: =MENUISERIE!F10 -> non | G12: =MENUISERIE!G10 -> 1500 | H12: =MENUISERIE!H10 -> 2500 | ... J12: =MENUISERIE!J10 -> 2600 | K12: =CHOOSE(MATCH(B12,{"Galandage";"Oscilotbattant";"Fixe";"Coulissant";"Frappe";"Porte"},0),50+(G12*2.03),100+G12-E12,100+G12-(E12*2),100+G12-(E12*2),100+G12-(E12*2),100+G12-(E12*2),"") -> 1550 | L12: =CHOOSE(MATCH(B12,{"Galandage";"Oscilotbattant";"Fixe";"Coulissant";"Frappe";"Porte"},0),124+H12,100+H12-E12,100+H12-E12,124+H12-E12,100+H12-E12,60+H12-E12,"") -> 2575
A13: =MENUISERIE!A11 -> ME05 | B13: =MENUISERIE!B11 -> Oscilotbattant | C13: =MENUISERIE!C11 -> 1 | D13: =MENUISERIE!D11 -> 1 | E13: =MENUISERIE!E11 -> 25 | F13: =MENUISERIE!F11 -> non | G13: =MENUISERIE!G11 -> 600 | H13: =MENUISERIE!H11 -> 2500 | ... J13: =MENUISERIE!J11 -> 2600 | K13: =CHOOSE(MATCH(B13,{"Galandage";"Oscilotbattant";"Fixe";"Coulissant";"Frappe";"Porte"},0),50+(G13*2.03),100+G13-E13,100+G13-(E13*2),100+G13-(E13*2),100+G13-(E13*2),100+G13-(E13*2),"") -> 675 | L13: =CHOOSE(MATCH(B13,{"Galandage";"Oscilotbattant";"Fixe";"Coulissant";"Frappe";"Porte"},0),124+H13,100+H13-E13,100+H13-E13,124+H13-E13,100+H13-E13,60+H13-E13,"") -> 2575
A14: =MENUISERIE!A12 -> ME06 | B14: =MENUISERIE!B12 -> porte | C14: =MENUISERIE!C12 -> 1 | D14: =MENUISERIE!D12 -> 1 | E14: =MENUISERIE!E12 -> 25 | F14: =MENUISERIE!F12 -> non | G14: =MENUISERIE!G12 -> 1000 | H14: =MENUISERIE!H12 -> 2500 | ... J14: =MENUISERIE!J12 -> 2600 | K14: =CHOOSE(MATCH(B14,{"Galandage";"Oscilotbattant";"Fixe";"Coulissant";"Frappe";"Porte"},0),50+(G14*2.03),100+G14-E14,100+G14-(E14*2),100+G14-(E14*2),100+G14-(E14*2),100+G14-(E14*2),"") -> 1050 | L14: =CHOOSE(MATCH(B14,{"Galandage";"Oscilotbattant";"Fixe";"Coulissant";"Frappe";"Porte"},0),124+H14,100+H14-E14,100+H14-E14,124+H14-E14,100+H14-E14,60+H14-E14,"") -> 2535

Sheet COMMANDE PLIAGE
A3: COMMANDE PLIAGE
B7: Bacs passage | G7: Bacs refoulement | L7: Bande fillante
A8: N° | B8: Type | C8: longueur | D8: Quantité | F8: N° | G8: type | H8: longueur | I8: Quantité | K8: N° | L8: Type | M8: longueur

Sheet COMMANDE VERRE
A3: COMMANDE VERRE
B7: Verres
A8: N° | B8: Type | C8: largeur | D8: hauteur | E8: Quantité | F8: ep | G8: Collage
A9: =MENUISERIE!A7 -> ME01 | B9: =MENUISERIE!M7 -> 0 | C9: =MENUISERIE!N7 -> 0 | D9: =MENUISERIE!O7 -> 0 | E9: =MENUISERIE!P7 -> 2 | F9: =MENUISERIE!Q7 -> 0 | G9: =MENUISERIE!R7 -> 0

Sheet COMMANDE EQUERRES ET CLAMEAUX

Sheet INDEX
A1: TYPE | B1: RAIL | C1: VANTAUX | D1: ALLEGE
B2: 0 | C2: 0
A3: Galandage | B3: 1 | C3: 1 | D3: oui | F3: hauteur hors tout | G3: hauteur | J3: ratio galandage
A4: Coulissant | B4: 2 | C4: 2 | D4: non | F4: galandage | G4: 124 | J4: 1V | K4: 1.9865
A5: Frappe | B5: 3 | C5: 3 | F5: frappe | G5: .+100-ep vue dormant | J5: 2V 2R | K5: 1.48407
A6: Fixe | B6: 4 | C6: 4 | F6: fixe | G6: .+100-ep vue dormant | J6: 3V 3R | K6: 1.33
A7: Oscilotbattant | B7: 5 | C7: 5 | F7: Oscilot battant | G7: .+100-ep vue dormant | J7: 4V 4R | K7: 1.24444
A8: battant | B8: 6 | C8: 6 | F8: battant | G8: .+100-ep vue dormant | J8: 5V 5R
A9: porte | B9: 7 | C9: 7 | F9: porte | J9: 2V 1R
B10: 8 | C10: 8 | J10: 3V 2R
J11: 4V 2R | K11: =+K5*2 -> 2.96814
J12: 5V 3R
J13: 6V 3R | K13: 2.66
