Workbook
Name Feries: OFFSET([1]Paramètres!$A$1,,,COUNTA([1]Paramètres!$A$1:$A$65536),1)
Name Fériés: Calendrier!$A$36:$A$47
Name Fériés: #REF!
Name ListeJoursOuvres: [1]Paramètres!$G$2:$G$6
Name Ponts: OFFSET([1]Paramètres!$D$1,,,COUNTA([1]Paramètres!$D$1:$D$65536),1)
Name RTT: OFFSET([1]Paramètres!$C$1,,,COUNTA([1]Paramètres!$C$1:$C$65536),1)
Name TempsPartiel: [1]Paramètres!$E$2
Name Vacances: OFFSET([1]Paramètres!$B$1,,,COUNTA([1]Paramètres!$B$1:$B$65536),1)

Sheet Zones
C1: Tarif taxi
C3: Jour de Départ | D3: 40553 | E3: =IF(AND(COUNTIF(Fériés,D3)>0,D3<>""),"Férié",IF(WEEKDAY(D3,2)>5,"Week End","Semaine")) -> Semaine | F3: Trois résultats possibles : Semaine, Férié ou Week end
C4: Heure de Départ | D4: 0.72916667 | E4: =IF(AND(D4>10/24,D4<17/24),"Heure 1","Heure 2") -> Heure 2 | F4: Deux Tranches horaires possibles : Heure 1 de 10h à 17h et Heure 2 de 17h01 à 9h59
C6: Adresse de Départ
C7: Code Postal Départ | D7: 92000 | E7: =IF(AND(76000>D7,D7>74999),"Zone 1",IF(AND(92000<=D7,D7<95000),"Zone 2",IF(OR(D8="Roissy",D8="Orly"),"Zone 1","Zone 3"))) -> Zone 2 | F7: Zone de Départ : Zone 1 : Paris, Roissy et Orly Zone 2 : Dept 92, 93 et 94 Zone 3 : Autres départements
C8: Commune Départ
C12: Zone Tarifaire | D12: =IF(AND(E7="Zone 1",E4="Heure 1",E3="Semaine"),"ZONE A",IF(AND(E3="Semaine",E4="Heure 2",E7="Zone 1"),"ZONE B",IF(AND(E3="Week End",E7="Zone 1"),"ZONE B","ZONE C"))) -> ZONE C | F12: =OFFSET($F$14,MATCH($E$7,{"Zone 1";"Zone 2";"Zone 3"},0),IF(AND($E$3="Semaine",$E$4="Heure 1"),1,IF(AND($E$3="Semaine",$E$4="Heure 2"),2,IF($E$3="Week End",3,IF($E$3="Férié",4))))) -> C
G13: Semaine | I13: Week End | J13: Férié
F14: Ville de Départ | G14: 10h a 17h00 | H14: 00h01 à 9h59 et de 17h01 à 00h00 | I14: Toute la journée | J14: Toute la journée
F15: Paris, Roissy et Orly Aéroport | G15: A | H15: B | I15: B | J15: C
F16: Dpt 92, 93 et 94 | G16: B | H16: C | I16: C | J16: C
F17: Autres Département | G17: C | H17: C | I17: C | J17: C

Sheet Calendrier
A1: 2011 | B1: =DATE($A$1,COLUMN()-1,1) -> 40544 | C1: =DATE($A$1,COLUMN()-1,1) -> 40575 | D1: =DATE($A$1,COLUMN()-1,1) -> 40603 | E1: =DATE($A$1,COLUMN()-1,1) -> 40634 | F1: =DATE($A$1,COLUMN()-1,1) -> 40664 | G1: =DATE($A$1,COLUMN()-1,1) -> 40695 | H1: =DATE($A$1,COLUMN()-1,1) -> 40725 | I1: =DATE($A$1,COLUMN()-1,1) -> 40756 | ... M1: =DATE($A$1,COLUMN()-1,1) -> 40878
B2: =DATE($A$1,COLUMN()-1,ROW()-1) -> 40544 | C2: =DATE($A$1,COLUMN()-1,ROW()-1) -> 40575 | D2: =DATE($A$1,COLUMN()-1,ROW()-1) -> 40603 | E2: =DATE($A$1,COLUMN()-1,ROW()-1) -> 40634 | F2: =DATE($A$1,COLUMN()-1,ROW()-1) -> 40664 | G2: =DATE($A$1,COLUMN()-1,ROW()-1) -> 40695 | H2: =DATE($A$1,COLUMN()-1,ROW()-1) -> 40725 | I2: =DATE($A$1,COLUMN()-1,ROW()-1) -> 40756 | ... M2: =DATE($A$1,COLUMN()-1,ROW()-1) -> 40878
B3: =DATE($A$1,COLUMN()-1,ROW()-1) -> 40545 | C3: =DATE($A$1,COLUMN()-1,ROW()-1) -> 40576 | D3: =DATE($A$1,COLUMN()-1,ROW()-1) -> 40604 | E3: =DATE($A$1,COLUMN()-1,ROW()-1) -> 40635 | F3: =DATE($A$1,COLUMN()-1,ROW()-1) -> 40665 | G3: =DATE($A$1,COLUMN()-1,ROW()-1) -> 40696 | H3: =DATE($A$1,COLUMN()-1,ROW()-1) -> 40726 | I3: =DATE($A$1,COLUMN()-1,ROW()-1) -> 40757 | ... M3: =DATE($A$1,COLUMN()-1,ROW()-1) -> 40879 | O3: Week end
B4: =DATE($A$1,COLUMN()-1,ROW()-1) -> 40546 | C4: =DATE($A$1,COLUMN()-1,ROW()-1) -> 40577 | D4: =DATE($A$1,COLUMN()-1,ROW()-1) -> 40605 | E4: =DATE($A$1,COLUMN()-1,ROW()-1) -> 40636 | F4: =DATE($A$1,COLUMN()-1,ROW()-1) -> 40666 | G4: =DATE($A$1,COLUMN()-1,ROW()-1) -> 40697 | H4: =DATE($A$1,COLUMN()-1,ROW()-1) -> 40727 | I4: =DATE($A$1,COLUMN()-1,ROW()-1) -> 40758 | ... M4: =DATE($A$1,COLUMN()-1,ROW()-1) -> 40880 | O4: Fériés
B5: =DATE($A$1,COLUMN()-1,ROW()-1) -> 40547 | C5: =DATE($A$1,COLUMN()-1,ROW()-1) -> 40578 | D5: =DATE($A$1,COLUMN()-1,ROW()-1) -> 40606 | E5: =DATE($A$1,COLUMN()-1,ROW()-1) -> 40637 | F5: =DATE($A$1,COLUMN()-1,ROW()-1) -> 40667 | G5: =DATE($A$1,COLUMN()-1,ROW()-1) -> 40698 | H5: =DATE($A$1,COLUMN()-1,ROW()-1) -> 40728 | I5: =DATE($A$1,COLUMN()-1,ROW()-1) -> 40759 | ... M5: =DATE($A$1,COLUMN()-1,ROW()-1) -> 40881
B6: =DATE($A$1,COLUMN()-1,ROW()-1) -> 40548 | C6: =DATE($A$1,COLUMN()-1,ROW()-1) -> 40579 | D6: =DATE($A$1,COLUMN()-1,ROW()-1) -> 40607 | E6: =DATE($A$1,COLUMN()-1,ROW()-1) -> 40638 | F6: =DATE($A$1,COLUMN()-1,ROW()-1) -> 40668 | G6: =DATE($A$1,COLUMN()-1,ROW()-1) -> 40699 | H6: =DATE($A$1,COLUMN()-1,ROW()-1) -> 40729 | I6: =DATE($A$1,COLUMN()-1,ROW()-1) -> 40760 | ... M6: =DATE($A$1,COLUMN()-1,ROW()-1) -> 40882
B7: =DATE($A$1,COLUMN()-1,ROW()-1) -> 40549 | C7: =DATE($A$1,COLUMN()-1,ROW()-1) -> 40580 | D7: =DATE($A$1,COLUMN()-1,ROW()-1) -> 40608 | E7: =DATE($A$1,COLUMN()-1,ROW()-1) -> 40639 | F7: =DATE($A$1,COLUMN()-1,ROW()-1) -> 40669 | G7: =DATE($A$1,COLUMN()-1,ROW()-1) -> 40700 | H7: =DATE($A$1,COLUMN()-1,ROW()-1) -> 40730 | I7: =DATE($A$1,COLUMN()-1,ROW()-1) -> 40761 | ... M7: =DATE($A$1,COLUMN()-1,ROW()-1) -> 40883
B8: =DATE($A$1,COLUMN()-1,ROW()-1) -> 40550 | C8: =DATE($A$1,COLUMN()-1,ROW()-1) -> 40581 | D8: =DATE($A$1,COLUMN()-1,ROW()-1) -> 40609 | E8: =DATE($A$1,COLUMN()-1,ROW()-1) -> 40640 | F8: =DATE($A$1,COLUMN()-1,ROW()-1) -> 40670 | G8: =DATE($A$1,COLUMN()-1,ROW()-1) -> 40701 | H8: =DATE($A$1,COLUMN()-1,ROW()-1) -> 40731 | I8: =DATE($A$1,COLUMN()-1,ROW()-1) -> 40762 | ... M8: =DATE($A$1,COLUMN()-1,ROW()-1) -> 40884
B9: =DATE($A$1,COLUMN()-1,ROW()-1) -> 40551 | C9: =DATE($A$1,COLUMN()-1,ROW()-1) -> 40582 | D9: =DATE($A$1,COLUMN()-1,ROW()-1) -> 40610 | E9: =DATE($A$1,COLUMN()-1,ROW()-1) -> 40641 | F9: =DATE($A$1,COLUMN()-1,ROW()-1) -> 40671 | G9: =DATE($A$1,COLUMN()-1,ROW()-1) -> 40702 | H9: =DATE($A$1,COLUMN()-1,ROW()-1) -> 40732 | I9: =DATE($A$1,COLUMN()-1,ROW()-1) -> 40763 | ... M9: =DATE($A$1,COLUMN()-1,ROW()-1) -> 40885
B10: =DATE($A$1,COLUMN()-1,ROW()-1) -> 40552 | C10: =DATE($A$1,COLUMN()-1,ROW()-1) -> 40583 | D10: =DATE($A$1,COLUMN()-1,ROW()-1) -> 40611 | E10: =DATE($A$1,COLUMN()-1,ROW()-1) -> 40642 | F10: =DATE($A$1,COLUMN()-1,ROW()-1) -> 40672 | G10: =DATE($A$1,COLUMN()-1,ROW()-1) -> 40703 | H10: =DATE($A$1,COLUMN()-1,ROW()-1) -> 40733 | I10: =DATE($A$1,COLUMN()-1,ROW()-1) -> 40764 | ... M10: =DATE($A$1,COLUMN()-1,ROW()-1) -> 40886
B11: =DATE($A$1,COLUMN()-1,ROW()-1) -> 40553 | C11: =DATE($A$1,COLUMN()-1,ROW()-1) -> 40584 | D11: =DATE($A$1,COLUMN()-1,ROW()-1) -> 40612 | E11: =DATE($A$1,COLUMN()-1,ROW()-1) -> 40643 | F11: =DATE($A$1,COLUMN()-1,ROW()-1) -> 40673 | G11: =DATE($A$1,COLUMN()-1,ROW()-1) -> 40704 | H11: =DATE($A$1,COLUMN()-1,ROW()-1) -> 40734 | I11: =DATE($A$1,COLUMN()-1,ROW()-1) -> 40765 | ... M11: =DATE($A$1,COLUMN()-1,ROW()-1) -> 40887
B12: =DATE($A$1,COLUMN()-1,ROW()-1) -> 40554 | C12: =DATE($A$1,COLUMN()-1,ROW()-1) -> 40585 | D12: =DATE($A$1,COLUMN()-1,ROW()-1) -> 40613 | E12: =DATE($A$1,COLUMN()-1,ROW()-1) -> 40644 | F12: =DATE($A$1,COLUMN()-1,ROW()-1) -> 40674 | G12: =DATE($A$1,COLUMN()-1,ROW()-1) -> 40705 | H12: =DATE($A$1,COLUMN()-1,ROW()-1) -> 40735 | I12: =DATE($A$1,COLUMN()-1,ROW()-1) -> 40766 | ... M12: =DATE($A$1,COLUMN()-1,ROW()-1) -> 40888
B13: =DATE($A$1,COLUMN()-1,ROW()-1) -> 40555 | C13: =DATE($A$1,COLUMN()-1,ROW()-1) -> 40586 | D13: =DATE($A$1,COLUMN()-1,ROW()-1) -> 40614 | E13: =DATE($A$1,COLUMN()-1,ROW()-1) -> 40645 | F13: =DATE($A$1,COLUMN()-1,ROW()-1) -> 40675 | G13: =DATE($A$1,COLUMN()-1,ROW()-1) -> 40706 | H13: =DATE($A$1,COLUMN()-1,ROW()-1) -> 40736 | I13: =DATE($A$1,COLUMN()-1,ROW()-1) -> 40767 | ... M13: =DATE($A$1,COLUMN()-1,ROW()-1) -> 40889
B14: =DATE($A$1,COLUMN()-1,ROW()-1) -> 40556 | C14: =DATE($A$1,COLUMN()-1,ROW()-1) -> 40587 | D14: =DATE($A$1,COLUMN()-1,ROW()-1) -> 40615 | E14: =DATE($A$1,COLUMN()-1,ROW()-1) -> 40646 | F14: =DATE($A$1,COLUMN()-1,ROW()-1) -> 40676 | G14: =DATE($A$1,COLUMN()-1,ROW()-1) -> 40707 | H14: =DATE($A$1,COLUMN()-1,ROW()-1) -> 40737 | I14: =DATE($A$1,COLUMN()-1,ROW()-1) -> 40768 | ... M14: =DATE($A$1,COLUMN()-1,ROW()-1) -> 40890
B15: =DATE($A$1,COLUMN()-1,ROW()-1) -> 40557 | C15: =DATE($A$1,COLUMN()-1,ROW()-1) -> 40588 | D15: =DATE($A$1,COLUMN()-1,ROW()-1) -> 40616 | E15: =DATE($A$1,COLUMN()-1,ROW()-1) -> 40647 | F15: =DATE($A$1,COLUMN()-1,ROW()-1) -> 40677 | G15: =DATE($A$1,COLUMN()-1,ROW()-1) -> 40708 | H15: =DATE($A$1,COLUMN()-1,ROW()-1) -> 40738 | I15: =DATE($A$1,COLUMN()-1,ROW()-1) -> 40769 | ... M15: =DATE($A$1,COLUMN()-1,ROW()-1) -> 40891
B16: =DATE($A$1,COLUMN()-1,ROW()-1) -> 40558 | C16: =DATE($A$1,COLUMN()-1,ROW()-1) -> 40589 | D16: =DATE($A$1,COLUMN()-1,ROW()-1) -> 40617 | E16: =DATE($A$1,COLUMN()-1,ROW()-1) -> 40648 | F16: =DATE($A$1,COLUMN()-1,ROW()-1) -> 40678 | G16: =DATE($A$1,COLUMN()-1,ROW()-1) -> 40709 | H16: =DATE($A$1,COLUMN()-1,ROW()-1) -> 40739 | I16: =DATE($A$1,COLUMN()-1,ROW()-1) -> 40770 | ... M16: =DATE($A$1,COLUMN()-1,ROW()-1) -> 40892
... B29: =DATE($A$1,COLUMN()-1,ROW()-1) -> 40571 | C29: =DATE($A$1,COLUMN()-1,ROW()-1) -> 40602 | D29: =DATE($A$1,COLUMN()-1,ROW()-1) -> 40630 | E29: =DATE($A$1,COLUMN()-1,ROW()-1) -> 40661 | F29: =DATE($A$1,COLUMN()-1,ROW()-1) -> 40691 | G29: =DATE($A$1,COLUMN()-1,ROW()-1) -> 40722 | H29: =DATE($A$1,COLUMN()-1,ROW()-1) -> 40752 | I29: =DATE($A$1,COLUMN()-1,ROW()-1) -> 40783 | ... M29: =DATE($A$1,COLUMN()-1,ROW()-1) -> 40905
B30: =DATE($A$1,COLUMN()-1,ROW()-1) -> 40572 | C30: =IF(MONTH(DATE($A$1,COLUMN()-1,ROW()-1))=2,DATE($A$1,COLUMN()-1,ROW()-1),"") | D30: =DATE($A$1,COLUMN()-1,ROW()-1) -> 40631 | E30: =DATE($A$1,COLUMN()-1,ROW()-1) -> 40662 | F30: =DATE($A$1,COLUMN()-1,ROW()-1) -> 40692 | G30: =DATE($A$1,COLUMN()-1,ROW()-1) -> 40723 | H30: =DATE($A$1,COLUMN()-1,ROW()-1) -> 40753 | I30: =DATE($A$1,COLUMN()-1,ROW()-1) -> 40784 | J30: =DATE($A$1,COLUMN()-1,ROW()-1) -> 40815 | K30: =DATE($A$1,COLUMN()-1,ROW()-1) -> 40845 | ... M30: =DATE($A$1,COLUMN()-1,ROW()-1) -> 40906
B31: =DATE($A$1,COLUMN()-1,ROW()-1) -> 40573 | D31: =DATE($A$1,COLUMN()-1,ROW()-1) -> 40632 | E31: =DATE($A$1,COLUMN()-1,ROW()-1) -> 40663 | F31: =DATE($A$1,COLUMN()-1,ROW()-1) -> 40693 | G31: =DATE($A$1,COLUMN()-1,ROW()-1) -> 40724 | H31: =DATE($A$1,COLUMN()-1,ROW()-1) -> 40754 | I31: =DATE($A$1,COLUMN()-1,ROW()-1) -> 40785 | J31: =DATE($A$1,COLUMN()-1,ROW()-1) -> 40816 | K31: =DATE($A$1,COLUMN()-1,ROW()-1) -> 40846 | ... M31: =DATE($A$1,COLUMN()-1,ROW()-1) -> 40907
B32: =DATE($A$1,COLUMN()-1,ROW()-1) -> 40574 | D32: =DATE($A$1,COLUMN()-1,ROW()-1) -> 40633 | F32: =DATE($A$1,COLUMN()-1,ROW()-1) -> 40694 | H32: =DATE($A$1,COLUMN()-1,ROW()-1) -> 40755 | I32: =DATE($A$1,COLUMN()-1,ROW()-1) -> 40786 | K32: =DATE($A$1,COLUMN()-1,ROW()-1) -> 40847 | M32: =DATE($A$1,COLUMN()-1,ROW()-1) -> 40908
A36: Fériés
A37: =DATE(Calendrier!$A$1,1,1) -> 40544
A38: =DATE(Calendrier!$A$1,IF((25-MOD((11*MOD(Calendrier!$A$1-1900,19)+4-INT((7*MOD(Calendrier!$A$1-1900,19)+1)/19)),29)-MOD(Calendrier!$A$1-1900+INT((Calendrier!$A$1-1900)/4)+31-MOD((11*MOD([1]Calendrier!$A$1-1900,19)+4-INT((7*MOD([1]Calendrier!$A$1-1900,19)+1)/19)),29),7))>0,4,3),IF((25-MOD((11*MOD([1]Calendrier!$A$1-1900,19)+4-INT((7*MOD([1]Calendrier!$A$1-1900,19)+1)/19)),29)-MOD([1]Calendrier!$A$1-1900+INT(([1]Calendrier!$A$1-1900)/4)+31-MOD((11*MOD([1]Calendrier!$A$1-1900,19)+4-INT((7*MOD([1]Calendrier!$A$1-1900,19)+1)/19)),29),7))>0,(25-MOD((11*MOD([1]Calendrier!$A$1-1900,19)+4-INT((7*MOD([1]Calendrier!$A$1-1900,19)+1)/19)),29)-MOD([1]Calendrier!$A$1-1900+INT(([1]Calendrier!$A$1-1900)/4)+31-MOD((11*MOD([1]Calendrier!$A$1-1900,19)+4-INT((7*MOD([1]Calendrier!$A$1-1900,19)+1)/19)),29),7)),31+(25-MOD((11*MOD([1]Calendrier!$A$1-1900,19)+4-INT((7*MOD([1]Calendrier!$A$1-1900,19)+1)/19)),29)-MOD([1]Calendrier!$A$1-1900+INT(([1]Calendrier!$A$1-1900)/4)+31-MOD((11*MOD(Calendrier!$A$1-1900,19)+4-INT((7*MOD(Calendrier!$A$1-1900,19)+1)/19)),29),7))))+1 -> 40659
A39: =DATE(Calendrier!$A$1,5,1) -> 40664
A40: =DATE(Calendrier!$A$1,5,8) -> 40671
A41: =A38+38 -> 40697
A42: =$A$38+49 -> 40708
A43: =DATE(Calendrier!$A$1,7,14) -> 40738
A44: =DATE(Calendrier!$A$1,8,15) -> 40770
A45: =DATE(Calendrier!$A$1,11,1) -> 40848
A46: =DATE(Calendrier!$A$1,11,11) -> 40858
A47: =DATE(Calendrier!$A$1,12,25) -> 40902
