Workbook
Name repere: OFFSET(Feuil1!$AA$2,,,COUNTA(Feuil1!$AA:$AA)-1)
Name Tablo: OFFSET(Feuil1!$AA$2:$AB$2,,,COUNTA(repere))

Sheet RECAP
A1: REPERE | B1: LINEAIRE | C1: TYPE | D1: LONG | E1: PUISS | G1: DE
E2: 1 | F2: 2 | G2: V | I2: CC | K2: R | O2: E
K3: MONO | M3: TRI
G4: W ELEC. | H4: A | I4: W ELEC. | J4: A | K4: W ELEC. | L4: A | M4: W ELEC. | N4: A | O4: W ELEC. | P4: A
A5: 1 | B5: =IF($A5="","",INDIRECT(VLOOKUP($A5,Tablo,2,0)&"!$F$4")) -> A | C5: =IF($A5="","",INDIRECT(VLOOKUP($A5,Tablo,2,0)&"!$C$13")) -> A | D5: =IF($A5="","",INDIRECT(VLOOKUP($A5,Tablo,2,0)&"!$Q$15")) -> 13.75 | E5: =IF($A5="","",INDIRECT(VLOOKUP($A5,Tablo,2,0)&"!$C$91")) -> 13887.5 | F5: =IF($A5="","",INDIRECT(VLOOKUP($A5,Tablo,2,0)&"!$C$97")) -> 13887.5 | G5: =IF($A5="","",INDIRECT(VLOOKUP($A5,Tablo,2,0)&"!$"&CHAR(COLUMN()+64)&"$91")) -> 220 | H5: =IF($A5="","",INDIRECT(VLOOKUP($A5,Tablo,2,0)&"!$"&CHAR(COLUMN()+64)&"$91")) -> 2.2 | I5: =IF($A5="","",INDIRECT(VLOOKUP($A5,Tablo,2,0)&"!$"&CHAR(COLUMN()+64)&"$91")) -> 0 | J5: =IF($A5="","",INDIRECT(VLOOKUP($A5,Tablo,2,0)&"!$"&CHAR(COLUMN()+64)&"$91")) -> 0 | K5: =IF($A5="","",INDIRECT(VLOOKUP($A5,Tablo,2,0)&"!$"&CHAR(COLUMN()+64)&"$91")) -> 0 | L5: =IF($A5="","",INDIRECT(VLOOKUP($A5,Tablo,2,0)&"!$"&CHAR(COLUMN()+64)&"$91")) -> 0 | M5: =IF($A5="","",INDIRECT(VLOOKUP($A5,Tablo,2,0)&"!$"&CHAR(COLUMN()+64)&"$91")) -> 0 | N5: =IF($A5="","",INDIRECT(VLOOKUP($A5,Tablo,2,0)&"!$"&CHAR(COLUMN()+64)&"$91")) -> 0 | ... P5: =IF($A5="","",INDIRECT(VLOOKUP($A5,Tablo,2,0)&"!$"&CHAR(COLUMN()+64)&"$91")) -> 2.8875
A6: 2 | B6: =IF($A6="","",INDIRECT(VLOOKUP($A6,Tablo,2,0)&"!$F$4")) -> B | C6: =IF($A6="","",INDIRECT(VLOOKUP($A6,Tablo,2,0)&"!$C$13")) -> B | D6: =IF($A6=MGC!$E$4,MGC!$Q$15,"") | E6: =IF($A6=MGC!$E$4,MGC!$C$91,"") | F6: =IF($A6=MGC!$E$4,MGC!$C$97,"") | G6: =IF($A6=MGC!$E$4,MGC!$G$91,"") | H6: =IF($A6=MGC!$E$4,MGC!$H$91,"") | I6: =IF($A6=MGC!$E$4,MGC!$I$91,"")
A7: 3 | B7: =IF($A7="","",INDIRECT(VLOOKUP($A7,Tablo,2,0)&"!$F$4")) -> C | C7: =IF($A7="","",INDIRECT(VLOOKUP($A7,Tablo,2,0)&"!$C$13")) -> C | D7: =IF($A7=MGC!$E$4,MGC!$Q$15,"") | E7: =IF($A7=MGC!$E$4,MGC!$C$91,"") | F7: =IF($A7=MGC!$E$4,MGC!$C$97,"") | G7: =IF($A7=MGC!$E$4,MGC!$G$91,"") | H7: =IF($A7=MGC!$E$4,MGC!$H$91,"") | I7: =IF($A7=MGC!$E$4,MGC!$I$91,"")
A8: 4 | B8: =IF($A8="","",INDIRECT(VLOOKUP($A8,Tablo,2,0)&"!$F$4")) -> D | C8: =IF($A8="","",INDIRECT(VLOOKUP($A8,Tablo,2,0)&"!$C$13")) -> D | D8: =IF($A8=MGC!$E$4,MGC!$Q$15,"") | E8: =IF($A8=MGC!$E$4,MGC!$C$91,"") | F8: =IF($A8=MGC!$E$4,MGC!$C$97,"") | G8: =IF($A8=MGC!$E$4,MGC!$G$91,"") | H8: =IF($A8=MGC!$E$4,MGC!$H$91,"") | I8: =IF($A8=MGC!$E$4,MGC!$I$91,"")

Sheet MGC
C4: REPERE : | E4: 1 | F4: A
C6: Schéma:
C13: A
C15: Longueur Hors Tout | F15: =J18+J19+J20+J21 -> 13.75 | G15: M | H15: + | I15: =D22 -> 0 | J15: T.G | K15: DE | L15: =J22 -> 1.095 | M15: DE PROFONDEUR Hors Tout | P15: SOIT | Q15: =F15+(D22*J22)+(P18+P19)*0.085 -> 13.75 | R15: M
C16: Hauteur | F16: 2.045 | G16: M
C18: Modules | D18: 0 | E18: x | G18: - | H18: 2 | I18: soit | J18: =H18*D18*0.625 -> 0 | K18: m
D19: 4 | E19: x | G19: - | H19: 3 | I19: soit | J19: =H19*D19*0.625 -> 7.5 | K19: m
D20: 1 | E20: x | G20: - | H20: 4 | I20: soit | J20: =H20*D20*0.625 -> 2.5 | K20: m
D21: 1 | E21: x | G21: - | H21: 6 | I21: soit | J21: =H21*D21*0.625 -> 3.75 | K21: m
E22: x | G22: - | H22: C | I22: de | J22: 1.095 | K22: m | L22: de prof. | M22: et de | N22: 167 | O22: mm en LARG.
Q57: PHOTO NON CONTRACTUELLE
B80: LA COULEUR
B82: - Intérieur : | C82: RAL
B83: - Extérieur : | C83: RAL
B84: - Plinthes : | C84: RAL
B85: - Pare-chocs : | C85: RAL
B86: AMBIANCE suivant NORME ISO 23953
B87: CLASSE 3 (3M1) : 25°C / 60% HR | G87: DE
B88: LONGUEUR | C88: PUISS1 | G88: V | I88: CC | K88: RD | O88: E
K89: MONO | M89: TRI
G90: W ELEC. | H90: A | I90: W ELEC. | J90: A | K90: W ELEC. | L90: A | M90: W ELEC. | N90: A | O90: W ELEC. | P90: A
B91: =Q15 -> 13.75 | C91: =B91*1010 -> 13887.5 | G91: =B91*16 -> 220 | H91: =B91*0.16 -> 2.2 | O91: =B91*48.8 -> 671 | P91: =B91*0.21 -> 2.8875
B93: CLASSE 2 (M1) : 22°C / 65% HR | G93: DONNEES ELECTRIQUES
B94: LONGUEUR | C94: PUISS2 | G94: V | I94: CORDON CHAUFFANT | K94: RESISTANCE DE DEGIVRAGE | O94: ECLAIRAGE
K95: MONO | M95: TRI
G96: W ELEC. | H96: A | I96: W ELEC. | J96: A | K96: W ELEC. | L96: A | M96: W ELEC. | N96: A | O96: W ELEC. | P96: A
B97: =Q15 -> 13.75 | C97: =B97*1010 -> 13887.5 | G97: =B97*16 -> 220 | H97: =B97*0.16 -> 2.2 | O97: =B97*48.8 -> 671 | P97: =B97*0.21 -> 2.8875
B98: *(GCE) : | C98: Gains en Cosonmmation Energétique | Q98: Prix du linéaire CF tableau de récapitulation

Sheet MJC
C4: REPERE : | E4: 2 | F4: B
C6: Schéma:
C13: B
C15: Longueur Hors Tout | F15: =J18+J19+J20+J21 -> 13.75 | G15: M | H15: + | I15: =D22 -> 0 | J15: T.G | K15: DE | L15: =J22 -> 1.095 | M15: DE PROFONDEUR Hors Tout | P15: SOIT | Q15: =F15+(D22*J22)+(P18+P19)*0.085 -> 13.75 | R15: M
C16: Hauteur | F16: 2.045 | G16: M
C18: Modules | D18: 0 | E18: x | G18: - | H18: 2 | I18: soit | J18: =H18*D18*0.625 -> 0 | K18: m
D19: 4 | E19: x | G19: - | H19: 3 | I19: soit | J19: =H19*D19*0.625 -> 7.5 | K19: m
D20: 1 | E20: x | G20: - | H20: 4 | I20: soit | J20: =H20*D20*0.625 -> 2.5 | K20: m
D21: 1 | E21: x | G21: - | H21: 6 | I21: soit | J21: =H21*D21*0.625 -> 3.75 | K21: m
E22: x | G22: - | H22: C | I22: de | J22: 1.095 | K22: m | L22: de prof. | M22: et de | N22: 167 | O22: mm en LARG.
Q57: PHOTO NON CONTRACTUELLE
B86: AMBIANCE suivant NORME ISO 23953
B87: CLASSE 3 (3M1) : 25°C / 60% HR | G87: DE
B88: LONGUEUR | C88: PUISS1 | G88: V | I88: CC | K88: RD | O88: E
K89: MONO | M89: TRI
G90: W ELEC. | H90: A | I90: W ELEC. | J90: A | K90: W ELEC. | L90: A | M90: W ELEC. | N90: A | O90: W ELEC. | P90: A
B91: =Q15 -> 13.75 | C91: =B91*1010 -> 13887.5 | G91: =B91*16 -> 220 | H91: =B91*0.16 -> 2.2 | O91: =B91*48.8 -> 671 | P91: =B91*0.21 -> 2.8875
B93: CLASSE 2 (M1) : 22°C / 65% HR | G93: DE
B94: LONGUEUR | C94: PUISS2 | G94: V | I94: CC | K94: RD | O94: E
K95: MONO | M95: TRI
G96: W ELEC. | H96: A | I96: W ELEC. | J96: A | K96: W ELEC. | L96: A | M96: W ELEC. | N96: A | O96: W ELEC. | P96: A
B97: =Q15 -> 13.75 | C97: =B97*1010 -> 13887.5 | G97: =B97*16 -> 220 | H97: =B97*0.16 -> 2.2 | O97: =B97*48.8 -> 671 | P97: =B97*0.21 -> 2.8875
B98: *(GCE) : | C98: Gains en Cosonmmation Energétique | Q98: Prix du linéaire CF tableau de récapitulation

Sheet SMD
C4: REPERE : | E4: 3 | F4: C
C6: Schéma: | L6: Commentaires:
C13: C
C15: Longueur Hors Tout | F15: =J18+J19+J20+J21 -> 2.5 | G15: M | H15: + | I15: =D22 -> 0 | J15: T.G | K15: DE | L15: =J22 -> 1.095 | M15: DE PROFONDEUR Hors Tout | P15: SOIT | Q15: =F15+(D22*J22)+(P18+P19)*0.085 -> 2.5 | R15: M
C16: Hauteur | F16: 2.045 | G16: M
C18: Modules | D18: 2 | E18: x | G18: - | H18: 2 | I18: soit | J18: =H18*D18*0.625 -> 2.5 | K18: m
D19: 0 | E19: x | G19: - | H19: 3 | I19: soit | J19: =H19*D19*0.625 -> 0 | K19: m
D20: 0 | E20: x | G20: - | H20: 4 | I20: soit | J20: =H20*D20*0.625 -> 0 | K20: m
D21: 0 | E21: x | G21: - | H21: 6 | I21: soit | J21: =H21*D21*0.625 -> 0 | K21: m
D22: 0 | E22: x | G22: - | H22: C | I22: de | J22: 1.095 | K22: m | L22: de prof. | M22: et de | N22: 167 | O22: mm en LARG.
Q57: PHOTO NON CONTRACTUELLE
B86: AMBIANCE suivant NORME ISO 23953
B87: CLASSE 3 (3M1) : 25°C / 60% HR | G87: DE
B88: LONGUEUR | C88: PUISS1 | G88: V | I88: CC | K88: RD | O88: E
K89: MONO | M89: TRI
G90: W ELEC. | H90: A | I90: W ELEC. | J90: A | K90: W ELEC. | L90: A | M90: W ELEC. | N90: A | O90: W ELEC. | P90: A
B91: =Q15 -> 2.5 | C91: =B91*1010 -> 2525 | D91: -7 | E91: 8 | F91: 30' | G91: =B91*16 -> 40 | H91: =B91*0.16 -> 0.4 | O91: =B91*48.8 -> 122 | P91: =B91*0.21 -> 0.525
B93: CLASSE 2 (M1) : 22°C / 65% HR | G93: DE
B94: LONGUEUR | C94: PUISS1 | G94: V | I94: CC | K94: RD | O94: E
K95: MONO | M95: TRI
G96: W ELEC. | H96: A | I96: W ELEC. | J96: A | K96: W ELEC. | L96: A | M96: W ELEC. | N96: A | O96: W ELEC. | P96: A
B97: =Q15 -> 2.5 | C97: =B97*1010 -> 2525 | D97: -7 | E97: 8 | F97: 30' | G97: =B97*16 -> 40 | H97: =B97*0.16 -> 0.4 | O97: =B97*48.8 -> 122 | P97: =B97*0.21 -> 0.525
B98: *(GCE) : | C98: Gains en Cosonmmation Energétique | Q98: Prix du linéaire CF tableau de récapitulation

Sheet CM
C4: REPERE : | E4: 4 | F4: D
C6: Schéma:
C13: D
C15: Longueur Hors Tout | F15: =J18+J19+J20+J21 -> 2.5 | G15: M | H15: + | I15: =D22 -> 0 | J15: T.G | K15: DE | L15: =J22 -> 1.095 | M15: DE PROFONDEUR Hors Tout | P15: SOIT | Q15: =F15+(D22*J22)+(P18+P19)*0.085 -> 2.5 | R15: M
C16: Hauteur | F16: 2.045 | G16: M
C18: Modules | D18: 2 | E18: x | G18: - | H18: 2 | I18: soit | J18: =H18*D18*0.625 -> 2.5 | K18: m
D19: 0 | E19: x | G19: - | H19: 3 | I19: soit | J19: =H19*D19*0.625 -> 0 | K19: m
D20: 0 | E20: x | G20: - | H20: 4 | I20: soit | J20: =H20*D20*0.625 -> 0 | K20: m
D21: 0 | E21: x | G21: - | H21: 6 | I21: soit | J21: =H21*D21*0.625 -> 0 | K21: m
D22: 0 | E22: x | G22: - | H22: C | I22: de | J22: 1.095 | K22: m | L22: de prof. | M22: et de | N22: 167 | O22: mm en LARG.
Q57: PHOTO NON CONTRACTUELLE
B86: AMBIANCE suivant NORME ISO 23953
B87: CLASSE 3 (3M1) : 25°C / 60% HR | G87: DE
B88: LONGUEUR | C88: PUISS1 | G88: V | I88: CC | K88: RD | O88: E
K89: MONO | M89: TRI
G90: W ELEC. | H90: A | I90: W ELEC. | J90: A | K90: W ELEC. | L90: A | M90: W ELEC. | N90: A | O90: W ELEC. | P90: A
B91: =Q15 -> 2.5 | C91: =B91*1010 -> 2525 | D91: -7 | E91: 8 | F91: 30' | G91: =B91*16 -> 40 | H91: =B91*0.16 -> 0.4 | O91: =B91*48.8 -> 122 | P91: =B91*0.21 -> 0.525
B93: CLASSE 2 (M1) : 22°C / 65% HR | G93: DE
B94: LONGUEUR | C94: PUISS1 | G94: V | I94: CC | K94: RD | O94: E
K95: MONO | M95: TRI
G96: W ELEC. | H96: A | I96: W ELEC. | J96: A | K96: W ELEC. | L96: A | M96: W ELEC. | N96: A | O96: W ELEC. | P96: A
B97: =Q15 -> 2.5 | C97: =B97*1010 -> 2525 | D97: -7 | E97: 8 | F97: 30' | G97: =B97*16 -> 40 | H97: =B97*0.16 -> 0.4 | O97: =B97*48.8 -> 122 | P97: =B97*0.21 -> 0.525
B98: *(GCE) : | C98: Gains en Cosonmmation Energétique | Q98: Prix du linéaire CF tableau de récapitulation

Sheet Feuil1
A1: repere | B1: lineaire | C1: TY | AA1: repere | AB1: feuille
A2: 1 | B2: =IF($A2=MGC!$E$4,MGC!$F$4,"") -> A | C2: =IF($A2=MGC!$E$4,MGC!$C$13,"") -> A | D2: =IF($A2=MGC!$E$4,MGC!$D$18,"") -> 0 | E2: X | F2: =IF($A2=MGC!$E$4,MGC!$J$18,"") -> 0 | G2: + | H2: =IF($A2=MGC!$E$4,MGC!$D$19,"") -> 4 | I2: X | J2: =IF($A2=MGC!$E$4,MGC!$J$19,"") -> 7.5 | K2: + | L2: =IF($A2=MGC!$E$4,MGC!$D$20,"") -> 1 | M2: X | N2: =IF($A2=MGC!$E$4,MGC!$J$20,"") -> 2.5 | O2: + | P2: =IF($A2=MGC!$E$4,MGC!$D$21,"") -> 1 | Q2: + | R2: =IF($A2=MGC!$E$4,MGC!$J$21,"") -> 3.75 | S2: + | T2: =IF($A2=MGC!$E$4,MGC!$D$22,"") -> 0 | U2: =IF($A2=MGC!$E$4,MGC!$J$15,"") -> T.G | V2: =IF($A2=MGC!$E$4,MGC!$N$22,"") -> 167 | AA2: 1 | AB2: MGC
A3: 2 | B3: =IF($A3=MJC!$E$4,MJC!$F$4,"") -> B | C3: =IF($A3=MJC!$E$4,MJC!$C$13,"") -> B | D3: =IF($A3=MJC!$E$4,MJC!$D$18,"") -> 0 | E3: X | F3: =IF($A3=MJC!$E$4,MJC!$J$18,"") -> 0 | G3: + | AA3: 2 | AB3: MJC
A4: 3 | B4: =IF($A4=SMD!$E$4,SMD!$F$4,"") -> C | C4: =IF($A4=SMD!$E$4,SMD!$C$13,"") -> C | D4: =IF($A4=SMD!$E$4,SMD!$D$18,"") -> 2 | E4: X | F4: =IF($A4=MGC!$E$4,MGC!$J$18,"") | G4: + | AA4: 3 | AB4: SMD
A5: 4 | B5: =IF($A5=CM!$E$4,CM!$F$4,"") -> D | C5: =IF($A5=CM!$E$4,CM!$C$13,"") -> D | D5: =IF($A5=CM!$E$4,CM!$D$18,"") -> 2 | E5: X | F5: =IF($A5=MGC!$E$4,MGC!$J$18,"") | G5: + | AA5: 4 | AB5: CM
A8: 1 | B8: =IF($A8="","",INDIRECT(VLOOKUP($A8,Tablo,2,0)&"!$F$4")) -> A | C8: =IF($A8="","",INDIRECT(VLOOKUP($A8,Tablo,2,0)&"!$C$13")) -> A | D8: =IF($A8="","",INDIRECT(VLOOKUP($A8,Tablo,2,0)&"!$D$18")) -> 0 | E8: X | F8: =IF($A8="","",INDIRECT(VLOOKUP($A8,Tablo,2,0)&"!$J$18")) -> 0 | G8: + | H8: =IF($A8="","",INDIRECT(VLOOKUP($A8,Tablo,2,0)&"!$D$19")) -> 4 | I8: X | J8: =IF($A8="","",INDIRECT(VLOOKUP($A8,Tablo,2,0)&"!$J$19")) -> 7.5 | K8: + | L8: =IF($A8="","",INDIRECT(VLOOKUP($A8,Tablo,2,0)&"!$D$20")) -> 1 | M8: X | N8: =IF($A8="","",INDIRECT(VLOOKUP($A8,Tablo,2,0)&"!$J$20")) -> 2.5 | O8: + | P8: =IF($A8="","",INDIRECT(VLOOKUP($A8,Tablo,2,0)&"!$D$21")) -> 1 | Q8: + | R8: =IF($A8="","",INDIRECT(VLOOKUP($A8,Tablo,2,0)&"!$J$21")) -> 3.75 | S8: + | T8: =IF($A8="","",INDIRECT(VLOOKUP($A8,Tablo,2,0)&"!$D$22")) -> 0 | U8: =IF($A8="","",INDIRECT(VLOOKUP($A8,Tablo,2,0)&"!$J$15")) -> T.G | V8: =IF($A8="","",INDIRECT(VLOOKUP($A8,Tablo,2,0)&"!$N$22")) -> 167
A9: 2 | B9: =IF($A9="","",INDIRECT(VLOOKUP($A9,Tablo,2,0)&"!$F$4")) -> B | C9: =IF($A9="","",INDIRECT(VLOOKUP($A9,Tablo,2,0)&"!$C$13")) -> B | D9: =IF($A9="","",INDIRECT(VLOOKUP($A9,Tablo,2,0)&"!$D$18")) -> 0 | E9: X | F9: =IF($A9="","",INDIRECT(VLOOKUP($A9,Tablo,2,0)&"!$J$18")) -> 0 | G9: + | H9: =IF($A9="","",INDIRECT(VLOOKUP($A9,Tablo,2,0)&"!$D$19")) -> 4 | I9: X | J9: =IF($A9="","",INDIRECT(VLOOKUP($A9,Tablo,2,0)&"!$J$19")) -> 7.5 | K9: + | L9: =IF($A9="","",INDIRECT(VLOOKUP($A9,Tablo,2,0)&"!$D$20")) -> 1 | M9: X | N9: =IF($A9="","",INDIRECT(VLOOKUP($A9,Tablo,2,0)&"!$J$20")) -> 2.5 | P9: =IF($A9="","",INDIRECT(VLOOKUP($A9,Tablo,2,0)&"!$D$21")) -> 1 | Q9: + | R9: =IF($A9="","",INDIRECT(VLOOKUP($A9,Tablo,2,0)&"!$J$21")) -> 3.75 | S9: + | T9: =IF($A9="","",INDIRECT(VLOOKUP($A9,Tablo,2,0)&"!$D$22")) -> 0 | U9: =IF($A9="","",INDIRECT(VLOOKUP($A9,Tablo,2,0)&"!$J$15")) -> T.G | V9: =IF($A9="","",INDIRECT(VLOOKUP($A9,Tablo,2,0)&"!$N$22")) -> 167
A10: 3 | B10: =IF($A10="","",INDIRECT(VLOOKUP($A10,Tablo,2,0)&"!$F$4")) -> C | C10: =IF($A10="","",INDIRECT(VLOOKUP($A10,Tablo,2,0)&"!$C$13")) -> C | D10: =IF($A10="","",INDIRECT(VLOOKUP($A10,Tablo,2,0)&"!$D$18")) -> 2 | E10: X | F10: =IF($A10="","",INDIRECT(VLOOKUP($A10,Tablo,2,0)&"!$J$18")) -> 2.5 | G10: + | H10: =IF($A10="","",INDIRECT(VLOOKUP($A10,Tablo,2,0)&"!$D$19")) -> 0 | I10: X | J10: =IF($A10="","",INDIRECT(VLOOKUP($A10,Tablo,2,0)&"!$J$19")) -> 0 | K10: + | L10: =IF($A10="","",INDIRECT(VLOOKUP($A10,Tablo,2,0)&"!$D$20")) -> 0 | M10: X | N10: =IF($A10="","",INDIRECT(VLOOKUP($A10,Tablo,2,0)&"!$J$20")) -> 0 | P10: =IF($A10="","",INDIRECT(VLOOKUP($A10,Tablo,2,0)&"!$D$21")) -> 0 | Q10: + | R10: =IF($A10="","",INDIRECT(VLOOKUP($A10,Tablo,2,0)&"!$J$21")) -> 0 | S10: + | T10: =IF($A10="","",INDIRECT(VLOOKUP($A10,Tablo,2,0)&"!$D$22")) -> 0 | U10: =IF($A10="","",INDIRECT(VLOOKUP($A10,Tablo,2,0)&"!$J$15")) -> T.G | V10: =IF($A10="","",INDIRECT(VLOOKUP($A10,Tablo,2,0)&"!$N$22")) -> 167
A11: 4 | B11: =IF($A11="","",INDIRECT(VLOOKUP($A11,Tablo,2,0)&"!$F$4")) -> D | C11: =IF($A11="","",INDIRECT(VLOOKUP($A11,Tablo,2,0)&"!$C$13")) -> D | D11: =IF($A11="","",INDIRECT(VLOOKUP($A11,Tablo,2,0)&"!$D$18")) -> 2 | E11: X | F11: =IF($A11="","",INDIRECT(VLOOKUP($A11,Tablo,2,0)&"!$J$18")) -> 2.5 | G11: + | H11: =IF($A11="","",INDIRECT(VLOOKUP($A11,Tablo,2,0)&"!$D$19")) -> 0 | I11: X | J11: =IF($A11="","",INDIRECT(VLOOKUP($A11,Tablo,2,0)&"!$J$19")) -> 0 | K11: + | L11: =IF($A11="","",INDIRECT(VLOOKUP($A11,Tablo,2,0)&"!$D$20")) -> 0 | M11: X | N11: =IF($A11="","",INDIRECT(VLOOKUP($A11,Tablo,2,0)&"!$J$20")) -> 0 | P11: =IF($A11="","",INDIRECT(VLOOKUP($A11,Tablo,2,0)&"!$D$21")) -> 0 | Q11: + | R11: =IF($A11="","",INDIRECT(VLOOKUP($A11,Tablo,2,0)&"!$J$21")) -> 0 | S11: + | T11: =IF($A11="","",INDIRECT(VLOOKUP($A11,Tablo,2,0)&"!$D$22")) -> 0 | U11: =IF($A11="","",INDIRECT(VLOOKUP($A11,Tablo,2,0)&"!$J$15")) -> T.G | V11: =IF($A11="","",INDIRECT(VLOOKUP($A11,Tablo,2,0)&"!$N$22")) -> 167
