Workbook

Sheet Feuil1
A1: Plaque | B1: Unité | C1: Site | D1: CCS | E1: Lib CCS | F1: Immat. | G1: Segment | H1: Energie | I1: 4x4 | J1: Lib | K1: Age | L1: Km parcourus ou heures | M1: Coût entretien | N1: Coût carb | O1: Qté carb classique | P1: Qté GNV | Q1: Conso moy | R1: Conso moy GNV | S1: Taux utilisat° GNV | T1: CO2 rejeté (g) | U1: Nb sinistres | V1: Nb sini resp. eng. | W1: Coût sini resp. eng
A2: SO-V233 | B2: S_O-FSL-S | C2: 31TOULOUSE-CAMBOULIV | D2: K3165EC | E2: DIVISION VEHICULES ET ENGINS USL SO | F2: 357ADZ31 | G2: V4 - Véhicule de société (2 pl) | H2: Gazole Diesel | I2: 4*2 | J2: RENAULT_CLIO | K2: 11.4 | L2: Non calculé | M2: 0 | N2: 0 | O2: 0 | P2: 0 | Q2: Non calculé | R2: Non calculé | S2: 0 | T2: Non calculé | U2: 0 | V2: 0 | W2: 0
A3: SO-V233 | B3: S_O-FSL-S | C3: 31TOULOUSE-CAMBOULIV | D3: K3165EC | E3: DIVISION VEHICULES ET ENGINS USL SO | F3: 300CJZ31 | G3: V4 - Véhicule de société (2 pl) | H3: Gazole Diesel | I3: 4*2 | J3: RENAULT_CLIO | K3: 15 | L3: Non calculé | M3: 40.97 | N3: 0 | O3: 0 | P3: 0 | Q3: Non calculé | R3: Non calculé | S3: 0 | T3: Non calculé | U3: 0 | V3: 0 | W3: 0
A4: SO-V233 | B4: S_O-P2-MP | C4: 31TOULOUSE-CAMBOULIV | D4: K3262NC | E4: 6PB2-EM URE MP-DIRECTION | F4: 346CJM31 | G4: V4 - Véhicule de société (2 pl) | H4: Gazole Diesel | I4: 4*2 | J4: BANALISE | K4: 2.2 | L4: Non calculé | M4: 0 | N4: 0 | O4: 0 | P4: 0 | Q4: Non calculé | R4: Non calculé | S4: 0 | T4: Non calculé | U4: 0 | V4: 0 | W4: 0
A5: SO-V233 | B5: S_O-P2-MP | C5: 31TOULOUSE-CAMBOULIV | D5: K3262NC | E5: 6PB2-EM URE MP-DIRECTION | F5: 438CJE31 | G5: V4 - Véhicule de société (2 pl) | H5: Gazole Diesel | I5: Sans roues motrices | J5: CLIO | K5: 2.2 | L5: Non calculé | M5: 0 | N5: 0 | O5: 0 | P5: 0 | Q5: Non calculé | R5: Non calculé | S5: 0 | T5: Non calculé | U5: 0 | V5: 0 | W5: 0
A6: SO-V233 | B6: S_O-P2-MP | C6: 31TOULOUSE-CAMBOULIV | D6: K3262NC | E6: 6PB2-EM URE MP-DIRECTION | F6: 6791JS46 | G6: V4 - Véhicule de société (2 pl) | H6: Gazole Diesel | I6: 4*2 | J6: PEUGEOT_206 | K6: 10.8 | L6: 3370 | M6: 0 | N6: 0 | O6: 0 | P6: 0 | Q6: 0 | R6: 0 | S6: 0 | T6: Non calculé | U6: 0 | V6: 0 | W6: 0
A7: SO-V233 | B7: S_O-P2-MP | C7: 31TOULOUSE-CAMBOULIV | D7: K3262NC | E7: 6PB2-EM URE MP-DIRECTION | F7: 9652VC47 | G7: V4 - Véhicule de société (2 pl) | H7: Gazole Diesel | I7: 4*2 | J7: BANALISE | K7: 3.5 | L7: Non calculé | M7: 192.801 | N7: 0 | O7: 0 | P7: 0 | Q7: Non calculé | R7: Non calculé | S7: 0 | T7: Non calculé | U7: 0 | V7: 0 | W7: 0
A8: SO-V233 | B8: S_O-P2-MP | C8: 31TOULOUSE-CAMBOULIV | D8: K3262NC | E8: 6PB2-EM URE MP-DIRECTION | F8: 450ARP31 | G8: V4 - Véhicule de société (2 pl) | H8: Gazole Diesel | I8: 4*2 | J8: RENAULT_CLIO | K8: 9.3 | L8: Non calculé | M8: 113.6873 | N8: 0 | O8: 0 | P8: 0 | Q8: Non calculé | R8: Non calculé | S8: 0 | T8: Non calculé | U8: 0 | V8: 0 | W8: 0
A9: SO-V233 | B9: S_O-P2-MP | C9: 31TOULOUSE-CAMBOULIV | D9: K3262NC | E9: 6PB2-EM URE MP-DIRECTION | F9: 763ARZ31 | G9: V4 - Véhicule de société (2 pl) | H9: Gazole Diesel | I9: 4*2 | J9: RENAULT_CLIO | K9: 9.2 | L9: 0 | M9: 0 | N9: 0 | O9: 0 | P9: 0 | Q9: Non calculé | R9: Non calculé | S9: 0 | T9: Non calculé | U9: 0 | V9: 0 | W9: 0
A10: SO-V233 | B10: S_O-P2-MP | C10: 31TOULOUSE-CAMBOULIV | D10: K3262NC | E10: 6PB2-EM URE MP-DIRECTION | F10: 9517GL09 | G10: V4 - Véhicule de société (2 pl) | H10: Gazole Diesel | I10: 4*2 | J10: RENAULT_CLIO | K10: 9.7 | L10: 0 | M10: 0 | N10: 0 | O10: 0 | P10: 0 | Q10: Non calculé | R10: Non calculé | S10: 0 | T10: Non calculé | U10: 0 | V10: 0 | W10: 0
A11: SO-V233 | B11: S_O-P2-MP | C11: 31TOULOUSE-CAMBOULIV | D11: K3262OE | E11: 6PB2 AG AMEPS MP | F11: BB925GS | G11: V8 - Fourgon inf 3,5T (Master, Boxer, Sprinter, Transporter) | H11: Gazole Diesel | I11: 4*2 | J11: MASTER DEFAUT CABLE | K11: 0.40000001 | L11: Non calculé | M11: 0 | N11: 0 | O11: 0 | P11: 0 | Q11: Non calculé | R11: Non calculé | S11: 0 | T11: Non calculé | U11: 0 | V11: 0 | W11: 0
A12: SO-V233 | B12: S_O-P2-MP | C12: 31TOULOUSE-CAMBOULIV | D12: K3262OF | E12: 6PB2 AG AMEPS MP | F12: AP308MJ | G12: V4 - Véhicule de société (2 pl) | H12: Gazole Diesel | I12: Sans roues motrices | J12: PEUGEOT 307-CONTRAT | K12: 2.8 | L12: 1164 | M12: 316.36 | N12: 0 | O12: 0 | P12: 0 | Q12: 0 | R12: 0 | S12: 0 | T12: Non calculé | U12: 0 | V12: 0 | W12: 0
A13: SO-V233 | B13: S_O-P2-MP | C13: 31TOULOUSE-CAMBOULIV | D13: K3262OF | E13: 6PB2 AG AMEPS MP | F13: AC993BV | G13: V4 - Véhicule de société (2 pl) | H13: Gazole Diesel | I13: 4*2 | J13: RENAULT_CLIO | K13: 1.6 | L13: Non calculé | M13: 0 | N13: 0 | O13: 0 | P13: 0 | Q13: Non calculé | R13: Non calculé | S13: 0 | T13: Non calculé | U13: 0 | V13: 0 | W13: 0
A14: SO-V233 | B14: S_O-P2-MP | C14: 31TOULOUSE-CAMBOULIV | D14: K3262OF | E14: 6PB2 AG AMEPS MP | F14: AE583FE | G14: V4 - Véhicule de société (2 pl) | H14: Gazole Diesel | I14: 4*2 | J14: CLIO 3 | K14: 1.3 | L14: Non calculé | M14: 0 | N14: 0 | O14: 0 | P14: 0 | Q14: Non calculé | R14: Non calculé | S14: 0 | T14: Non calculé | U14: 0 | V14: 0 | W14: 0
A15: SO-V233 | B15: S_O-P2-MP | C15: 31TOULOUSE-CAMBOULIV | D15: K3262OF | E15: 6PB2 AG AMEPS MP | F15: 30AGF31 | G15: V8 - Fourgon inf 3,5T (Master, Boxer, Sprinter, Transporter) | H15: Gazole Diesel | I15: 4*2 | J15: RENAULT_MASTER | K15: 11 | L15: Non calculé | M15: 0 | N15: 0 | O15: 0 | P15: 0 | Q15: Non calculé | R15: Non calculé | S15: 0 | T15: Non calculé | U15: 0 | V15: 0 | W15: 0
A16: SO-V233 | B16: S_O-P2-MP | C16: 31TOULOUSE-CAMBOULIV | D16: K3262OF | E16: 6PB2 AG AMEPS MP | F16: 325AQM31 | G16: V7 - Fourgon intermédiaire (Traffic, jumpy, expert) | H16: Gazole Diesel | I16: Indéfini | J16: PEUGEOT_EXPERT | K16: 9.5 | L16: Non calculé | M16: 203.2 | N16: 0 | O16: 0 | P16: 0 | Q16: Non calculé | R16: Non calculé | S16: 0 | T16: Non calculé | U16: 0 | V16: 0 | W16: 0
A17: SO-V233 | B17: S_O-P2-MP | C17: 31TOULOUSE-CAMBOULIV | D17: K3262OF | E17: 6PB2 AG AMEPS MP | F17: 354BBZ31 | G17: V7 - Fourgon intermédiaire (Traffic, jumpy, expert) | H17: Gazole Diesel | I17: Indéfini | J17: CITROEN_JUMPY | K17: 7.5 | L17: Non calculé | M17: 366.84 | N17: 0 | O17: 0 | P17: 0 | Q17: Non calculé | R17: Non calculé | S17: 0 | T17: Non calculé | U17: 0 | V17: 0 | W17: 0
A18: SO-V233 | B18: S_O-P2-MP | C18: 31TOULOUSE-CAMBOULIV | D18: K3262OF | E18: 6PB2 AG AMEPS MP | F18: 456ARP31 | G18: V4 - Véhicule de société (2 pl) | H18: Gazole Diesel | I18: 4*2 | J18: RENAULT_CLIO | K18: 9.3 | L18: Non calculé | M18: 10 | N18: 0 | O18: 0 | P18: 0 | Q18: Non calculé | R18: Non calculé | S18: 0 | T18: Non calculé | U18: 0 | V18: 0 | W18: 0
A19: SO-V233 | B19: S_O-P2-MP | C19: 31TOULOUSE-CAMBOULIV | D19: K3262OF | E19: 6PB2 AG AMEPS MP | F19: 521AXS31 | G19: V5 - Fourgonnette (Kangoo, Berlingo, doblo, partner) | H19: Gazole Diesel | I19: 4*2 | J19: RENAULT_KANGOO | K19: 8.3 | L19: Non calculé | M19: 0 | N19: 0 | O19: 0 | P19: 0 | Q19: Non calculé | R19: Non calculé | S19: 0 | T19: Non calculé | U19: 0 | V19: 0 | W19: 0
A20: SO-V233 | B20: S_O-P2-MP | C20: 31TOULOUSE-CAMBOULIV | D20: K3262OF | E20: 6PB2 AG AMEPS MP | F20: 6273YY31 | G20: V8 - Fourgon inf 3,5T (Master, Boxer, Sprinter, Transporter) | H20: Gazole Diesel | I20: 4*2 | J20: 315 CDI | K20: 15 | L20: Non calculé | M20: 0 | N20: 0 | O20: 0 | P20: 0 | Q20: Non calculé | R20: Non calculé | S20: 0 | T20: Non calculé | U20: 0 | V20: 0 | W20: 0
A21: SO-V233 | B21: S_O-P2-MP | C21: 31TOULOUSE-CAMBOULIV | D21: K3262OF | E21: 6PB2 AG AMEPS MP | F21: 764ARZ31 | G21: V4 - Véhicule de société (2 pl) | H21: Gazole Diesel | I21: 4*2 | J21: RENAULT_CLIO | K21: 9.2 | L21: Non calculé | M21: 1244.67 | N21: 0 | O21: 0 | P21: 0 | Q21: Non calculé | R21: Non calculé | S21: 0 | T21: Non calculé | U21: 0 | V21: 0 | W21: 0
A22: SO-V233 | B22: S_O-P2-MP | C22: 31TOULOUSE-CAMBOULIV | D22: K3262OF | E22: 6PB2 AG AMEPS MP | F22: AG496EB | G22: V4 - Véhicule de société (2 pl) | H22: Gazole Diesel | I22: 4*2 | J22: PEUGEOT_307--CONTRAT | K22: 5.5 | L22: Non calculé | M22: 0 | N22: 0 | O22: 0 | P22: 0 | Q22: Non calculé | R22: Non calculé | S22: 0 | T22: Non calculé | U22: 0 | V22: 0 | W22: 0
A23: SO-V233 | B23: S_O-P2-MP | C23: 31TOULOUSE-CAMBOULIV | D23: K3262OF | E23: 6PB2 AG AMEPS MP | F23: 730BNQ31 | G23: V4 - Véhicule de société (2 pl) | H23: Gazole Diesel | I23: 4*2 | J23: PEUGEOT_307-CONTRAT | K23: 5.5 | L23: 0 | M23: 123.61 | N23: 0 | O23: 0 | P23: 0 | Q23: Non calculé | R23: Non calculé | S23: 0 | T23: Non calculé | U23: 0 | V23: 0 | W23: 0
A24: SO-V233 | B24: S_O-P2-MP | C24: 31TOULOUSE-CAMBOULIV | D24: K3262OF | E24: 6PB2 AG AMEPS MP | F24: 8536YK31 | G24: V8 - Fourgon inf 3,5T (Master, Boxer, Sprinter, Transporter) | H24: Gazole Diesel | I24: 4*2 | J24: RENAULT_MASTER DEFAUT CABLE | K24: 16.3 | L24: Non calculé | M24: 0 | N24: 0 | O24: 0 | P24: 0 | Q24: Non calculé | R24: Non calculé | S24: 0 | T24: Non calculé | U24: 0 | V24: 0 | W24: 0
A25: SO-V233 | B25: S_O-P2-MP | C25: 31TOULOUSE-CAMBOULIV | D25: K3262OF | E25: 6PB2 AG AMEPS MP | F25: 804AKX31 | G25: V5 - Fourgonnette (Kangoo, Berlingo, doblo, partner) | H25: Gazole Diesel | I25: 4*2 | J25: RENAULT_KANGOO | K25: 10.3 | L25: Non calculé | M25: 0 | N25: 0 | O25: 0 | P25: 0 | Q25: Non calculé | R25: Non calculé | S25: 0 | T25: Non calculé | U25: 0 | V25: 0 | W25: 0
A26: SO-V233 | B26: S_O-P2-MP | C26: 31TOULOUSE-CAMBOULIV | D26: K3262OF | E26: 6PB2 AG AMEPS MP | F26: 506CBV31 | G26: V4 - Véhicule de société (2 pl) | H26: Gazole Diesel | I26: 4*2 | J26: RENAULT_MEGANE | K26: 3.3 | L26: 240 | M26: 622.84 | N26: 0 | O26: 0 | P26: 0 | Q26: 0 | R26: 0 | S26: 0 | T26: Non calculé | U26: 0 | V26: 0 | W26: 0
A27: SO-V233 | B27: S_O-P2-MP | C27: 31TOULOUSE-CAMBOULIV | D27: K3262OF | E27: 6PB2 AG AMEPS MP | F27: 509CBV31 | G27: V4 - Véhicule de société (2 pl) | H27: Gazole Diesel | I27: 4*2 | J27: RENAULT_MEGANE | K27: 3.3 | L27: Non calculé | M27: 1392.89 | N27: 0 | O27: 0 | P27: 0 | Q27: Non calculé | R27: Non calculé | S27: 0 | T27: Non calculé | U27: 0 | V27: 0 | W27: 0
A28: SO-V233 | B28: S_O-P9-A | C28: 31TOULOUSE-CAMBOULIV | D28: K3262OJ | E28: 6PB2 AG BRIPS SO | F28: 6816VF47 | G28: V4 - Véhicule de société (2 pl) | H28: Gazole Diesel | I28: Sans roues motrices | J28: BANALISE | K28: 2.8 | L28: 0 | M28: 657.89 | N28: 0 | O28: 0 | P28: 0 | Q28: Non calculé | R28: Non calculé | S28: 0 | T28: Non calculé | U28: 0 | V28: 0 | W28: 0
A29: SO-V233 | B29: S_O-P9-A | C29: 31TOULOUSE-CAMBOULIV | D29: K3262OJ | E29: 6PB2 AG BRIPS SO | F29: AT323XQ | G29: V4 - Véhicule de société (2 pl) | H29: Gazole Diesel | I29: 4*2 | J29: CLIO | K29: 0.70000003 | L29: Non calculé | M29: 0 | N29: 0 | O29: 0 | P29: 0 | Q29: Non calculé | R29: Non calculé | S29: 0 | T29: Non calculé | U29: 0 | V29: 0 | W29: 0
A30: SO-V233 | B30: S_O-P9-A | C30: 31TOULOUSE-CAMBOULIV | D30: K3262OJ | E30: 6PB2 AG BRIPS SO | F30: AT227XQ | G30: V4 - Véhicule de société (2 pl) | H30: Gazole Diesel | I30: 4*2 | J30: CLIO | K30: 0.70000003 | L30: Non calculé | M30: 0 | N30: 0 | O30: 0 | P30: 0 | Q30: Non calculé | R30: Non calculé | S30: 0 | T30: Non calculé | U30: 0 | V30: 0 | W30: 0
A31: SO-V233 | B31: S_O-P9-A | C31: 31TOULOUSE-CAMBOULIV | D31: K3262OJ | E31: 6PB2 AG BRIPS SO | F31: 108BWD31 | G31: V4 - Véhicule de société (2 pl) | H31: Gazole Diesel | I31: 4*2 | J31: RENAULT_MEGANE-CONTRAT | K31: 4.3 | L31: Non calculé | M31: 0 | N31: 0 | O31: 0 | P31: 0 | Q31: Non calculé | R31: Non calculé | S31: 0 | T31: Non calculé | U31: 0 | V31: 0 | W31: 0
A32: SO-V233 | B32: S_O-P9-A | C32: 31TOULOUSE-CAMBOULIV | D32: K3262OJ | E32: 6PB2 AG BRIPS SO | F32: 104BWD31 | G32: V4 - Véhicule de société (2 pl) | H32: Gazole Diesel | I32: 4*2 | J32: RENAULT_MEGANE-CONTRAT | K32: 4.3 | L32: Non calculé | M32: 0 | N32: 0 | O32: 0 | P32: 0 | Q32: Non calculé | R32: Non calculé | S32: 0 | T32: Non calculé | U32: 0 | V32: 0 | W32: 0
A33: SO-V233 | B33: S_O-P9-A | C33: 31TOULOUSE-CAMBOULIV | D33: K3262OJ | E33: 6PB2 AG BRIPS SO | F33: 102BWD31 | G33: V4 - Véhicule de société (2 pl) | H33: Gazole Diesel | I33: 4*2 | J33: RENAULT_MEGANE-CONTRAT | K33: 4.3 | L33: Non calculé | M33: 0 | N33: 0 | O33: 0 | P33: 0 | Q33: Non calculé | R33: Non calculé | S33: 0 | T33: Non calculé | U33: 0 | V33: 0 | W33: 0
A34: SO-V233 | B34: S_O-P9-A | C34: 31TOULOUSE-CAMBOULIV | D34: K3262OJ | E34: 6PB2 AG BRIPS SO | F34: 113BWD31 | G34: V4 - Véhicule de société (2 pl) | H34: Gazole Diesel | I34: 4*2 | J34: RENAULT_MEGANE-CONTRAT | K34: 4.3 | L34: Non calculé | M34: 0 | N34: 0 | O34: 0 | P34: 0 | Q34: Non calculé | R34: Non calculé | S34: 0 | T34: Non calculé | U34: 0 | V34: 0 | W34: 0
A35: SO-V233 | B35: S_O-P9-A | C35: 31TOULOUSE-CAMBOULIV | D35: K3262OJ | E35: 6PB2 AG BRIPS SO | F35: 112BWD31 | G35: V4 - Véhicule de société (2 pl) | H35: Gazole Diesel | I35: 4*2 | J35: RENAULT_MEGANE-CONTRAT | K35: 4.3 | L35: Non calculé | M35: 0 | N35: 0 | O35: 0 | P35: 0 | Q35: Non calculé | R35: Non calculé | S35: 0 | T35: Non calculé | U35: 0 | V35: 0 | W35: 0
A36: SO-V233 | B36: S_O-P9-A | C36: 31TOULOUSE-CAMBOULIV | D36: K3262OJ | E36: 6PB2 AG BRIPS SO | F36: 109BWD31 | G36: V4 - Véhicule de société (2 pl) | H36: Gazole Diesel | I36: 4*2 | J36: RENAULT_MEGANE-CONTRAT | K36: 4.3 | L36: Non calculé | M36: 0 | N36: 0 | O36: 0 | P36: 0 | Q36: Non calculé | R36: Non calculé | S36: 0 | T36: Non calculé | U36: 0 | V36: 0 | W36: 0
A37: SO-V233 | B37: S_O-P9-MP | C37: 31TOULOUSE-CAMBOULIV | D37: K3169HQ | E37: 6PH9RHSOCSYND PYG | F37: 6314VF47 | G37: V4 - Véhicule de société (2 pl) | H37: Gazole Diesel | I37: 4*2 | J37: BANALISE | K37: 2.9 | L37: Non calculé | M37: 0 | N37: 0 | O37: 0 | P37: 0 | Q37: Non calculé | R37: Non calculé | S37: 0 | T37: Non calculé | U37: 0 | V37: 0 | W37: 0
A38: SO-V233 | B38: S_O-P9-MP | C38: 31TOULOUSE-CAMBOULIV | D38: K3169HQ | E38: 6PH9RHSOCSYND PYG | F38: 100AFN31 | G38: V4 - Véhicule de société (2 pl) | H38: Gazole Diesel | I38: 4*2 | J38: RENAULT_CLIO | K38: 11.1 | L38: Non calculé | M38: 0 | N38: 0 | O38: 0 | P38: 0 | Q38: Non calculé | R38: Non calculé | S38: 0 | T38: Non calculé | U38: 0 | V38: 0 | W38: 0
A39: SO-V233 | B39: S_O-P9-MP | C39: 31TOULOUSE-CAMBOULIV | D39: K3169HQ | E39: 6PH9RHSOCSYND PYG | F39: 623AHX31 | G39: V4 - Véhicule de société (2 pl) | H39: Gazole Diesel | I39: 4*2 | J39: RENAULT_CLIO | K39: 10.7 | L39: Non calculé | M39: 0 | N39: 0 | O39: 0 | P39: 0 | Q39: Non calculé | R39: Non calculé | S39: 0 | T39: Non calculé | U39: 0 | V39: 0 | W39: 0
A40: SO-V233 | B40: S_O-P9-MP | C40: 31TOULOUSE-CAMBOULIV | D40: K3262BJ | E40: 6P49ACM MP | F40: AY230JB | G40: V7 - Fourgon intermédiaire (Traffic, jumpy, expert) | H40: Gazole Diesel | I40: 4*4 | J40: VOLKSWAGEN TRANSPORTER 4X4 | K40: 0.50000004 | L40: Non calculé | M40: 0 | N40: 0 | O40: 0 | P40: 0 | Q40: Non calculé | R40: Non calculé | S40: 0 | T40: Non calculé | U40: 0 | V40: 0 | W40: 0
...

Sheet Feuil2
B6: Age | C6: Position dans la grille | D6: Immat | F6: Par exemple pour le classement 2 et 3 j'ai 2 véhiule qui ont 15 ans mais il me met la meme position et la meme immat donc comment faire pour qu'il prenne l'autre véhicule qui a le même âge? Merci d'avance
A7: 1 | B7: =LARGE(Feuil1!K2:K51,1) -> 16.3 | C7: =MATCH(B7,Feuil1!K2:K51,0)+1 -> 24 | D7: =INDEX(Feuil1!A2:W51,MATCH(B7,Feuil1!K2:K51,0),6) -> 8536YK31
A8: 2 | B8: =LARGE(Feuil1!K2:K51,2) -> 15 | C8: =MATCH(B8,Feuil1!K2:K51,0)+1 -> 20 | D8: =INDEX(Feuil1!A2:W51,MATCH(B8,Feuil1!K2:K51,0),6) -> 6273YY31
A9: 3 | B9: =LARGE(Feuil1!K2:K51,3) -> 15 | C9: =MATCH(B9,Feuil1!K2:K51,0)+1 -> 3 | D9: =INDEX(Feuil1!A2:W51,MATCH(B9,Feuil1!K2:K51,0),6) -> 300CJZ31
A10: 4 | B10: =LARGE(Feuil1!K2:K51,4) -> 14.9 | C10: =MATCH(B10,Feuil1!K2:K51,0)+1 -> 51 | D10: =INDEX(Feuil1!A2:W51,MATCH(B10,Feuil1!K2:K51,0),6) -> 8041YZ31
A11: 5 | B11: =LARGE(Feuil1!K2:K51,5) -> 11.4 | C11: =MATCH(B11,Feuil1!K2:K51,0)+1 -> 2 | D11: =INDEX(Feuil1!A2:W51,MATCH(B11,Feuil1!K2:K51,0),6) -> 357ADZ31
A12: 6 | B12: =LARGE(Feuil1!K2:K51,6) -> 11.1 | C12: =MATCH(B12,Feuil1!K2:K51,0)+1 -> 38 | D12: =INDEX(Feuil1!A2:W51,MATCH(B12,Feuil1!K2:K51,0),6) -> 100AFN31
A13: 7 | B13: =LARGE(Feuil1!K2:K51,7) -> 11 | C13: =MATCH(B13,Feuil1!K2:K51,0)+1 -> 15 | D13: =INDEX(Feuil1!A2:W51,MATCH(B13,Feuil1!K2:K51,0),6) -> 30AGF31
A14: 8 | B14: =LARGE(Feuil1!K2:K51,8) -> 10.8 | C14: =MATCH(B14,Feuil1!K2:K51,0)+1 -> 49 | D14: =INDEX(Feuil1!A2:W51,MATCH(B14,Feuil1!K2:K51,0),6) -> 546BKR31
A15: 9 | B15: =LARGE(Feuil1!K2:K51,9) -> 10.8 | C15: =MATCH(B15,Feuil1!K2:K51,0)+1 -> 6 | D15: =INDEX(Feuil1!A2:W51,MATCH(B15,Feuil1!K2:K51,0),6) -> 6791JS46
A16: 10 | B16: =LARGE(Feuil1!K2:K51,10) -> 10.7 | C16: =MATCH(B16,Feuil1!K2:K51,0)+1 -> 39 | D16: =INDEX(Feuil1!A2:W51,MATCH(B16,Feuil1!K2:K51,0),6) -> 623AHX31
