Workbook

Sheet base
A1: date | B1: type | C1: teste
A2: 07.03.2018 | B2: A | C2: test1
A3: 08.04.2018 | B3: B | C3: test2
A4: 10.04.2018 | B4: A | C4: test3
A5: 18.04.2018 | B5: A | C5: test4
A6: 06.06.2108 | B6: B | C6: test5
A7: 09.06.2018 | B7: C | C7: test6
A8: 10.06.2018 | B8: C | C8: test7

Sheet tableaux
C4: Janvier | D4: février | E4: mars | F4: avril | G4: mai | H4: juin | I4: juillet | J4: août | K4: septembre | L4: octobre | M4: novembre | N4: décembre
A5: nombre de testes
A6: Type A | C6: =SUMPRODUCT((MID(base!$A$2:$A$8,4,2)*1=MONTH("1/"&C$4))*(base!$B$2:$B$8=RIGHT($A6,1))) -> 0 | D6: =SUMPRODUCT((MID(base!$A$2:$A$8,4,2)*1=MONTH("1/"&D$4))*(base!$B$2:$B$8=RIGHT($A6,1))) -> 0 | E6: =SUMPRODUCT((MID(base!$A$2:$A$8,4,2)*1=MONTH("1/"&E$4))*(base!$B$2:$B$8=RIGHT($A6,1))) -> 1 | F6: =SUMPRODUCT((MID(base!$A$2:$A$8,4,2)*1=MONTH("1/"&F$4))*(base!$B$2:$B$8=RIGHT($A6,1))) -> 2 | G6: =SUMPRODUCT((MID(base!$A$2:$A$8,4,2)*1=MONTH("1/"&G$4))*(base!$B$2:$B$8=RIGHT($A6,1))) -> 0 | H6: =SUMPRODUCT((MID(base!$A$2:$A$8,4,2)*1=MONTH("1/"&H$4))*(base!$B$2:$B$8=RIGHT($A6,1))) -> 0 | I6: =SUMPRODUCT((MID(base!$A$2:$A$8,4,2)*1=MONTH("1/"&I$4))*(base!$B$2:$B$8=RIGHT($A6,1))) -> 0 | J6: =SUMPRODUCT((MID(base!$A$2:$A$8,4,2)*1=MONTH("1/"&J$4))*(base!$B$2:$B$8=RIGHT($A6,1))) -> 0 | ... N6: =SUMPRODUCT((MID(base!$A$2:$A$8,4,2)*1=MONTH("1/"&N$4))*(base!$B$2:$B$8=RIGHT($A6,1))) -> 0
A7: Type B | C7: =SUMPRODUCT((MID(base!$A$2:$A$8,4,2)*1=MONTH("1/"&C$4))*(base!$B$2:$B$8=RIGHT($A7,1))) -> 0 | D7: =SUMPRODUCT((MID(base!$A$2:$A$8,4,2)*1=MONTH("1/"&D$4))*(base!$B$2:$B$8=RIGHT($A7,1))) -> 0 | E7: =SUMPRODUCT((MID(base!$A$2:$A$8,4,2)*1=MONTH("1/"&E$4))*(base!$B$2:$B$8=RIGHT($A7,1))) -> 0 | F7: =SUMPRODUCT((MID(base!$A$2:$A$8,4,2)*1=MONTH("1/"&F$4))*(base!$B$2:$B$8=RIGHT($A7,1))) -> 1 | G7: =SUMPRODUCT((MID(base!$A$2:$A$8,4,2)*1=MONTH("1/"&G$4))*(base!$B$2:$B$8=RIGHT($A7,1))) -> 0 | H7: =SUMPRODUCT((MID(base!$A$2:$A$8,4,2)*1=MONTH("1/"&H$4))*(base!$B$2:$B$8=RIGHT($A7,1))) -> 1 | I7: =SUMPRODUCT((MID(base!$A$2:$A$8,4,2)*1=MONTH("1/"&I$4))*(base!$B$2:$B$8=RIGHT($A7,1))) -> 0 | J7: =SUMPRODUCT((MID(base!$A$2:$A$8,4,2)*1=MONTH("1/"&J$4))*(base!$B$2:$B$8=RIGHT($A7,1))) -> 0 | ... N7: =SUMPRODUCT((MID(base!$A$2:$A$8,4,2)*1=MONTH("1/"&N$4))*(base!$B$2:$B$8=RIGHT($A7,1))) -> 0
A8: Type C | C8: =SUMPRODUCT((MID(base!$A$2:$A$8,4,2)*1=MONTH("1/"&C$4))*(base!$B$2:$B$8=RIGHT($A8,1))) -> 0 | D8: =SUMPRODUCT((MID(base!$A$2:$A$8,4,2)*1=MONTH("1/"&D$4))*(base!$B$2:$B$8=RIGHT($A8,1))) -> 0 | E8: =SUMPRODUCT((MID(base!$A$2:$A$8,4,2)*1=MONTH("1/"&E$4))*(base!$B$2:$B$8=RIGHT($A8,1))) -> 0 | F8: =SUMPRODUCT((MID(base!$A$2:$A$8,4,2)*1=MONTH("1/"&F$4))*(base!$B$2:$B$8=RIGHT($A8,1))) -> 0 | G8: =SUMPRODUCT((MID(base!$A$2:$A$8,4,2)*1=MONTH("1/"&G$4))*(base!$B$2:$B$8=RIGHT($A8,1))) -> 0 | H8: =SUMPRODUCT((MID(base!$A$2:$A$8,4,2)*1=MONTH("1/"&H$4))*(base!$B$2:$B$8=RIGHT($A8,1))) -> 2 | I8: =SUMPRODUCT((MID(base!$A$2:$A$8,4,2)*1=MONTH("1/"&I$4))*(base!$B$2:$B$8=RIGHT($A8,1))) -> 0 | J8: =SUMPRODUCT((MID(base!$A$2:$A$8,4,2)*1=MONTH("1/"&J$4))*(base!$B$2:$B$8=RIGHT($A8,1))) -> 0 | ... N8: =SUMPRODUCT((MID(base!$A$2:$A$8,4,2)*1=MONTH("1/"&N$4))*(base!$B$2:$B$8=RIGHT($A8,1))) -> 0

Sheet Feuil3
