Workbook
Name __xlnm.Print_Area_10: 'base de données'!$A$2:$E$11
Name __xlnm.Print_Area_11: "$#REF !.$A$1:$H$19"
Name __xlnm.Print_Area_12: "$#REF !.$A$1:$F$16"
Name __xlnm.Print_Area_13: "$#REF !.$A$1:$F$17"
Name __xlnm.Print_Area_14: "$#REF !.$A$1:$F$17"
Name __xlnm.Print_Area_15: #N/A
Name __xlnm.Print_Area_5: "$#REF !.$A$1:$H$16"
Name __xlnm.Print_Area_8: #REF!
Name __xlnm.Print_Area_9: #REF!

Sheet base de données
A2: N° | B2: Nom | C2: Prénom | D2: basket | E2: foot | F2: hand
A3: =IF(B3<>"",1,"") -> 1 | B3: dupont | C3: roxane | D3: x
A4: =IF(B4<>"",A3+1,"") -> 2 | B4: durant | C4: cyril | E4: x | F4: x
A5: =IF(B5<>"",A4+1,"") -> 3 | B5: martin | C5: arnaud | E5: x
A6: =IF(B6<>"",A5+1,"") -> 4 | B6: robert | C6: adam | D6: x
A7: =IF(B7<>"",A6+1,"") -> 5 | B7: richard | C7: yan | E7: x
A8: =IF(B8<>"",A7+1,"") -> 6 | B8: dupont | C8: léna | D8: x
A9: =IF(B9<>"",A8+1,"") -> 7 | B9: durant | C9: clément | E9: x
A10: =IF(B10<>"",A9+1,"") -> 8 | B10: martin | C10: clémence | E10: x | F10: x
A11: =IF(B11<>"",A10+1,"") -> 9 | B11: robert | C11: thibault | E11: x
A12: =IF(B12<>"",A11+1,"") -> 10 | B12: richard | C12: anaïs | D12: x

Sheet basket
A1: N° | B1: Nom | C1: Prénom
A2: {=INDEX('base de données'!$A$1:$A$12,MIN(IF('base de données'!$D$3:$D$12="x",IF(COUNTIF(A$1:A1,'base de données'!$A$3:$A$12)=0,ROW('base de données'!$A$3:$A$12)))))&""} -> 1 | B2: =IF($A2="","",VLOOKUP($A2*1,'base de données'!$A$3:$C$12,COLUMN(),FALSE)) -> dupont | C2: =IF($A2="","",VLOOKUP($A2*1,'base de données'!$A$3:$C$12,COLUMN(),FALSE)) -> roxane
A3: {=INDEX('base de données'!$A$1:$A$12,MIN(IF('base de données'!$D$3:$D$12="x",IF(COUNTIF(A$1:A2,'base de données'!$A$3:$A$12)=0,ROW('base de données'!$A$3:$A$12)))))&""} -> 4 | B3: =IF($A3="","",VLOOKUP($A3*1,'base de données'!$A$3:$C$12,COLUMN(),FALSE)) -> robert | C3: =IF($A3="","",VLOOKUP($A3*1,'base de données'!$A$3:$C$12,COLUMN(),FALSE)) -> adam
A4: {=INDEX('base de données'!$A$1:$A$12,MIN(IF('base de données'!$D$3:$D$12="x",IF(COUNTIF(A$1:A3,'base de données'!$A$3:$A$12)=0,ROW('base de données'!$A$3:$A$12)))))&""} -> 6 | B4: =IF($A4="","",VLOOKUP($A4*1,'base de données'!$A$3:$C$12,COLUMN(),FALSE)) -> dupont | C4: =IF($A4="","",VLOOKUP($A4*1,'base de données'!$A$3:$C$12,COLUMN(),FALSE)) -> léna
A5: {=INDEX('base de données'!$A$1:$A$12,MIN(IF('base de données'!$D$3:$D$12="x",IF(COUNTIF(A$1:A4,'base de données'!$A$3:$A$12)=0,ROW('base de données'!$A$3:$A$12)))))&""} -> 10 | B5: =IF($A5="","",VLOOKUP($A5*1,'base de données'!$A$3:$C$12,COLUMN(),FALSE)) -> richard | C5: =IF($A5="","",VLOOKUP($A5*1,'base de données'!$A$3:$C$12,COLUMN(),FALSE)) -> anaïs
A6: {=INDEX('base de données'!$A$1:$A$12,MIN(IF('base de données'!$D$3:$D$12="x",IF(COUNTIF(A$1:A5,'base de données'!$A$3:$A$12)=0,ROW('base de données'!$A$3:$A$12)))))&""} | B6: =IF($A6="","",VLOOKUP($A6*1,'base de données'!$A$3:$C$12,COLUMN(),FALSE)) | C6: =IF($A6="","",VLOOKUP($A6*1,'base de données'!$A$3:$C$12,COLUMN(),FALSE))
A7: {=INDEX('base de données'!$A$1:$A$12,MIN(IF('base de données'!$D$3:$D$12="x",IF(COUNTIF(A$1:A6,'base de données'!$A$3:$A$12)=0,ROW('base de données'!$A$3:$A$12)))))&""} | B7: =IF($A7="","",VLOOKUP($A7*1,'base de données'!$A$3:$C$12,COLUMN(),FALSE)) | C7: =IF($A7="","",VLOOKUP($A7*1,'base de données'!$A$3:$C$12,COLUMN(),FALSE))
A8: {=INDEX('base de données'!$A$1:$A$12,MIN(IF('base de données'!$D$3:$D$12="x",IF(COUNTIF(A$1:A7,'base de données'!$A$3:$A$12)=0,ROW('base de données'!$A$3:$A$12)))))&""} | B8: =IF($A8="","",VLOOKUP($A8*1,'base de données'!$A$3:$C$12,COLUMN(),FALSE)) | C8: =IF($A8="","",VLOOKUP($A8*1,'base de données'!$A$3:$C$12,COLUMN(),FALSE))
A9: {=INDEX('base de données'!$A$1:$A$12,MIN(IF('base de données'!$D$3:$D$12="x",IF(COUNTIF(A$1:A8,'base de données'!$A$3:$A$12)=0,ROW('base de données'!$A$3:$A$12)))))&""} | B9: =IF($A9="","",VLOOKUP($A9*1,'base de données'!$A$3:$C$12,COLUMN(),FALSE)) | C9: =IF($A9="","",VLOOKUP($A9*1,'base de données'!$A$3:$C$12,COLUMN(),FALSE))
A10: {=INDEX('base de données'!$A$1:$A$12,MIN(IF('base de données'!$D$3:$D$12="x",IF(COUNTIF(A$1:A9,'base de données'!$A$3:$A$12)=0,ROW('base de données'!$A$3:$A$12)))))&""} | B10: =IF($A10="","",VLOOKUP($A10*1,'base de données'!$A$3:$C$12,COLUMN(),FALSE)) | C10: =IF($A10="","",VLOOKUP($A10*1,'base de données'!$A$3:$C$12,COLUMN(),FALSE))
A11: {=INDEX('base de données'!$A$1:$A$12,MIN(IF('base de données'!$D$3:$D$12="x",IF(COUNTIF(A$1:A10,'base de données'!$A$3:$A$12)=0,ROW('base de données'!$A$3:$A$12)))))&""} | B11: =IF($A11="","",VLOOKUP($A11*1,'base de données'!$A$3:$C$12,COLUMN(),FALSE)) | C11: =IF($A11="","",VLOOKUP($A11*1,'base de données'!$A$3:$C$12,COLUMN(),FALSE))

Sheet foot
A1: N° | B1: Nom | C1: Prénom
A2: {=INDEX('base de données'!$A$1:$A$12,MIN(IF('base de données'!$E$3:$E$12="x",IF(COUNTIF(A$1:A1,'base de données'!$A$3:$A$12)=0,ROW('base de données'!$A$3:$A$12)))))&""} -> 2 | B2: =IF($A2="","",VLOOKUP($A2*1,'base de données'!$A$3:$C$12,COLUMN(),FALSE)) -> durant | C2: =IF($A2="","",VLOOKUP($A2*1,'base de données'!$A$3:$C$12,COLUMN(),FALSE)) -> cyril
A3: {=INDEX('base de données'!$A$1:$A$12,MIN(IF('base de données'!$E$3:$E$12="x",IF(COUNTIF(A$1:A2,'base de données'!$A$3:$A$12)=0,ROW('base de données'!$A$3:$A$12)))))&""} -> 3 | B3: =IF($A3="","",VLOOKUP($A3*1,'base de données'!$A$3:$C$12,COLUMN(),FALSE)) -> martin | C3: =IF($A3="","",VLOOKUP($A3*1,'base de données'!$A$3:$C$12,COLUMN(),FALSE)) -> arnaud
A4: {=INDEX('base de données'!$A$1:$A$12,MIN(IF('base de données'!$E$3:$E$12="x",IF(COUNTIF(A$1:A3,'base de données'!$A$3:$A$12)=0,ROW('base de données'!$A$3:$A$12)))))&""} -> 5 | B4: =IF($A4="","",VLOOKUP($A4*1,'base de données'!$A$3:$C$12,COLUMN(),FALSE)) -> richard | C4: =IF($A4="","",VLOOKUP($A4*1,'base de données'!$A$3:$C$12,COLUMN(),FALSE)) -> yan
A5: {=INDEX('base de données'!$A$1:$A$12,MIN(IF('base de données'!$E$3:$E$12="x",IF(COUNTIF(A$1:A4,'base de données'!$A$3:$A$12)=0,ROW('base de données'!$A$3:$A$12)))))&""} -> 7 | B5: =IF($A5="","",VLOOKUP($A5*1,'base de données'!$A$3:$C$12,COLUMN(),FALSE)) -> durant | C5: =IF($A5="","",VLOOKUP($A5*1,'base de données'!$A$3:$C$12,COLUMN(),FALSE)) -> clément
A6: {=INDEX('base de données'!$A$1:$A$12,MIN(IF('base de données'!$E$3:$E$12="x",IF(COUNTIF(A$1:A5,'base de données'!$A$3:$A$12)=0,ROW('base de données'!$A$3:$A$12)))))&""} -> 8 | B6: =IF($A6="","",VLOOKUP($A6*1,'base de données'!$A$3:$C$12,COLUMN(),FALSE)) -> martin | C6: =IF($A6="","",VLOOKUP($A6*1,'base de données'!$A$3:$C$12,COLUMN(),FALSE)) -> clémence
A7: {=INDEX('base de données'!$A$1:$A$12,MIN(IF('base de données'!$E$3:$E$12="x",IF(COUNTIF(A$1:A6,'base de données'!$A$3:$A$12)=0,ROW('base de données'!$A$3:$A$12)))))&""} -> 9 | B7: =IF($A7="","",VLOOKUP($A7*1,'base de données'!$A$3:$C$12,COLUMN(),FALSE)) -> robert | C7: =IF($A7="","",VLOOKUP($A7*1,'base de données'!$A$3:$C$12,COLUMN(),FALSE)) -> thibault
A8: {=INDEX('base de données'!$A$1:$A$12,MIN(IF('base de données'!$E$3:$E$12="x",IF(COUNTIF(A$1:A7,'base de données'!$A$3:$A$12)=0,ROW('base de données'!$A$3:$A$12)))))&""} | B8: =IF($A8="","",VLOOKUP($A8*1,'base de données'!$A$3:$C$12,COLUMN(),FALSE)) | C8: =IF($A8="","",VLOOKUP($A8*1,'base de données'!$A$3:$C$12,COLUMN(),FALSE))
A9: {=INDEX('base de données'!$A$1:$A$12,MIN(IF('base de données'!$E$3:$E$12="x",IF(COUNTIF(A$1:A8,'base de données'!$A$3:$A$12)=0,ROW('base de données'!$A$3:$A$12)))))&""} | B9: =IF($A9="","",VLOOKUP($A9*1,'base de données'!$A$3:$C$12,COLUMN(),FALSE)) | C9: =IF($A9="","",VLOOKUP($A9*1,'base de données'!$A$3:$C$12,COLUMN(),FALSE))
A10: {=INDEX('base de données'!$A$1:$A$12,MIN(IF('base de données'!$E$3:$E$12="x",IF(COUNTIF(A$1:A9,'base de données'!$A$3:$A$12)=0,ROW('base de données'!$A$3:$A$12)))))&""} | B10: =IF($A10="","",VLOOKUP($A10*1,'base de données'!$A$3:$C$12,COLUMN(),FALSE)) | C10: =IF($A10="","",VLOOKUP($A10*1,'base de données'!$A$3:$C$12,COLUMN(),FALSE))
A11: {=INDEX('base de données'!$A$1:$A$12,MIN(IF('base de données'!$E$3:$E$12="x",IF(COUNTIF(A$1:A10,'base de données'!$A$3:$A$12)=0,ROW('base de données'!$A$3:$A$12)))))&""} | B11: =IF($A11="","",VLOOKUP($A11*1,'base de données'!$A$3:$C$12,COLUMN(),FALSE)) | C11: =IF($A11="","",VLOOKUP($A11*1,'base de données'!$A$3:$C$12,COLUMN(),FALSE))

Sheet hand
A1: N° | B1: Nom | C1: Prénom
A2: {=INDEX('base de données'!$A$1:$A$12,MIN(IF('base de données'!$F$3:$F$12="x",IF(COUNTIF(A$1:A1,'base de données'!$A$3:$A$12)=0,ROW('base de données'!$A$3:$A$12)))))&""} -> 2 | B2: =IF($A2="","",VLOOKUP($A2*1,'base de données'!$A$3:$C$12,COLUMN(),FALSE)) -> durant | C2: =IF($A2="","",VLOOKUP($A2*1,'base de données'!$A$3:$C$12,COLUMN(),FALSE)) -> cyril
A3: {=INDEX('base de données'!$A$1:$A$12,MIN(IF('base de données'!$F$3:$F$12="x",IF(COUNTIF(A$1:A2,'base de données'!$A$3:$A$12)=0,ROW('base de données'!$A$3:$A$12)))))&""} -> 8 | B3: =IF($A3="","",VLOOKUP($A3*1,'base de données'!$A$3:$C$12,COLUMN(),FALSE)) -> martin | C3: =IF($A3="","",VLOOKUP($A3*1,'base de données'!$A$3:$C$12,COLUMN(),FALSE)) -> clémence
A4: {=INDEX('base de données'!$A$1:$A$12,MIN(IF('base de données'!$F$3:$F$12="x",IF(COUNTIF(A$1:A3,'base de données'!$A$3:$A$12)=0,ROW('base de données'!$A$3:$A$12)))))&""} | B4: =IF($A4="","",VLOOKUP($A4*1,'base de données'!$A$3:$C$12,COLUMN(),FALSE)) | C4: =IF($A4="","",VLOOKUP($A4*1,'base de données'!$A$3:$C$12,COLUMN(),FALSE))
A5: {=INDEX('base de données'!$A$1:$A$12,MIN(IF('base de données'!$F$3:$F$12="x",IF(COUNTIF(A$1:A4,'base de données'!$A$3:$A$12)=0,ROW('base de données'!$A$3:$A$12)))))&""} | B5: =IF($A5="","",VLOOKUP($A5*1,'base de données'!$A$3:$C$12,COLUMN(),FALSE)) | C5: =IF($A5="","",VLOOKUP($A5*1,'base de données'!$A$3:$C$12,COLUMN(),FALSE))
A6: {=INDEX('base de données'!$A$1:$A$12,MIN(IF('base de données'!$F$3:$F$12="x",IF(COUNTIF(A$1:A5,'base de données'!$A$3:$A$12)=0,ROW('base de données'!$A$3:$A$12)))))&""} | B6: =IF($A6="","",VLOOKUP($A6*1,'base de données'!$A$3:$C$12,COLUMN(),FALSE)) | C6: =IF($A6="","",VLOOKUP($A6*1,'base de données'!$A$3:$C$12,COLUMN(),FALSE))
A7: {=INDEX('base de données'!$A$1:$A$12,MIN(IF('base de données'!$F$3:$F$12="x",IF(COUNTIF(A$1:A6,'base de données'!$A$3:$A$12)=0,ROW('base de données'!$A$3:$A$12)))))&""} | B7: =IF($A7="","",VLOOKUP($A7*1,'base de données'!$A$3:$C$12,COLUMN(),FALSE)) | C7: =IF($A7="","",VLOOKUP($A7*1,'base de données'!$A$3:$C$12,COLUMN(),FALSE))
A8: {=INDEX('base de données'!$A$1:$A$12,MIN(IF('base de données'!$F$3:$F$12="x",IF(COUNTIF(A$1:A7,'base de données'!$A$3:$A$12)=0,ROW('base de données'!$A$3:$A$12)))))&""} | B8: =IF($A8="","",VLOOKUP($A8*1,'base de données'!$A$3:$C$12,COLUMN(),FALSE)) | C8: =IF($A8="","",VLOOKUP($A8*1,'base de données'!$A$3:$C$12,COLUMN(),FALSE))
A9: {=INDEX('base de données'!$A$1:$A$12,MIN(IF('base de données'!$F$3:$F$12="x",IF(COUNTIF(A$1:A8,'base de données'!$A$3:$A$12)=0,ROW('base de données'!$A$3:$A$12)))))&""} | B9: =IF($A9="","",VLOOKUP($A9*1,'base de données'!$A$3:$C$12,COLUMN(),FALSE)) | C9: =IF($A9="","",VLOOKUP($A9*1,'base de données'!$A$3:$C$12,COLUMN(),FALSE))
A10: {=INDEX('base de données'!$A$1:$A$12,MIN(IF('base de données'!$F$3:$F$12="x",IF(COUNTIF(A$1:A9,'base de données'!$A$3:$A$12)=0,ROW('base de données'!$A$3:$A$12)))))&""} | B10: =IF($A10="","",VLOOKUP($A10*1,'base de données'!$A$3:$C$12,COLUMN(),FALSE)) | C10: =IF($A10="","",VLOOKUP($A10*1,'base de données'!$A$3:$C$12,COLUMN(),FALSE))
A11: {=INDEX('base de données'!$A$1:$A$12,MIN(IF('base de données'!$F$3:$F$12="x",IF(COUNTIF(A$1:A10,'base de données'!$A$3:$A$12)=0,ROW('base de données'!$A$3:$A$12)))))&""} | B11: =IF($A11="","",VLOOKUP($A11*1,'base de données'!$A$3:$C$12,COLUMN(),FALSE)) | C11: =IF($A11="","",VLOOKUP($A11*1,'base de données'!$A$3:$C$12,COLUMN(),FALSE))
