Workbook

Sheet data
A1: noms | B1: notes | C1: Correction Ex-aequos | J1: =(LIGNE()/10^9)
A2: Jean | B2: 56 | C2: =B2+(ROW()/10^9) -> 56 | J2: =(ROW()/10^9) -> 2e-09
A3: Louis | B3: 89 | C3: =B3+(ROW()/10^9) -> 89 | J3: =(ROW()/10^9) -> 3e-09
A4: René | B4: 77 | C4: =B4+(ROW()/10^9) -> 77 | J4: =(ROW()/10^9) -> 4e-09
A5: Michel | B5: 44 | C5: =B5+(ROW()/10^9) -> 44 | J5: =(ROW()/10^9) -> 5e-09
A6: Manon | B6: 23 | C6: =B6+(ROW()/10^9) -> 23 | J6: =(ROW()/10^9) -> 6e-09
A7: André | B7: 90 | C7: =B7+(ROW()/10^9) -> 90 | J7: =(ROW()/10^9) -> 7e-09
A8: Pierre | B8: 99 | C8: =B8+(ROW()/10^9) -> 99 | J8: =(ROW()/10^9) -> 8e-09
A9: Robert | B9: 45 | C9: =B9+(ROW()/10^9) -> 45 | J9: =(ROW()/10^9) -> 9e-09
A10: Denis | B10: 78 | C10: =B10+(ROW()/10^9) -> 78 | J10: =(ROW()/10^9) -> 1e-08
A11: Julie | B11: 92 | C11: =B11+(ROW()/10^9) -> 92 | J11: =(ROW()/10^9) -> 1.1e-08
A12: Diane | B12: 76 | C12: =B12+(ROW()/10^9) -> 76 | J12: =(ROW()/10^9) -> 1.2e-08
A13: Nathalie | B13: 88 | C13: =B13+(ROW()/10^9) -> 88 | J13: =(ROW()/10^9) -> 1.3e-08
... A15: Jean-Pierre | B15: 88 | C15: =B15+(ROW()/10^9) -> 88 | J15: =(ROW()/10^9) -> 1.5e-08

Sheet top 10
A1: Le Top Dix
A2: Noms | B2: Notes
A3: =INDEX(data!$A$2:$A$15,MATCH('top 10'!B3,data!$C$2:$C$15,0)) -> Pierre | B3: =LARGE(data!$C$2:$C$15,ROW()-2) -> 99
A4: =INDEX(data!$A$2:$A$15,MATCH('top 10'!B4,data!$C$2:$C$15,0)) -> Julie | B4: =LARGE(data!$C$2:$C$15,ROW()-2) -> 92
A5: =INDEX(data!$A$2:$A$15,MATCH('top 10'!B5,data!$C$2:$C$15,0)) -> André | B5: =LARGE(data!$C$2:$C$15,ROW()-2) -> 90
A6: =INDEX(data!$A$2:$A$15,MATCH('top 10'!B6,data!$C$2:$C$15,0)) -> Louis | B6: =LARGE(data!$C$2:$C$15,ROW()-2) -> 89
A7: =INDEX(data!$A$2:$A$15,MATCH('top 10'!B7,data!$C$2:$C$15,0)) -> Jean-Pierre | B7: =LARGE(data!$C$2:$C$15,ROW()-2) -> 88
A8: =INDEX(data!$A$2:$A$15,MATCH('top 10'!B8,data!$C$2:$C$15,0)) -> Nathalie | B8: =LARGE(data!$C$2:$C$15,ROW()-2) -> 88
A9: =INDEX(data!$A$2:$A$15,MATCH('top 10'!B9,data!$C$2:$C$15,0)) -> Denis | B9: =LARGE(data!$C$2:$C$15,ROW()-2) -> 78
A10: =INDEX(data!$A$2:$A$15,MATCH('top 10'!B10,data!$C$2:$C$15,0)) -> René | B10: =LARGE(data!$C$2:$C$15,ROW()-2) -> 77
A11: =INDEX(data!$A$2:$A$15,MATCH('top 10'!B11,data!$C$2:$C$15,0)) -> Diane | B11: =LARGE(data!$C$2:$C$15,ROW()-2) -> 76
A12: =INDEX(data!$A$2:$A$15,MATCH('top 10'!B12,data!$C$2:$C$15,0)) -> Jean | B12: =LARGE(data!$C$2:$C$15,ROW()-2) -> 56

Sheet Feuil3
