Workbook

Sheet DETAILS ACHATS
A1: DATE FACTURE | B1: CATEGORIE ARTICLE | C1: QUANTITES LIVREES | D1: QUANTITES CMDEES | E1: DESTINATION | F1: PRIX UNIT. HT | G1: MONT TOT HT | H1: MONT TVA | I1: MONT TTC
A2: 43179 | B2: SERVICE | C2: 1 | D2: 1 | E2: ACHATS | F2: 19142.77 | G2: ='DETAILS ACHATS'!$C2*'DETAILS ACHATS'!$F2 -> 19142.77 | H2: ='DETAILS ACHATS'!$G2*19% -> 3637.1263 | I2: ='DETAILS ACHATS'!$G2+'DETAILS ACHATS'!$H2 -> 22779.896
A3: 43151 | B3: COMMUNICATION | C3: 500 | D3: 500 | E3: COMMUNICATION | F3: 0.16 | G3: ='DETAILS ACHATS'!$C3*'DETAILS ACHATS'!$F3 -> 80 | H3: ='DETAILS ACHATS'!$G3*19% -> 15.2 | I3: ='DETAILS ACHATS'!$G3+'DETAILS ACHATS'!$H3 -> 95.2
A4: 43151 | B4: COMMUNICATION | C4: 7500 | D4: 7500 | E4: COMMUNICATION | F4: 0.13 | G4: ='DETAILS ACHATS'!$C4*'DETAILS ACHATS'!$F4 -> 975 | H4: ='DETAILS ACHATS'!$G4*19% -> 185.25 | I4: ='DETAILS ACHATS'!$G4+'DETAILS ACHATS'!$H4 -> 1160.25
A5: 43172 | B5: AC | C5: 1 | D5: 1 | E5: COMPTA | F5: 3900 | G5: ='DETAILS ACHATS'!$C5*'DETAILS ACHATS'!$F5 -> 3900 | H5: ='DETAILS ACHATS'!$G5*19% -> 741 | I5: ='DETAILS ACHATS'!$G5+'DETAILS ACHATS'!$H5 -> 4641
A6: 43110 | B6: COMPTA | C6: 1 | D6: 1 | E6: COMPTA | F6: 3710 | G6: ='DETAILS ACHATS'!$C6*'DETAILS ACHATS'!$F6 -> 3710 | H6: ='DETAILS ACHATS'!$G6*19% -> 704.9 | I6: ='DETAILS ACHATS'!$G6+'DETAILS ACHATS'!$H6 -> 4414.9
A7: 43110 | B7: COMPTA | C7: 1 | D7: 1 | E7: COMPTA | F7: 510 | G7: ='DETAILS ACHATS'!$C7*'DETAILS ACHATS'!$F7 -> 510 | H7: ='DETAILS ACHATS'!$G7*19% -> 96.9 | I7: ='DETAILS ACHATS'!$G7+'DETAILS ACHATS'!$H7 -> 606.9
A8: 43122 | B8: COMPTA | C8: 1 | D8: 1 | E8: COMPTA | F8: 2000 | G8: ='DETAILS ACHATS'!$C8*'DETAILS ACHATS'!$F8 -> 2000 | H8: ='DETAILS ACHATS'!$G8*19% -> 380 | I8: ='DETAILS ACHATS'!$G8+'DETAILS ACHATS'!$H8 -> 2380
A9: 43151 | B9: COMPTA | C9: 1 | D9: 1 | E9: COMPTA | F9: 620 | G9: ='DETAILS ACHATS'!$C9*'DETAILS ACHATS'!$F9 -> 620 | H9: ='DETAILS ACHATS'!$G9*19% -> 117.8 | I9: ='DETAILS ACHATS'!$G9+'DETAILS ACHATS'!$H9 -> 737.8
A10: 43123 | B10: COMPTA | C10: 1 | D10: 1 | E10: COMPTA | F10: 1920 | G10: ='DETAILS ACHATS'!$C10*'DETAILS ACHATS'!$F10 -> 1920 | H10: ='DETAILS ACHATS'!$G10*19% -> 364.8 | I10: ='DETAILS ACHATS'!$G10+'DETAILS ACHATS'!$H10 -> 2284.8
A11: 43124 | B11: COMPTA | C11: 1 | D11: 1 | E11: COMPTA | F11: 1440 | G11: ='DETAILS ACHATS'!$C11*'DETAILS ACHATS'!$F11 -> 1440 | H11: ='DETAILS ACHATS'!$G11*19% -> 273.6 | I11: ='DETAILS ACHATS'!$G11+'DETAILS ACHATS'!$H11 -> 1713.6
A12: 43146 | B12: COMPTA | C12: 1 | D12: 1 | E12: COMPTA | F12: 4900 | G12: ='DETAILS ACHATS'!$C12*'DETAILS ACHATS'!$F12 -> 4900 | H12: ='DETAILS ACHATS'!$G12*19% -> 931 | I12: ='DETAILS ACHATS'!$G12+'DETAILS ACHATS'!$H12 -> 5831
A13: 43168 | B13: COMPTA | C13: 1 | D13: 1 | E13: COMPTA | F13: 2100 | G13: ='DETAILS ACHATS'!$C13*'DETAILS ACHATS'!$F13 -> 2100 | H13: ='DETAILS ACHATS'!$G13*19% -> 399 | I13: ='DETAILS ACHATS'!$G13+'DETAILS ACHATS'!$H13 -> 2499
... A35: 43102 | B35: CS LABO | C35: 4 | D35: 4 | E35: LABO LCQ | F35: 530 | G35: ='DETAILS ACHATS'!$C35*'DETAILS ACHATS'!$F35 -> 2120 | H35: ='DETAILS ACHATS'!$G35*19% -> 402.8 | I35: ='DETAILS ACHATS'!$G35+'DETAILS ACHATS'!$H35 -> 2522.8
A36: 43102 | B36: CS LABO | C36: 8 | D36: 8 | E36: LABO LCQ | G36: ='DETAILS ACHATS'!$C36*'DETAILS ACHATS'!$F36 -> 0 | H36: ='DETAILS ACHATS'!$G36*19% -> 0 | I36: ='DETAILS ACHATS'!$G36+'DETAILS ACHATS'!$H36 -> 0
A37: 43135 | B37: CS LABO | C37: 1 | D37: 1 | E37: LABO LCQ | F37: 3810 | G37: ='DETAILS ACHATS'!$C37*'DETAILS ACHATS'!$F37 -> 3810 | H37: ='DETAILS ACHATS'!$G37*19% -> 723.9 | I37: ='DETAILS ACHATS'!$G37+'DETAILS ACHATS'!$H37 -> 4533.9
A38: 43144 | B38: CS LABO | C38: 4 | D38: 4 | E38: LABO LCQ | G38: ='DETAILS ACHATS'!$C38*'DETAILS ACHATS'!$F38 -> 0 | H38: ='DETAILS ACHATS'!$G38*19% -> 0 | I38: ='DETAILS ACHATS'!$G38+'DETAILS ACHATS'!$H38 -> 0
A39: 43153 | B39: CS LABO | C39: 2 | D39: 2 | E39: LABO LCQ | F39: 4550 | G39: ='DETAILS ACHATS'!$C39*'DETAILS ACHATS'!$F39 -> 9100 | H39: ='DETAILS ACHATS'!$G39*19% -> 1729 | I39: ='DETAILS ACHATS'!$G39+'DETAILS ACHATS'!$H39 -> 10829
A40: 43153 | B40: CS LABO | C40: 54 | D40: 54 | E40: LABO LCQ | F40: 1450 | G40: ='DETAILS ACHATS'!$C40*'DETAILS ACHATS'!$F40 -> 78300 | H40: ='DETAILS ACHATS'!$G40*19% -> 14877 | I40: ='DETAILS ACHATS'!$G40+'DETAILS ACHATS'!$H40 -> 93177
A41: 43153 | B41: CS LABO | C41: 50 | D41: 50 | E41: LABO LCQ | F41: 2290 | G41: ='DETAILS ACHATS'!$C41*'DETAILS ACHATS'!$F41 -> 114500 | H41: ='DETAILS ACHATS'!$G41*19% -> 21755 | I41: ='DETAILS ACHATS'!$G41+'DETAILS ACHATS'!$H41 -> 136255
A42: 43153 | B42: CS LABO | C42: 1 | D42: 1 | E42: LABO LCQ | F42: 1954 | G42: ='DETAILS ACHATS'!$C42*'DETAILS ACHATS'!$F42 -> 1954 | H42: ='DETAILS ACHATS'!$G42*19% -> 371.26 | I42: ='DETAILS ACHATS'!$G42+'DETAILS ACHATS'!$H42 -> 2325.26
A43: 43153 | B43: CS LABO | C43: 1 | D43: 1 | E43: LABO LCQ | F43: 2400 | G43: ='DETAILS ACHATS'!$C43*'DETAILS ACHATS'!$F43 -> 2400 | H43: ='DETAILS ACHATS'!$G43*19% -> 456 | I43: ='DETAILS ACHATS'!$G43+'DETAILS ACHATS'!$H43 -> 2856
A44: 43168 | B44: CS LABO | C44: 4 | D44: 4 | E44: LABO LCQ | F44: 2320 | G44: ='DETAILS ACHATS'!$C44*'DETAILS ACHATS'!$F44 -> 9280 | H44: ='DETAILS ACHATS'!$G44*19% -> 1763.2 | I44: ='DETAILS ACHATS'!$G44+'DETAILS ACHATS'!$H44 -> 11043.2
A45: 43168 | B45: CS LABO | C45: 2 | D45: 2 | E45: LABO LCQ | F45: 2710 | G45: ='DETAILS ACHATS'!$C45*'DETAILS ACHATS'!$F45 -> 5420 | H45: ='DETAILS ACHATS'!$G45*19% -> 1029.8 | I45: ='DETAILS ACHATS'!$G45+'DETAILS ACHATS'!$H45 -> 6449.8
A46: 43168 | B46: CS LABO | C46: 1 | D46: 1 | E46: LABO LCQ | F46: 3150 | G46: ='DETAILS ACHATS'!$C46*'DETAILS ACHATS'!$F46 -> 3150 | H46: ='DETAILS ACHATS'!$G46*19% -> 598.5 | I46: ='DETAILS ACHATS'!$G46+'DETAILS ACHATS'!$H46 -> 3748.5
A47: 43168 | B47: CS LABO | C47: 8 | D47: 8 | E47: LABO LCQ | F47: 1450 | G47: ='DETAILS ACHATS'!$C47*'DETAILS ACHATS'!$F47 -> 11600 | H47: ='DETAILS ACHATS'!$G47*19% -> 2204 | I47: ='DETAILS ACHATS'!$G47+'DETAILS ACHATS'!$H47 -> 13804
A48: 43173 | B48: CS LABO | C48: 1 | D48: 1 | E48: LABO LCQ | F48: 2710 | G48: ='DETAILS ACHATS'!$C48*'DETAILS ACHATS'!$F48 -> 2710 | H48: ='DETAILS ACHATS'!$G48*19% -> 514.9 | I48: ='DETAILS ACHATS'!$G48+'DETAILS ACHATS'!$H48 -> 3224.9
A49: 43173 | B49: CS LABO | C49: 1 | D49: 1 | E49: LABO LCQ | F49: 3070 | G49: ='DETAILS ACHATS'!$C49*'DETAILS ACHATS'!$F49 -> 3070 | H49: ='DETAILS ACHATS'!$G49*19% -> 583.3 | I49: ='DETAILS ACHATS'!$G49+'DETAILS ACHATS'!$H49 -> 3653.3
A50: 43190 | B50: CS LABO | C50: 3 | D50: 3 | E50: LABO LCQ | F50: 8240 | G50: ='DETAILS ACHATS'!$C50*'DETAILS ACHATS'!$F50 -> 24720 | H50: ='DETAILS ACHATS'!$G50*19% -> 4696.8 | I50: ='DETAILS ACHATS'!$G50+'DETAILS ACHATS'!$H50 -> 29416.8
... A282: 43166 | B282: AC | C282: 314.53 | D282: 314.53 | E282: PRODUCTION | F282: 8.34 | G282: ='DETAILS ACHATS'!$C282*'DETAILS ACHATS'!$F282 -> 2623.1802 | H282: ='DETAILS ACHATS'!$G282*19% -> 498.40424 | I282: ='DETAILS ACHATS'!$G282+'DETAILS ACHATS'!$H282 -> 3121.5844
A283: 43168 | B283: AC | C283: 475250 | D283: 475250 | E283: PRODUCTION | F283: =21.48/1000 -> 0.02148 | G283: ='DETAILS ACHATS'!$C283*'DETAILS ACHATS'!$F283 -> 10208.37 | H283: ='DETAILS ACHATS'!$G283*19% -> 1939.5903 | I283: ='DETAILS ACHATS'!$G283+'DETAILS ACHATS'!$H283 -> 12147.96
A284: 43172 | B284: AC | C284: 14973.44 | D284: 14973.44 | E284: PRODUCTION | F284: 2.8 | G284: ='DETAILS ACHATS'!$C284*'DETAILS ACHATS'!$F284 -> 41925.632 | H284: ='DETAILS ACHATS'!$G284*19% -> 7965.8701 | I284: ='DETAILS ACHATS'!$G284+'DETAILS ACHATS'!$H284 -> 49891.502
A285: 43103 | B285: AC | C285: 355000 | D285: 355000 | E285: PRODUCTION | F285: 0.6 | G285: ='DETAILS ACHATS'!$C285*'DETAILS ACHATS'!$F285 -> 213000 | H285: ='DETAILS ACHATS'!$G285*19% -> 40470 | I285: ='DETAILS ACHATS'!$G285+'DETAILS ACHATS'!$H285 -> 253470
A286: 43103 | B286: AC | C286: 50000 | D286: 50000 | E286: PRODUCTION | F286: 0.6 | G286: ='DETAILS ACHATS'!$C286*'DETAILS ACHATS'!$F286 -> 30000 | H286: ='DETAILS ACHATS'!$G286*19% -> 5700 | I286: ='DETAILS ACHATS'!$G286+'DETAILS ACHATS'!$H286 -> 35700
A287: 43103 | B287: AC | C287: 309000 | D287: 309000 | E287: PRODUCTION | F287: 0.6 | G287: ='DETAILS ACHATS'!$C287*'DETAILS ACHATS'!$F287 -> 185400 | H287: ='DETAILS ACHATS'!$G287*19% -> 35226 | I287: ='DETAILS ACHATS'!$G287+'DETAILS ACHATS'!$H287 -> 220626
A288: 43103 | B288: AC | C288: 100000 | D288: 100000 | E288: PRODUCTION | F288: 0.6 | G288: ='DETAILS ACHATS'!$C288*'DETAILS ACHATS'!$F288 -> 60000 | H288: ='DETAILS ACHATS'!$G288*19% -> 11400 | I288: ='DETAILS ACHATS'!$G288+'DETAILS ACHATS'!$H288 -> 71400
A289: 43128 | B289: AC | C289: 50000 | D289: 50000 | E289: PRODUCTION | F289: 0.6 | G289: ='DETAILS ACHATS'!$C289*'DETAILS ACHATS'!$F289 -> 30000 | H289: ='DETAILS ACHATS'!$G289*19% -> 5700 | I289: ='DETAILS ACHATS'!$G289+'DETAILS ACHATS'!$H289 -> 35700
A290: 43128 | B290: AC | C290: 185600 | D290: 185600 | E290: PRODUCTION | F290: 0.6 | G290: ='DETAILS ACHATS'!$C290*'DETAILS ACHATS'!$F290 -> 111360 | H290: ='DETAILS ACHATS'!$G290*19% -> 21158.4 | I290: ='DETAILS ACHATS'!$G290+'DETAILS ACHATS'!$H290 -> 132518.4
A291: 43128 | B291: AC | C291: 116000 | D291: 116000 | E291: PRODUCTION | F291: 0.6 | G291: ='DETAILS ACHATS'!$C291*'DETAILS ACHATS'!$F291 -> 69600 | H291: ='DETAILS ACHATS'!$G291*19% -> 13224 | I291: ='DETAILS ACHATS'!$G291+'DETAILS ACHATS'!$H291 -> 82824
A292: 43131 | B292: AC | C292: 252400 | D292: 252400 | E292: PRODUCTION | F292: 0.6 | G292: ='DETAILS ACHATS'!$C292*'DETAILS ACHATS'!$F292 -> 151440 | H292: ='DETAILS ACHATS'!$G292*19% -> 28773.6 | I292: ='DETAILS ACHATS'!$G292+'DETAILS ACHATS'!$H292 -> 180213.6
A293: 43131 | B293: AC | C293: 251400 | D293: 251400 | E293: PRODUCTION | F293: 0.6 | G293: ='DETAILS ACHATS'!$C293*'DETAILS ACHATS'!$F293 -> 150840 | H293: ='DETAILS ACHATS'!$G293*19% -> 28659.6 | I293: ='DETAILS ACHATS'!$G293+'DETAILS ACHATS'!$H293 -> 179499.6
A294: 43142 | B294: AC | C294: 50000 | D294: 50000 | E294: PRODUCTION | F294: 0.6 | G294: ='DETAILS ACHATS'!$C294*'DETAILS ACHATS'!$F294 -> 30000 | H294: ='DETAILS ACHATS'!$G294*19% -> 5700 | I294: ='DETAILS ACHATS'!$G294+'DETAILS ACHATS'!$H294 -> 35700
A295: 43142 | B295: AC | C295: 305600 | D295: 305600 | E295: PRODUCTION | F295: 0.6 | G295: ='DETAILS ACHATS'!$C295*'DETAILS ACHATS'!$F295 -> 183360 | H295: ='DETAILS ACHATS'!$G295*19% -> 34838.4 | I295: ='DETAILS ACHATS'!$G295+'DETAILS ACHATS'!$H295 -> 218198.4
... A335: 43186 | B335: MP | C335: 1 | D335: 1 | E335: PRODUCTION | F335: 402.35 | G335: ='DETAILS ACHATS'!$C335*'DETAILS ACHATS'!$F335 -> 402.35 | H335: ='DETAILS ACHATS'!$G335*19% -> 76.4465 | I335: ='DETAILS ACHATS'!$G335+'DETAILS ACHATS'!$H335 -> 478.7965
A336: 43235 | B336: MP | C336: =1600+8400 -> 10000 | D336: 10000 | E336: PRODUCTION | F336: 4.73 | G336: ='DETAILS ACHATS'!$C336*'DETAILS ACHATS'!$F336 -> 47300 | H336: ='DETAILS ACHATS'!$G336*19% -> 8987 | I336: ='DETAILS ACHATS'!$G336+'DETAILS ACHATS'!$H336 -> 56287
A337: 43235 | B337: MP | C337: 2000 | D337: 2000 | E337: PRODUCTION | F337: 4.73 | G337: ='DETAILS ACHATS'!$C337*'DETAILS ACHATS'!$F337 -> 9460 | H337: ='DETAILS ACHATS'!$G337*19% -> 1797.4 | I337: ='DETAILS ACHATS'!$G337+'DETAILS ACHATS'!$H337 -> 11257.4
A338: 43235 | B338: MP | C338: 650 | D338: 650 | E338: PRODUCTION | F338: 17.4 | G338: ='DETAILS ACHATS'!$C338*'DETAILS ACHATS'!$F338 -> 11310 | H338: ='DETAILS ACHATS'!$G338*19% -> 2148.9 | I338: ='DETAILS ACHATS'!$G338+'DETAILS ACHATS'!$H338 -> 13458.9
A339: 43249 | B339: MP | C339: 1600 | D339: 1600 | E339: PRODUCTION | F339: 6.07 | G339: ='DETAILS ACHATS'!$C339*'DETAILS ACHATS'!$F339 -> 9712 | H339: ='DETAILS ACHATS'!$G339*19% -> 1845.28 | I339: ='DETAILS ACHATS'!$G339+'DETAILS ACHATS'!$H339 -> 11557.28
A340: 43217 | B340: MP | C340: 140 | D340: 140 | E340: PRODUCTION | F340: 1290 | G340: ='DETAILS ACHATS'!$C340*'DETAILS ACHATS'!$F340 -> 180600 | H340: ='DETAILS ACHATS'!$G340*19% -> 34314 | I340: ='DETAILS ACHATS'!$G340+'DETAILS ACHATS'!$H340 -> 214914
A341: 43187 | B341: MP | C341: 720 | D341: 720 | E341: PRODUCTION | F341: 1820 | G341: ='DETAILS ACHATS'!$C341*'DETAILS ACHATS'!$F341 -> 1310400 | H341: ='DETAILS ACHATS'!$G341*19% -> 248976 | I341: ='DETAILS ACHATS'!$G341+'DETAILS ACHATS'!$H341 -> 1559376
A342: 43254 | B342: MP | C342: 720 | D342: 720 | E342: PRODUCTION | F342: 1820 | G342: ='DETAILS ACHATS'!$C342*'DETAILS ACHATS'!$F342 -> 1310400 | H342: ='DETAILS ACHATS'!$G342*19% -> 248976 | I342: ='DETAILS ACHATS'!$G342+'DETAILS ACHATS'!$H342 -> 1559376
A343: 43122 | B343: MP | C343: =57875000 -> 57875000 | D343: 57875000 | E343: PRODUCTION | F343: =5.98/1000 -> 0.00598 | G343: ='DETAILS ACHATS'!$C343*'DETAILS ACHATS'!$F343 -> 346092.5 | H343: ='DETAILS ACHATS'!$G343*19% -> 65757.575 | I343: ='DETAILS ACHATS'!$G343+'DETAILS ACHATS'!$H343 -> 411850.08
A344: 43123 | B344: MP | C344: 500 | D344: 500 | E344: PRODUCTION | F344: 51.3 | G344: ='DETAILS ACHATS'!$C344*'DETAILS ACHATS'!$F344 -> 25650 | H344: ='DETAILS ACHATS'!$G344*19% -> 4873.5 | I344: ='DETAILS ACHATS'!$G344+'DETAILS ACHATS'!$H344 -> 30523.5
A345: 43123 | B345: MP | C345: 5 | D345: 5 | E345: PRODUCTION | F345: 925 | G345: ='DETAILS ACHATS'!$C345*'DETAILS ACHATS'!$F345 -> 4625 | H345: ='DETAILS ACHATS'!$G345*19% -> 878.75 | I345: ='DETAILS ACHATS'!$G345+'DETAILS ACHATS'!$H345 -> 5503.75
A346: 43123 | B346: MP | C346: 160 | D346: 160 | E346: PRODUCTION | F346: 8.45 | G346: ='DETAILS ACHATS'!$C346*'DETAILS ACHATS'!$F346 -> 1352 | H346: ='DETAILS ACHATS'!$G346*19% -> 256.88 | I346: ='DETAILS ACHATS'!$G346+'DETAILS ACHATS'!$H346 -> 1608.88
A347: 43123 | B347: MP | C347: 500 | D347: 500 | E347: PRODUCTION | F347: 51.3 | G347: ='DETAILS ACHATS'!$C347*'DETAILS ACHATS'!$F347 -> 25650 | H347: ='DETAILS ACHATS'!$G347*19% -> 4873.5 | I347: ='DETAILS ACHATS'!$G347+'DETAILS ACHATS'!$H347 -> 30523.5
A348: 43123 | B348: MP | C348: 5 | D348: 5 | E348: PRODUCTION | F348: 925 | G348: ='DETAILS ACHATS'!$C348*'DETAILS ACHATS'!$F348 -> 4625 | H348: ='DETAILS ACHATS'!$G348*19% -> 878.75 | I348: ='DETAILS ACHATS'!$G348+'DETAILS ACHATS'!$H348 -> 5503.75
A349: 43123 | B349: MP | C349: 160 | D349: 160 | E349: PRODUCTION | F349: 8.45 | G349: ='DETAILS ACHATS'!$C349*'DETAILS ACHATS'!$F349 -> 1352 | H349: ='DETAILS ACHATS'!$G349*19% -> 256.88 | I349: ='DETAILS ACHATS'!$G349+'DETAILS ACHATS'!$H349 -> 1608.88
A350: 43124 | B350: MP | C350: 270 | D350: 270 | E350: PRODUCTION | F350: 9.97 | G350: ='DETAILS ACHATS'!$C350*'DETAILS ACHATS'!$F350 -> 2691.9 | H350: ='DETAILS ACHATS'!$G350*19% -> 511.461 | I350: ='DETAILS ACHATS'!$G350+'DETAILS ACHATS'!$H350 -> 3203.361
A351: 43124 | B351: MP | C351: 2000 | D351: 2000 | E351: PRODUCTION | F351: 117 | G351: ='DETAILS ACHATS'!$C351*'DETAILS ACHATS'!$F351 -> 234000 | H351: ='DETAILS ACHATS'!$G351*19% -> 44460 | I351: ='DETAILS ACHATS'!$G351+'DETAILS ACHATS'!$H351 -> 278460
A352: 43146 | B352: MP | C352: 22000 | D352: 22000 | E352: PRODUCTION | F352: 7.48 | G352: ='DETAILS ACHATS'!$C352*'DETAILS ACHATS'!$F352 -> 164560 | H352: ='DETAILS ACHATS'!$G352*19% -> 31266.4 | I352: ='DETAILS ACHATS'!$G352+'DETAILS ACHATS'!$H352 -> 195826.4
A353: 43166 | B353: MP | C353: 300 | D353: 300 | E353: PRODUCTION | F353: 169 | G353: ='DETAILS ACHATS'!$C353*'DETAILS ACHATS'!$F353 -> 50700 | H353: ='DETAILS ACHATS'!$G353*19% -> 9633 | I353: ='DETAILS ACHATS'!$G353+'DETAILS ACHATS'!$H353 -> 60333
A354: 43167 | B354: MP | C354: 100 | D354: 100 | E354: PRODUCTION | F354: 92 | G354: ='DETAILS ACHATS'!$C354*'DETAILS ACHATS'!$F354 -> 9200 | H354: ='DETAILS ACHATS'!$G354*19% -> 1748 | I354: ='DETAILS ACHATS'!$G354+'DETAILS ACHATS'!$H354 -> 10948
A355: 43172 | B355: MP | C355: 1000 | D355: 1000 | E355: PRODUCTION | F355: 15.78 | G355: ='DETAILS ACHATS'!$C355*'DETAILS ACHATS'!$F355 -> 15780 | H355: ='DETAILS ACHATS'!$G355*19% -> 2998.2 | I355: ='DETAILS ACHATS'!$G355+'DETAILS ACHATS'!$H355 -> 18778.2
... A358: 43117 | B358: PR PROD | C358: 2 | D358: 2 | E358: PRODUCTION | F358: 40000 | G358: ='DETAILS ACHATS'!$C358*'DETAILS ACHATS'!$F358 -> 80000 | H358: ='DETAILS ACHATS'!$G358*19% -> 15200 | I358: ='DETAILS ACHATS'!$G358+'DETAILS ACHATS'!$H358 -> 95200

Sheet RECAPE MENS DESTINATION
A1: 2018
B3: JANVIER | C3: FÉVRIER | D3: MARS | E3: AVRIL | F3: MAI | G3: JUIN | H3: JUILLET | I3: AOÛT | J3: SEPTEMBRE | K3: OCTOBRE | L3: NOVEMBRE | M3: DÉCEMBRE
A4: ACHATS | B4: =SUMPRODUCT(('DETAILS ACHATS'!$E$2:$E$358=$A4)*(YEAR('DETAILS ACHATS'!$A$2:$A$358)=$A$1)*(MONTH('DETAILS ACHATS'!$A$2:$A$358)=MONTH("1/"&B$3))*('DETAILS ACHATS'!$I$2:$I$358)) -> 0 | C4: =SUMPRODUCT(('DETAILS ACHATS'!$E$2:$E$358=$A4)*(YEAR('DETAILS ACHATS'!$A$2:$A$358)=$A$1)*(MONTH('DETAILS ACHATS'!$A$2:$A$358)=MONTH("1/"&C$3))*('DETAILS ACHATS'!$I$2:$I$358)) -> 0 | D4: =SUMPRODUCT(('DETAILS ACHATS'!$E$2:$E$358=$A4)*(YEAR('DETAILS ACHATS'!$A$2:$A$358)=$A$1)*(MONTH('DETAILS ACHATS'!$A$2:$A$358)=MONTH("1/"&D$3))*('DETAILS ACHATS'!$I$2:$I$358)) -> 22779.896 | E4: =SUMPRODUCT(('DETAILS ACHATS'!$E$2:$E$358=$A4)*(YEAR('DETAILS ACHATS'!$A$2:$A$358)=$A$1)*(MONTH('DETAILS ACHATS'!$A$2:$A$358)=MONTH("1/"&E$3))*('DETAILS ACHATS'!$I$2:$I$358)) -> 0 | F4: =SUMPRODUCT(('DETAILS ACHATS'!$E$2:$E$358=$A4)*(YEAR('DETAILS ACHATS'!$A$2:$A$358)=$A$1)*(MONTH('DETAILS ACHATS'!$A$2:$A$358)=MONTH("1/"&F$3))*('DETAILS ACHATS'!$I$2:$I$358)) -> 0 | G4: =SUMPRODUCT(('DETAILS ACHATS'!$E$2:$E$358=$A4)*(YEAR('DETAILS ACHATS'!$A$2:$A$358)=$A$1)*(MONTH('DETAILS ACHATS'!$A$2:$A$358)=MONTH("1/"&G$3))*('DETAILS ACHATS'!$I$2:$I$358)) -> 0 | H4: =SUMPRODUCT(('DETAILS ACHATS'!$E$2:$E$358=$A4)*(YEAR('DETAILS ACHATS'!$A$2:$A$358)=$A$1)*(MONTH('DETAILS ACHATS'!$A$2:$A$358)=MONTH("1/"&H$3))*('DETAILS ACHATS'!$I$2:$I$358)) -> 0 | I4: =SUMPRODUCT(('DETAILS ACHATS'!$E$2:$E$358=$A4)*(YEAR('DETAILS ACHATS'!$A$2:$A$358)=$A$1)*(MONTH('DETAILS ACHATS'!$A$2:$A$358)=MONTH("1/"&I$3))*('DETAILS ACHATS'!$I$2:$I$358)) -> 0 | ... M4: =SUMPRODUCT(('DETAILS ACHATS'!$E$2:$E$358=$A4)*(YEAR('DETAILS ACHATS'!$A$2:$A$358)=$A$1)*(MONTH('DETAILS ACHATS'!$A$2:$A$358)=MONTH("1/"&M$3))*('DETAILS ACHATS'!$I$2:$I$358)) -> 0
A5: COMMUNICATION | B5: =SUMPRODUCT(('DETAILS ACHATS'!$E$2:$E$358=$A5)*(YEAR('DETAILS ACHATS'!$A$2:$A$358)=$A$1)*(MONTH('DETAILS ACHATS'!$A$2:$A$358)=MONTH("1/"&B$3))*('DETAILS ACHATS'!$I$2:$I$358)) -> 0 | C5: =SUMPRODUCT(('DETAILS ACHATS'!$E$2:$E$358=$A5)*(YEAR('DETAILS ACHATS'!$A$2:$A$358)=$A$1)*(MONTH('DETAILS ACHATS'!$A$2:$A$358)=MONTH("1/"&C$3))*('DETAILS ACHATS'!$I$2:$I$358)) -> 1255.45 | D5: =SUMPRODUCT(('DETAILS ACHATS'!$E$2:$E$358=$A5)*(YEAR('DETAILS ACHATS'!$A$2:$A$358)=$A$1)*(MONTH('DETAILS ACHATS'!$A$2:$A$358)=MONTH("1/"&D$3))*('DETAILS ACHATS'!$I$2:$I$358)) -> 0 | E5: =SUMPRODUCT(('DETAILS ACHATS'!$E$2:$E$358=$A5)*(YEAR('DETAILS ACHATS'!$A$2:$A$358)=$A$1)*(MONTH('DETAILS ACHATS'!$A$2:$A$358)=MONTH("1/"&E$3))*('DETAILS ACHATS'!$I$2:$I$358)) -> 0 | F5: =SUMPRODUCT(('DETAILS ACHATS'!$E$2:$E$358=$A5)*(YEAR('DETAILS ACHATS'!$A$2:$A$358)=$A$1)*(MONTH('DETAILS ACHATS'!$A$2:$A$358)=MONTH("1/"&F$3))*('DETAILS ACHATS'!$I$2:$I$358)) -> 0 | G5: =SUMPRODUCT(('DETAILS ACHATS'!$E$2:$E$358=$A5)*(YEAR('DETAILS ACHATS'!$A$2:$A$358)=$A$1)*(MONTH('DETAILS ACHATS'!$A$2:$A$358)=MONTH("1/"&G$3))*('DETAILS ACHATS'!$I$2:$I$358)) -> 0 | H5: =SUMPRODUCT(('DETAILS ACHATS'!$E$2:$E$358=$A5)*(YEAR('DETAILS ACHATS'!$A$2:$A$358)=$A$1)*(MONTH('DETAILS ACHATS'!$A$2:$A$358)=MONTH("1/"&H$3))*('DETAILS ACHATS'!$I$2:$I$358)) -> 0 | I5: =SUMPRODUCT(('DETAILS ACHATS'!$E$2:$E$358=$A5)*(YEAR('DETAILS ACHATS'!$A$2:$A$358)=$A$1)*(MONTH('DETAILS ACHATS'!$A$2:$A$358)=MONTH("1/"&I$3))*('DETAILS ACHATS'!$I$2:$I$358)) -> 0 | ... M5: =SUMPRODUCT(('DETAILS ACHATS'!$E$2:$E$358=$A5)*(YEAR('DETAILS ACHATS'!$A$2:$A$358)=$A$1)*(MONTH('DETAILS ACHATS'!$A$2:$A$358)=MONTH("1/"&M$3))*('DETAILS ACHATS'!$I$2:$I$358)) -> 0
A6: COMPTA | B6: =SUMPRODUCT(('DETAILS ACHATS'!$E$2:$E$358=$A6)*(YEAR('DETAILS ACHATS'!$A$2:$A$358)=$A$1)*(MONTH('DETAILS ACHATS'!$A$2:$A$358)=MONTH("1/"&B$3))*('DETAILS ACHATS'!$I$2:$I$358)) -> 13685 | C6: =SUMPRODUCT(('DETAILS ACHATS'!$E$2:$E$358=$A6)*(YEAR('DETAILS ACHATS'!$A$2:$A$358)=$A$1)*(MONTH('DETAILS ACHATS'!$A$2:$A$358)=MONTH("1/"&C$3))*('DETAILS ACHATS'!$I$2:$I$358)) -> 17606.069 | D6: =SUMPRODUCT(('DETAILS ACHATS'!$E$2:$E$358=$A6)*(YEAR('DETAILS ACHATS'!$A$2:$A$358)=$A$1)*(MONTH('DETAILS ACHATS'!$A$2:$A$358)=MONTH("1/"&D$3))*('DETAILS ACHATS'!$I$2:$I$358)) -> 7961.1 | E6: =SUMPRODUCT(('DETAILS ACHATS'!$E$2:$E$358=$A6)*(YEAR('DETAILS ACHATS'!$A$2:$A$358)=$A$1)*(MONTH('DETAILS ACHATS'!$A$2:$A$358)=MONTH("1/"&E$3))*('DETAILS ACHATS'!$I$2:$I$358)) -> 2903.6 | F6: =SUMPRODUCT(('DETAILS ACHATS'!$E$2:$E$358=$A6)*(YEAR('DETAILS ACHATS'!$A$2:$A$358)=$A$1)*(MONTH('DETAILS ACHATS'!$A$2:$A$358)=MONTH("1/"&F$3))*('DETAILS ACHATS'!$I$2:$I$358)) -> 6842.5 | G6: =SUMPRODUCT(('DETAILS ACHATS'!$E$2:$E$358=$A6)*(YEAR('DETAILS ACHATS'!$A$2:$A$358)=$A$1)*(MONTH('DETAILS ACHATS'!$A$2:$A$358)=MONTH("1/"&G$3))*('DETAILS ACHATS'!$I$2:$I$358)) -> 368.9 | H6: =SUMPRODUCT(('DETAILS ACHATS'!$E$2:$E$358=$A6)*(YEAR('DETAILS ACHATS'!$A$2:$A$358)=$A$1)*(MONTH('DETAILS ACHATS'!$A$2:$A$358)=MONTH("1/"&H$3))*('DETAILS ACHATS'!$I$2:$I$358)) -> 0 | I6: =SUMPRODUCT(('DETAILS ACHATS'!$E$2:$E$358=$A6)*(YEAR('DETAILS ACHATS'!$A$2:$A$358)=$A$1)*(MONTH('DETAILS ACHATS'!$A$2:$A$358)=MONTH("1/"&I$3))*('DETAILS ACHATS'!$I$2:$I$358)) -> 0 | ... M6: =SUMPRODUCT(('DETAILS ACHATS'!$E$2:$E$358=$A6)*(YEAR('DETAILS ACHATS'!$A$2:$A$358)=$A$1)*(MONTH('DETAILS ACHATS'!$A$2:$A$358)=MONTH("1/"&M$3))*('DETAILS ACHATS'!$I$2:$I$358)) -> 0
A7: DEVELOPPEMENT | B7: =SUMPRODUCT(('DETAILS ACHATS'!$E$2:$E$358=$A7)*(YEAR('DETAILS ACHATS'!$A$2:$A$358)=$A$1)*(MONTH('DETAILS ACHATS'!$A$2:$A$358)=MONTH("1/"&B$3))*('DETAILS ACHATS'!$I$2:$I$358)) -> 0 | C7: =SUMPRODUCT(('DETAILS ACHATS'!$E$2:$E$358=$A7)*(YEAR('DETAILS ACHATS'!$A$2:$A$358)=$A$1)*(MONTH('DETAILS ACHATS'!$A$2:$A$358)=MONTH("1/"&C$3))*('DETAILS ACHATS'!$I$2:$I$358)) -> 0 | D7: =SUMPRODUCT(('DETAILS ACHATS'!$E$2:$E$358=$A7)*(YEAR('DETAILS ACHATS'!$A$2:$A$358)=$A$1)*(MONTH('DETAILS ACHATS'!$A$2:$A$358)=MONTH("1/"&D$3))*('DETAILS ACHATS'!$I$2:$I$358)) -> 0 | E7: =SUMPRODUCT(('DETAILS ACHATS'!$E$2:$E$358=$A7)*(YEAR('DETAILS ACHATS'!$A$2:$A$358)=$A$1)*(MONTH('DETAILS ACHATS'!$A$2:$A$358)=MONTH("1/"&E$3))*('DETAILS ACHATS'!$I$2:$I$358)) -> 87465 | F7: =SUMPRODUCT(('DETAILS ACHATS'!$E$2:$E$358=$A7)*(YEAR('DETAILS ACHATS'!$A$2:$A$358)=$A$1)*(MONTH('DETAILS ACHATS'!$A$2:$A$358)=MONTH("1/"&F$3))*('DETAILS ACHATS'!$I$2:$I$358)) -> 59.976 | G7: =SUMPRODUCT(('DETAILS ACHATS'!$E$2:$E$358=$A7)*(YEAR('DETAILS ACHATS'!$A$2:$A$358)=$A$1)*(MONTH('DETAILS ACHATS'!$A$2:$A$358)=MONTH("1/"&G$3))*('DETAILS ACHATS'!$I$2:$I$358)) -> 0 | H7: =SUMPRODUCT(('DETAILS ACHATS'!$E$2:$E$358=$A7)*(YEAR('DETAILS ACHATS'!$A$2:$A$358)=$A$1)*(MONTH('DETAILS ACHATS'!$A$2:$A$358)=MONTH("1/"&H$3))*('DETAILS ACHATS'!$I$2:$I$358)) -> 0 | I7: =SUMPRODUCT(('DETAILS ACHATS'!$E$2:$E$358=$A7)*(YEAR('DETAILS ACHATS'!$A$2:$A$358)=$A$1)*(MONTH('DETAILS ACHATS'!$A$2:$A$358)=MONTH("1/"&I$3))*('DETAILS ACHATS'!$I$2:$I$358)) -> 0 | ... M7: =SUMPRODUCT(('DETAILS ACHATS'!$E$2:$E$358=$A7)*(YEAR('DETAILS ACHATS'!$A$2:$A$358)=$A$1)*(MONTH('DETAILS ACHATS'!$A$2:$A$358)=MONTH("1/"&M$3))*('DETAILS ACHATS'!$I$2:$I$358)) -> 0
A8: HSE | B8: =SUMPRODUCT(('DETAILS ACHATS'!$E$2:$E$358=$A8)*(YEAR('DETAILS ACHATS'!$A$2:$A$358)=$A$1)*(MONTH('DETAILS ACHATS'!$A$2:$A$358)=MONTH("1/"&B$3))*('DETAILS ACHATS'!$I$2:$I$358)) -> 51193.8 | C8: =SUMPRODUCT(('DETAILS ACHATS'!$E$2:$E$358=$A8)*(YEAR('DETAILS ACHATS'!$A$2:$A$358)=$A$1)*(MONTH('DETAILS ACHATS'!$A$2:$A$358)=MONTH("1/"&C$3))*('DETAILS ACHATS'!$I$2:$I$358)) -> 63427 | D8: =SUMPRODUCT(('DETAILS ACHATS'!$E$2:$E$358=$A8)*(YEAR('DETAILS ACHATS'!$A$2:$A$358)=$A$1)*(MONTH('DETAILS ACHATS'!$A$2:$A$358)=MONTH("1/"&D$3))*('DETAILS ACHATS'!$I$2:$I$358)) -> 0 | E8: =SUMPRODUCT(('DETAILS ACHATS'!$E$2:$E$358=$A8)*(YEAR('DETAILS ACHATS'!$A$2:$A$358)=$A$1)*(MONTH('DETAILS ACHATS'!$A$2:$A$358)=MONTH("1/"&E$3))*('DETAILS ACHATS'!$I$2:$I$358)) -> 0 | F8: =SUMPRODUCT(('DETAILS ACHATS'!$E$2:$E$358=$A8)*(YEAR('DETAILS ACHATS'!$A$2:$A$358)=$A$1)*(MONTH('DETAILS ACHATS'!$A$2:$A$358)=MONTH("1/"&F$3))*('DETAILS ACHATS'!$I$2:$I$358)) -> 113169 | G8: =SUMPRODUCT(('DETAILS ACHATS'!$E$2:$E$358=$A8)*(YEAR('DETAILS ACHATS'!$A$2:$A$358)=$A$1)*(MONTH('DETAILS ACHATS'!$A$2:$A$358)=MONTH("1/"&G$3))*('DETAILS ACHATS'!$I$2:$I$358)) -> 0 | H8: =SUMPRODUCT(('DETAILS ACHATS'!$E$2:$E$358=$A8)*(YEAR('DETAILS ACHATS'!$A$2:$A$358)=$A$1)*(MONTH('DETAILS ACHATS'!$A$2:$A$358)=MONTH("1/"&H$3))*('DETAILS ACHATS'!$I$2:$I$358)) -> 0 | I8: =SUMPRODUCT(('DETAILS ACHATS'!$E$2:$E$358=$A8)*(YEAR('DETAILS ACHATS'!$A$2:$A$358)=$A$1)*(MONTH('DETAILS ACHATS'!$A$2:$A$358)=MONTH("1/"&I$3))*('DETAILS ACHATS'!$I$2:$I$358)) -> 0 | ... M8: =SUMPRODUCT(('DETAILS ACHATS'!$E$2:$E$358=$A8)*(YEAR('DETAILS ACHATS'!$A$2:$A$358)=$A$1)*(MONTH('DETAILS ACHATS'!$A$2:$A$358)=MONTH("1/"&M$3))*('DETAILS ACHATS'!$I$2:$I$358)) -> 0
A9: LABO LCQ | B9: =SUMPRODUCT(('DETAILS ACHATS'!$E$2:$E$358=$A9)*(YEAR('DETAILS ACHATS'!$A$2:$A$358)=$A$1)*(MONTH('DETAILS ACHATS'!$A$2:$A$358)=MONTH("1/"&B$3))*('DETAILS ACHATS'!$I$2:$I$358)) -> 826116.09 | C9: =SUMPRODUCT(('DETAILS ACHATS'!$E$2:$E$358=$A9)*(YEAR('DETAILS ACHATS'!$A$2:$A$358)=$A$1)*(MONTH('DETAILS ACHATS'!$A$2:$A$358)=MONTH("1/"&C$3))*('DETAILS ACHATS'!$I$2:$I$358)) -> 253434.23 | D9: =SUMPRODUCT(('DETAILS ACHATS'!$E$2:$E$358=$A9)*(YEAR('DETAILS ACHATS'!$A$2:$A$358)=$A$1)*(MONTH('DETAILS ACHATS'!$A$2:$A$358)=MONTH("1/"&D$3))*('DETAILS ACHATS'!$I$2:$I$358)) -> 563493.25 | E9: =SUMPRODUCT(('DETAILS ACHATS'!$E$2:$E$358=$A9)*(YEAR('DETAILS ACHATS'!$A$2:$A$358)=$A$1)*(MONTH('DETAILS ACHATS'!$A$2:$A$358)=MONTH("1/"&E$3))*('DETAILS ACHATS'!$I$2:$I$358)) -> 1060027.8 | F9: =SUMPRODUCT(('DETAILS ACHATS'!$E$2:$E$358=$A9)*(YEAR('DETAILS ACHATS'!$A$2:$A$358)=$A$1)*(MONTH('DETAILS ACHATS'!$A$2:$A$358)=MONTH("1/"&F$3))*('DETAILS ACHATS'!$I$2:$I$358)) -> 596495.03 | G9: =SUMPRODUCT(('DETAILS ACHATS'!$E$2:$E$358=$A9)*(YEAR('DETAILS ACHATS'!$A$2:$A$358)=$A$1)*(MONTH('DETAILS ACHATS'!$A$2:$A$358)=MONTH("1/"&G$3))*('DETAILS ACHATS'!$I$2:$I$358)) -> 82710.474 | H9: =SUMPRODUCT(('DETAILS ACHATS'!$E$2:$E$358=$A9)*(YEAR('DETAILS ACHATS'!$A$2:$A$358)=$A$1)*(MONTH('DETAILS ACHATS'!$A$2:$A$358)=MONTH("1/"&H$3))*('DETAILS ACHATS'!$I$2:$I$358)) -> 0 | I9: =SUMPRODUCT(('DETAILS ACHATS'!$E$2:$E$358=$A9)*(YEAR('DETAILS ACHATS'!$A$2:$A$358)=$A$1)*(MONTH('DETAILS ACHATS'!$A$2:$A$358)=MONTH("1/"&I$3))*('DETAILS ACHATS'!$I$2:$I$358)) -> 0 | ... M9: =SUMPRODUCT(('DETAILS ACHATS'!$E$2:$E$358=$A9)*(YEAR('DETAILS ACHATS'!$A$2:$A$358)=$A$1)*(MONTH('DETAILS ACHATS'!$A$2:$A$358)=MONTH("1/"&M$3))*('DETAILS ACHATS'!$I$2:$I$358)) -> 0
A10: MAINTENANCE | B10: =SUMPRODUCT(('DETAILS ACHATS'!$E$2:$E$358=$A10)*(YEAR('DETAILS ACHATS'!$A$2:$A$358)=$A$1)*(MONTH('DETAILS ACHATS'!$A$2:$A$358)=MONTH("1/"&B$3))*('DETAILS ACHATS'!$I$2:$I$358)) -> 0 | C10: =SUMPRODUCT(('DETAILS ACHATS'!$E$2:$E$358=$A10)*(YEAR('DETAILS ACHATS'!$A$2:$A$358)=$A$1)*(MONTH('DETAILS ACHATS'!$A$2:$A$358)=MONTH("1/"&C$3))*('DETAILS ACHATS'!$I$2:$I$358)) -> 0 | D10: =SUMPRODUCT(('DETAILS ACHATS'!$E$2:$E$358=$A10)*(YEAR('DETAILS ACHATS'!$A$2:$A$358)=$A$1)*(MONTH('DETAILS ACHATS'!$A$2:$A$358)=MONTH("1/"&D$3))*('DETAILS ACHATS'!$I$2:$I$358)) -> 320998.47 | E10: =SUMPRODUCT(('DETAILS ACHATS'!$E$2:$E$358=$A10)*(YEAR('DETAILS ACHATS'!$A$2:$A$358)=$A$1)*(MONTH('DETAILS ACHATS'!$A$2:$A$358)=MONTH("1/"&E$3))*('DETAILS ACHATS'!$I$2:$I$358)) -> 0 | F10: =SUMPRODUCT(('DETAILS ACHATS'!$E$2:$E$358=$A10)*(YEAR('DETAILS ACHATS'!$A$2:$A$358)=$A$1)*(MONTH('DETAILS ACHATS'!$A$2:$A$358)=MONTH("1/"&F$3))*('DETAILS ACHATS'!$I$2:$I$358)) -> 85715.855 | G10: =SUMPRODUCT(('DETAILS ACHATS'!$E$2:$E$358=$A10)*(YEAR('DETAILS ACHATS'!$A$2:$A$358)=$A$1)*(MONTH('DETAILS ACHATS'!$A$2:$A$358)=MONTH("1/"&G$3))*('DETAILS ACHATS'!$I$2:$I$358)) -> 0 | H10: =SUMPRODUCT(('DETAILS ACHATS'!$E$2:$E$358=$A10)*(YEAR('DETAILS ACHATS'!$A$2:$A$358)=$A$1)*(MONTH('DETAILS ACHATS'!$A$2:$A$358)=MONTH("1/"&H$3))*('DETAILS ACHATS'!$I$2:$I$358)) -> 0 | I10: =SUMPRODUCT(('DETAILS ACHATS'!$E$2:$E$358=$A10)*(YEAR('DETAILS ACHATS'!$A$2:$A$358)=$A$1)*(MONTH('DETAILS ACHATS'!$A$2:$A$358)=MONTH("1/"&I$3))*('DETAILS ACHATS'!$I$2:$I$358)) -> 0 | ... M10: =SUMPRODUCT(('DETAILS ACHATS'!$E$2:$E$358=$A10)*(YEAR('DETAILS ACHATS'!$A$2:$A$358)=$A$1)*(MONTH('DETAILS ACHATS'!$A$2:$A$358)=MONTH("1/"&M$3))*('DETAILS ACHATS'!$I$2:$I$358)) -> 0
A11: MOY GEN | B11: =SUMPRODUCT(('DETAILS ACHATS'!$E$2:$E$358=$A11)*(YEAR('DETAILS ACHATS'!$A$2:$A$358)=$A$1)*(MONTH('DETAILS ACHATS'!$A$2:$A$358)=MONTH("1/"&B$3))*('DETAILS ACHATS'!$I$2:$I$358)) -> 32130 | C11: =SUMPRODUCT(('DETAILS ACHATS'!$E$2:$E$358=$A11)*(YEAR('DETAILS ACHATS'!$A$2:$A$358)=$A$1)*(MONTH('DETAILS ACHATS'!$A$2:$A$358)=MONTH("1/"&C$3))*('DETAILS ACHATS'!$I$2:$I$358)) -> 0 | D11: =SUMPRODUCT(('DETAILS ACHATS'!$E$2:$E$358=$A11)*(YEAR('DETAILS ACHATS'!$A$2:$A$358)=$A$1)*(MONTH('DETAILS ACHATS'!$A$2:$A$358)=MONTH("1/"&D$3))*('DETAILS ACHATS'!$I$2:$I$358)) -> 0 | E11: =SUMPRODUCT(('DETAILS ACHATS'!$E$2:$E$358=$A11)*(YEAR('DETAILS ACHATS'!$A$2:$A$358)=$A$1)*(MONTH('DETAILS ACHATS'!$A$2:$A$358)=MONTH("1/"&E$3))*('DETAILS ACHATS'!$I$2:$I$358)) -> 0 | F11: =SUMPRODUCT(('DETAILS ACHATS'!$E$2:$E$358=$A11)*(YEAR('DETAILS ACHATS'!$A$2:$A$358)=$A$1)*(MONTH('DETAILS ACHATS'!$A$2:$A$358)=MONTH("1/"&F$3))*('DETAILS ACHATS'!$I$2:$I$358)) -> 0 | G11: =SUMPRODUCT(('DETAILS ACHATS'!$E$2:$E$358=$A11)*(YEAR('DETAILS ACHATS'!$A$2:$A$358)=$A$1)*(MONTH('DETAILS ACHATS'!$A$2:$A$358)=MONTH("1/"&G$3))*('DETAILS ACHATS'!$I$2:$I$358)) -> 0 | H11: =SUMPRODUCT(('DETAILS ACHATS'!$E$2:$E$358=$A11)*(YEAR('DETAILS ACHATS'!$A$2:$A$358)=$A$1)*(MONTH('DETAILS ACHATS'!$A$2:$A$358)=MONTH("1/"&H$3))*('DETAILS ACHATS'!$I$2:$I$358)) -> 0 | I11: =SUMPRODUCT(('DETAILS ACHATS'!$E$2:$E$358=$A11)*(YEAR('DETAILS ACHATS'!$A$2:$A$358)=$A$1)*(MONTH('DETAILS ACHATS'!$A$2:$A$358)=MONTH("1/"&I$3))*('DETAILS ACHATS'!$I$2:$I$358)) -> 0 | ... M11: =SUMPRODUCT(('DETAILS ACHATS'!$E$2:$E$358=$A11)*(YEAR('DETAILS ACHATS'!$A$2:$A$358)=$A$1)*(MONTH('DETAILS ACHATS'!$A$2:$A$358)=MONTH("1/"&M$3))*('DETAILS ACHATS'!$I$2:$I$358)) -> 0
A12: PRODUCTION | B12: =SUMPRODUCT(('DETAILS ACHATS'!$E$2:$E$358=$A12)*(YEAR('DETAILS ACHATS'!$A$2:$A$358)=$A$1)*(MONTH('DETAILS ACHATS'!$A$2:$A$358)=MONTH("1/"&B$3))*('DETAILS ACHATS'!$I$2:$I$358)) -> 3552161.9 | C12: =SUMPRODUCT(('DETAILS ACHATS'!$E$2:$E$358=$A12)*(YEAR('DETAILS ACHATS'!$A$2:$A$358)=$A$1)*(MONTH('DETAILS ACHATS'!$A$2:$A$358)=MONTH("1/"&C$3))*('DETAILS ACHATS'!$I$2:$I$358)) -> 1371815.5 | D12: =SUMPRODUCT(('DETAILS ACHATS'!$E$2:$E$358=$A12)*(YEAR('DETAILS ACHATS'!$A$2:$A$358)=$A$1)*(MONTH('DETAILS ACHATS'!$A$2:$A$358)=MONTH("1/"&D$3))*('DETAILS ACHATS'!$I$2:$I$358)) -> 3895895 | E12: =SUMPRODUCT(('DETAILS ACHATS'!$E$2:$E$358=$A12)*(YEAR('DETAILS ACHATS'!$A$2:$A$358)=$A$1)*(MONTH('DETAILS ACHATS'!$A$2:$A$358)=MONTH("1/"&E$3))*('DETAILS ACHATS'!$I$2:$I$358)) -> 1862885.4 | F12: =SUMPRODUCT(('DETAILS ACHATS'!$E$2:$E$358=$A12)*(YEAR('DETAILS ACHATS'!$A$2:$A$358)=$A$1)*(MONTH('DETAILS ACHATS'!$A$2:$A$358)=MONTH("1/"&F$3))*('DETAILS ACHATS'!$I$2:$I$358)) -> 7085748.4 | G12: =SUMPRODUCT(('DETAILS ACHATS'!$E$2:$E$358=$A12)*(YEAR('DETAILS ACHATS'!$A$2:$A$358)=$A$1)*(MONTH('DETAILS ACHATS'!$A$2:$A$358)=MONTH("1/"&G$3))*('DETAILS ACHATS'!$I$2:$I$358)) -> 4858445.2 | H12: =SUMPRODUCT(('DETAILS ACHATS'!$E$2:$E$358=$A12)*(YEAR('DETAILS ACHATS'!$A$2:$A$358)=$A$1)*(MONTH('DETAILS ACHATS'!$A$2:$A$358)=MONTH("1/"&H$3))*('DETAILS ACHATS'!$I$2:$I$358)) -> 0 | I12: =SUMPRODUCT(('DETAILS ACHATS'!$E$2:$E$358=$A12)*(YEAR('DETAILS ACHATS'!$A$2:$A$358)=$A$1)*(MONTH('DETAILS ACHATS'!$A$2:$A$358)=MONTH("1/"&I$3))*('DETAILS ACHATS'!$I$2:$I$358)) -> 0 | ... M12: =SUMPRODUCT(('DETAILS ACHATS'!$E$2:$E$358=$A12)*(YEAR('DETAILS ACHATS'!$A$2:$A$358)=$A$1)*(MONTH('DETAILS ACHATS'!$A$2:$A$358)=MONTH("1/"&M$3))*('DETAILS ACHATS'!$I$2:$I$358)) -> 0

Sheet RECAPE MENS CATEG ART
A1: 2018
B3: JANVIER | C3: FÉVRIER | D3: MARS | E3: AVRIL | F3: MAI | G3: JUIN | H3: JUILLET | I3: AOÛT | J3: SEPTEMBRE | K3: OCTOBRE | L3: NOVEMBRE | M3: DÉCEMBRE
A4: AC | B4: =SUMPRODUCT(('DETAILS ACHATS'!$B$2:$B$358=$A4)*(YEAR('DETAILS ACHATS'!$A$2:$A$358)=$A$1)*(MONTH('DETAILS ACHATS'!$A$2:$A$358)=MONTH("1/"&B$3))*('DETAILS ACHATS'!$I$2:$I$358)) -> 2557846.4 | C4: =SUMPRODUCT(('DETAILS ACHATS'!$B$2:$B$358=$A4)*(YEAR('DETAILS ACHATS'!$A$2:$A$358)=$A$1)*(MONTH('DETAILS ACHATS'!$A$2:$A$358)=MONTH("1/"&C$3))*('DETAILS ACHATS'!$I$2:$I$358)) -> 1156270.8 | D4: =SUMPRODUCT(('DETAILS ACHATS'!$B$2:$B$358=$A4)*(YEAR('DETAILS ACHATS'!$A$2:$A$358)=$A$1)*(MONTH('DETAILS ACHATS'!$A$2:$A$358)=MONTH("1/"&D$3))*('DETAILS ACHATS'!$I$2:$I$358)) -> 2245643 | E4: =SUMPRODUCT(('DETAILS ACHATS'!$B$2:$B$358=$A4)*(YEAR('DETAILS ACHATS'!$A$2:$A$358)=$A$1)*(MONTH('DETAILS ACHATS'!$A$2:$A$358)=MONTH("1/"&E$3))*('DETAILS ACHATS'!$I$2:$I$358)) -> 1647971.4 | F4: =SUMPRODUCT(('DETAILS ACHATS'!$B$2:$B$358=$A4)*(YEAR('DETAILS ACHATS'!$A$2:$A$358)=$A$1)*(MONTH('DETAILS ACHATS'!$A$2:$A$358)=MONTH("1/"&F$3))*('DETAILS ACHATS'!$I$2:$I$358)) -> 6640531.8 | G4: =SUMPRODUCT(('DETAILS ACHATS'!$B$2:$B$358=$A4)*(YEAR('DETAILS ACHATS'!$A$2:$A$358)=$A$1)*(MONTH('DETAILS ACHATS'!$A$2:$A$358)=MONTH("1/"&G$3))*('DETAILS ACHATS'!$I$2:$I$358)) -> 3079157.2 | H4: =SUMPRODUCT(('DETAILS ACHATS'!$B$2:$B$358=$A4)*(YEAR('DETAILS ACHATS'!$A$2:$A$358)=$A$1)*(MONTH('DETAILS ACHATS'!$A$2:$A$358)=MONTH("1/"&H$3))*('DETAILS ACHATS'!$I$2:$I$358)) -> 0 | I4: =SUMPRODUCT(('DETAILS ACHATS'!$B$2:$B$358=$A4)*(YEAR('DETAILS ACHATS'!$A$2:$A$358)=$A$1)*(MONTH('DETAILS ACHATS'!$A$2:$A$358)=MONTH("1/"&I$3))*('DETAILS ACHATS'!$I$2:$I$358)) -> 0 | ... M4: =SUMPRODUCT(('DETAILS ACHATS'!$B$2:$B$358=$A4)*(YEAR('DETAILS ACHATS'!$A$2:$A$358)=$A$1)*(MONTH('DETAILS ACHATS'!$A$2:$A$358)=MONTH("1/"&M$3))*('DETAILS ACHATS'!$I$2:$I$358)) -> 0
A5: COMMUNICATION | B5: =SUMPRODUCT(('DETAILS ACHATS'!$B$2:$B$358=$A5)*(YEAR('DETAILS ACHATS'!$A$2:$A$358)=$A$1)*(MONTH('DETAILS ACHATS'!$A$2:$A$358)=MONTH("1/"&B$3))*('DETAILS ACHATS'!$I$2:$I$358)) -> 2159.85 | C5: =SUMPRODUCT(('DETAILS ACHATS'!$B$2:$B$358=$A5)*(YEAR('DETAILS ACHATS'!$A$2:$A$358)=$A$1)*(MONTH('DETAILS ACHATS'!$A$2:$A$358)=MONTH("1/"&C$3))*('DETAILS ACHATS'!$I$2:$I$358)) -> 1255.45 | D5: =SUMPRODUCT(('DETAILS ACHATS'!$B$2:$B$358=$A5)*(YEAR('DETAILS ACHATS'!$A$2:$A$358)=$A$1)*(MONTH('DETAILS ACHATS'!$A$2:$A$358)=MONTH("1/"&D$3))*('DETAILS ACHATS'!$I$2:$I$358)) -> 0 | E5: =SUMPRODUCT(('DETAILS ACHATS'!$B$2:$B$358=$A5)*(YEAR('DETAILS ACHATS'!$A$2:$A$358)=$A$1)*(MONTH('DETAILS ACHATS'!$A$2:$A$358)=MONTH("1/"&E$3))*('DETAILS ACHATS'!$I$2:$I$358)) -> 0 | F5: =SUMPRODUCT(('DETAILS ACHATS'!$B$2:$B$358=$A5)*(YEAR('DETAILS ACHATS'!$A$2:$A$358)=$A$1)*(MONTH('DETAILS ACHATS'!$A$2:$A$358)=MONTH("1/"&F$3))*('DETAILS ACHATS'!$I$2:$I$358)) -> 0 | G5: =SUMPRODUCT(('DETAILS ACHATS'!$B$2:$B$358=$A5)*(YEAR('DETAILS ACHATS'!$A$2:$A$358)=$A$1)*(MONTH('DETAILS ACHATS'!$A$2:$A$358)=MONTH("1/"&G$3))*('DETAILS ACHATS'!$I$2:$I$358)) -> 0 | H5: =SUMPRODUCT(('DETAILS ACHATS'!$B$2:$B$358=$A5)*(YEAR('DETAILS ACHATS'!$A$2:$A$358)=$A$1)*(MONTH('DETAILS ACHATS'!$A$2:$A$358)=MONTH("1/"&H$3))*('DETAILS ACHATS'!$I$2:$I$358)) -> 0 | I5: =SUMPRODUCT(('DETAILS ACHATS'!$B$2:$B$358=$A5)*(YEAR('DETAILS ACHATS'!$A$2:$A$358)=$A$1)*(MONTH('DETAILS ACHATS'!$A$2:$A$358)=MONTH("1/"&I$3))*('DETAILS ACHATS'!$I$2:$I$358)) -> 0 | ... M5: =SUMPRODUCT(('DETAILS ACHATS'!$B$2:$B$358=$A5)*(YEAR('DETAILS ACHATS'!$A$2:$A$358)=$A$1)*(MONTH('DETAILS ACHATS'!$A$2:$A$358)=MONTH("1/"&M$3))*('DETAILS ACHATS'!$I$2:$I$358)) -> 0
A6: COMPTA | B6: =SUMPRODUCT(('DETAILS ACHATS'!$B$2:$B$358=$A6)*(YEAR('DETAILS ACHATS'!$A$2:$A$358)=$A$1)*(MONTH('DETAILS ACHATS'!$A$2:$A$358)=MONTH("1/"&B$3))*('DETAILS ACHATS'!$I$2:$I$358)) -> 11400.2 | C6: =SUMPRODUCT(('DETAILS ACHATS'!$B$2:$B$358=$A6)*(YEAR('DETAILS ACHATS'!$A$2:$A$358)=$A$1)*(MONTH('DETAILS ACHATS'!$A$2:$A$358)=MONTH("1/"&C$3))*('DETAILS ACHATS'!$I$2:$I$358)) -> 7449.419 | D6: =SUMPRODUCT(('DETAILS ACHATS'!$B$2:$B$358=$A6)*(YEAR('DETAILS ACHATS'!$A$2:$A$358)=$A$1)*(MONTH('DETAILS ACHATS'!$A$2:$A$358)=MONTH("1/"&D$3))*('DETAILS ACHATS'!$I$2:$I$358)) -> 3320.1 | E6: =SUMPRODUCT(('DETAILS ACHATS'!$B$2:$B$358=$A6)*(YEAR('DETAILS ACHATS'!$A$2:$A$358)=$A$1)*(MONTH('DETAILS ACHATS'!$A$2:$A$358)=MONTH("1/"&E$3))*('DETAILS ACHATS'!$I$2:$I$358)) -> 0 | F6: =SUMPRODUCT(('DETAILS ACHATS'!$B$2:$B$358=$A6)*(YEAR('DETAILS ACHATS'!$A$2:$A$358)=$A$1)*(MONTH('DETAILS ACHATS'!$A$2:$A$358)=MONTH("1/"&F$3))*('DETAILS ACHATS'!$I$2:$I$358)) -> 0 | G6: =SUMPRODUCT(('DETAILS ACHATS'!$B$2:$B$358=$A6)*(YEAR('DETAILS ACHATS'!$A$2:$A$358)=$A$1)*(MONTH('DETAILS ACHATS'!$A$2:$A$358)=MONTH("1/"&G$3))*('DETAILS ACHATS'!$I$2:$I$358)) -> 0 | H6: =SUMPRODUCT(('DETAILS ACHATS'!$B$2:$B$358=$A6)*(YEAR('DETAILS ACHATS'!$A$2:$A$358)=$A$1)*(MONTH('DETAILS ACHATS'!$A$2:$A$358)=MONTH("1/"&H$3))*('DETAILS ACHATS'!$I$2:$I$358)) -> 0 | I6: =SUMPRODUCT(('DETAILS ACHATS'!$B$2:$B$358=$A6)*(YEAR('DETAILS ACHATS'!$A$2:$A$358)=$A$1)*(MONTH('DETAILS ACHATS'!$A$2:$A$358)=MONTH("1/"&I$3))*('DETAILS ACHATS'!$I$2:$I$358)) -> 0 | ... M6: =SUMPRODUCT(('DETAILS ACHATS'!$B$2:$B$358=$A6)*(YEAR('DETAILS ACHATS'!$A$2:$A$358)=$A$1)*(MONTH('DETAILS ACHATS'!$A$2:$A$358)=MONTH("1/"&M$3))*('DETAILS ACHATS'!$I$2:$I$358)) -> 0
A7: CS HSE | B7: =SUMPRODUCT(('DETAILS ACHATS'!$B$2:$B$358=$A7)*(YEAR('DETAILS ACHATS'!$A$2:$A$358)=$A$1)*(MONTH('DETAILS ACHATS'!$A$2:$A$358)=MONTH("1/"&B$3))*('DETAILS ACHATS'!$I$2:$I$358)) -> 83323.8 | C7: =SUMPRODUCT(('DETAILS ACHATS'!$B$2:$B$358=$A7)*(YEAR('DETAILS ACHATS'!$A$2:$A$358)=$A$1)*(MONTH('DETAILS ACHATS'!$A$2:$A$358)=MONTH("1/"&C$3))*('DETAILS ACHATS'!$I$2:$I$358)) -> 63427 | D7: =SUMPRODUCT(('DETAILS ACHATS'!$B$2:$B$358=$A7)*(YEAR('DETAILS ACHATS'!$A$2:$A$358)=$A$1)*(MONTH('DETAILS ACHATS'!$A$2:$A$358)=MONTH("1/"&D$3))*('DETAILS ACHATS'!$I$2:$I$358)) -> 0 | E7: =SUMPRODUCT(('DETAILS ACHATS'!$B$2:$B$358=$A7)*(YEAR('DETAILS ACHATS'!$A$2:$A$358)=$A$1)*(MONTH('DETAILS ACHATS'!$A$2:$A$358)=MONTH("1/"&E$3))*('DETAILS ACHATS'!$I$2:$I$358)) -> 0 | F7: =SUMPRODUCT(('DETAILS ACHATS'!$B$2:$B$358=$A7)*(YEAR('DETAILS ACHATS'!$A$2:$A$358)=$A$1)*(MONTH('DETAILS ACHATS'!$A$2:$A$358)=MONTH("1/"&F$3))*('DETAILS ACHATS'!$I$2:$I$358)) -> 180285 | G7: =SUMPRODUCT(('DETAILS ACHATS'!$B$2:$B$358=$A7)*(YEAR('DETAILS ACHATS'!$A$2:$A$358)=$A$1)*(MONTH('DETAILS ACHATS'!$A$2:$A$358)=MONTH("1/"&G$3))*('DETAILS ACHATS'!$I$2:$I$358)) -> 0 | H7: =SUMPRODUCT(('DETAILS ACHATS'!$B$2:$B$358=$A7)*(YEAR('DETAILS ACHATS'!$A$2:$A$358)=$A$1)*(MONTH('DETAILS ACHATS'!$A$2:$A$358)=MONTH("1/"&H$3))*('DETAILS ACHATS'!$I$2:$I$358)) -> 0 | I7: =SUMPRODUCT(('DETAILS ACHATS'!$B$2:$B$358=$A7)*(YEAR('DETAILS ACHATS'!$A$2:$A$358)=$A$1)*(MONTH('DETAILS ACHATS'!$A$2:$A$358)=MONTH("1/"&I$3))*('DETAILS ACHATS'!$I$2:$I$358)) -> 0 | ... M7: =SUMPRODUCT(('DETAILS ACHATS'!$B$2:$B$358=$A7)*(YEAR('DETAILS ACHATS'!$A$2:$A$358)=$A$1)*(MONTH('DETAILS ACHATS'!$A$2:$A$358)=MONTH("1/"&M$3))*('DETAILS ACHATS'!$I$2:$I$358)) -> 0
A8: CS LABO | B8: =SUMPRODUCT(('DETAILS ACHATS'!$B$2:$B$358=$A8)*(YEAR('DETAILS ACHATS'!$A$2:$A$358)=$A$1)*(MONTH('DETAILS ACHATS'!$A$2:$A$358)=MONTH("1/"&B$3))*('DETAILS ACHATS'!$I$2:$I$358)) -> 2522.8 | C8: =SUMPRODUCT(('DETAILS ACHATS'!$B$2:$B$358=$A8)*(YEAR('DETAILS ACHATS'!$A$2:$A$358)=$A$1)*(MONTH('DETAILS ACHATS'!$A$2:$A$358)=MONTH("1/"&C$3))*('DETAILS ACHATS'!$I$2:$I$358)) -> 253434.23 | D8: =SUMPRODUCT(('DETAILS ACHATS'!$B$2:$B$358=$A8)*(YEAR('DETAILS ACHATS'!$A$2:$A$358)=$A$1)*(MONTH('DETAILS ACHATS'!$A$2:$A$358)=MONTH("1/"&D$3))*('DETAILS ACHATS'!$I$2:$I$358)) -> 462336.78 | E8: =SUMPRODUCT(('DETAILS ACHATS'!$B$2:$B$358=$A8)*(YEAR('DETAILS ACHATS'!$A$2:$A$358)=$A$1)*(MONTH('DETAILS ACHATS'!$A$2:$A$358)=MONTH("1/"&E$3))*('DETAILS ACHATS'!$I$2:$I$358)) -> 1048603.8 | F8: =SUMPRODUCT(('DETAILS ACHATS'!$B$2:$B$358=$A8)*(YEAR('DETAILS ACHATS'!$A$2:$A$358)=$A$1)*(MONTH('DETAILS ACHATS'!$A$2:$A$358)=MONTH("1/"&F$3))*('DETAILS ACHATS'!$I$2:$I$358)) -> 399199.93 | G8: =SUMPRODUCT(('DETAILS ACHATS'!$B$2:$B$358=$A8)*(YEAR('DETAILS ACHATS'!$A$2:$A$358)=$A$1)*(MONTH('DETAILS ACHATS'!$A$2:$A$358)=MONTH("1/"&G$3))*('DETAILS ACHATS'!$I$2:$I$358)) -> 82710.474 | H8: =SUMPRODUCT(('DETAILS ACHATS'!$B$2:$B$358=$A8)*(YEAR('DETAILS ACHATS'!$A$2:$A$358)=$A$1)*(MONTH('DETAILS ACHATS'!$A$2:$A$358)=MONTH("1/"&H$3))*('DETAILS ACHATS'!$I$2:$I$358)) -> 0 | I8: =SUMPRODUCT(('DETAILS ACHATS'!$B$2:$B$358=$A8)*(YEAR('DETAILS ACHATS'!$A$2:$A$358)=$A$1)*(MONTH('DETAILS ACHATS'!$A$2:$A$358)=MONTH("1/"&I$3))*('DETAILS ACHATS'!$I$2:$I$358)) -> 0 | ... M8: =SUMPRODUCT(('DETAILS ACHATS'!$B$2:$B$358=$A8)*(YEAR('DETAILS ACHATS'!$A$2:$A$358)=$A$1)*(MONTH('DETAILS ACHATS'!$A$2:$A$358)=MONTH("1/"&M$3))*('DETAILS ACHATS'!$I$2:$I$358)) -> 0
A9: CS MICROBIO | B9: =SUMPRODUCT(('DETAILS ACHATS'!$B$2:$B$358=$A9)*(YEAR('DETAILS ACHATS'!$A$2:$A$358)=$A$1)*(MONTH('DETAILS ACHATS'!$A$2:$A$358)=MONTH("1/"&B$3))*('DETAILS ACHATS'!$I$2:$I$358)) -> 0 | C9: =SUMPRODUCT(('DETAILS ACHATS'!$B$2:$B$358=$A9)*(YEAR('DETAILS ACHATS'!$A$2:$A$358)=$A$1)*(MONTH('DETAILS ACHATS'!$A$2:$A$358)=MONTH("1/"&C$3))*('DETAILS ACHATS'!$I$2:$I$358)) -> 0 | D9: =SUMPRODUCT(('DETAILS ACHATS'!$B$2:$B$358=$A9)*(YEAR('DETAILS ACHATS'!$A$2:$A$358)=$A$1)*(MONTH('DETAILS ACHATS'!$A$2:$A$358)=MONTH("1/"&D$3))*('DETAILS ACHATS'!$I$2:$I$358)) -> 0 | E9: =SUMPRODUCT(('DETAILS ACHATS'!$B$2:$B$358=$A9)*(YEAR('DETAILS ACHATS'!$A$2:$A$358)=$A$1)*(MONTH('DETAILS ACHATS'!$A$2:$A$358)=MONTH("1/"&E$3))*('DETAILS ACHATS'!$I$2:$I$358)) -> 0 | F9: =SUMPRODUCT(('DETAILS ACHATS'!$B$2:$B$358=$A9)*(YEAR('DETAILS ACHATS'!$A$2:$A$358)=$A$1)*(MONTH('DETAILS ACHATS'!$A$2:$A$358)=MONTH("1/"&F$3))*('DETAILS ACHATS'!$I$2:$I$358)) -> 116970.1 | G9: =SUMPRODUCT(('DETAILS ACHATS'!$B$2:$B$358=$A9)*(YEAR('DETAILS ACHATS'!$A$2:$A$358)=$A$1)*(MONTH('DETAILS ACHATS'!$A$2:$A$358)=MONTH("1/"&G$3))*('DETAILS ACHATS'!$I$2:$I$358)) -> 0 | H9: =SUMPRODUCT(('DETAILS ACHATS'!$B$2:$B$358=$A9)*(YEAR('DETAILS ACHATS'!$A$2:$A$358)=$A$1)*(MONTH('DETAILS ACHATS'!$A$2:$A$358)=MONTH("1/"&H$3))*('DETAILS ACHATS'!$I$2:$I$358)) -> 0 | I9: =SUMPRODUCT(('DETAILS ACHATS'!$B$2:$B$358=$A9)*(YEAR('DETAILS ACHATS'!$A$2:$A$358)=$A$1)*(MONTH('DETAILS ACHATS'!$A$2:$A$358)=MONTH("1/"&I$3))*('DETAILS ACHATS'!$I$2:$I$358)) -> 0 | ... M9: =SUMPRODUCT(('DETAILS ACHATS'!$B$2:$B$358=$A9)*(YEAR('DETAILS ACHATS'!$A$2:$A$358)=$A$1)*(MONTH('DETAILS ACHATS'!$A$2:$A$358)=MONTH("1/"&M$3))*('DETAILS ACHATS'!$I$2:$I$358)) -> 0
A10: FRAIS APPROCHE | B10: =SUMPRODUCT(('DETAILS ACHATS'!$B$2:$B$358=$A10)*(YEAR('DETAILS ACHATS'!$A$2:$A$358)=$A$1)*(MONTH('DETAILS ACHATS'!$A$2:$A$358)=MONTH("1/"&B$3))*('DETAILS ACHATS'!$I$2:$I$358)) -> 2284.8 | C10: =SUMPRODUCT(('DETAILS ACHATS'!$B$2:$B$358=$A10)*(YEAR('DETAILS ACHATS'!$A$2:$A$358)=$A$1)*(MONTH('DETAILS ACHATS'!$A$2:$A$358)=MONTH("1/"&C$3))*('DETAILS ACHATS'!$I$2:$I$358)) -> 10156.65 | D10: =SUMPRODUCT(('DETAILS ACHATS'!$B$2:$B$358=$A10)*(YEAR('DETAILS ACHATS'!$A$2:$A$358)=$A$1)*(MONTH('DETAILS ACHATS'!$A$2:$A$358)=MONTH("1/"&D$3))*('DETAILS ACHATS'!$I$2:$I$358)) -> 4978.96 | E10: =SUMPRODUCT(('DETAILS ACHATS'!$B$2:$B$358=$A10)*(YEAR('DETAILS ACHATS'!$A$2:$A$358)=$A$1)*(MONTH('DETAILS ACHATS'!$A$2:$A$358)=MONTH("1/"&E$3))*('DETAILS ACHATS'!$I$2:$I$358)) -> 2903.6 | F10: =SUMPRODUCT(('DETAILS ACHATS'!$B$2:$B$358=$A10)*(YEAR('DETAILS ACHATS'!$A$2:$A$358)=$A$1)*(MONTH('DETAILS ACHATS'!$A$2:$A$358)=MONTH("1/"&F$3))*('DETAILS ACHATS'!$I$2:$I$358)) -> 6842.5 | G10: =SUMPRODUCT(('DETAILS ACHATS'!$B$2:$B$358=$A10)*(YEAR('DETAILS ACHATS'!$A$2:$A$358)=$A$1)*(MONTH('DETAILS ACHATS'!$A$2:$A$358)=MONTH("1/"&G$3))*('DETAILS ACHATS'!$I$2:$I$358)) -> 368.9 | H10: =SUMPRODUCT(('DETAILS ACHATS'!$B$2:$B$358=$A10)*(YEAR('DETAILS ACHATS'!$A$2:$A$358)=$A$1)*(MONTH('DETAILS ACHATS'!$A$2:$A$358)=MONTH("1/"&H$3))*('DETAILS ACHATS'!$I$2:$I$358)) -> 0 | I10: =SUMPRODUCT(('DETAILS ACHATS'!$B$2:$B$358=$A10)*(YEAR('DETAILS ACHATS'!$A$2:$A$358)=$A$1)*(MONTH('DETAILS ACHATS'!$A$2:$A$358)=MONTH("1/"&I$3))*('DETAILS ACHATS'!$I$2:$I$358)) -> 0 | ... M10: =SUMPRODUCT(('DETAILS ACHATS'!$B$2:$B$358=$A10)*(YEAR('DETAILS ACHATS'!$A$2:$A$358)=$A$1)*(MONTH('DETAILS ACHATS'!$A$2:$A$358)=MONTH("1/"&M$3))*('DETAILS ACHATS'!$I$2:$I$358)) -> 0
A11: HSE | B11: =SUMPRODUCT(('DETAILS ACHATS'!$B$2:$B$358=$A11)*(YEAR('DETAILS ACHATS'!$A$2:$A$358)=$A$1)*(MONTH('DETAILS ACHATS'!$A$2:$A$358)=MONTH("1/"&B$3))*('DETAILS ACHATS'!$I$2:$I$358)) -> 0 | C11: =SUMPRODUCT(('DETAILS ACHATS'!$B$2:$B$358=$A11)*(YEAR('DETAILS ACHATS'!$A$2:$A$358)=$A$1)*(MONTH('DETAILS ACHATS'!$A$2:$A$358)=MONTH("1/"&C$3))*('DETAILS ACHATS'!$I$2:$I$358)) -> 0 | D11: =SUMPRODUCT(('DETAILS ACHATS'!$B$2:$B$358=$A11)*(YEAR('DETAILS ACHATS'!$A$2:$A$358)=$A$1)*(MONTH('DETAILS ACHATS'!$A$2:$A$358)=MONTH("1/"&D$3))*('DETAILS ACHATS'!$I$2:$I$358)) -> 0 | E11: =SUMPRODUCT(('DETAILS ACHATS'!$B$2:$B$358=$A11)*(YEAR('DETAILS ACHATS'!$A$2:$A$358)=$A$1)*(MONTH('DETAILS ACHATS'!$A$2:$A$358)=MONTH("1/"&E$3))*('DETAILS ACHATS'!$I$2:$I$358)) -> 11424 | F11: =SUMPRODUCT(('DETAILS ACHATS'!$B$2:$B$358=$A11)*(YEAR('DETAILS ACHATS'!$A$2:$A$358)=$A$1)*(MONTH('DETAILS ACHATS'!$A$2:$A$358)=MONTH("1/"&F$3))*('DETAILS ACHATS'!$I$2:$I$358)) -> 0 | G11: =SUMPRODUCT(('DETAILS ACHATS'!$B$2:$B$358=$A11)*(YEAR('DETAILS ACHATS'!$A$2:$A$358)=$A$1)*(MONTH('DETAILS ACHATS'!$A$2:$A$358)=MONTH("1/"&G$3))*('DETAILS ACHATS'!$I$2:$I$358)) -> 0 | H11: =SUMPRODUCT(('DETAILS ACHATS'!$B$2:$B$358=$A11)*(YEAR('DETAILS ACHATS'!$A$2:$A$358)=$A$1)*(MONTH('DETAILS ACHATS'!$A$2:$A$358)=MONTH("1/"&H$3))*('DETAILS ACHATS'!$I$2:$I$358)) -> 0 | I11: =SUMPRODUCT(('DETAILS ACHATS'!$B$2:$B$358=$A11)*(YEAR('DETAILS ACHATS'!$A$2:$A$358)=$A$1)*(MONTH('DETAILS ACHATS'!$A$2:$A$358)=MONTH("1/"&I$3))*('DETAILS ACHATS'!$I$2:$I$358)) -> 0 | ... M11: =SUMPRODUCT(('DETAILS ACHATS'!$B$2:$B$358=$A11)*(YEAR('DETAILS ACHATS'!$A$2:$A$358)=$A$1)*(MONTH('DETAILS ACHATS'!$A$2:$A$358)=MONTH("1/"&M$3))*('DETAILS ACHATS'!$I$2:$I$358)) -> 0
A12: MAINTENANCE | B12: =SUMPRODUCT(('DETAILS ACHATS'!$B$2:$B$358=$A12)*(YEAR('DETAILS ACHATS'!$A$2:$A$358)=$A$1)*(MONTH('DETAILS ACHATS'!$A$2:$A$358)=MONTH("1/"&B$3))*('DETAILS ACHATS'!$I$2:$I$358)) -> 0 | C12: =SUMPRODUCT(('DETAILS ACHATS'!$B$2:$B$358=$A12)*(YEAR('DETAILS ACHATS'!$A$2:$A$358)=$A$1)*(MONTH('DETAILS ACHATS'!$A$2:$A$358)=MONTH("1/"&C$3))*('DETAILS ACHATS'!$I$2:$I$358)) -> 0 | D12: =SUMPRODUCT(('DETAILS ACHATS'!$B$2:$B$358=$A12)*(YEAR('DETAILS ACHATS'!$A$2:$A$358)=$A$1)*(MONTH('DETAILS ACHATS'!$A$2:$A$358)=MONTH("1/"&D$3))*('DETAILS ACHATS'!$I$2:$I$358)) -> 320998.47 | E12: =SUMPRODUCT(('DETAILS ACHATS'!$B$2:$B$358=$A12)*(YEAR('DETAILS ACHATS'!$A$2:$A$358)=$A$1)*(MONTH('DETAILS ACHATS'!$A$2:$A$358)=MONTH("1/"&E$3))*('DETAILS ACHATS'!$I$2:$I$358)) -> 0 | F12: =SUMPRODUCT(('DETAILS ACHATS'!$B$2:$B$358=$A12)*(YEAR('DETAILS ACHATS'!$A$2:$A$358)=$A$1)*(MONTH('DETAILS ACHATS'!$A$2:$A$358)=MONTH("1/"&F$3))*('DETAILS ACHATS'!$I$2:$I$358)) -> 85715.855 | G12: =SUMPRODUCT(('DETAILS ACHATS'!$B$2:$B$358=$A12)*(YEAR('DETAILS ACHATS'!$A$2:$A$358)=$A$1)*(MONTH('DETAILS ACHATS'!$A$2:$A$358)=MONTH("1/"&G$3))*('DETAILS ACHATS'!$I$2:$I$358)) -> 0 | H12: =SUMPRODUCT(('DETAILS ACHATS'!$B$2:$B$358=$A12)*(YEAR('DETAILS ACHATS'!$A$2:$A$358)=$A$1)*(MONTH('DETAILS ACHATS'!$A$2:$A$358)=MONTH("1/"&H$3))*('DETAILS ACHATS'!$I$2:$I$358)) -> 0 | I12: =SUMPRODUCT(('DETAILS ACHATS'!$B$2:$B$358=$A12)*(YEAR('DETAILS ACHATS'!$A$2:$A$358)=$A$1)*(MONTH('DETAILS ACHATS'!$A$2:$A$358)=MONTH("1/"&I$3))*('DETAILS ACHATS'!$I$2:$I$358)) -> 0 | ... M12: =SUMPRODUCT(('DETAILS ACHATS'!$B$2:$B$358=$A12)*(YEAR('DETAILS ACHATS'!$A$2:$A$358)=$A$1)*(MONTH('DETAILS ACHATS'!$A$2:$A$358)=MONTH("1/"&M$3))*('DETAILS ACHATS'!$I$2:$I$358)) -> 0
A13: MP | B13: =SUMPRODUCT(('DETAILS ACHATS'!$B$2:$B$358=$A13)*(YEAR('DETAILS ACHATS'!$A$2:$A$358)=$A$1)*(MONTH('DETAILS ACHATS'!$A$2:$A$358)=MONTH("1/"&B$3))*('DETAILS ACHATS'!$I$2:$I$358)) -> 896955.66 | C13: =SUMPRODUCT(('DETAILS ACHATS'!$B$2:$B$358=$A13)*(YEAR('DETAILS ACHATS'!$A$2:$A$358)=$A$1)*(MONTH('DETAILS ACHATS'!$A$2:$A$358)=MONTH("1/"&C$3))*('DETAILS ACHATS'!$I$2:$I$358)) -> 215544.7 | D13: =SUMPRODUCT(('DETAILS ACHATS'!$B$2:$B$358=$A13)*(YEAR('DETAILS ACHATS'!$A$2:$A$358)=$A$1)*(MONTH('DETAILS ACHATS'!$A$2:$A$358)=MONTH("1/"&D$3))*('DETAILS ACHATS'!$I$2:$I$358)) -> 1649914 | E13: =SUMPRODUCT(('DETAILS ACHATS'!$B$2:$B$358=$A13)*(YEAR('DETAILS ACHATS'!$A$2:$A$358)=$A$1)*(MONTH('DETAILS ACHATS'!$A$2:$A$358)=MONTH("1/"&E$3))*('DETAILS ACHATS'!$I$2:$I$358)) -> 302379 | F13: =SUMPRODUCT(('DETAILS ACHATS'!$B$2:$B$358=$A13)*(YEAR('DETAILS ACHATS'!$A$2:$A$358)=$A$1)*(MONTH('DETAILS ACHATS'!$A$2:$A$358)=MONTH("1/"&F$3))*('DETAILS ACHATS'!$I$2:$I$358)) -> 378160.58 | G13: =SUMPRODUCT(('DETAILS ACHATS'!$B$2:$B$358=$A13)*(YEAR('DETAILS ACHATS'!$A$2:$A$358)=$A$1)*(MONTH('DETAILS ACHATS'!$A$2:$A$358)=MONTH("1/"&G$3))*('DETAILS ACHATS'!$I$2:$I$358)) -> 1559376 | H13: =SUMPRODUCT(('DETAILS ACHATS'!$B$2:$B$358=$A13)*(YEAR('DETAILS ACHATS'!$A$2:$A$358)=$A$1)*(MONTH('DETAILS ACHATS'!$A$2:$A$358)=MONTH("1/"&H$3))*('DETAILS ACHATS'!$I$2:$I$358)) -> 0 | I13: =SUMPRODUCT(('DETAILS ACHATS'!$B$2:$B$358=$A13)*(YEAR('DETAILS ACHATS'!$A$2:$A$358)=$A$1)*(MONTH('DETAILS ACHATS'!$A$2:$A$358)=MONTH("1/"&I$3))*('DETAILS ACHATS'!$I$2:$I$358)) -> 0 | ... M13: =SUMPRODUCT(('DETAILS ACHATS'!$B$2:$B$358=$A13)*(YEAR('DETAILS ACHATS'!$A$2:$A$358)=$A$1)*(MONTH('DETAILS ACHATS'!$A$2:$A$358)=MONTH("1/"&M$3))*('DETAILS ACHATS'!$I$2:$I$358)) -> 0
A14: PR PROD | B14: =SUMPRODUCT(('DETAILS ACHATS'!$B$2:$B$358=$A14)*(YEAR('DETAILS ACHATS'!$A$2:$A$358)=$A$1)*(MONTH('DETAILS ACHATS'!$A$2:$A$358)=MONTH("1/"&B$3))*('DETAILS ACHATS'!$I$2:$I$358)) -> 95200 | C14: =SUMPRODUCT(('DETAILS ACHATS'!$B$2:$B$358=$A14)*(YEAR('DETAILS ACHATS'!$A$2:$A$358)=$A$1)*(MONTH('DETAILS ACHATS'!$A$2:$A$358)=MONTH("1/"&C$3))*('DETAILS ACHATS'!$I$2:$I$358)) -> 0 | D14: =SUMPRODUCT(('DETAILS ACHATS'!$B$2:$B$358=$A14)*(YEAR('DETAILS ACHATS'!$A$2:$A$358)=$A$1)*(MONTH('DETAILS ACHATS'!$A$2:$A$358)=MONTH("1/"&D$3))*('DETAILS ACHATS'!$I$2:$I$358)) -> 0 | E14: =SUMPRODUCT(('DETAILS ACHATS'!$B$2:$B$358=$A14)*(YEAR('DETAILS ACHATS'!$A$2:$A$358)=$A$1)*(MONTH('DETAILS ACHATS'!$A$2:$A$358)=MONTH("1/"&E$3))*('DETAILS ACHATS'!$I$2:$I$358)) -> 0 | F14: =SUMPRODUCT(('DETAILS ACHATS'!$B$2:$B$358=$A14)*(YEAR('DETAILS ACHATS'!$A$2:$A$358)=$A$1)*(MONTH('DETAILS ACHATS'!$A$2:$A$358)=MONTH("1/"&F$3))*('DETAILS ACHATS'!$I$2:$I$358)) -> 0 | G14: =SUMPRODUCT(('DETAILS ACHATS'!$B$2:$B$358=$A14)*(YEAR('DETAILS ACHATS'!$A$2:$A$358)=$A$1)*(MONTH('DETAILS ACHATS'!$A$2:$A$358)=MONTH("1/"&G$3))*('DETAILS ACHATS'!$I$2:$I$358)) -> 0 | H14: =SUMPRODUCT(('DETAILS ACHATS'!$B$2:$B$358=$A14)*(YEAR('DETAILS ACHATS'!$A$2:$A$358)=$A$1)*(MONTH('DETAILS ACHATS'!$A$2:$A$358)=MONTH("1/"&H$3))*('DETAILS ACHATS'!$I$2:$I$358)) -> 0 | I14: =SUMPRODUCT(('DETAILS ACHATS'!$B$2:$B$358=$A14)*(YEAR('DETAILS ACHATS'!$A$2:$A$358)=$A$1)*(MONTH('DETAILS ACHATS'!$A$2:$A$358)=MONTH("1/"&I$3))*('DETAILS ACHATS'!$I$2:$I$358)) -> 0 | ... M14: =SUMPRODUCT(('DETAILS ACHATS'!$B$2:$B$358=$A14)*(YEAR('DETAILS ACHATS'!$A$2:$A$358)=$A$1)*(MONTH('DETAILS ACHATS'!$A$2:$A$358)=MONTH("1/"&M$3))*('DETAILS ACHATS'!$I$2:$I$358)) -> 0
A15: SERVICE | B15: =SUMPRODUCT(('DETAILS ACHATS'!$B$2:$B$358=$A15)*(YEAR('DETAILS ACHATS'!$A$2:$A$358)=$A$1)*(MONTH('DETAILS ACHATS'!$A$2:$A$358)=MONTH("1/"&B$3))*('DETAILS ACHATS'!$I$2:$I$358)) -> 0 | C15: =SUMPRODUCT(('DETAILS ACHATS'!$B$2:$B$358=$A15)*(YEAR('DETAILS ACHATS'!$A$2:$A$358)=$A$1)*(MONTH('DETAILS ACHATS'!$A$2:$A$358)=MONTH("1/"&C$3))*('DETAILS ACHATS'!$I$2:$I$358)) -> 0 | D15: =SUMPRODUCT(('DETAILS ACHATS'!$B$2:$B$358=$A15)*(YEAR('DETAILS ACHATS'!$A$2:$A$358)=$A$1)*(MONTH('DETAILS ACHATS'!$A$2:$A$358)=MONTH("1/"&D$3))*('DETAILS ACHATS'!$I$2:$I$358)) -> 22779.896 | E15: =SUMPRODUCT(('DETAILS ACHATS'!$B$2:$B$358=$A15)*(YEAR('DETAILS ACHATS'!$A$2:$A$358)=$A$1)*(MONTH('DETAILS ACHATS'!$A$2:$A$358)=MONTH("1/"&E$3))*('DETAILS ACHATS'!$I$2:$I$358)) -> 0 | F15: =SUMPRODUCT(('DETAILS ACHATS'!$B$2:$B$358=$A15)*(YEAR('DETAILS ACHATS'!$A$2:$A$358)=$A$1)*(MONTH('DETAILS ACHATS'!$A$2:$A$358)=MONTH("1/"&F$3))*('DETAILS ACHATS'!$I$2:$I$358)) -> 0 | G15: =SUMPRODUCT(('DETAILS ACHATS'!$B$2:$B$358=$A15)*(YEAR('DETAILS ACHATS'!$A$2:$A$358)=$A$1)*(MONTH('DETAILS ACHATS'!$A$2:$A$358)=MONTH("1/"&G$3))*('DETAILS ACHATS'!$I$2:$I$358)) -> 0 | H15: =SUMPRODUCT(('DETAILS ACHATS'!$B$2:$B$358=$A15)*(YEAR('DETAILS ACHATS'!$A$2:$A$358)=$A$1)*(MONTH('DETAILS ACHATS'!$A$2:$A$358)=MONTH("1/"&H$3))*('DETAILS ACHATS'!$I$2:$I$358)) -> 0 | I15: =SUMPRODUCT(('DETAILS ACHATS'!$B$2:$B$358=$A15)*(YEAR('DETAILS ACHATS'!$A$2:$A$358)=$A$1)*(MONTH('DETAILS ACHATS'!$A$2:$A$358)=MONTH("1/"&I$3))*('DETAILS ACHATS'!$I$2:$I$358)) -> 0 | ... M15: =SUMPRODUCT(('DETAILS ACHATS'!$B$2:$B$358=$A15)*(YEAR('DETAILS ACHATS'!$A$2:$A$358)=$A$1)*(MONTH('DETAILS ACHATS'!$A$2:$A$358)=MONTH("1/"&M$3))*('DETAILS ACHATS'!$I$2:$I$358)) -> 0
A16: VERRERIE | B16: =SUMPRODUCT(('DETAILS ACHATS'!$B$2:$B$358=$A16)*(YEAR('DETAILS ACHATS'!$A$2:$A$358)=$A$1)*(MONTH('DETAILS ACHATS'!$A$2:$A$358)=MONTH("1/"&B$3))*('DETAILS ACHATS'!$I$2:$I$358)) -> 823593.29 | C16: =SUMPRODUCT(('DETAILS ACHATS'!$B$2:$B$358=$A16)*(YEAR('DETAILS ACHATS'!$A$2:$A$358)=$A$1)*(MONTH('DETAILS ACHATS'!$A$2:$A$358)=MONTH("1/"&C$3))*('DETAILS ACHATS'!$I$2:$I$358)) -> 0 | D16: =SUMPRODUCT(('DETAILS ACHATS'!$B$2:$B$358=$A16)*(YEAR('DETAILS ACHATS'!$A$2:$A$358)=$A$1)*(MONTH('DETAILS ACHATS'!$A$2:$A$358)=MONTH("1/"&D$3))*('DETAILS ACHATS'!$I$2:$I$358)) -> 101156.47 | E16: =SUMPRODUCT(('DETAILS ACHATS'!$B$2:$B$358=$A16)*(YEAR('DETAILS ACHATS'!$A$2:$A$358)=$A$1)*(MONTH('DETAILS ACHATS'!$A$2:$A$358)=MONTH("1/"&E$3))*('DETAILS ACHATS'!$I$2:$I$358)) -> 0 | F16: =SUMPRODUCT(('DETAILS ACHATS'!$B$2:$B$358=$A16)*(YEAR('DETAILS ACHATS'!$A$2:$A$358)=$A$1)*(MONTH('DETAILS ACHATS'!$A$2:$A$358)=MONTH("1/"&F$3))*('DETAILS ACHATS'!$I$2:$I$358)) -> 80325 | G16: =SUMPRODUCT(('DETAILS ACHATS'!$B$2:$B$358=$A16)*(YEAR('DETAILS ACHATS'!$A$2:$A$358)=$A$1)*(MONTH('DETAILS ACHATS'!$A$2:$A$358)=MONTH("1/"&G$3))*('DETAILS ACHATS'!$I$2:$I$358)) -> 0 | H16: =SUMPRODUCT(('DETAILS ACHATS'!$B$2:$B$358=$A16)*(YEAR('DETAILS ACHATS'!$A$2:$A$358)=$A$1)*(MONTH('DETAILS ACHATS'!$A$2:$A$358)=MONTH("1/"&H$3))*('DETAILS ACHATS'!$I$2:$I$358)) -> 0 | I16: =SUMPRODUCT(('DETAILS ACHATS'!$B$2:$B$358=$A16)*(YEAR('DETAILS ACHATS'!$A$2:$A$358)=$A$1)*(MONTH('DETAILS ACHATS'!$A$2:$A$358)=MONTH("1/"&I$3))*('DETAILS ACHATS'!$I$2:$I$358)) -> 0 | ... M16: =SUMPRODUCT(('DETAILS ACHATS'!$B$2:$B$358=$A16)*(YEAR('DETAILS ACHATS'!$A$2:$A$358)=$A$1)*(MONTH('DETAILS ACHATS'!$A$2:$A$358)=MONTH("1/"&M$3))*('DETAILS ACHATS'!$I$2:$I$358)) -> 0
