Workbook

Sheet DETAILS ACHATS
A1: DATE FACTURE | B1: CATEGORIE ARTICLE | C1: QUANTITES LIVREES | D1: QUANTITES CMDEES | E1: DESTINATION | F1: PRIX UNIT. HT | G1: MONT TOT HT | H1: MONT TVA | I1: MONT TTC
A2: 43179 | B2: SERVICE | C2: 1 | D2: 1 | E2: ACHATS | F2: 19142.77 | G2: ='DETAILS ACHATS'!$C2*'DETAILS ACHATS'!$F2 -> 19142.77 | H2: ='DETAILS ACHATS'!$G2*19% -> 3637.1263 | I2: ='DETAILS ACHATS'!$G2+'DETAILS ACHATS'!$H2 -> 22779.896
A3: 43151 | B3: COMMUNICATION | C3: 500 | D3: 500 | E3: COMMUNICATION | F3: 0.16 | G3: ='DETAILS ACHATS'!$C3*'DETAILS ACHATS'!$F3 -> 80 | H3: ='DETAILS ACHATS'!$G3*19% -> 15.2 | I3: ='DETAILS ACHATS'!$G3+'DETAILS ACHATS'!$H3 -> 95.2
A4: 43151 | B4: COMMUNICATION | C4: 7500 | D4: 7500 | E4: COMMUNICATION | F4: 0.13 | G4: ='DETAILS ACHATS'!$C4*'DETAILS ACHATS'!$F4 -> 975 | H4: ='DETAILS ACHATS'!$G4*19% -> 185.25 | I4: ='DETAILS ACHATS'!$G4+'DETAILS ACHATS'!$H4 -> 1160.25
A5: 43172 | B5: AC | C5: 1 | D5: 1 | E5: COMPTA | F5: 3900 | G5: ='DETAILS ACHATS'!$C5*'DETAILS ACHATS'!$F5 -> 3900 | H5: ='DETAILS ACHATS'!$G5*19% -> 741 | I5: ='DETAILS ACHATS'!$G5+'DETAILS ACHATS'!$H5 -> 4641
A6: 43110 | B6: COMPTA | C6: 1 | D6: 1 | E6: COMPTA | F6: 3710 | G6: ='DETAILS ACHATS'!$C6*'DETAILS ACHATS'!$F6 -> 3710 | H6: ='DETAILS ACHATS'!$G6*19% -> 704.9 | I6: ='DETAILS ACHATS'!$G6+'DETAILS ACHATS'!$H6 -> 4414.9
A7: 43110 | B7: COMPTA | C7: 1 | D7: 1 | E7: COMPTA | F7: 510 | G7: ='DETAILS ACHATS'!$C7*'DETAILS ACHATS'!$F7 -> 510 | H7: ='DETAILS ACHATS'!$G7*19% -> 96.9 | I7: ='DETAILS ACHATS'!$G7+'DETAILS ACHATS'!$H7 -> 606.9
A8: 43122 | B8: COMPTA | C8: 1 | D8: 1 | E8: COMPTA | F8: 2000 | G8: ='DETAILS ACHATS'!$C8*'DETAILS ACHATS'!$F8 -> 2000 | H8: ='DETAILS ACHATS'!$G8*19% -> 380 | I8: ='DETAILS ACHATS'!$G8+'DETAILS ACHATS'!$H8 -> 2380
A9: 43151 | B9: COMPTA | C9: 1 | D9: 1 | E9: COMPTA | F9: 620 | G9: ='DETAILS ACHATS'!$C9*'DETAILS ACHATS'!$F9 -> 620 | H9: ='DETAILS ACHATS'!$G9*19% -> 117.8 | I9: ='DETAILS ACHATS'!$G9+'DETAILS ACHATS'!$H9 -> 737.8
A10: 43123 | B10: COMPTA | C10: 1 | D10: 1 | E10: COMPTA | F10: 1920 | G10: ='DETAILS ACHATS'!$C10*'DETAILS ACHATS'!$F10 -> 1920 | H10: ='DETAILS ACHATS'!$G10*19% -> 364.8 | I10: ='DETAILS ACHATS'!$G10+'DETAILS ACHATS'!$H10 -> 2284.8
A11: 43124 | B11: COMPTA | C11: 1 | D11: 1 | E11: COMPTA | F11: 1440 | G11: ='DETAILS ACHATS'!$C11*'DETAILS ACHATS'!$F11 -> 1440 | H11: ='DETAILS ACHATS'!$G11*19% -> 273.6 | I11: ='DETAILS ACHATS'!$G11+'DETAILS ACHATS'!$H11 -> 1713.6
A12: 43146 | B12: COMPTA | C12: 1 | D12: 1 | E12: COMPTA | F12: 4900 | G12: ='DETAILS ACHATS'!$C12*'DETAILS ACHATS'!$F12 -> 4900 | H12: ='DETAILS ACHATS'!$G12*19% -> 931 | I12: ='DETAILS ACHATS'!$G12+'DETAILS ACHATS'!$H12 -> 5831
A13: 43168 | B13: COMPTA | C13: 1 | D13: 1 | E13: COMPTA | F13: 2100 | G13: ='DETAILS ACHATS'!$C13*'DETAILS ACHATS'!$F13 -> 2100 | H13: ='DETAILS ACHATS'!$G13*19% -> 399 | I13: ='DETAILS ACHATS'!$G13+'DETAILS ACHATS'!$H13 -> 2499
... A35: 43102 | B35: CS LABO | C35: 4 | D35: 4 | E35: LABO LCQ | F35: 530 | G35: ='DETAILS ACHATS'!$C35*'DETAILS ACHATS'!$F35 -> 2120 | H35: ='DETAILS ACHATS'!$G35*19% -> 402.8 | I35: ='DETAILS ACHATS'!$G35+'DETAILS ACHATS'!$H35 -> 2522.8
A36: 43102 | B36: CS LABO | C36: 8 | D36: 8 | E36: LABO LCQ | G36: ='DETAILS ACHATS'!$C36*'DETAILS ACHATS'!$F36 -> 0 | H36: ='DETAILS ACHATS'!$G36*19% -> 0 | I36: ='DETAILS ACHATS'!$G36+'DETAILS ACHATS'!$H36 -> 0
A37: 43135 | B37: CS LABO | C37: 1 | D37: 1 | E37: LABO LCQ | F37: 3810 | G37: ='DETAILS ACHATS'!$C37*'DETAILS ACHATS'!$F37 -> 3810 | H37: ='DETAILS ACHATS'!$G37*19% -> 723.9 | I37: ='DETAILS ACHATS'!$G37+'DETAILS ACHATS'!$H37 -> 4533.9
A38: 43144 | B38: CS LABO | C38: 4 | D38: 4 | E38: LABO LCQ | G38: ='DETAILS ACHATS'!$C38*'DETAILS ACHATS'!$F38 -> 0 | H38: ='DETAILS ACHATS'!$G38*19% -> 0 | I38: ='DETAILS ACHATS'!$G38+'DETAILS ACHATS'!$H38 -> 0
A39: 43153 | B39: CS LABO | C39: 2 | D39: 2 | E39: LABO LCQ | F39: 4550 | G39: ='DETAILS ACHATS'!$C39*'DETAILS ACHATS'!$F39 -> 9100 | H39: ='DETAILS ACHATS'!$G39*19% -> 1729 | I39: ='DETAILS ACHATS'!$G39+'DETAILS ACHATS'!$H39 -> 10829
A40: 43153 | B40: CS LABO | C40: 54 | D40: 54 | E40: LABO LCQ | F40: 1450 | G40: ='DETAILS ACHATS'!$C40*'DETAILS ACHATS'!$F40 -> 78300 | H40: ='DETAILS ACHATS'!$G40*19% -> 14877 | I40: ='DETAILS ACHATS'!$G40+'DETAILS ACHATS'!$H40 -> 93177
A41: 43153 | B41: CS LABO | C41: 50 | D41: 50 | E41: LABO LCQ | F41: 2290 | G41: ='DETAILS ACHATS'!$C41*'DETAILS ACHATS'!$F41 -> 114500 | H41: ='DETAILS ACHATS'!$G41*19% -> 21755 | I41: ='DETAILS ACHATS'!$G41+'DETAILS ACHATS'!$H41 -> 136255
A42: 43153 | B42: CS LABO | C42: 1 | D42: 1 | E42: LABO LCQ | F42: 1954 | G42: ='DETAILS ACHATS'!$C42*'DETAILS ACHATS'!$F42 -> 1954 | H42: ='DETAILS ACHATS'!$G42*19% -> 371.26 | I42: ='DETAILS ACHATS'!$G42+'DETAILS ACHATS'!$H42 -> 2325.26
A43: 43153 | B43: CS LABO | C43: 1 | D43: 1 | E43: LABO LCQ | F43: 2400 | G43: ='DETAILS ACHATS'!$C43*'DETAILS ACHATS'!$F43 -> 2400 | H43: ='DETAILS ACHATS'!$G43*19% -> 456 | I43: ='DETAILS ACHATS'!$G43+'DETAILS ACHATS'!$H43 -> 2856
A44: 43168 | B44: CS LABO | C44: 4 | D44: 4 | E44: LABO LCQ | F44: 2320 | G44: ='DETAILS ACHATS'!$C44*'DETAILS ACHATS'!$F44 -> 9280 | H44: ='DETAILS ACHATS'!$G44*19% -> 1763.2 | I44: ='DETAILS ACHATS'!$G44+'DETAILS ACHATS'!$H44 -> 11043.2
A45: 43168 | B45: CS LABO | C45: 2 | D45: 2 | E45: LABO LCQ | F45: 2710 | G45: ='DETAILS ACHATS'!$C45*'DETAILS ACHATS'!$F45 -> 5420 | H45: ='DETAILS ACHATS'!$G45*19% -> 1029.8 | I45: ='DETAILS ACHATS'!$G45+'DETAILS ACHATS'!$H45 -> 6449.8
A46: 43168 | B46: CS LABO | C46: 1 | D46: 1 | E46: LABO LCQ | F46: 3150 | G46: ='DETAILS ACHATS'!$C46*'DETAILS ACHATS'!$F46 -> 3150 | H46: ='DETAILS ACHATS'!$G46*19% -> 598.5 | I46: ='DETAILS ACHATS'!$G46+'DETAILS ACHATS'!$H46 -> 3748.5
A47: 43168 | B47: CS LABO | C47: 8 | D47: 8 | E47: LABO LCQ | F47: 1450 | G47: ='DETAILS ACHATS'!$C47*'DETAILS ACHATS'!$F47 -> 11600 | H47: ='DETAILS ACHATS'!$G47*19% -> 2204 | I47: ='DETAILS ACHATS'!$G47+'DETAILS ACHATS'!$H47 -> 13804
A48: 43173 | B48: CS LABO | C48: 1 | D48: 1 | E48: LABO LCQ | F48: 2710 | G48: ='DETAILS ACHATS'!$C48*'DETAILS ACHATS'!$F48 -> 2710 | H48: ='DETAILS ACHATS'!$G48*19% -> 514.9 | I48: ='DETAILS ACHATS'!$G48+'DETAILS ACHATS'!$H48 -> 3224.9
A49: 43173 | B49: CS LABO | C49: 1 | D49: 1 | E49: LABO LCQ | F49: 3070 | G49: ='DETAILS ACHATS'!$C49*'DETAILS ACHATS'!$F49 -> 3070 | H49: ='DETAILS ACHATS'!$G49*19% -> 583.3 | I49: ='DETAILS ACHATS'!$G49+'DETAILS ACHATS'!$H49 -> 3653.3
A50: 43190 | B50: CS LABO | C50: 3 | D50: 3 | E50: LABO LCQ | F50: 8240 | G50: ='DETAILS ACHATS'!$C50*'DETAILS ACHATS'!$F50 -> 24720 | H50: ='DETAILS ACHATS'!$G50*19% -> 4696.8 | I50: ='DETAILS ACHATS'!$G50+'DETAILS ACHATS'!$H50 -> 29416.8
... A282: 43166 | B282: AC | C282: 314.53 | D282: 314.53 | E282: PRODUCTION | F282: 8.34 | G282: ='DETAILS ACHATS'!$C282*'DETAILS ACHATS'!$F282 -> 2623.1802 | H282: ='DETAILS ACHATS'!$G282*19% -> 498.40424 | I282: ='DETAILS ACHATS'!$G282+'DETAILS ACHATS'!$H282 -> 3121.5844
A283: 43168 | B283: AC | C283: 475250 | D283: 475250 | E283: PRODUCTION | F283: =21.48/1000 -> 0.02148 | G283: ='DETAILS ACHATS'!$C283*'DETAILS ACHATS'!$F283 -> 10208.37 | H283: ='DETAILS ACHATS'!$G283*19% -> 1939.5903 | I283: ='DETAILS ACHATS'!$G283+'DETAILS ACHATS'!$H283 -> 12147.96
A284: 43172 | B284: AC | C284: 14973.44 | D284: 14973.44 | E284: PRODUCTION | F284: 2.8 | G284: ='DETAILS ACHATS'!$C284*'DETAILS ACHATS'!$F284 -> 41925.632 | H284: ='DETAILS ACHATS'!$G284*19% -> 7965.8701 | I284: ='DETAILS ACHATS'!$G284+'DETAILS ACHATS'!$H284 -> 49891.502
A285: 43103 | B285: AC | C285: 355000 | D285: 355000 | E285: PRODUCTION | F285: 0.6 | G285: ='DETAILS ACHATS'!$C285*'DETAILS ACHATS'!$F285 -> 213000 | H285: ='DETAILS ACHATS'!$G285*19% -> 40470 | I285: ='DETAILS ACHATS'!$G285+'DETAILS ACHATS'!$H285 -> 253470
A286: 43103 | B286: AC | C286: 50000 | D286: 50000 | E286: PRODUCTION | F286: 0.6 | G286: ='DETAILS ACHATS'!$C286*'DETAILS ACHATS'!$F286 -> 30000 | H286: ='DETAILS ACHATS'!$G286*19% -> 5700 | I286: ='DETAILS ACHATS'!$G286+'DETAILS ACHATS'!$H286 -> 35700
A287: 43103 | B287: AC | C287: 309000 | D287: 309000 | E287: PRODUCTION | F287: 0.6 | G287: ='DETAILS ACHATS'!$C287*'DETAILS ACHATS'!$F287 -> 185400 | H287: ='DETAILS ACHATS'!$G287*19% -> 35226 | I287: ='DETAILS ACHATS'!$G287+'DETAILS ACHATS'!$H287 -> 220626
A288: 43103 | B288: AC | C288: 100000 | D288: 100000 | E288: PRODUCTION | F288: 0.6 | G288: ='DETAILS ACHATS'!$C288*'DETAILS ACHATS'!$F288 -> 60000 | H288: ='DETAILS ACHATS'!$G288*19% -> 11400 | I288: ='DETAILS ACHATS'!$G288+'DETAILS ACHATS'!$H288 -> 71400
A289: 43128 | B289: AC | C289: 50000 | D289: 50000 | E289: PRODUCTION | F289: 0.6 | G289: ='DETAILS ACHATS'!$C289*'DETAILS ACHATS'!$F289 -> 30000 | H289: ='DETAILS ACHATS'!$G289*19% -> 5700 | I289: ='DETAILS ACHATS'!$G289+'DETAILS ACHATS'!$H289 -> 35700
A290: 43128 | B290: AC | C290: 185600 | D290: 185600 | E290: PRODUCTION | F290: 0.6 | G290: ='DETAILS ACHATS'!$C290*'DETAILS ACHATS'!$F290 -> 111360 | H290: ='DETAILS ACHATS'!$G290*19% -> 21158.4 | I290: ='DETAILS ACHATS'!$G290+'DETAILS ACHATS'!$H290 -> 132518.4
A291: 43128 | B291: AC | C291: 116000 | D291: 116000 | E291: PRODUCTION | F291: 0.6 | G291: ='DETAILS ACHATS'!$C291*'DETAILS ACHATS'!$F291 -> 69600 | H291: ='DETAILS ACHATS'!$G291*19% -> 13224 | I291: ='DETAILS ACHATS'!$G291+'DETAILS ACHATS'!$H291 -> 82824
A292: 43131 | B292: AC | C292: 252400 | D292: 252400 | E292: PRODUCTION | F292: 0.6 | G292: ='DETAILS ACHATS'!$C292*'DETAILS ACHATS'!$F292 -> 151440 | H292: ='DETAILS ACHATS'!$G292*19% -> 28773.6 | I292: ='DETAILS ACHATS'!$G292+'DETAILS ACHATS'!$H292 -> 180213.6
...

Sheet RECAPE MENS DESTINATION
A1: 2018
B3: JANVIER | C3: FÉVRIER | D3: MARS | E3: AVRIL | F3: MAI | G3: JUIN | H3: JUILLET | I3: AOÛT | J3: SEPTEMBRE | K3: OCTOBRE | L3: NOVEMBRE | M3: DÉCEMBRE
A4: ACHATS | B4: =SUMPRODUCT(('DETAILS ACHATS'!$E$2:$E$358=$A4)*(YEAR('DETAILS ACHATS'!$A$2:$A$358)=$A$1)*(MONTH('DETAILS ACHATS'!$A$2:$A$358)=MONTH("1/"&B$3))*('DETAILS ACHATS'!$I$2:$I$358)) -> 0 | C4: =SUMPRODUCT(('DETAILS ACHATS'!$E$2:$E$358=$A4)*(YEAR('DETAILS ACHATS'!$A$2:$A$358)=$A$1)*(MONTH('DETAILS ACHATS'!$A$2:$A$358)=MONTH("1/"&C$3))*('DETAILS ACHATS'!$I$2:$I$358)) -> 0 | D4: =SUMPRODUCT(('DETAILS ACHATS'!$E$2:$E$358=$A4)*(YEAR('DETAILS ACHATS'!$A$2:$A$358)=$A$1)*(MONTH('DETAILS ACHATS'!$A$2:$A$358)=MONTH("1/"&D$3))*('DETAILS ACHATS'!$I$2:$I$358)) -> 22779.896 | E4: =SUMPRODUCT(('DETAILS ACHATS'!$E$2:$E$358=$A4)*(YEAR('DETAILS ACHATS'!$A$2:$A$358)=$A$1)*(MONTH('DETAILS ACHATS'!$A$2:$A$358)=MONTH("1/"&E$3))*('DETAILS ACHATS'!$I$2:$I$358)) -> 0 | F4: =SUMPRODUCT(('DETAILS ACHATS'!$E$2:$E$358=$A4)*(YEAR('DETAILS ACHATS'!$A$2:$A$358)=$A$1)*(MONTH('DETAILS ACHATS'!$A$2:$A$358)=MONTH("1/"&F$3))*('DETAILS ACHATS'!$I$2:$I$358)) -> 0 | G4: =SUMPRODUCT(('DETAILS ACHATS'!$E$2:$E$358=$A4)*(YEAR('DETAILS ACHATS'!$A$2:$A$358)=$A$1)*(MONTH('DETAILS ACHATS'!$A$2:$A$358)=MONTH("1/"&G$3))*('DETAILS ACHATS'!$I$2:$I$358)) -> 0 | H4: =SUMPRODUCT(('DETAILS ACHATS'!$E$2:$E$358=$A4)*(YEAR('DETAILS ACHATS'!$A$2:$A$358)=$A$1)*(MONTH('DETAILS ACHATS'!$A$2:$A$358)=MONTH("1/"&H$3))*('DETAILS ACHATS'!$I$2:$I$358)) -> 0 | I4: =SUMPRODUCT(('DETAILS ACHATS'!$E$2:$E$358=$A4)*(YEAR('DETAILS ACHATS'!$A$2:$A$358)=$A$1)*(MONTH('DETAILS ACHATS'!$A$2:$A$358)=MONTH("1/"&I$3))*('DETAILS ACHATS'!$I$2:$I$358)) -> 0 | ... M4: =SUMPRODUCT(('DETAILS ACHATS'!$E$2:$E$358=$A4)*(YEAR('DETAILS ACHATS'!$A$2:$A$358)=$A$1)*(MONTH('DETAILS ACHATS'!$A$2:$A$358)=MONTH("1/"&M$3))*('DETAILS ACHATS'!$I$2:$I$358)) -> 0
A5: COMMUNICATION | B5: =SUMPRODUCT(('DETAILS ACHATS'!$E$2:$E$358=$A5)*(YEAR('DETAILS ACHATS'!$A$2:$A$358)=$A$1)*(MONTH('DETAILS ACHATS'!$A$2:$A$358)=MONTH("1/"&B$3))*('DETAILS ACHATS'!$I$2:$I$358)) -> 0 | C5: =SUMPRODUCT(('DETAILS ACHATS'!$E$2:$E$358=$A5)*(YEAR('DETAILS ACHATS'!$A$2:$A$358)=$A$1)*(MONTH('DETAILS ACHATS'!$A$2:$A$358)=MONTH("1/"&C$3))*('DETAILS ACHATS'!$I$2:$I$358)) -> 1255.45 | D5: =SUMPRODUCT(('DETAILS ACHATS'!$E$2:$E$358=$A5)*(YEAR('DETAILS ACHATS'!$A$2:$A$358)=$A$1)*(MONTH('DETAILS ACHATS'!$A$2:$A$358)=MONTH("1/"&D$3))*('DETAILS ACHATS'!$I$2:$I$358)) -> 0 | E5: =SUMPRODUCT(('DETAILS ACHATS'!$E$2:$E$358=$A5)*(YEAR('DETAILS ACHATS'!$A$2:$A$358)=$A$1)*(MONTH('DETAILS ACHATS'!$A$2:$A$358)=MONTH("1/"&E$3))*('DETAILS ACHATS'!$I$2:$I$358)) -> 0 | F5: =SUMPRODUCT(('DETAILS ACHATS'!$E$2:$E$358=$A5)*(YEAR('DETAILS ACHATS'!$A$2:$A$358)=$A$1)*(MONTH('DETAILS ACHATS'!$A$2:$A$358)=MONTH("1/"&F$3))*('DETAILS ACHATS'!$I$2:$I$358)) -> 0 | G5: =SUMPRODUCT(('DETAILS ACHATS'!$E$2:$E$358=$A5)*(YEAR('DETAILS ACHATS'!$A$2:$A$358)=$A$1)*(MONTH('DETAILS ACHATS'!$A$2:$A$358)=MONTH("1/"&G$3))*('DETAILS ACHATS'!$I$2:$I$358)) -> 0 | H5: =SUMPRODUCT(('DETAILS ACHATS'!$E$2:$E$358=$A5)*(YEAR('DETAILS ACHATS'!$A$2:$A$358)=$A$1)*(MONTH('DETAILS ACHATS'!$A$2:$A$358)=MONTH("1/"&H$3))*('DETAILS ACHATS'!$I$2:$I$358)) -> 0 | I5: =SUMPRODUCT(('DETAILS ACHATS'!$E$2:$E$358=$A5)*(YEAR('DETAILS ACHATS'!$A$2:$A$358)=$A$1)*(MONTH('DETAILS ACHATS'!$A$2:$A$358)=MONTH("1/"&I$3))*('DETAILS ACHATS'!$I$2:$I$358)) -> 0 | ... M5: =SUMPRODUCT(('DETAILS ACHATS'!$E$2:$E$358=$A5)*(YEAR('DETAILS ACHATS'!$A$2:$A$358)=$A$1)*(MONTH('DETAILS ACHATS'!$A$2:$A$358)=MONTH("1/"&M$3))*('DETAILS ACHATS'!$I$2:$I$358)) -> 0
A6: COMPTA | B6: =SUMPRODUCT(('DETAILS ACHATS'!$E$2:$E$358=$A6)*(YEAR('DETAILS ACHATS'!$A$2:$A$358)=$A$1)*(MONTH('DETAILS ACHATS'!$A$2:$A$358)=MONTH("1/"&B$3))*('DETAILS ACHATS'!$I$2:$I$358)) -> 13685 | C6: =SUMPRODUCT(('DETAILS ACHATS'!$E$2:$E$358=$A6)*(YEAR('DETAILS ACHATS'!$A$2:$A$358)=$A$1)*(MONTH('DETAILS ACHATS'!$A$2:$A$358)=MONTH("1/"&C$3))*('DETAILS ACHATS'!$I$2:$I$358)) -> 17606.069 | D6: =SUMPRODUCT(('DETAILS ACHATS'!$E$2:$E$358=$A6)*(YEAR('DETAILS ACHATS'!$A$2:$A$358)=$A$1)*(MONTH('DETAILS ACHATS'!$A$2:$A$358)=MONTH("1/"&D$3))*('DETAILS ACHATS'!$I$2:$I$358)) -> 7961.1 | E6: =SUMPRODUCT(('DETAILS ACHATS'!$E$2:$E$358=$A6)*(YEAR('DETAILS ACHATS'!$A$2:$A$358)=$A$1)*(MONTH('DETAILS ACHATS'!$A$2:$A$358)=MONTH("1/"&E$3))*('DETAILS ACHATS'!$I$2:$I$358)) -> 2903.6 | F6: =SUMPRODUCT(('DETAILS ACHATS'!$E$2:$E$358=$A6)*(YEAR('DETAILS ACHATS'!$A$2:$A$358)=$A$1)*(MONTH('DETAILS ACHATS'!$A$2:$A$358)=MONTH("1/"&F$3))*('DETAILS ACHATS'!$I$2:$I$358)) -> 6842.5 | G6: =SUMPRODUCT(('DETAILS ACHATS'!$E$2:$E$358=$A6)*(YEAR('DETAILS ACHATS'!$A$2:$A$358)=$A$1)*(MONTH('DETAILS ACHATS'!$A$2:$A$358)=MONTH("1/"&G$3))*('DETAILS ACHATS'!$I$2:$I$358)) -> 368.9 | H6: =SUMPRODUCT(('DETAILS ACHATS'!$E$2:$E$358=$A6)*(YEAR('DETAILS ACHATS'!$A$2:$A$358)=$A$1)*(MONTH('DETAILS ACHATS'!$A$2:$A$358)=MONTH("1/"&H$3))*('DETAILS ACHATS'!$I$2:$I$358)) -> 0 | I6: =SUMPRODUCT(('DETAILS ACHATS'!$E$2:$E$358=$A6)*(YEAR('DETAILS ACHATS'!$A$2:$A$358)=$A$1)*(MONTH('DETAILS ACHATS'!$A$2:$A$358)=MONTH("1/"&I$3))*('DETAILS ACHATS'!$I$2:$I$358)) -> 0 | ... M6: =SUMPRODUCT(('DETAILS ACHATS'!$E$2:$E$358=$A6)*(YEAR('DETAILS ACHATS'!$A$2:$A$358)=$A$1)*(MONTH('DETAILS ACHATS'!$A$2:$A$358)=MONTH("1/"&M$3))*('DETAILS ACHATS'!$I$2:$I$358)) -> 0
A7: DEVELOPPEMENT | B7: =SUMPRODUCT(('DETAILS ACHATS'!$E$2:$E$358=$A7)*(YEAR('DETAILS ACHATS'!$A$2:$A$358)=$A$1)*(MONTH('DETAILS ACHATS'!$A$2:$A$358)=MONTH("1/"&B$3))*('DETAILS ACHATS'!$I$2:$I$358)) -> 0 | C7: =SUMPRODUCT(('DETAILS ACHATS'!$E$2:$E$358=$A7)*(YEAR('DETAILS ACHATS'!$A$2:$A$358)=$A$1)*(MONTH('DETAILS ACHATS'!$A$2:$A$358)=MONTH("1/"&C$3))*('DETAILS ACHATS'!$I$2:$I$358)) -> 0 | D7: =SUMPRODUCT(('DETAILS ACHATS'!$E$2:$E$358=$A7)*(YEAR('DETAILS ACHATS'!$A$2:$A$358)=$A$1)*(MONTH('DETAILS ACHATS'!$A$2:$A$358)=MONTH("1/"&D$3))*('DETAILS ACHATS'!$I$2:$I$358)) -> 0 | E7: =SUMPRODUCT(('DETAILS ACHATS'!$E$2:$E$358=$A7)*(YEAR('DETAILS ACHATS'!$A$2:$A$358)=$A$1)*(MONTH('DETAILS ACHATS'!$A$2:$A$358)=MONTH("1/"&E$3))*('DETAILS ACHATS'!$I$2:$I$358)) -> 87465 | F7: =SUMPRODUCT(('DETAILS ACHATS'!$E$2:$E$358=$A7)*(YEAR('DETAILS ACHATS'!$A$2:$A$358)=$A$1)*(MONTH('DETAILS ACHATS'!$A$2:$A$358)=MONTH("1/"&F$3))*('DETAILS ACHATS'!$I$2:$I$358)) -> 59.976 | G7: =SUMPRODUCT(('DETAILS ACHATS'!$E$2:$E$358=$A7)*(YEAR('DETAILS ACHATS'!$A$2:$A$358)=$A$1)*(MONTH('DETAILS ACHATS'!$A$2:$A$358)=MONTH("1/"&G$3))*('DETAILS ACHATS'!$I$2:$I$358)) -> 0 | H7: =SUMPRODUCT(('DETAILS ACHATS'!$E$2:$E$358=$A7)*(YEAR('DETAILS ACHATS'!$A$2:$A$358)=$A$1)*(MONTH('DETAILS ACHATS'!$A$2:$A$358)=MONTH("1/"&H$3))*('DETAILS ACHATS'!$I$2:$I$358)) -> 0 | I7: =SUMPRODUCT(('DETAILS ACHATS'!$E$2:$E$358=$A7)*(YEAR('DETAILS ACHATS'!$A$2:$A$358)=$A$1)*(MONTH('DETAILS ACHATS'!$A$2:$A$358)=MONTH("1/"&I$3))*('DETAILS ACHATS'!$I$2:$I$358)) -> 0 | ... M7: =SUMPRODUCT(('DETAILS ACHATS'!$E$2:$E$358=$A7)*(YEAR('DETAILS ACHATS'!$A$2:$A$358)=$A$1)*(MONTH('DETAILS ACHATS'!$A$2:$A$358)=MONTH("1/"&M$3))*('DETAILS ACHATS'!$I$2:$I$358)) -> 0
A8: HSE | B8: =SUMPRODUCT(('DETAILS ACHATS'!$E$2:$E$358=$A8)*(YEAR('DETAILS ACHATS'!$A$2:$A$358)=$A$1)*(MONTH('DETAILS ACHATS'!$A$2:$A$358)=MONTH("1/"&B$3))*('DETAILS ACHATS'!$I$2:$I$358)) -> 51193.8 | C8: =SUMPRODUCT(('DETAILS ACHATS'!$E$2:$E$358=$A8)*(YEAR('DETAILS ACHATS'!$A$2:$A$358)=$A$1)*(MONTH('DETAILS ACHATS'!$A$2:$A$358)=MONTH("1/"&C$3))*('DETAILS ACHATS'!$I$2:$I$358)) -> 63427 | D8: =SUMPRODUCT(('DETAILS ACHATS'!$E$2:$E$358=$A8)*(YEAR('DETAILS ACHATS'!$A$2:$A$358)=$A$1)*(MONTH('DETAILS ACHATS'!$A$2:$A$358)=MONTH("1/"&D$3))*('DETAILS ACHATS'!$I$2:$I$358)) -> 0 | E8: =SUMPRODUCT(('DETAILS ACHATS'!$E$2:$E$358=$A8)*(YEAR('DETAILS ACHATS'!$A$2:$A$358)=$A$1)*(MONTH('DETAILS ACHATS'!$A$2:$A$358)=MONTH("1/"&E$3))*('DETAILS ACHATS'!$I$2:$I$358)) -> 0 | F8: =SUMPRODUCT(('DETAILS ACHATS'!$E$2:$E$358=$A8)*(YEAR('DETAILS ACHATS'!$A$2:$A$358)=$A$1)*(MONTH('DETAILS ACHATS'!$A$2:$A$358)=MONTH("1/"&F$3))*('DETAILS ACHATS'!$I$2:$I$358)) -> 113169 | G8: =SUMPRODUCT(('DETAILS ACHATS'!$E$2:$E$358=$A8)*(YEAR('DETAILS ACHATS'!$A$2:$A$358)=$A$1)*(MONTH('DETAILS ACHATS'!$A$2:$A$358)=MONTH("1/"&G$3))*('DETAILS ACHATS'!$I$2:$I$358)) -> 0 | H8: =SUMPRODUCT(('DETAILS ACHATS'!$E$2:$E$358=$A8)*(YEAR('DETAILS ACHATS'!$A$2:$A$358)=$A$1)*(MONTH('DETAILS ACHATS'!$A$2:$A$358)=MONTH("1/"&H$3))*('DETAILS ACHATS'!$I$2:$I$358)) -> 0 | I8: =SUMPRODUCT(('DETAILS ACHATS'!$E$2:$E$358=$A8)*(YEAR('DETAILS ACHATS'!$A$2:$A$358)=$A$1)*(MONTH('DETAILS ACHATS'!$A$2:$A$358)=MONTH("1/"&I$3))*('DETAILS ACHATS'!$I$2:$I$358)) -> 0 | ... M8: =SUMPRODUCT(('DETAILS ACHATS'!$E$2:$E$358=$A8)*(YEAR('DETAILS ACHATS'!$A$2:$A$358)=$A$1)*(MONTH('DETAILS ACHATS'!$A$2:$A$358)=MONTH("1/"&M$3))*('DETAILS ACHATS'!$I$2:$I$358)) -> 0
A9: LABO LCQ | B9: =SUMPRODUCT(('DETAILS ACHATS'!$E$2:$E$358=$A9)*(YEAR('DETAILS ACHATS'!$A$2:$A$358)=$A$1)*(MONTH('DETAILS ACHATS'!$A$2:$A$358)=MONTH("1/"&B$3))*('DETAILS ACHATS'!$I$2:$I$358)) -> 826116.09 | C9: =SUMPRODUCT(('DETAILS ACHATS'!$E$2:$E$358=$A9)*(YEAR('DETAILS ACHATS'!$A$2:$A$358)=$A$1)*(MONTH('DETAILS ACHATS'!$A$2:$A$358)=MONTH("1/"&C$3))*('DETAILS ACHATS'!$I$2:$I$358)) -> 253434.23 | D9: =SUMPRODUCT(('DETAILS ACHATS'!$E$2:$E$358=$A9)*(YEAR('DETAILS ACHATS'!$A$2:$A$358)=$A$1)*(MONTH('DETAILS ACHATS'!$A$2:$A$358)=MONTH("1/"&D$3))*('DETAILS ACHATS'!$I$2:$I$358)) -> 563493.25 | E9: =SUMPRODUCT(('DETAILS ACHATS'!$E$2:$E$358=$A9)*(YEAR('DETAILS ACHATS'!$A$2:$A$358)=$A$1)*(MONTH('DETAILS ACHATS'!$A$2:$A$358)=MONTH("1/"&E$3))*('DETAILS ACHATS'!$I$2:$I$358)) -> 1060027.8 | F9: =SUMPRODUCT(('DETAILS ACHATS'!$E$2:$E$358=$A9)*(YEAR('DETAILS ACHATS'!$A$2:$A$358)=$A$1)*(MONTH('DETAILS ACHATS'!$A$2:$A$358)=MONTH("1/"&F$3))*('DETAILS ACHATS'!$I$2:$I$358)) -> 596495.03 | G9: =SUMPRODUCT(('DETAILS ACHATS'!$E$2:$E$358=$A9)*(YEAR('DETAILS ACHATS'!$A$2:$A$358)=$A$1)*(MONTH('DETAILS ACHATS'!$A$2:$A$358)=MONTH("1/"&G$3))*('DETAILS ACHATS'!$I$2:$I$358)) -> 82710.474 | H9: =SUMPRODUCT(('DETAILS ACHATS'!$E$2:$E$358=$A9)*(YEAR('DETAILS ACHATS'!$A$2:$A$358)=$A$1)*(MONTH('DETAILS ACHATS'!$A$2:$A$358)=MONTH("1/"&H$3))*('DETAILS ACHATS'!$I$2:$I$358)) -> 0 | I9: =SUMPRODUCT(('DETAILS ACHATS'!$E$2:$E$358=$A9)*(YEAR('DETAILS ACHATS'!$A$2:$A$358)=$A$1)*(MONTH('DETAILS ACHATS'!$A$2:$A$358)=MONTH("1/"&I$3))*('DETAILS ACHATS'!$I$2:$I$358)) -> 0 | ... M9: =SUMPRODUCT(('DETAILS ACHATS'!$E$2:$E$358=$A9)*(YEAR('DETAILS ACHATS'!$A$2:$A$358)=$A$1)*(MONTH('DETAILS ACHATS'!$A$2:$A$358)=MONTH("1/"&M$3))*('DETAILS ACHATS'!$I$2:$I$358)) -> 0
A10: MAINTENANCE | B10: =SUMPRODUCT(('DETAILS ACHATS'!$E$2:$E$358=$A10)*(YEAR('DETAILS ACHATS'!$A$2:$A$358)=$A$1)*(MONTH('DETAILS ACHATS'!$A$2:$A$358)=MONTH("1/"&B$3))*('DETAILS ACHATS'!$I$2:$I$358)) -> 0 | C10: =SUMPRODUCT(('DETAILS ACHATS'!$E$2:$E$358=$A10)*(YEAR('DETAILS ACHATS'!$A$2:$A$358)=$A$1)*(MONTH('DETAILS ACHATS'!$A$2:$A$358)=MONTH("1/"&C$3))*('DETAILS ACHATS'!$I$2:$I$358)) -> 0 | D10: =SUMPRODUCT(('DETAILS ACHATS'!$E$2:$E$358=$A10)*(YEAR('DETAILS ACHATS'!$A$2:$A$358)=$A$1)*(MONTH('DETAILS ACHATS'!$A$2:$A$358)=MONTH("1/"&D$3))*('DETAILS ACHATS'!$I$2:$I$358)) -> 320998.47 | E10: =SUMPRODUCT(('DETAILS ACHATS'!$E$2:$E$358=$A10)*(YEAR('DETAILS ACHATS'!$A$2:$A$358)=$A$1)*(MONTH('DETAILS ACHATS'!$A$2:$A$358)=MONTH("1/"&E$3))*('DETAILS ACHATS'!$I$2:$I$358)) -> 0 | F10: =SUMPRODUCT(('DETAILS ACHATS'!$E$2:$E$358=$A10)*(YEAR('DETAILS ACHATS'!$A$2:$A$358)=$A$1)*(MONTH('DETAILS ACHATS'!$A$2:$A$358)=MONTH("1/"&F$3))*('DETAILS ACHATS'!$I$2:$I$358)) -> 85715.855 | G10: =SUMPRODUCT(('DETAILS ACHATS'!$E$2:$E$358=$A10)*(YEAR('DETAILS ACHATS'!$A$2:$A$358)=$A$1)*(MONTH('DETAILS ACHATS'!$A$2:$A$358)=MONTH("1/"&G$3))*('DETAILS ACHATS'!$I$2:$I$358)) -> 0 | H10: =SUMPRODUCT(('DETAILS ACHATS'!$E$2:$E$358=$A10)*(YEAR('DETAILS ACHATS'!$A$2:$A$358)=$A$1)*(MONTH('DETAILS ACHATS'!$A$2:$A$358)=MONTH("1/"&H$3))*('DETAILS ACHATS'!$I$2:$I$358)) -> 0 | I10: =SUMPRODUCT(('DETAILS ACHATS'!$E$2:$E$358=$A10)*(YEAR('DETAILS ACHATS'!$A$2:$A$358)=$A$1)*(MONTH('DETAILS ACHATS'!$A$2:$A$358)=MONTH("1/"&I$3))*('DETAILS ACHATS'!$I$2:$I$358)) -> 0 | ... M10: =SUMPRODUCT(('DETAILS ACHATS'!$E$2:$E$358=$A10)*(YEAR('DETAILS ACHATS'!$A$2:$A$358)=$A$1)*(MONTH('DETAILS ACHATS'!$A$2:$A$358)=MONTH("1/"&M$3))*('DETAILS ACHATS'!$I$2:$I$358)) -> 0
A11: MOY GEN | B11: =SUMPRODUCT(('DETAILS ACHATS'!$E$2:$E$358=$A11)*(YEAR('DETAILS ACHATS'!$A$2:$A$358)=$A$1)*(MONTH('DETAILS ACHATS'!$A$2:$A$358)=MONTH("1/"&B$3))*('DETAILS ACHATS'!$I$2:$I$358)) -> 32130 | C11: =SUMPRODUCT(('DETAILS ACHATS'!$E$2:$E$358=$A11)*(YEAR('DETAILS ACHATS'!$A$2:$A$358)=$A$1)*(MONTH('DETAILS ACHATS'!$A$2:$A$358)=MONTH("1/"&C$3))*('DETAILS ACHATS'!$I$2:$I$358)) -> 0 | D11: =SUMPRODUCT(('DETAILS ACHATS'!$E$2:$E$358=$A11)*(YEAR('DETAILS ACHATS'!$A$2:$A$358)=$A$1)*(MONTH('DETAILS ACHATS'!$A$2:$A$358)=MONTH("1/"&D$3))*('DETAILS ACHATS'!$I$2:$I$358)) -> 0 | E11: =SUMPRODUCT(('DETAILS ACHATS'!$E$2:$E$358=$A11)*(YEAR('DETAILS ACHATS'!$A$2:$A$358)=$A$1)*(MONTH('DETAILS ACHATS'!$A$2:$A$358)=MONTH("1/"&E$3))*('DETAILS ACHATS'!$I$2:$I$358)) -> 0 | F11: =SUMPRODUCT(('DETAILS ACHATS'!$E$2:$E$358=$A11)*(YEAR('DETAILS ACHATS'!$A$2:$A$358)=$A$1)*(MONTH('DETAILS ACHATS'!$A$2:$A$358)=MONTH("1/"&F$3))*('DETAILS ACHATS'!$I$2:$I$358)) -> 0 | G11: =SUMPRODUCT(('DETAILS ACHATS'!$E$2:$E$358=$A11)*(YEAR('DETAILS ACHATS'!$A$2:$A$358)=$A$1)*(MONTH('DETAILS ACHATS'!$A$2:$A$358)=MONTH("1/"&G$3))*('DETAILS ACHATS'!$I$2:$I$358)) -> 0 | H11: =SUMPRODUCT(('DETAILS ACHATS'!$E$2:$E$358=$A11)*(YEAR('DETAILS ACHATS'!$A$2:$A$358)=$A$1)*(MONTH('DETAILS ACHATS'!$A$2:$A$358)=MONTH("1/"&H$3))*('DETAILS ACHATS'!$I$2:$I$358)) -> 0 | I11: =SUMPRODUCT(('DETAILS ACHATS'!$E$2:$E$358=$A11)*(YEAR('DETAILS ACHATS'!$A$2:$A$358)=$A$1)*(MONTH('DETAILS ACHATS'!$A$2:$A$358)=MONTH("1/"&I$3))*('DETAILS ACHATS'!$I$2:$I$358)) -> 0 | ... M11: =SUMPRODUCT(('DETAILS ACHATS'!$E$2:$E$358=$A11)*(YEAR('DETAILS ACHATS'!$A$2:$A$358)=$A$1)*(MONTH('DETAILS ACHATS'!$A$2:$A$358)=MONTH("1/"&M$3))*('DETAILS ACHATS'!$I$2:$I$358)) -> 0
A12: PRODUCTION | B12: =SUMPRODUCT(('DETAILS ACHATS'!$E$2:$E$358=$A12)*(YEAR('DETAILS ACHATS'!$A$2:$A$358)=$A$1)*(MONTH('DETAILS ACHATS'!$A$2:$A$358)=MONTH("1/"&B$3))*('DETAILS ACHATS'!$I$2:$I$358)) -> 3552161.9 | C12: =SUMPRODUCT(('DETAILS ACHATS'!$E$2:$E$358=$A12)*(YEAR('DETAILS ACHATS'!$A$2:$A$358)=$A$1)*(MONTH('DETAILS ACHATS'!$A$2:$A$358)=MONTH("1/"&C$3))*('DETAILS ACHATS'!$I$2:$I$358)) -> 1371815.5 | D12: =SUMPRODUCT(('DETAILS ACHATS'!$E$2:$E$358=$A12)*(YEAR('DETAILS ACHATS'!$A$2:$A$358)=$A$1)*(MONTH('DETAILS ACHATS'!$A$2:$A$358)=MONTH("1/"&D$3))*('DETAILS ACHATS'!$I$2:$I$358)) -> 3895895 | E12: =SUMPRODUCT(('DETAILS ACHATS'!$E$2:$E$358=$A12)*(YEAR('DETAILS ACHATS'!$A$2:$A$358)=$A$1)*(MONTH('DETAILS ACHATS'!$A$2:$A$358)=MONTH("1/"&E$3))*('DETAILS ACHATS'!$I$2:$I$358)) -> 1862885.4 | F12: =SUMPRODUCT(('DETAILS ACHATS'!$E$2:$E$358=$A12)*(YEAR('DETAILS ACHATS'!$A$2:$A$358)=$A$1)*(MONTH('DETAILS ACHATS'!$A$2:$A$358)=MONTH("1/"&F$3))*('DETAILS ACHATS'!$I$2:$I$358)) -> 7085748.4 | G12: =SUMPRODUCT(('DETAILS ACHATS'!$E$2:$E$358=$A12)*(YEAR('DETAILS ACHATS'!$A$2:$A$358)=$A$1)*(MONTH('DETAILS ACHATS'!$A$2:$A$358)=MONTH("1/"&G$3))*('DETAILS ACHATS'!$I$2:$I$358)) -> 4858445.2 | H12: =SUMPRODUCT(('DETAILS ACHATS'!$E$2:$E$358=$A12)*(YEAR('DETAILS ACHATS'!$A$2:$A$358)=$A$1)*(MONTH('DETAILS ACHATS'!$A$2:$A$358)=MONTH("1/"&H$3))*('DETAILS ACHATS'!$I$2:$I$358)) -> 0 | I12: =SUMPRODUCT(('DETAILS ACHATS'!$E$2:$E$358=$A12)*(YEAR('DETAILS ACHATS'!$A$2:$A$358)=$A$1)*(MONTH('DETAILS ACHATS'!$A$2:$A$358)=MONTH("1/"&I$3))*('DETAILS ACHATS'!$I$2:$I$358)) -> 0 | ... M12: =SUMPRODUCT(('DETAILS ACHATS'!$E$2:$E$358=$A12)*(YEAR('DETAILS ACHATS'!$A$2:$A$358)=$A$1)*(MONTH('DETAILS ACHATS'!$A$2:$A$358)=MONTH("1/"&M$3))*('DETAILS ACHATS'!$I$2:$I$358)) -> 0

Sheet RECAPE MENS CATEG ART
A1: 2018
B3: JANVIER | C3: FÉVRIER | D3: MARS | E3: AVRIL | F3: MAI | G3: JUIN | H3: JUILLET | I3: AOÛT | J3: SEPTEMBRE | K3: OCTOBRE | L3: NOVEMBRE | M3: DÉCEMBRE
A4: AC | B4: =SUMPRODUCT(('DETAILS ACHATS'!$B$2:$B$358=$A4)*(YEAR('DETAILS ACHATS'!$A$2:$A$358)=$A$1)*(MONTH('DETAILS ACHATS'!$A$2:$A$358)=MONTH("1/"&B$3))*('DETAILS ACHATS'!$I$2:$I$358)) -> 2557846.4 | C4: =SUMPRODUCT(('DETAILS ACHATS'!$B$2:$B$358=$A4)*(YEAR('DETAILS ACHATS'!$A$2:$A$358)=$A$1)*(MONTH('DETAILS ACHATS'!$A$2:$A$358)=MONTH("1/"&C$3))*('DETAILS ACHATS'!$I$2:$I$358)) -> 1156270.8 | D4: =SUMPRODUCT(('DETAILS ACHATS'!$B$2:$B$358=$A4)*(YEAR('DETAILS ACHATS'!$A$2:$A$358)=$A$1)*(MONTH('DETAILS ACHATS'!$A$2:$A$358)=MONTH("1/"&D$3))*('DETAILS ACHATS'!$I$2:$I$358)) -> 2245643 | E4: =SUMPRODUCT(('DETAILS ACHATS'!$B$2:$B$358=$A4)*(YEAR('DETAILS ACHATS'!$A$2:$A$358)=$A$1)*(MONTH('DETAILS ACHATS'!$A$2:$A$358)=MONTH("1/"&E$3))*('DETAILS ACHATS'!$I$2:$I$358)) -> 1647971.4 | F4: =SUMPRODUCT(('DETAILS ACHATS'!$B$2:$B$358=$A4)*(YEAR('DETAILS ACHATS'!$A$2:$A$358)=$A$1)*(MONTH('DETAILS ACHATS'!$A$2:$A$358)=MONTH("1/"&F$3))*('DETAILS ACHATS'!$I$2:$I$358)) -> 6640531.8 | G4: =SUMPRODUCT(('DETAILS ACHATS'!$B$2:$B$358=$A4)*(YEAR('DETAILS ACHATS'!$A$2:$A$358)=$A$1)*(MONTH('DETAILS ACHATS'!$A$2:$A$358)=MONTH("1/"&G$3))*('DETAILS ACHATS'!$I$2:$I$358)) -> 3079157.2 | H4: =SUMPRODUCT(('DETAILS ACHATS'!$B$2:$B$358=$A4)*(YEAR('DETAILS ACHATS'!$A$2:$A$358)=$A$1)*(MONTH('DETAILS ACHATS'!$A$2:$A$358)=MONTH("1/"&H$3))*('DETAILS ACHATS'!$I$2:$I$358)) -> 0 | I4: =SUMPRODUCT(('DETAILS ACHATS'!$B$2:$B$358=$A4)*(YEAR('DETAILS ACHATS'!$A$2:$A$358)=$A$1)*(MONTH('DETAILS ACHATS'!$A$2:$A$358)=MONTH("1/"&I$3))*('DETAILS ACHATS'!$I$2:$I$358)) -> 0 | ... M4: =SUMPRODUCT(('DETAILS ACHATS'!$B$2:$B$358=$A4)*(YEAR('DETAILS ACHATS'!$A$2:$A$358)=$A$1)*(MONTH('DETAILS ACHATS'!$A$2:$A$358)=MONTH("1/"&M$3))*('DETAILS ACHATS'!$I$2:$I$358)) -> 0
A5: COMMUNICATION | B5: =SUMPRODUCT(('DETAILS ACHATS'!$B$2:$B$358=$A5)*(YEAR('DETAILS ACHATS'!$A$2:$A$358)=$A$1)*(MONTH('DETAILS ACHATS'!$A$2:$A$358)=MONTH("1/"&B$3))*('DETAILS ACHATS'!$I$2:$I$358)) -> 2159.85 | C5: =SUMPRODUCT(('DETAILS ACHATS'!$B$2:$B$358=$A5)*(YEAR('DETAILS ACHATS'!$A$2:$A$358)=$A$1)*(MONTH('DETAILS ACHATS'!$A$2:$A$358)=MONTH("1/"&C$3))*('DETAILS ACHATS'!$I$2:$I$358)) -> 1255.45 | D5: =SUMPRODUCT(('DETAILS ACHATS'!$B$2:$B$358=$A5)*(YEAR('DETAILS ACHATS'!$A$2:$A$358)=$A$1)*(MONTH('DETAILS ACHATS'!$A$2:$A$358)=MONTH("1/"&D$3))*('DETAILS ACHATS'!$I$2:$I$358)) -> 0 | E5: =SUMPRODUCT(('DETAILS ACHATS'!$B$2:$B$358=$A5)*(YEAR('DETAILS ACHATS'!$A$2:$A$358)=$A$1)*(MONTH('DETAILS ACHATS'!$A$2:$A$358)=MONTH("1/"&E$3))*('DETAILS ACHATS'!$I$2:$I$358)) -> 0 | F5: =SUMPRODUCT(('DETAILS ACHATS'!$B$2:$B$358=$A5)*(YEAR('DETAILS ACHATS'!$A$2:$A$358)=$A$1)*(MONTH('DETAILS ACHATS'!$A$2:$A$358)=MONTH("1/"&F$3))*('DETAILS ACHATS'!$I$2:$I$358)) -> 0 | G5: =SUMPRODUCT(('DETAILS ACHATS'!$B$2:$B$358=$A5)*(YEAR('DETAILS ACHATS'!$A$2:$A$358)=$A$1)*(MONTH('DETAILS ACHATS'!$A$2:$A$358)=MONTH("1/"&G$3))*('DETAILS ACHATS'!$I$2:$I$358)) -> 0 | H5: =SUMPRODUCT(('DETAILS ACHATS'!$B$2:$B$358=$A5)*(YEAR('DETAILS ACHATS'!$A$2:$A$358)=$A$1)*(MONTH('DETAILS ACHATS'!$A$2:$A$358)=MONTH("1/"&H$3))*('DETAILS ACHATS'!$I$2:$I$358)) -> 0 | I5: =SUMPRODUCT(('DETAILS ACHATS'!$B$2:$B$358=$A5)*(YEAR('DETAILS ACHATS'!$A$2:$A$358)=$A$1)*(MONTH('DETAILS ACHATS'!$A$2:$A$358)=MONTH("1/"&I$3))*('DETAILS ACHATS'!$I$2:$I$358)) -> 0 | ... M5: =SUMPRODUCT(('DETAILS ACHATS'!$B$2:$B$358=$A5)*(YEAR('DETAILS ACHATS'!$A$2:$A$358)=$A$1)*(MONTH('DETAILS ACHATS'!$A$2:$A$358)=MONTH("1/"&M$3))*('DETAILS ACHATS'!$I$2:$I$358)) -> 0
A6: COMPTA | B6: =SUMPRODUCT(('DETAILS ACHATS'!$B$2:$B$358=$A6)*(YEAR('DETAILS ACHATS'!$A$2:$A$358)=$A$1)*(MONTH('DETAILS ACHATS'!$A$2:$A$358)=MONTH("1/"&B$3))*('DETAILS ACHATS'!$I$2:$I$358)) -> 11400.2 | C6: =SUMPRODUCT(('DETAILS ACHATS'!$B$2:$B$358=$A6)*(YEAR('DETAILS ACHATS'!$A$2:$A$358)=$A$1)*(MONTH('DETAILS ACHATS'!$A$2:$A$358)=MONTH("1/"&C$3))*('DETAILS ACHATS'!$I$2:$I$358)) -> 7449.419 | D6: =SUMPRODUCT(('DETAILS ACHATS'!$B$2:$B$358=$A6)*(YEAR('DETAILS ACHATS'!$A$2:$A$358)=$A$1)*(MONTH('DETAILS ACHATS'!$A$2:$A$358)=MONTH("1/"&D$3))*('DETAILS ACHATS'!$I$2:$I$358)) -> 3320.1 | E6: =SUMPRODUCT(('DETAILS ACHATS'!$B$2:$B$358=$A6)*(YEAR('DETAILS ACHATS'!$A$2:$A$358)=$A$1)*(MONTH('DETAILS ACHATS'!$A$2:$A$358)=MONTH("1/"&E$3))*('DETAILS ACHATS'!$I$2:$I$358)) -> 0 | F6: =SUMPRODUCT(('DETAILS ACHATS'!$B$2:$B$358=$A6)*(YEAR('DETAILS ACHATS'!$A$2:$A$358)=$A$1)*(MONTH('DETAILS ACHATS'!$A$2:$A$358)=MONTH("1/"&F$3))*('DETAILS ACHATS'!$I$2:$I$358)) -> 0 | G6: =SUMPRODUCT(('DETAILS ACHATS'!$B$2:$B$358=$A6)*(YEAR('DETAILS ACHATS'!$A$2:$A$358)=$A$1)*(MONTH('DETAILS ACHATS'!$A$2:$A$358)=MONTH("1/"&G$3))*('DETAILS ACHATS'!$I$2:$I$358)) -> 0 | H6: =SUMPRODUCT(('DETAILS ACHATS'!$B$2:$B$358=$A6)*(YEAR('DETAILS ACHATS'!$A$2:$A$358)=$A$1)*(MONTH('DETAILS ACHATS'!$A$2:$A$358)=MONTH("1/"&H$3))*('DETAILS ACHATS'!$I$2:$I$358)) -> 0 | I6: =SUMPRODUCT(('DETAILS ACHATS'!$B$2:$B$358=$A6)*(YEAR('DETAILS ACHATS'!$A$2:$A$358)=$A$1)*(MONTH('DETAILS ACHATS'!$A$2:$A$358)=MONTH("1/"&I$3))*('DETAILS ACHATS'!$I$2:$I$358)) -> 0 | ... M6: =SUMPRODUCT(('DETAILS ACHATS'!$B$2:$B$358=$A6)*(YEAR('DETAILS ACHATS'!$A$2:$A$358)=$A$1)*(MONTH('DETAILS ACHATS'!$A$2:$A$358)=MONTH("1/"&M$3))*('DETAILS ACHATS'!$I$2:$I$358)) -> 0
A7: CS HSE | B7: =SUMPRODUCT(('DETAILS ACHATS'!$B$2:$B$358=$A7)*(YEAR('DETAILS ACHATS'!$A$2:$A$358)=$A$1)*(MONTH('DETAILS ACHATS'!$A$2:$A$358)=MONTH("1/"&B$3))*('DETAILS ACHATS'!$I$2:$I$358)) -> 83323.8 | C7: =SUMPRODUCT(('DETAILS ACHATS'!$B$2:$B$358=$A7)*(YEAR('DETAILS ACHATS'!$A$2:$A$358)=$A$1)*(MONTH('DETAILS ACHATS'!$A$2:$A$358)=MONTH("1/"&C$3))*('DETAILS ACHATS'!$I$2:$I$358)) -> 63427 | D7: =SUMPRODUCT(('DETAILS ACHATS'!$B$2:$B$358=$A7)*(YEAR('DETAILS ACHATS'!$A$2:$A$358)=$A$1)*(MONTH('DETAILS ACHATS'!$A$2:$A$358)=MONTH("1/"&D$3))*('DETAILS ACHATS'!$I$2:$I$358)) -> 0 | E7: =SUMPRODUCT(('DETAILS ACHATS'!$B$2:$B$358=$A7)*(YEAR('DETAILS ACHATS'!$A$2:$A$358)=$A$1)*(MONTH('DETAILS ACHATS'!$A$2:$A$358)=MONTH("1/"&E$3))*('DETAILS ACHATS'!$I$2:$I$358)) -> 0 | F7: =SUMPRODUCT(('DETAILS ACHATS'!$B$2:$B$358=$A7)*(YEAR('DETAILS ACHATS'!$A$2:$A$358)=$A$1)*(MONTH('DETAILS ACHATS'!$A$2:$A$358)=MONTH("1/"&F$3))*('DETAILS ACHATS'!$I$2:$I$358)) -> 180285 | G7: =SUMPRODUCT(('DETAILS ACHATS'!$B$2:$B$358=$A7)*(YEAR('DETAILS ACHATS'!$A$2:$A$358)=$A$1)*(MONTH('DETAILS ACHATS'!$A$2:$A$358)=MONTH("1/"&G$3))*('DETAILS ACHATS'!$I$2:$I$358)) -> 0 | H7: =SUMPRODUCT(('DETAILS ACHATS'!$B$2:$B$358=$A7)*(YEAR('DETAILS ACHATS'!$A$2:$A$358)=$A$1)*(MONTH('DETAILS ACHATS'!$A$2:$A$358)=MONTH("1/"&H$3))*('DETAILS ACHATS'!$I$2:$I$358)) -> 0 | I7: =SUMPRODUCT(('DETAILS ACHATS'!$B$2:$B$358=$A7)*(YEAR('DETAILS ACHATS'!$A$2:$A$358)=$A$1)*(MONTH('DETAILS ACHATS'!$A$2:$A$358)=MONTH("1/"&I$3))*('DETAILS ACHATS'!$I$2:$I$358)) -> 0 | ... M7: =SUMPRODUCT(('DETAILS ACHATS'!$B$2:$B$358=$A7)*(YEAR('DETAILS ACHATS'!$A$2:$A$358)=$A$1)*(MONTH('DETAILS ACHATS'!$A$2:$A$358)=MONTH("1/"&M$3))*('DETAILS ACHATS'!$I$2:$I$358)) -> 0
A8: CS LABO | B8: =SUMPRODUCT(('DETAILS ACHATS'!$B$2:$B$358=$A8)*(YEAR('DETAILS ACHATS'!$A$2:$A$358)=$A$1)*(MONTH('DETAILS ACHATS'!$A$2:$A$358)=MONTH("1/"&B$3))*('DETAILS ACHATS'!$I$2:$I$358)) -> 2522.8 | C8: =SUMPRODUCT(('DETAILS ACHATS'!$B$2:$B$358=$A8)*(YEAR('DETAILS ACHATS'!$A$2:$A$358)=$A$1)*(MONTH('DETAILS ACHATS'!$A$2:$A$358)=MONTH("1/"&C$3))*('DETAILS ACHATS'!$I$2:$I$358)) -> 253434.23 | D8: =SUMPRODUCT(('DETAILS ACHATS'!$B$2:$B$358=$A8)*(YEAR('DETAILS ACHATS'!$A$2:$A$358)=$A$1)*(MONTH('DETAILS ACHATS'!$A$2:$A$358)=MONTH("1/"&D$3))*('DETAILS ACHATS'!$I$2:$I$358)) -> 462336.78 | E8: =SUMPRODUCT(('DETAILS ACHATS'!$B$2:$B$358=$A8)*(YEAR('DETAILS ACHATS'!$A$2:$A$358)=$A$1)*(MONTH('DETAILS ACHATS'!$A$2:$A$358)=MONTH("1/"&E$3))*('DETAILS ACHATS'!$I$2:$I$358)) -> 1048603.8 | F8: =SUMPRODUCT(('DETAILS ACHATS'!$B$2:$B$358=$A8)*(YEAR('DETAILS ACHATS'!$A$2:$A$358)=$A$1)*(MONTH('DETAILS ACHATS'!$A$2:$A$358)=MONTH("1/"&F$3))*('DETAILS ACHATS'!$I$2:$I$358)) -> 399199.93 | G8: =SUMPRODUCT(('DETAILS ACHATS'!$B$2:$B$358=$A8)*(YEAR('DETAILS ACHATS'!$A$2:$A$358)=$A$1)*(MONTH('DETAILS ACHATS'!$A$2:$A$358)=MONTH("1/"&G$3))*('DETAILS ACHATS'!$I$2:$I$358)) -> 82710.474 | H8: =SUMPRODUCT(('DETAILS ACHATS'!$B$2:$B$358=$A8)*(YEAR('DETAILS ACHATS'!$A$2:$A$358)=$A$1)*(MONTH('DETAILS ACHATS'!$A$2:$A$358)=MONTH("1/"&H$3))*('DETAILS ACHATS'!$I$2:$I$358)) -> 0 | I8: =SUMPRODUCT(('DETAILS ACHATS'!$B$2:$B$358=$A8)*(YEAR('DETAILS ACHATS'!$A$2:$A$358)=$A$1)*(MONTH('DETAILS ACHATS'!$A$2:$A$358)=MONTH("1/"&I$3))*('DETAILS ACHATS'!$I$2:$I$358)) -> 0 | ... M8: =SUMPRODUCT(('DETAILS ACHATS'!$B$2:$B$358=$A8)*(YEAR('DETAILS ACHATS'!$A$2:$A$358)=$A$1)*(MONTH('DETAILS ACHATS'!$A$2:$A$358)=MONTH("1/"&M$3))*('DETAILS ACHATS'!$I$2:$I$358)) -> 0
A9: CS MICROBIO | B9: =SUMPRODUCT(('DETAILS ACHATS'!$B$2:$B$358=$A9)*(YEAR('DETAILS ACHATS'!$A$2:$A$358)=$A$1)*(MONTH('DETAILS ACHATS'!$A$2:$A$358)=MONTH("1/"&B$3))*('DETAILS ACHATS'!$I$2:$I$358)) -> 0 | C9: =SUMPRODUCT(('DETAILS ACHATS'!$B$2:$B$358=$A9)*(YEAR('DETAILS ACHATS'!$A$2:$A$358)=$A$1)*(MONTH('DETAILS ACHATS'!$A$2:$A$358)=MONTH("1/"&C$3))*('DETAILS ACHATS'!$I$2:$I$358)) -> 0 | D9: =SUMPRODUCT(('DETAILS ACHATS'!$B$2:$B$358=$A9)*(YEAR('DETAILS ACHATS'!$A$2:$A$358)=$A$1)*(MONTH('DETAILS ACHATS'!$A$2:$A$358)=MONTH("1/"&D$3))*('DETAILS ACHATS'!$I$2:$I$358)) -> 0 | E9: =SUMPRODUCT(('DETAILS ACHATS'!$B$2:$B$358=$A9)*(YEAR('DETAILS ACHATS'!$A$2:$A$358)=$A$1)*(MONTH('DETAILS ACHATS'!$A$2:$A$358)=MONTH("1/"&E$3))*('DETAILS ACHATS'!$I$2:$I$358)) -> 0 | F9: =SUMPRODUCT(('DETAILS ACHATS'!$B$2:$B$358=$A9)*(YEAR('DETAILS ACHATS'!$A$2:$A$358)=$A$1)*(MONTH('DETAILS ACHATS'!$A$2:$A$358)=MONTH("1/"&F$3))*('DETAILS ACHATS'!$I$2:$I$358)) -> 116970.1 | G9: =SUMPRODUCT(('DETAILS ACHATS'!$B$2:$B$358=$A9)*(YEAR('DETAILS ACHATS'!$A$2:$A$358)=$A$1)*(MONTH('DETAILS ACHATS'!$A$2:$A$358)=MONTH("1/"&G$3))*('DETAILS ACHATS'!$I$2:$I$358)) -> 0 | H9: =SUMPRODUCT(('DETAILS ACHATS'!$B$2:$B$358=$A9)*(YEAR('DETAILS ACHATS'!$A$2:$A$358)=$A$1)*(MONTH('DETAILS ACHATS'!$A$2:$A$358)=MONTH("1/"&H$3))*('DETAILS ACHATS'!$I$2:$I$358)) -> 0 | I9: =SUMPRODUCT(('DETAILS ACHATS'!$B$2:$B$358=$A9)*(YEAR('DETAILS ACHATS'!$A$2:$A$358)=$A$1)*(MONTH('DETAILS ACHATS'!$A$2:$A$358)=MONTH("1/"&I$3))*('DETAILS ACHATS'!$I$2:$I$358)) -> 0 | ... M9: =SUMPRODUCT(('DETAILS ACHATS'!$B$2:$B$358=$A9)*(YEAR('DETAILS ACHATS'!$A$2:$A$358)=$A$1)*(MONTH('DETAILS ACHATS'!$A$2:$A$358)=MONTH("1/"&M$3))*('DETAILS ACHATS'!$I$2:$I$358)) -> 0
A10: FRAIS APPROCHE | B10: =SUMPRODUCT(('DETAILS ACHATS'!$B$2:$B$358=$A10)*(YEAR('DETAILS ACHATS'!$A$2:$A$358)=$A$1)*(MONTH('DETAILS ACHATS'!$A$2:$A$358)=MONTH("1/"&B$3))*('DETAILS ACHATS'!$I$2:$I$358)) -> 2284.8 | C10: =SUMPRODUCT(('DETAILS ACHATS'!$B$2:$B$358=$A10)*(YEAR('DETAILS ACHATS'!$A$2:$A$358)=$A$1)*(MONTH('DETAILS ACHATS'!$A$2:$A$358)=MONTH("1/"&C$3))*('DETAILS ACHATS'!$I$2:$I$358)) -> 10156.65 | D10: =SUMPRODUCT(('DETAILS ACHATS'!$B$2:$B$358=$A10)*(YEAR('DETAILS ACHATS'!$A$2:$A$358)=$A$1)*(MONTH('DETAILS ACHATS'!$A$2:$A$358)=MONTH("1/"&D$3))*('DETAILS ACHATS'!$I$2:$I$358)) -> 4978.96 | E10: =SUMPRODUCT(('DETAILS ACHATS'!$B$2:$B$358=$A10)*(YEAR('DETAILS ACHATS'!$A$2:$A$358)=$A$1)*(MONTH('DETAILS ACHATS'!$A$2:$A$358)=MONTH("1/"&E$3))*('DETAILS ACHATS'!$I$2:$I$358)) -> 2903.6 | F10: =SUMPRODUCT(('DETAILS ACHATS'!$B$2:$B$358=$A10)*(YEAR('DETAILS ACHATS'!$A$2:$A$358)=$A$1)*(MONTH('DETAILS ACHATS'!$A$2:$A$358)=MONTH("1/"&F$3))*('DETAILS ACHATS'!$I$2:$I$358)) -> 6842.5 | G10: =SUMPRODUCT(('DETAILS ACHATS'!$B$2:$B$358=$A10)*(YEAR('DETAILS ACHATS'!$A$2:$A$358)=$A$1)*(MONTH('DETAILS ACHATS'!$A$2:$A$358)=MONTH("1/"&G$3))*('DETAILS ACHATS'!$I$2:$I$358)) -> 368.9 | H10: =SUMPRODUCT(('DETAILS ACHATS'!$B$2:$B$358=$A10)*(YEAR('DETAILS ACHATS'!$A$2:$A$358)=$A$1)*(MONTH('DETAILS ACHATS'!$A$2:$A$358)=MONTH("1/"&H$3))*('DETAILS ACHATS'!$I$2:$I$358)) -> 0 | I10: =SUMPRODUCT(('DETAILS ACHATS'!$B$2:$B$358=$A10)*(YEAR('DETAILS ACHATS'!$A$2:$A$358)=$A$1)*(MONTH('DETAILS ACHATS'!$A$2:$A$358)=MONTH("1/"&I$3))*('DETAILS ACHATS'!$I$2:$I$358)) -> 0 | ... M10: =SUMPRODUCT(('DETAILS ACHATS'!$B$2:$B$358=$A10)*(YEAR('DETAILS ACHATS'!$A$2:$A$358)=$A$1)*(MONTH('DETAILS ACHATS'!$A$2:$A$358)=MONTH("1/"&M$3))*('DETAILS ACHATS'!$I$2:$I$358)) -> 0
A11: HSE | B11: =SUMPRODUCT(('DETAILS ACHATS'!$B$2:$B$358=$A11)*(YEAR('DETAILS ACHATS'!$A$2:$A$358)=$A$1)*(MONTH('DETAILS ACHATS'!$A$2:$A$358)=MONTH("1/"&B$3))*('DETAILS ACHATS'!$I$2:$I$358)) -> 0 | C11: =SUMPRODUCT(('DETAILS ACHATS'!$B$2:$B$358=$A11)*(YEAR('DETAILS ACHATS'!$A$2:$A$358)=$A$1)*(MONTH('DETAILS ACHATS'!$A$2:$A$358)=MONTH("1/"&C$3))*('DETAILS ACHATS'!$I$2:$I$358)) -> 0 | D11: =SUMPRODUCT(('DETAILS ACHATS'!$B$2:$B$358=$A11)*(YEAR('DETAILS ACHATS'!$A$2:$A$358)=$A$1)*(MONTH('DETAILS ACHATS'!$A$2:$A$358)=MONTH("1/"&D$3))*('DETAILS ACHATS'!$I$2:$I$358)) -> 0 | E11: =SUMPRODUCT(('DETAILS ACHATS'!$B$2:$B$358=$A11)*(YEAR('DETAILS ACHATS'!$A$2:$A$358)=$A$1)*(MONTH('DETAILS ACHATS'!$A$2:$A$358)=MONTH("1/"&E$3))*('DETAILS ACHATS'!$I$2:$I$358)) -> 11424 | F11: =SUMPRODUCT(('DETAILS ACHATS'!$B$2:$B$358=$A11)*(YEAR('DETAILS ACHATS'!$A$2:$A$358)=$A$1)*(MONTH('DETAILS ACHATS'!$A$2:$A$358)=MONTH("1/"&F$3))*('DETAILS ACHATS'!$I$2:$I$358)) -> 0 | G11: =SUMPRODUCT(('DETAILS ACHATS'!$B$2:$B$358=$A11)*(YEAR('DETAILS ACHATS'!$A$2:$A$358)=$A$1)*(MONTH('DETAILS ACHATS'!$A$2:$A$358)=MONTH("1/"&G$3))*('DETAILS ACHATS'!$I$2:$I$358)) -> 0 | H11: =SUMPRODUCT(('DETAILS ACHATS'!$B$2:$B$358=$A11)*(YEAR('DETAILS ACHATS'!$A$2:$A$358)=$A$1)*(MONTH('DETAILS ACHATS'!$A$2:$A$358)=MONTH("1/"&H$3))*('DETAILS ACHATS'!$I$2:$I$358)) -> 0 | I11: =SUMPRODUCT(('DETAILS ACHATS'!$B$2:$B$358=$A11)*(YEAR('DETAILS ACHATS'!$A$2:$A$358)=$A$1)*(MONTH('DETAILS ACHATS'!$A$2:$A$358)=MONTH("1/"&I$3))*('DETAILS ACHATS'!$I$2:$I$358)) -> 0 | ... M11: =SUMPRODUCT(('DETAILS ACHATS'!$B$2:$B$358=$A11)*(YEAR('DETAILS ACHATS'!$A$2:$A$358)=$A$1)*(MONTH('DETAILS ACHATS'!$A$2:$A$358)=MONTH("1/"&M$3))*('DETAILS ACHATS'!$I$2:$I$358)) -> 0
A12: MAINTENANCE | B12: =SUMPRODUCT(('DETAILS ACHATS'!$B$2:$B$358=$A12)*(YEAR('DETAILS ACHATS'!$A$2:$A$358)=$A$1)*(MONTH('DETAILS ACHATS'!$A$2:$A$358)=MONTH("1/"&B$3))*('DETAILS ACHATS'!$I$2:$I$358)) -> 0 | C12: =SUMPRODUCT(('DETAILS ACHATS'!$B$2:$B$358=$A12)*(YEAR('DETAILS ACHATS'!$A$2:$A$358)=$A$1)*(MONTH('DETAILS ACHATS'!$A$2:$A$358)=MONTH("1/"&C$3))*('DETAILS ACHATS'!$I$2:$I$358)) -> 0 | D12: =SUMPRODUCT(('DETAILS ACHATS'!$B$2:$B$358=$A12)*(YEAR('DETAILS ACHATS'!$A$2:$A$358)=$A$1)*(MONTH('DETAILS ACHATS'!$A$2:$A$358)=MONTH("1/"&D$3))*('DETAILS ACHATS'!$I$2:$I$358)) -> 320998.47 | E12: =SUMPRODUCT(('DETAILS ACHATS'!$B$2:$B$358=$A12)*(YEAR('DETAILS ACHATS'!$A$2:$A$358)=$A$1)*(MONTH('DETAILS ACHATS'!$A$2:$A$358)=MONTH("1/"&E$3))*('DETAILS ACHATS'!$I$2:$I$358)) -> 0 | F12: =SUMPRODUCT(('DETAILS ACHATS'!$B$2:$B$358=$A12)*(YEAR('DETAILS ACHATS'!$A$2:$A$358)=$A$1)*(MONTH('DETAILS ACHATS'!$A$2:$A$358)=MONTH("1/"&F$3))*('DETAILS ACHATS'!$I$2:$I$358)) -> 85715.855 | G12: =SUMPRODUCT(('DETAILS ACHATS'!$B$2:$B$358=$A12)*(YEAR('DETAILS ACHATS'!$A$2:$A$358)=$A$1)*(MONTH('DETAILS ACHATS'!$A$2:$A$358)=MONTH("1/"&G$3))*('DETAILS ACHATS'!$I$2:$I$358)) -> 0 | H12: =SUMPRODUCT(('DETAILS ACHATS'!$B$2:$B$358=$A12)*(YEAR('DETAILS ACHATS'!$A$2:$A$358)=$A$1)*(MONTH('DETAILS ACHATS'!$A$2:$A$358)=MONTH("1/"&H$3))*('DETAILS ACHATS'!$I$2:$I$358)) -> 0 | I12: =SUMPRODUCT(('DETAILS ACHATS'!$B$2:$B$358=$A12)*(YEAR('DETAILS ACHATS'!$A$2:$A$358)=$A$1)*(MONTH('DETAILS ACHATS'!$A$2:$A$358)=MONTH("1/"&I$3))*('DETAILS ACHATS'!$I$2:$I$358)) -> 0 | ... M12: =SUMPRODUCT(('DETAILS ACHATS'!$B$2:$B$358=$A12)*(YEAR('DETAILS ACHATS'!$A$2:$A$358)=$A$1)*(MONTH('DETAILS ACHATS'!$A$2:$A$358)=MONTH("1/"&M$3))*('DETAILS ACHATS'!$I$2:$I$358)) -> 0
A13: MP | B13: =SUMPRODUCT(('DETAILS ACHATS'!$B$2:$B$358=$A13)*(YEAR('DETAILS ACHATS'!$A$2:$A$358)=$A$1)*(MONTH('DETAILS ACHATS'!$A$2:$A$358)=MONTH("1/"&B$3))*('DETAILS ACHATS'!$I$2:$I$358)) -> 896955.66 | C13: =SUMPRODUCT(('DETAILS ACHATS'!$B$2:$B$358=$A13)*(YEAR('DETAILS ACHATS'!$A$2:$A$358)=$A$1)*(MONTH('DETAILS ACHATS'!$A$2:$A$358)=MONTH("1/"&C$3))*('DETAILS ACHATS'!$I$2:$I$358)) -> 215544.7 | D13: =SUMPRODUCT(('DETAILS ACHATS'!$B$2:$B$358=$A13)*(YEAR('DETAILS ACHATS'!$A$2:$A$358)=$A$1)*(MONTH('DETAILS ACHATS'!$A$2:$A$358)=MONTH("1/"&D$3))*('DETAILS ACHATS'!$I$2:$I$358)) -> 1649914 | E13: =SUMPRODUCT(('DETAILS ACHATS'!$B$2:$B$358=$A13)*(YEAR('DETAILS ACHATS'!$A$2:$A$358)=$A$1)*(MONTH('DETAILS ACHATS'!$A$2:$A$358)=MONTH("1/"&E$3))*('DETAILS ACHATS'!$I$2:$I$358)) -> 302379 | F13: =SUMPRODUCT(('DETAILS ACHATS'!$B$2:$B$358=$A13)*(YEAR('DETAILS ACHATS'!$A$2:$A$358)=$A$1)*(MONTH('DETAILS ACHATS'!$A$2:$A$358)=MONTH("1/"&F$3))*('DETAILS ACHATS'!$I$2:$I$358)) -> 378160.58 | G13: =SUMPRODUCT(('DETAILS ACHATS'!$B$2:$B$358=$A13)*(YEAR('DETAILS ACHATS'!$A$2:$A$358)=$A$1)*(MONTH('DETAILS ACHATS'!$A$2:$A$358)=MONTH("1/"&G$3))*('DETAILS ACHATS'!$I$2:$I$358)) -> 1559376 | H13: =SUMPRODUCT(('DETAILS ACHATS'!$B$2:$B$358=$A13)*(YEAR('DETAILS ACHATS'!$A$2:$A$358)=$A$1)*(MONTH('DETAILS ACHATS'!$A$2:$A$358)=MONTH("1/"&H$3))*('DETAILS ACHATS'!$I$2:$I$358)) -> 0 | I13: =SUMPRODUCT(('DETAILS ACHATS'!$B$2:$B$358=$A13)*(YEAR('DETAILS ACHATS'!$A$2:$A$358)=$A$1)*(MONTH('DETAILS ACHATS'!$A$2:$A$358)=MONTH("1/"&I$3))*('DETAILS ACHATS'!$I$2:$I$358)) -> 0 | ... M13: =SUMPRODUCT(('DETAILS ACHATS'!$B$2:$B$358=$A13)*(YEAR('DETAILS ACHATS'!$A$2:$A$358)=$A$1)*(MONTH('DETAILS ACHATS'!$A$2:$A$358)=MONTH("1/"&M$3))*('DETAILS ACHATS'!$I$2:$I$358)) -> 0
A14: PR PROD | B14: =SUMPRODUCT(('DETAILS ACHATS'!$B$2:$B$358=$A14)*(YEAR('DETAILS ACHATS'!$A$2:$A$358)=$A$1)*(MONTH('DETAILS ACHATS'!$A$2:$A$358)=MONTH("1/"&B$3))*('DETAILS ACHATS'!$I$2:$I$358)) -> 95200 | C14: =SUMPRODUCT(('DETAILS ACHATS'!$B$2:$B$358=$A14)*(YEAR('DETAILS ACHATS'!$A$2:$A$358)=$A$1)*(MONTH('DETAILS ACHATS'!$A$2:$A$358)=MONTH("1/"&C$3))*('DETAILS ACHATS'!$I$2:$I$358)) -> 0 | D14: =SUMPRODUCT(('DETAILS ACHATS'!$B$2:$B$358=$A14)*(YEAR('DETAILS ACHATS'!$A$2:$A$358)=$A$1)*(MONTH('DETAILS ACHATS'!$A$2:$A$358)=MONTH("1/"&D$3))*('DETAILS ACHATS'!$I$2:$I$358)) -> 0 | E14: =SUMPRODUCT(('DETAILS ACHATS'!$B$2:$B$358=$A14)*(YEAR('DETAILS ACHATS'!$A$2:$A$358)=$A$1)*(MONTH('DETAILS ACHATS'!$A$2:$A$358)=MONTH("1/"&E$3))*('DETAILS ACHATS'!$I$2:$I$358)) -> 0 | F14: =SUMPRODUCT(('DETAILS ACHATS'!$B$2:$B$358=$A14)*(YEAR('DETAILS ACHATS'!$A$2:$A$358)=$A$1)*(MONTH('DETAILS ACHATS'!$A$2:$A$358)=MONTH("1/"&F$3))*('DETAILS ACHATS'!$I$2:$I$358)) -> 0 | G14: =SUMPRODUCT(('DETAILS ACHATS'!$B$2:$B$358=$A14)*(YEAR('DETAILS ACHATS'!$A$2:$A$358)=$A$1)*(MONTH('DETAILS ACHATS'!$A$2:$A$358)=MONTH("1/"&G$3))*('DETAILS ACHATS'!$I$2:$I$358)) -> 0 | H14: =SUMPRODUCT(('DETAILS ACHATS'!$B$2:$B$358=$A14)*(YEAR('DETAILS ACHATS'!$A$2:$A$358)=$A$1)*(MONTH('DETAILS ACHATS'!$A$2:$A$358)=MONTH("1/"&H$3))*('DETAILS ACHATS'!$I$2:$I$358)) -> 0 | I14: =SUMPRODUCT(('DETAILS ACHATS'!$B$2:$B$358=$A14)*(YEAR('DETAILS ACHATS'!$A$2:$A$358)=$A$1)*(MONTH('DETAILS ACHATS'!$A$2:$A$358)=MONTH("1/"&I$3))*('DETAILS ACHATS'!$I$2:$I$358)) -> 0 | ... M14: =SUMPRODUCT(('DETAILS ACHATS'!$B$2:$B$358=$A14)*(YEAR('DETAILS ACHATS'!$A$2:$A$358)=$A$1)*(MONTH('DETAILS ACHATS'!$A$2:$A$358)=MONTH("1/"&M$3))*('DETAILS ACHATS'!$I$2:$I$358)) -> 0
A15: SERVICE | B15: =SUMPRODUCT(('DETAILS ACHATS'!$B$2:$B$358=$A15)*(YEAR('DETAILS ACHATS'!$A$2:$A$358)=$A$1)*(MONTH('DETAILS ACHATS'!$A$2:$A$358)=MONTH("1/"&B$3))*('DETAILS ACHATS'!$I$2:$I$358)) -> 0 | C15: =SUMPRODUCT(('DETAILS ACHATS'!$B$2:$B$358=$A15)*(YEAR('DETAILS ACHATS'!$A$2:$A$358)=$A$1)*(MONTH('DETAILS ACHATS'!$A$2:$A$358)=MONTH("1/"&C$3))*('DETAILS ACHATS'!$I$2:$I$358)) -> 0 | D15: =SUMPRODUCT(('DETAILS ACHATS'!$B$2:$B$358=$A15)*(YEAR('DETAILS ACHATS'!$A$2:$A$358)=$A$1)*(MONTH('DETAILS ACHATS'!$A$2:$A$358)=MONTH("1/"&D$3))*('DETAILS ACHATS'!$I$2:$I$358)) -> 22779.896 | E15: =SUMPRODUCT(('DETAILS ACHATS'!$B$2:$B$358=$A15)*(YEAR('DETAILS ACHATS'!$A$2:$A$358)=$A$1)*(MONTH('DETAILS ACHATS'!$A$2:$A$358)=MONTH("1/"&E$3))*('DETAILS ACHATS'!$I$2:$I$358)) -> 0 | F15: =SUMPRODUCT(('DETAILS ACHATS'!$B$2:$B$358=$A15)*(YEAR('DETAILS ACHATS'!$A$2:$A$358)=$A$1)*(MONTH('DETAILS ACHATS'!$A$2:$A$358)=MONTH("1/"&F$3))*('DETAILS ACHATS'!$I$2:$I$358)) -> 0 | G15: =SUMPRODUCT(('DETAILS ACHATS'!$B$2:$B$358=$A15)*(YEAR('DETAILS ACHATS'!$A$2:$A$358)=$A$1)*(MONTH('DETAILS ACHATS'!$A$2:$A$358)=MONTH("1/"&G$3))*('DETAILS ACHATS'!$I$2:$I$358)) -> 0 | H15: =SUMPRODUCT(('DETAILS ACHATS'!$B$2:$B$358=$A15)*(YEAR('DETAILS ACHATS'!$A$2:$A$358)=$A$1)*(MONTH('DETAILS ACHATS'!$A$2:$A$358)=MONTH("1/"&H$3))*('DETAILS ACHATS'!$I$2:$I$358)) -> 0 | I15: =SUMPRODUCT(('DETAILS ACHATS'!$B$2:$B$358=$A15)*(YEAR('DETAILS ACHATS'!$A$2:$A$358)=$A$1)*(MONTH('DETAILS ACHATS'!$A$2:$A$358)=MONTH("1/"&I$3))*('DETAILS ACHATS'!$I$2:$I$358)) -> 0 | ... M15: =SUMPRODUCT(('DETAILS ACHATS'!$B$2:$B$358=$A15)*(YEAR('DETAILS ACHATS'!$A$2:$A$358)=$A$1)*(MONTH('DETAILS ACHATS'!$A$2:$A$358)=MONTH("1/"&M$3))*('DETAILS ACHATS'!$I$2:$I$358)) -> 0
A16: VERRERIE | B16: =SUMPRODUCT(('DETAILS ACHATS'!$B$2:$B$358=$A16)*(YEAR('DETAILS ACHATS'!$A$2:$A$358)=$A$1)*(MONTH('DETAILS ACHATS'!$A$2:$A$358)=MONTH("1/"&B$3))*('DETAILS ACHATS'!$I$2:$I$358)) -> 823593.29 | C16: =SUMPRODUCT(('DETAILS ACHATS'!$B$2:$B$358=$A16)*(YEAR('DETAILS ACHATS'!$A$2:$A$358)=$A$1)*(MONTH('DETAILS ACHATS'!$A$2:$A$358)=MONTH("1/"&C$3))*('DETAILS ACHATS'!$I$2:$I$358)) -> 0 | D16: =SUMPRODUCT(('DETAILS ACHATS'!$B$2:$B$358=$A16)*(YEAR('DETAILS ACHATS'!$A$2:$A$358)=$A$1)*(MONTH('DETAILS ACHATS'!$A$2:$A$358)=MONTH("1/"&D$3))*('DETAILS ACHATS'!$I$2:$I$358)) -> 101156.47 | E16: =SUMPRODUCT(('DETAILS ACHATS'!$B$2:$B$358=$A16)*(YEAR('DETAILS ACHATS'!$A$2:$A$358)=$A$1)*(MONTH('DETAILS ACHATS'!$A$2:$A$358)=MONTH("1/"&E$3))*('DETAILS ACHATS'!$I$2:$I$358)) -> 0 | F16: =SUMPRODUCT(('DETAILS ACHATS'!$B$2:$B$358=$A16)*(YEAR('DETAILS ACHATS'!$A$2:$A$358)=$A$1)*(MONTH('DETAILS ACHATS'!$A$2:$A$358)=MONTH("1/"&F$3))*('DETAILS ACHATS'!$I$2:$I$358)) -> 80325 | G16: =SUMPRODUCT(('DETAILS ACHATS'!$B$2:$B$358=$A16)*(YEAR('DETAILS ACHATS'!$A$2:$A$358)=$A$1)*(MONTH('DETAILS ACHATS'!$A$2:$A$358)=MONTH("1/"&G$3))*('DETAILS ACHATS'!$I$2:$I$358)) -> 0 | H16: =SUMPRODUCT(('DETAILS ACHATS'!$B$2:$B$358=$A16)*(YEAR('DETAILS ACHATS'!$A$2:$A$358)=$A$1)*(MONTH('DETAILS ACHATS'!$A$2:$A$358)=MONTH("1/"&H$3))*('DETAILS ACHATS'!$I$2:$I$358)) -> 0 | I16: =SUMPRODUCT(('DETAILS ACHATS'!$B$2:$B$358=$A16)*(YEAR('DETAILS ACHATS'!$A$2:$A$358)=$A$1)*(MONTH('DETAILS ACHATS'!$A$2:$A$358)=MONTH("1/"&I$3))*('DETAILS ACHATS'!$I$2:$I$358)) -> 0 | ... M16: =SUMPRODUCT(('DETAILS ACHATS'!$B$2:$B$358=$A16)*(YEAR('DETAILS ACHATS'!$A$2:$A$358)=$A$1)*(MONTH('DETAILS ACHATS'!$A$2:$A$358)=MONTH("1/"&M$3))*('DETAILS ACHATS'!$I$2:$I$358)) -> 0
