Workbook

Sheet Janvier 2010
A1: =MID(CELL("nomfichier",$A$1),FIND("]",CELL("nomfichier",$A$1))+1,32) -> Janvier 2010 | B1: =CHOOSE(WEEKDAY(B2,2),"L","M","M","J","V",,) -> V | C1: =CHOOSE(WEEKDAY(C2,2),"L","M","M","J","V","","") | D1: =CHOOSE(WEEKDAY(D2,2),"L","M","M","J","V","","") | E1: =CHOOSE(WEEKDAY(E2,2),"L","M","M","J","V","","") -> L | F1: =CHOOSE(WEEKDAY(F2,2),"L","M","M","J","V","","") -> M | G1: =CHOOSE(WEEKDAY(G2,2),"L","M","M","J","V","","") -> M | H1: =CHOOSE(WEEKDAY(H2,2),"L","M","M","J","V","","") -> J | I1: =CHOOSE(WEEKDAY(I2,2),"L","M","M","J","V","","") -> V | J1: =CHOOSE(WEEKDAY(J2,2),"L","M","M","J","V","","") | ... AC1: =CHOOSE(WEEKDAY(AC2,2),"L","M","M","J","V","","") -> J | AD1: =IF(AD2="","",CHOOSE(WEEKDAY(AD2,2),"L","M","M","J","V","","")) -> V | AE1: =IF(AE2="","",CHOOSE(WEEKDAY(AE2,2),"L","M","M","J","V","","")) | AF1: =IF(AF2="","",CHOOSE(WEEKDAY(AF2,2),"L","M","M","J","V","","")) | AH1: C | AI1: D | AJ1: E
B2: =DATE(YEAR("1/"&SUBSTITUTE(A1,RIGHT(A1,5),""))*1,1,1) -> 40179 | C2: =B2+1 -> 40180 | D2: =C2+1 -> 40181 | E2: =D2+1 -> 40182 | F2: =E2+1 -> 40183 | G2: =F2+1 -> 40184 | H2: =G2+1 -> 40185 | I2: =H2+1 -> 40186 | J2: =I2+1 -> 40187 | ... AC2: =AB2+1 -> 40206 | AD2: =IF(MONTH(AC2)=MONTH(AC2+1),AC2+1,"") -> 40207 | AE2: =IF(AD2="","",IF(MONTH(AD2)=MONTH(AD2+1),AD2+1,"")) -> 40208 | AF2: =IF(AE2="","",IF(MONTH(AE2)=MONTH(AE2+1),AE2+1,"")) -> 40209
A3: CHEF | C3: C | I3: D
A4: C.Dupont | E4: D | H4: C | AC4: C | AH4: =COUNTIF(C4:AG4,AH$1) -> 2 | AI4: =COUNTIF(D4:AG4,AI$1) -> 1 | AJ4: =COUNTIF(E4:AH4,AJ$1) -> 0
A5: CATEGORIE | R5: D | AH5: =COUNTIF(C5:AG5,AH$1) -> 0 | AI5: =COUNTIF(D5:AG5,AI$1) -> 1 | AJ5: =COUNTIF(E5:AH5,AJ$1) -> 0
A6: B.Ugs | K6: C | AH6: =COUNTIF(C6:AG6,AH$1) -> 1 | AI6: =COUNTIF(D6:AG6,AI$1) -> 0 | AJ6: =COUNTIF(E6:AH6,AJ$1) -> 0
A7: M.Ickey | H7: E | AD7: 1/2 E | AH7: =COUNTIF(C7:AG7,AH$1) -> 0 | AI7: =COUNTIF(D7:AG7,AI$1) -> 0 | AJ7: =COUNTIF(E7:AH7,AJ$1) -> 1
A8: D.Onald | U8: E | AH8: =COUNTIF(C8:AG8,AH$1) -> 0 | AI8: =COUNTIF(D8:AG8,AI$1) -> 0 | AJ8: =COUNTIF(E8:AH8,AJ$1) -> 1

Sheet février 2010
A1: =MID(CELL("nomfichier",$A$1),FIND("]",CELL("nomfichier",$A$1))+1,32) -> février 2010 | B1: =CHOOSE(WEEKDAY(B2,2),"L","M","M","J","V",,) -> L | C1: =CHOOSE(WEEKDAY(C2,2),"L","M","M","J","V","","") -> M | D1: =CHOOSE(WEEKDAY(D2,2),"L","M","M","J","V","","") -> M | E1: =CHOOSE(WEEKDAY(E2,2),"L","M","M","J","V","","") -> J | F1: =CHOOSE(WEEKDAY(F2,2),"L","M","M","J","V","","") -> V | G1: =CHOOSE(WEEKDAY(G2,2),"L","M","M","J","V","","") | H1: =CHOOSE(WEEKDAY(H2,2),"L","M","M","J","V","","") | I1: =CHOOSE(WEEKDAY(I2,2),"L","M","M","J","V","","") -> L | J1: =CHOOSE(WEEKDAY(J2,2),"L","M","M","J","V","","") -> M | ... AC1: =CHOOSE(WEEKDAY(AC2,2),"L","M","M","J","V","","") | AD1: =IF(AD2="","",CHOOSE(WEEKDAY(AD2,2),"L","M","M","J","V","","")) | AE1: =IF(AE2="","",CHOOSE(WEEKDAY(AE2,2),"L","M","M","J","V","","")) | AF1: =IF(AF2="","",CHOOSE(WEEKDAY(AF2,2),"L","M","M","J","V","","")) | AH1: C | AI1: D | AJ1: E
B2: =DATE(YEAR("1/"&SUBSTITUTE(A1,RIGHT(A1,5),""))*1,MONTH("1/"&SUBSTITUTE(A1,RIGHT(A1,5),""))*1,1) -> 40210 | C2: =B2+1 -> 40211 | D2: =C2+1 -> 40212 | E2: =D2+1 -> 40213 | F2: =E2+1 -> 40214 | G2: =F2+1 -> 40215 | H2: =G2+1 -> 40216 | I2: =H2+1 -> 40217 | J2: =I2+1 -> 40218 | ... AC2: =AB2+1 -> 40237 | AD2: =IF(MONTH(AC2)=MONTH(AC2+1),AC2+1,"") | AE2: =IF(AD2="","",IF(MONTH(AD2)=MONTH(AD2+1),AD2+1,"")) | AF2: =IF(AE2="","",IF(MONTH(AE2)=MONTH(AE2+1),AE2+1,""))
A3: CHEF | C3: C | I3: D
A4: C.Dupont | C4: C | E4: D | AH4: =COUNTIF(C4:AG4,AH$1) -> 1 | AI4: =COUNTIF(D4:AG4,AI$1) -> 1 | AJ4: =COUNTIF(E4:AH4,AJ$1) -> 0
A5: CATEGORIE | R5: D | AH5: =COUNTIF(C5:AG5,AH$1) -> 0 | AI5: =COUNTIF(D5:AG5,AI$1) -> 1 | AJ5: =COUNTIF(E5:AH5,AJ$1) -> 0
A6: B.Ugs | K6: C | AH6: =COUNTIF(C6:AG6,AH$1) -> 1 | AI6: =COUNTIF(D6:AG6,AI$1) -> 0 | AJ6: =COUNTIF(E6:AH6,AJ$1) -> 0
A7: M.Ickey | H7: E | AD7: 1/2 E | AH7: =COUNTIF(C7:AG7,AH$1) -> 0 | AI7: =COUNTIF(D7:AG7,AI$1) -> 0 | AJ7: =COUNTIF(E7:AH7,AJ$1) -> 1
A8: M.Innie | E8: D | N8: E | X8: C | AH8: =COUNTIF(C8:AG8,AH$1) -> 1 | AI8: =COUNTIF(D8:AG8,AI$1) -> 1 | AJ8: =COUNTIF(E8:AH8,AJ$1) -> 1
A9: P.Icsou | U9: E | AH9: =COUNTIF(C9:AG9,AH$1) -> 0 | AI9: =COUNTIF(D9:AG9,AI$1) -> 0 | AJ9: =COUNTIF(E9:AH9,AJ$1) -> 1

Sheet Recap1
B1: C | C1: D | D1: E
A2: C.Dupont | B2: =SUMPRODUCT(SUMIF(INDIRECT("'"&TEXT(DATE(2010,{1,2},1),"mmmm aaaa")&"'!a4:A20"),$A2,INDIRECT("'"&TEXT(DATE(2010,{1,2},1),"mmmm aaaa")&"'!ah4:ah20"))) -> 3 | C2: =SUMPRODUCT(SUMIF(INDIRECT("'"&TEXT(DATE(2010,{1,2},1),"mmmm aaaa")&"'!a4:A20"),$A2,INDIRECT("'"&TEXT(DATE(2010,{1,2},1),"mmmm aaaa")&"'!ai4:ai20"))) -> 2 | D2: =SUMPRODUCT(SUMIF(INDIRECT("'"&TEXT(DATE(2010,{1,2},1),"mmmm aaaa")&"'!a4:A20"),$A2,INDIRECT("'"&TEXT(DATE(2010,{1,2},1),"mmmm aaaa")&"'!aj4:aj20"))) -> 0
A3: B.Ugs | B3: =SUMPRODUCT(SUMIF(INDIRECT("'"&TEXT(DATE(2010,{1,2},1),"mmmm aaaa")&"'!a4:A20"),$A3,INDIRECT("'"&TEXT(DATE(2010,{1,2},1),"mmmm aaaa")&"'!ah4:ah20"))) -> 2 | C3: =SUMPRODUCT(SUMIF(INDIRECT("'"&TEXT(DATE(2010,{1,2},1),"mmmm aaaa")&"'!a4:A20"),$A3,INDIRECT("'"&TEXT(DATE(2010,{1,2},1),"mmmm aaaa")&"'!ai4:ai20"))) -> 0 | D3: =SUMPRODUCT(SUMIF(INDIRECT("'"&TEXT(DATE(2010,{1,2},1),"mmmm aaaa")&"'!a4:A20"),$A3,INDIRECT("'"&TEXT(DATE(2010,{1,2},1),"mmmm aaaa")&"'!aj4:aj20"))) -> 0
A4: M.Ickey | B4: =SUMPRODUCT(SUMIF(INDIRECT("'"&TEXT(DATE(2010,{1,2},1),"mmmm aaaa")&"'!a4:A20"),$A4,INDIRECT("'"&TEXT(DATE(2010,{1,2},1),"mmmm aaaa")&"'!ah4:ah20"))) -> 0 | C4: =SUMPRODUCT(SUMIF(INDIRECT("'"&TEXT(DATE(2010,{1,2},1),"mmmm aaaa")&"'!a4:A20"),$A4,INDIRECT("'"&TEXT(DATE(2010,{1,2},1),"mmmm aaaa")&"'!ai4:ai20"))) -> 0 | D4: =SUMPRODUCT(SUMIF(INDIRECT("'"&TEXT(DATE(2010,{1,2},1),"mmmm aaaa")&"'!a4:A20"),$A4,INDIRECT("'"&TEXT(DATE(2010,{1,2},1),"mmmm aaaa")&"'!aj4:aj20"))) -> 2 | F4: Ces résultats nécessitent les tableaux des colonnes AH:AJ des feuilles mensuelles
A5: M.Innie | B5: =SUMPRODUCT(SUMIF(INDIRECT("'"&TEXT(DATE(2010,{1,2},1),"mmmm aaaa")&"'!a4:A20"),$A5,INDIRECT("'"&TEXT(DATE(2010,{1,2},1),"mmmm aaaa")&"'!ah4:ah20"))) -> 1 | C5: =SUMPRODUCT(SUMIF(INDIRECT("'"&TEXT(DATE(2010,{1,2},1),"mmmm aaaa")&"'!a4:A20"),$A5,INDIRECT("'"&TEXT(DATE(2010,{1,2},1),"mmmm aaaa")&"'!ai4:ai20"))) -> 1 | D5: =SUMPRODUCT(SUMIF(INDIRECT("'"&TEXT(DATE(2010,{1,2},1),"mmmm aaaa")&"'!a4:A20"),$A5,INDIRECT("'"&TEXT(DATE(2010,{1,2},1),"mmmm aaaa")&"'!aj4:aj20"))) -> 1
A6: P.Icsou | B6: =SUMPRODUCT(SUMIF(INDIRECT("'"&TEXT(DATE(2010,{1,2},1),"mmmm aaaa")&"'!a4:A20"),$A6,INDIRECT("'"&TEXT(DATE(2010,{1,2},1),"mmmm aaaa")&"'!ah4:ah20"))) -> 0 | C6: =SUMPRODUCT(SUMIF(INDIRECT("'"&TEXT(DATE(2010,{1,2},1),"mmmm aaaa")&"'!a4:A20"),$A6,INDIRECT("'"&TEXT(DATE(2010,{1,2},1),"mmmm aaaa")&"'!ai4:ai20"))) -> 0 | D6: =SUMPRODUCT(SUMIF(INDIRECT("'"&TEXT(DATE(2010,{1,2},1),"mmmm aaaa")&"'!a4:A20"),$A6,INDIRECT("'"&TEXT(DATE(2010,{1,2},1),"mmmm aaaa")&"'!aj4:aj20"))) -> 1
A7: D.Onald | B7: =SUMPRODUCT(SUMIF(INDIRECT("'"&TEXT(DATE(2010,{1,2},1),"mmmm aaaa")&"'!a4:A20"),$A7,INDIRECT("'"&TEXT(DATE(2010,{1,2},1),"mmmm aaaa")&"'!ah4:ah20"))) -> 0 | C7: =SUMPRODUCT(SUMIF(INDIRECT("'"&TEXT(DATE(2010,{1,2},1),"mmmm aaaa")&"'!a4:A20"),$A7,INDIRECT("'"&TEXT(DATE(2010,{1,2},1),"mmmm aaaa")&"'!ai4:ai20"))) -> 0 | D7: =SUMPRODUCT(SUMIF(INDIRECT("'"&TEXT(DATE(2010,{1,2},1),"mmmm aaaa")&"'!a4:A20"),$A7,INDIRECT("'"&TEXT(DATE(2010,{1,2},1),"mmmm aaaa")&"'!aj4:aj20"))) -> 1

Sheet Recap2
B1: C | C1: D | D1: E
A2: C.Dupont | B2: =SUMPRODUCT((N(OFFSET(INDIRECT("'"&TEXT(DATE(2010,{1,2},1),"mmmm aaaa")&"'!b2"),,ROW($1:$29)-1))>0)*(T(OFFSET(INDIRECT("'"&TEXT(DATE(2010,{1,2},1),"mmmm aaaa")&"'!b2"),MATCH($A2,'Janvier 2010'!$A$3:$A$19,0),ROW($1:$29)-1))=B$1)) -> 3 | C2: =SUMPRODUCT((N(OFFSET(INDIRECT("'"&TEXT(DATE(2010,{1,2},1),"mmmm aaaa")&"'!b2"),,ROW($1:$29)-1))>0)*(T(OFFSET(INDIRECT("'"&TEXT(DATE(2010,{1,2},1),"mmmm aaaa")&"'!b2"),MATCH($A2,'Janvier 2010'!$A$3:$A$19,0),ROW($1:$29)-1))=C$1)) -> 2 | D2: =SUMPRODUCT((N(OFFSET(INDIRECT("'"&TEXT(DATE(2010,{1,2},1),"mmmm aaaa")&"'!b2"),,ROW($1:$29)-1))>0)*(T(OFFSET(INDIRECT("'"&TEXT(DATE(2010,{1,2},1),"mmmm aaaa")&"'!b2"),MATCH($A2,'Janvier 2010'!$A$3:$A$19,0),ROW($1:$29)-1))=D$1)) -> 0 | F2: Ces résultats NE nécessitent PAS les tableaux des colonnes AH:AJ des feuilles mensuelles
A3: B.Ugs | B3: =SUMPRODUCT((N(OFFSET(INDIRECT("'"&TEXT(DATE(2010,{1,2},1),"mmmm aaaa")&"'!b2"),,ROW($1:$29)-1))>0)*(T(OFFSET(INDIRECT("'"&TEXT(DATE(2010,{1,2},1),"mmmm aaaa")&"'!b2"),MATCH($A3,'Janvier 2010'!$A$3:$A$19,0),ROW($1:$29)-1))=B$1)) -> 2 | C3: =SUMPRODUCT((N(OFFSET(INDIRECT("'"&TEXT(DATE(2010,{1,2},1),"mmmm aaaa")&"'!b2"),,ROW($1:$29)-1))>0)*(T(OFFSET(INDIRECT("'"&TEXT(DATE(2010,{1,2},1),"mmmm aaaa")&"'!b2"),MATCH($A3,'Janvier 2010'!$A$3:$A$19,0),ROW($1:$29)-1))=C$1)) -> 0 | D3: =SUMPRODUCT((N(OFFSET(INDIRECT("'"&TEXT(DATE(2010,{1,2},1),"mmmm aaaa")&"'!b2"),,ROW($1:$29)-1))>0)*(T(OFFSET(INDIRECT("'"&TEXT(DATE(2010,{1,2},1),"mmmm aaaa")&"'!b2"),MATCH($A3,'Janvier 2010'!$A$3:$A$19,0),ROW($1:$29)-1))=D$1)) -> 0 | F3: Mais que les Noms en colonne A des feuilles A soient toujours sur la même ligne.
A4: M.Ickey | B4: =SUMPRODUCT((N(OFFSET(INDIRECT("'"&TEXT(DATE(2010,{1,2},1),"mmmm aaaa")&"'!b2"),,ROW($1:$29)-1))>0)*(T(OFFSET(INDIRECT("'"&TEXT(DATE(2010,{1,2},1),"mmmm aaaa")&"'!b2"),MATCH($A4,'Janvier 2010'!$A$3:$A$19,0),ROW($1:$29)-1))=B$1)) -> 0 | C4: =SUMPRODUCT((N(OFFSET(INDIRECT("'"&TEXT(DATE(2010,{1,2},1),"mmmm aaaa")&"'!b2"),,ROW($1:$29)-1))>0)*(T(OFFSET(INDIRECT("'"&TEXT(DATE(2010,{1,2},1),"mmmm aaaa")&"'!b2"),MATCH($A4,'Janvier 2010'!$A$3:$A$19,0),ROW($1:$29)-1))=C$1)) -> 0 | D4: =SUMPRODUCT((N(OFFSET(INDIRECT("'"&TEXT(DATE(2010,{1,2},1),"mmmm aaaa")&"'!b2"),,ROW($1:$29)-1))>0)*(T(OFFSET(INDIRECT("'"&TEXT(DATE(2010,{1,2},1),"mmmm aaaa")&"'!b2"),MATCH($A4,'Janvier 2010'!$A$3:$A$19,0),ROW($1:$29)-1))=D$1)) -> 2 | F4: Ex C.Dupont doit être sur la même ligne (ici 4)
A5: M.Innie | B5: =SUMPRODUCT((N(OFFSET(INDIRECT("'"&TEXT(DATE(2010,{1,2},1),"mmmm aaaa")&"'!b2"),,ROW($1:$29)-1))>0)*(T(OFFSET(INDIRECT("'"&TEXT(DATE(2010,{1,2},1),"mmmm aaaa")&"'!b2"),MATCH($A5,'Janvier 2010'!$A$3:$A$19,0),ROW($1:$29)-1))=B$1)) -> #N/A | C5: =SUMPRODUCT((N(OFFSET(INDIRECT("'"&TEXT(DATE(2010,{1,2},1),"mmmm aaaa")&"'!b2"),,ROW($1:$29)-1))>0)*(T(OFFSET(INDIRECT("'"&TEXT(DATE(2010,{1,2},1),"mmmm aaaa")&"'!b2"),MATCH($A5,'Janvier 2010'!$A$3:$A$19,0),ROW($1:$29)-1))=C$1)) -> #N/A | D5: =SUMPRODUCT((N(OFFSET(INDIRECT("'"&TEXT(DATE(2010,{1,2},1),"mmmm aaaa")&"'!b2"),,ROW($1:$29)-1))>0)*(T(OFFSET(INDIRECT("'"&TEXT(DATE(2010,{1,2},1),"mmmm aaaa")&"'!b2"),MATCH($A5,'Janvier 2010'!$A$3:$A$19,0),ROW($1:$29)-1))=D$1)) -> #N/A | F5: Sinon
A6: P.Icsou | B6: =SUMPRODUCT((N(OFFSET(INDIRECT("'"&TEXT(DATE(2010,{1,2},1),"mmmm aaaa")&"'!b2"),,ROW($1:$29)-1))>0)*(T(OFFSET(INDIRECT("'"&TEXT(DATE(2010,{1,2},1),"mmmm aaaa")&"'!b2"),MATCH($A6,'Janvier 2010'!$A$3:$A$19,0),ROW($1:$29)-1))=B$1)) -> #N/A | C6: =SUMPRODUCT((N(OFFSET(INDIRECT("'"&TEXT(DATE(2010,{1,2},1),"mmmm aaaa")&"'!b2"),,ROW($1:$29)-1))>0)*(T(OFFSET(INDIRECT("'"&TEXT(DATE(2010,{1,2},1),"mmmm aaaa")&"'!b2"),MATCH($A6,'Janvier 2010'!$A$3:$A$19,0),ROW($1:$29)-1))=C$1)) -> #N/A | D6: =SUMPRODUCT((N(OFFSET(INDIRECT("'"&TEXT(DATE(2010,{1,2},1),"mmmm aaaa")&"'!b2"),,ROW($1:$29)-1))>0)*(T(OFFSET(INDIRECT("'"&TEXT(DATE(2010,{1,2},1),"mmmm aaaa")&"'!b2"),MATCH($A6,'Janvier 2010'!$A$3:$A$19,0),ROW($1:$29)-1))=D$1)) -> #N/A
A7: D.Onald | B7: =SUMPRODUCT((N(OFFSET(INDIRECT("'"&TEXT(DATE(2010,{1,2},1),"mmmm aaaa")&"'!b2"),,ROW($1:$29)-1))>0)*(T(OFFSET(INDIRECT("'"&TEXT(DATE(2010,{1,2},1),"mmmm aaaa")&"'!b2"),MATCH($A7,'Janvier 2010'!$A$3:$A$19,0),ROW($1:$29)-1))=B$1)) -> 1 | C7: =SUMPRODUCT((N(OFFSET(INDIRECT("'"&TEXT(DATE(2010,{1,2},1),"mmmm aaaa")&"'!b2"),,ROW($1:$29)-1))>0)*(T(OFFSET(INDIRECT("'"&TEXT(DATE(2010,{1,2},1),"mmmm aaaa")&"'!b2"),MATCH($A7,'Janvier 2010'!$A$3:$A$19,0),ROW($1:$29)-1))=C$1)) -> 1 | D7: =SUMPRODUCT((N(OFFSET(INDIRECT("'"&TEXT(DATE(2010,{1,2},1),"mmmm aaaa")&"'!b2"),,ROW($1:$29)-1))>0)*(T(OFFSET(INDIRECT("'"&TEXT(DATE(2010,{1,2},1),"mmmm aaaa")&"'!b2"),MATCH($A7,'Janvier 2010'!$A$3:$A$19,0),ROW($1:$29)-1))=D$1)) -> 2
