Workbook
Name code_salle: [1]Ges_Instal!$A$3:$B$42

Sheet Feuil1
A1: Jc-Salle1 | C1: 1 | D1: LUNDI | I1: MARDI | N1: MERCREDI | Q1: JEUDI | V1: VENDREDI
C2: 18 | D2: 8H35- 10H25 | E2: 10H40- 12H30 | F2: 14H00- 15H45 | G2: 16H00- 17H50 | H2: Mardi | I2: 8H35- 10H25 | J2: 10H40- 12H30 | K2: 14H00- 15H45 | L2: 16H00- 17H50 | M2: Mercredi | N2: 8H35- 10H25 | O2: 10H40- 12H30 | P2: Jeudi | Q2: 8H35- 10H25 | R2: 10H40- 12H30 | S2: 14H00- 15H45 | T2: 16H00- 17H50 | U2: Vendredi | V2: 8H35- 10H25 | W2: 10H40- 12H30 | X2: 14H00- 15H45 | Y2: 16H00- 17H50
D3: M1 | E3: M3 | F3: S2 | G3: S4 | I3: M1 | J3: M3 | K3: S2 | L3: S4 | N3: M1 | O3: M3 | Q3: M1 | R3: M3 | S3: S2 | T3: S4 | V3: M1 | W3: M3 | X3: S2 | Y3: S4
A4: 36 | B4: a | C4: 41883 | H4: 41884 | M4: 41885 | N4: Jc- | O4: Jc- | P4: 41886 | Q4: Jc- | S4: Jc- | T4: Jc- | U4: 41887 | V4: Jc- | W4: Jc- | X4: Jc- | Y4: Jc- | AA4: Jc-Salle1
A5: 37 | B5: b | C5: 41890 | D5: Jc- | E5: Jc- | F5: Jc- | G5: Jc- | H5: 41891 | I5: Jc- | J5: Jc- | K5: Jc- | L5: Jc- | M5: 41892 | N5: Jc- | P5: 41893 | Q5: Jc- | R5: Jc- | S5: Jc- | T5: Jc- | U5: 41894 | V5: Jc- | W5: Jc- | X5: Jc- | Y5: Jc- | AA5: 398
A6: 38 | B6: a | C6: 41897 | D6: Jc- | E6: Jc- | F6: Jc- | G6: Jc- | H6: 41898 | I6: Jc- | J6: Jc- | K6: Jc- | L6: Jc- | M6: 41899 | N6: Jc- | O6: Jc- | P6: 41900 | Q6: Jc- | S6: Jc- | T6: Jc- | U6: 41901
A7: 39 | B7: b | C7: 41904 | D7: Jc- | E7: Jc- | F7: Jc- | G7: Jc- | H7: 41905 | I7: Jc- | J7: Jc- | K7: Jc- | L7: Jc- | M7: 41906 | N7: Jc- | P7: 41907 | Q7: Jc- | R7: Jc- | S7: Jc- | T7: Jc- | U7: 41908 | V7: Jc- | W7: Jc- | X7: Jc- | Y7: Jc-
A8: 40 | B8: a | C8: 41911 | D8: Jc- | F8: Jc- | G8: Jc- | H8: 41912 | I8: Jc- | J8: Jc- | K8: Jc- | L8: Jc- | M8: 41913 | N8: Jc- | O8: Jc- | P8: 41914 | Q8: Jc- | S8: Jc- | T8: Jc- | U8: 41915 | V8: Jc- | W8: Jc- | X8: Jc- | Y8: Jc-
A9: 41 | B9: b | C9: 41918 | D9: Jc- | F9: Jc- | G9: Jc- | H9: 41919 | I9: Jc- | J9: Jc- | K9: Jc- | L9: Jc- | M9: 41920 | N9: Jc- | P9: 41921 | Q9: Jc- | R9: Jc- | S9: Jc- | T9: Jc- | U9: 41922 | V9: Jc- | W9: Jc- | X9: Jc- | Y9: Jc-
A10: 42 | B10: a | C10: 41925 | D10: Jc- | F10: Jc- | G10: Jc- | H10: 41926 | I10: Jc- | J10: Jc- | K10: Jc- | L10: Jc- | M10: 41927 | N10: Jc- | P10: 41928 | Q10: Jc- | S10: Jc- | T10: Jc- | U10: 41929 | W10: Jc- | X10: Jc- | Y10: Jc-
A11: 43 | B11: b | C11: 41932 | H11: 41933 | M11: 41934 | P11: 41935 | U11: 41936
A12: 44 | B12: a | C12: 41939 | H12: 41940 | M12: 41941 | P12: 41942 | U12: 41943
A13: 45 | B13: b | C13: 41946 | D13: Jc- | F13: Jc- | G13: Jc- | H13: 41947 | I13: Jc- | J13: Jc- | K13: Jc- | L13: Jc- | M13: 41948 | N13: Jc- | P13: 41949 | Q13: Jc- | R13: Jc- | S13: Jc- | U13: 41950 | V13: Jc- | W13: Jc- | X13: Jc- | Y13: Jc-
A14: 46 | B14: a | C14: 41953 | D14: Jc- | E14: Jc- | F14: Jc- | G14: Jc- | H14: 41954 | M14: 41955 | N14: Jc- | P14: 41956 | Q14: Jc- | S14: Jc- | U14: 41957 | V14: Jc- | X14: Jc- | Y14: Jc-
A15: 47 | B15: b | C15: 41960 | D15: Jc- | F15: Jc- | G15: Jc- | H15: 41961 | I15: Jc- | K15: Jc- | L15: Jc- | M15: 41962 | P15: 41963 | Q15: Jc- | R15: Jc- | U15: 41964 | V15: Jc- | X15: Jc- | Y15: Jc-
A16: 48 | B16: a | C16: 41967 | E16: Jc- | H16: 41968 | I16: Jc- | K16: Jc- | M16: 41969 | P16: 41970 | S16: Jc- | U16: 41971 | V16: Jc- | X16: Jc- | Y16: Jc-
A17: 49 | B17: b | C17: 41974 | G17: Jc- | H17: 41975 | I17: Jc- | K17: Jc- | M17: 41976 | P17: 41977 | R17: Jc- | S17: Jc- | T17: Jc- | U17: 41978 | V17: Jc- | X17: Jc- | Y17: Jc-
A18: 50 | B18: a | C18: 41981 | E18: Jc- | G18: Jc- | H18: 41982 | I18: Jc- | K18: Jc- | M18: 41983 | P18: 41984 | S18: Jc- | T18: Jc- | U18: 41985 | V18: Jc- | X18: Jc- | Y18: Jc-
A19: 51 | B19: b | C19: 41988 | G19: Jc- | H19: 41989 | I19: Jc- | K19: Jc- | M19: 41990 | P19: 41991 | R19: Jc- | S19: Jc- | T19: Jc- | U19: 41992
A20: 52 | B20: a | C20: 41995 | H20: 41996 | M20: 41997 | P20: 41998 | U20: 41999
A21: 1 | B21: b | C21: 42002 | H21: 42003 | M21: 42004 | P21: 42005 | U21: 42006
A22: 2 | B22: a | C22: 42009 | D22: Jc- | E22: Jc- | F22: Jc- | G22: Jc- | H22: 42010 | I22: Jc- | J22: Jc- | K22: Jc- | L22: Jc- | M22: 42011 | P22: 42012 | Q22: Jc- | S22: Jc- | U22: 42013 | W22: Jc- | X22: Jc-
A23: 3 | B23: b | C23: 42016 | D23: Jc- | F23: Jc- | G23: Jc- | H23: 42017 | I23: Jc- | K23: Jc- | M23: 42018 | N23: Jc- | P23: 42019 | Q23: Jc- | R23: Jc- | S23: Jc- | T23: Jc- | U23: 42020 | V23: Jc- | X23: Jc-
A24: 4 | B24: a | C24: 42023 | D24: Jc- | E24: Jc- | F24: Jc- | G24: Jc- | H24: 42024 | I24: Jc- | K24: Jc- | L24: Jc- | M24: 42025 | N24: Jc- | O24: Jc- | P24: 42026 | R24: Jc- | S24: Jc- | T24: Jc- | U24: 42027 | V24: Jc- | X24: Jc-
A25: 5 | B25: b | C25: 42030 | D25: Jc- | F25: Jc- | H25: 42031 | I25: Jc- | K25: Jc- | L25: Jc- | M25: 42032 | P25: 42033 | Q25: Jc- | R25: Jc- | S25: Jc- | T25: Jc- | U25: 42034 | X25: Jc-
A26: 6 | B26: a | C26: 42037 | D26: Jc- | F26: Jc- | H26: 42038 | I26: Jc- | J26: Jc- | K26: Jc- | L26: Jc- | M26: 42039 | O26: Jc- | P26: 42040 | Q26: Jc- | R26: Jc- | S26: Jc- | T26: Jc- | U26: 42041 | W26: Jc- | X26: Jc- | Y26: Jc-
A27: 7 | B27: b | C27: 42044 | D27: Jc- | F27: Jc- | H27: 42045 | K27: Jc- | L27: Jc- | M27: 42046 | P27: 42047 | Q27: Jc- | R27: Jc- | S27: Jc- | T27: Jc- | U27: 42048 | X27: Jc- | Y27: Jc-
A28: 8 | B28: a | C28: 42051 | F28: Jc- | H28: 42052 | I28: Jc- | J28: Jc- | K28: Jc- | L28: Jc- | M28: 42053 | O28: Jc- | P28: 42054 | Q28: Jc- | R28: Jc- | S28: Jc- | T28: Jc- | U28: 42055 | W28: Jc- | X28: Jc- | Y28: Jc-
A29: 9 | B29: b | C29: 42058 | H29: 42059 | M29: 42060 | P29: 42061 | U29: 42062
A30: 10 | B30: a | C30: 42065 | H30: 42066 | M30: 42067 | P30: 42068 | U30: 42069
A31: 11 | B31: b | C31: 42072 | F31: Jc- | G31: Jc- | H31: 42073 | I31: Jc- | J31: Jc- | K31: Jc- | L31: Jc- | M31: 42074 | N31: Jc- | P31: 42075 | Q31: Jc- | R31: Jc- | S31: Jc- | T31: Jc- | U31: 42076 | V31: Jc- | W31: Jc-
A32: 12 | B32: a | C32: 42079 | E32: Jc- | F32: Jc- | G32: Jc- | H32: 42080 | I32: Jc- | J32: Jc- | K32: Jc- | L32: Jc- | M32: 42081 | N32: Jc- | P32: 42082 | Q32: Jc- | R32: Jc- | S32: Jc- | T32: Jc- | U32: 42083 | V32: Jc- | W32: Jc-
A33: 13 | B33: b | C33: 42086 | F33: Jc- | G33: Jc- | H33: 42087 | I33: Jc- | J33: Jc- | K33: Jc- | L33: Jc- | M33: 42088 | N33: Jc- | P33: 42089 | Q33: Jc- | R33: Jc- | S33: Jc- | T33: Jc- | U33: 42090 | V33: Jc- | W33: Jc-
A34: 14 | B34: a | C34: 42093 | E34: Jc- | G34: Jc- | H34: 42094 | I34: Jc- | J34: Jc- | K34: Jc- | L34: Jc- | M34: 42095 | N34: Jc- | P34: 42096 | Q34: Jc- | S34: Jc- | U34: 42097 | V34: Jc- | W34: Jc-
A35: 15 | B35: b | C35: 42100 | H35: 42101 | I35: Jc- | J35: Jc- | K35: Jc- | L35: Jc- | M35: 42102 | N35: Jc- | P35: 42103 | Q35: Jc- | S35: Jc- | U35: 42104 | V35: Jc- | W35: Jc-
A36: 16 | B36: a | C36: 42107 | D36: Jc- | E36: Jc- | G36: Jc- | H36: 42108 | I36: Jc- | J36: Jc- | K36: Jc- | L36: Jc- | M36: 42109 | N36: Jc- | O36: Jc- | P36: 42110 | Q36: Jc- | S36: Jc- | U36: 42111 | V36: Jc- | W36: Jc-
A37: 17 | B37: b | C37: 42114 | D37: Jc- | G37: Jc- | H37: 42115 | I37: Jc- | J37: Jc- | K37: Jc- | L37: Jc- | M37: 42116 | N37: Jc- | P37: 42117 | Q37: Jc- | S37: Jc- | U37: 42118 | V37: Jc- | W37: Jc-
A38: 18 | B38: a | C38: 42121 | H38: 42122 | M38: 42123 | P38: 42124 | U38: 42125
A39: 19 | B39: b | C39: 42128 | H39: 42129 | M39: 42130 | P39: 42131 | U39: 42132
A40: 20 | B40: a | C40: 42135 | D40: Jc- | E40: Jc- | F40: Jc- | G40: Jc- | H40: 42136 | I40: Jc- | J40: Jc- | K40: Jc- | L40: Jc- | M40: 42137 | N40: Jc- | O40: Jc- | P40: 42138 | U40: 42139 | V40: Jc-
A41: 21 | B41: b | C41: 42142 | D41: Jc- | F41: Jc- | G41: Jc- | H41: 42143 | I41: Jc- | J41: Jc- | K41: Jc- | L41: Jc- | M41: 42144 | N41: Jc- | P41: 42145 | Q41: Jc- | R41: Jc- | S41: Jc- | T41: Jc- | U41: 42146 | V41: Jc- | X41: Jc-
A42: 22 | B42: a | C42: 42149 | H42: 42150 | I42: Jc- | J42: Jc- | K42: Jc- | L42: Jc- | M42: 42151 | N42: Jc- | O42: Jc- | P42: 42152 | Q42: Jc- | R42: Jc- | S42: Jc- | T42: Jc- | U42: 42153 | V42: Jc- | W42: Jc- | X42: Jc-
A43: 23 | B43: b | C43: 42156 | D43: Jc- | H43: 42157 | I43: Jc- | M43: 42158 | N43: Jc- | P43: 42159 | Q43: Jc- | R43: Jc- | S43: Jc- | T43: Jc- | U43: 42160
A44: 24 | B44: a | C44: 42163 | D44: Jc- | E44: Jc- | H44: 42164 | I44: Jc- | M44: 42165 | N44: Jc- | O44: Jc- | P44: 42166 | Q44: Jc- | R44: Jc- | S44: Jc- | T44: Jc- | U44: 42167 | W44: Jc-
A45: 25 | B45: b | C45: 42170 | H45: 42171 | M45: 42172 | N45: Jc- | P45: 42173 | S45: Jc- | U45: 42174
A46: 26 | B46: a | C46: 42177 | H46: 42178 | M46: 42179 | P46: 42180 | S46: Jc- | U46: 42181
A47: 27 | B47: b | C47: 42184 | H47: 42185 | M47: 42186 | N47: Jc- | P47: 42187 | S47: Jc- | U47: 42188
A49: Jc-Salle2 | C49: 2 | D49: LUNDI | I49: MARDI | N49: MERCREDI | Q49: JEUDI | V49: VENDREDI
C50: 18 | D50: 8H35- 10H25 | E50: 10H40- 12H30 | F50: 14H00- 15H45 | G50: 16H00- 17H50 | H50: Mardi | I50: 8H35- 10H25 | J50: 10H40- 12H30 | K50: 14H00- 15H45 | L50: 16H00- 17H50 | M50: Mercredi | N50: 8H35- 10H25 | O50: 10H40- 12H30 | P50: Jeudi | Q50: 8H35- 10H25 | R50: 10H40- 12H30 | S50: 14H00- 15H45 | T50: 16H00- 17H50 | U50: Vendredi | V50: 8H35- 10H25 | W50: 10H40- 12H30 | X50: 14H00- 15H45 | Y50: 16H00- 17H50
D51: M1 | E51: M3 | F51: S2 | G51: S4 | I51: M1 | J51: M3 | K51: S2 | L51: S4 | N51: M1 | O51: M3 | Q51: M1 | R51: M3 | S51: S2 | T51: S4 | V51: M1 | W51: M3 | X51: S2 | Y51: S4
A52: 36 | B52: a | C52: 41883 | H52: 41884 | M52: 41885 | P52: 41886 | U52: 41887 | AA52: Jc-Salle2
A53: 37 | B53: b | C53: 41890 | H53: 41891 | M53: 41892 | P53: 41893 | U53: 41894 | AA53: 0
A54: 38 | B54: a | C54: 41897 | H54: 41898 | M54: 41899 | P54: 41900 | U54: 41901
A55: 39 | B55: b | C55: 41904 | H55: 41905 | M55: 41906 | P55: 41907 | U55: 41908
A56: 40 | B56: a | C56: 41911 | H56: 41912 | M56: 41913 | P56: 41914 | U56: 41915
A57: 41 | B57: b | C57: 41918 | H57: 41919 | M57: 41920 | P57: 41921 | U57: 41922
A58: 42 | B58: a | C58: 41925 | H58: 41926 | M58: 41927 | P58: 41928 | U58: 41929
A59: 43 | B59: b | C59: 41932 | H59: 41933 | M59: 41934 | P59: 41935 | U59: 41936
A60: 44 | B60: a | C60: 41939 | H60: 41940 | M60: 41941 | P60: 41942 | U60: 41943
A61: 45 | B61: b | C61: 41946 | H61: 41947 | M61: 41948 | P61: 41949 | U61: 41950
A62: 46 | B62: a | C62: 41953 | H62: 41954 | M62: 41955 | P62: 41956 | U62: 41957
A63: 47 | B63: b | C63: 41960 | H63: 41961 | M63: 41962 | P63: 41963 | U63: 41964
A64: 48 | B64: a | C64: 41967 | H64: 41968 | M64: 41969 | P64: 41970 | U64: 41971
A65: 49 | B65: b | C65: 41974 | H65: 41975 | M65: 41976 | P65: 41977 | U65: 41978
... A95: 27 | B95: b | C95: 42184 | H95: 42185 | M95: 42186 | P95: 42187 | U95: 42188
A97: Jc-plateau | C97: 3 | D97: LUNDI | I97: MARDI | N97: MERCREDI | Q97: JEUDI | V97: VENDREDI
C98: Lundi | D98: 8H35- 10H25 | E98: 10H40- 12H30 | F98: 14H00- 15H45 | G98: 16H00- 17H50 | H98: Mardi | I98: 8H35- 10H25 | J98: 10H40- 12H30 | K98: 14H00- 15H45 | L98: 16H00- 17H50 | M98: Mercredi | N98: 8H35- 10H25 | O98: 10H40- 12H30 | P98: Jeudi | Q98: 8H35- 10H25 | R98: 10H40- 12H30 | S98: 14H00- 15H45 | T98: 16H00- 17H50 | U98: Vendredi | V98: 8H35- 10H25 | W98: 10H40- 12H30 | X98: 14H00- 15H45 | Y98: 16H00- 17H50
D99: M1 | E99: M3 | F99: S2 | G99: S4 | I99: M1 | J99: M3 | K99: S2 | L99: S4 | N99: M1 | O99: M3 | Q99: M1 | R99: M3 | S99: S2 | T99: S4 | V99: M1 | W99: M3 | X99: S2 | Y99: S4
A100: 36 | B100: a | C100: 41883 | H100: 41884 | M100: 41885 | P100: 41886 | Q100: Jc- | U100: 41887 | AA100: Jc-plateau
A101: 37 | B101: b | C101: 41890 | H101: 41891 | J101: Jc- | M101: 41892 | P101: 41893 | Q101: Jc- | U101: 41894 | AA101: 59
A102: 38 | B102: a | C102: 41897 | H102: 41898 | J102: Jc- | M102: 41899 | P102: 41900 | Q102: Jc- | U102: 41901
A103: 39 | B103: b | C103: 41904 | H103: 41905 | J103: Jc- | M103: 41906 | P103: 41907 | Q103: Jc- | U103: 41908
A104: 40 | B104: a | C104: 41911 | H104: 41912 | J104: Jc- | M104: 41913 | P104: 41914 | Q104: Jc- | U104: 41915
A105: 41 | B105: b | C105: 41918 | H105: 41919 | J105: Jc- | M105: 41920 | P105: 41921 | Q105: Jc- | U105: 41922
A106: 42 | B106: a | C106: 41925 | H106: 41926 | J106: Jc- | M106: 41927 | P106: 41928 | Q106: Jc- | U106: 41929
A107: 43 | B107: b | C107: 41932 | H107: 41933 | M107: 41934 | P107: 41935 | U107: 41936
A108: 44 | B108: a | C108: 41939 | H108: 41940 | M108: 41941 | P108: 41942 | U108: 41943
A109: 45 | B109: b | C109: 41946 | H109: 41947 | J109: Jc- | M109: 41948 | P109: 41949 | Q109: Jc- | U109: 41950
A110: 46 | B110: a | C110: 41953 | H110: 41954 | M110: 41955 | P110: 41956 | Q110: Jc- | U110: 41957
A111: 47 | B111: b | C111: 41960 | H111: 41961 | M111: 41962 | P111: 41963 | Q111: Jc- | U111: 41964
A112: 48 | B112: a | C112: 41967 | H112: 41968 | M112: 41969 | P112: 41970 | U112: 41971
A113: 49 | B113: b | C113: 41974 | H113: 41975 | J113: Jc- | M113: 41976 | P113: 41977 | U113: 41978
A114: 50 | B114: a | C114: 41981 | H114: 41982 | J114: Jc- | M114: 41983 | P114: 41984 | U114: 41985
A115: 51 | B115: b | C115: 41988 | H115: 41989 | J115: Jc- | M115: 41990 | P115: 41991 | U115: 41992
A116: 52 | B116: a | C116: 41995 | H116: 41996 | M116: 41997 | P116: 41998 | U116: 41999
A117: 1 | B117: b | C117: 42002 | H117: 42003 | M117: 42004 | P117: 42005 | U117: 42006
A118: 2 | B118: a | C118: 42009 | H118: 42010 | J118: Jc- | M118: 42011 | P118: 42012 | U118: 42013
A119: 3 | B119: b | C119: 42016 | H119: 42017 | J119: Jc- | M119: 42018 | P119: 42019 | U119: 42020
A120: 4 | B120: a | C120: 42023 | H120: 42024 | J120: Jc- | M120: 42025 | P120: 42026 | U120: 42027
A121: 5 | B121: b | C121: 42030 | H121: 42031 | J121: Jc- | M121: 42032 | P121: 42033 | U121: 42034
A122: 6 | B122: a | C122: 42037 | H122: 42038 | J122: Jc- | M122: 42039 | P122: 42040 | U122: 42041
A123: 7 | B123: b | C123: 42044 | H123: 42045 | M123: 42046 | P123: 42047 | U123: 42048
A124: 8 | B124: a | C124: 42051 | H124: 42052 | M124: 42053 | P124: 42054 | U124: 42055
A125: 9 | B125: b | C125: 42058 | H125: 42059 | M125: 42060 | P125: 42061 | U125: 42062
A126: 10 | B126: a | C126: 42065 | H126: 42066 | M126: 42067 | P126: 42068 | U126: 42069
A127: 11 | B127: b | C127: 42072 | H127: 42073 | J127: Jc- | M127: 42074 | N127: Jc- | P127: 42075 | U127: 42076
A128: 12 | B128: a | C128: 42079 | H128: 42080 | J128: Jc- | M128: 42081 | N128: Jc- | P128: 42082 | U128: 42083
A129: 13 | B129: b | C129: 42086 | H129: 42087 | J129: Jc- | M129: 42088 | N129: Jc- | P129: 42089 | U129: 42090
A130: 14 | B130: a | C130: 42093 | H130: 42094 | J130: Jc- | M130: 42095 | N130: Jc- | P130: 42096 | U130: 42097
A131: 15 | B131: b | C131: 42100 | H131: 42101 | J131: Jc- | M131: 42102 | N131: Jc- | P131: 42103 | U131: 42104
...

Sheet tableau
A1: Listing des installations sportives
A2: N° | B2: Nom | C2: Nbre d'utilisation
A3: 1 | B3: Jc-Salle1 | C3: =INDIRECT("Feuil1!AA"&MATCH(B3,Feuil1!AA:AA,0)+1) -> 398
A4: 2 | B4: Jc-Salle2 | C4: =INDIRECT("Feuil1!AA"&MATCH(B4,Feuil1!AA:AA,0)+1) -> 0
A5: 3 | B5: Jc-plateau | C5: =INDIRECT("Feuil1!AA"&MATCH(B5,Feuil1!AA:AA,0)+1) -> 59
A6: 4 | B6: Lp-Muscu | C6: =INDIRECT("Feuil1!AA"&MATCH(B6,Feuil1!AA:AA,0)+1) -> 7
A7: 5 | B7: Jc-Herbe | C7: =INDIRECT("Feuil1!AA"&MATCH(B7,Feuil1!AA:AA,0)+1) -> 0
A8: 6 | B8: Jc-Sautoir | C8: =INDIRECT("Feuil1!AA"&MATCH(B8,Feuil1!AA:AA,0)+1) -> 0
A9: 7 | B9: Jc-Lancers | C9: =INDIRECT("Feuil1!AA"&MATCH(B9,Feuil1!AA:AA,0)+1) -> 0
A10: 8 | B10: LP-Poly2 | C10: =INDIRECT("Feuil1!AA"&MATCH(B10,Feuil1!AA:AA,0)+1) -> 0
A11: 9 | B11: Bouchard-Mur | C11: =INDIRECT("Feuil1!AA"&MATCH(B11,Feuil1!AA:AA,0)+1) -> 141
A12: 10 | B12: Bouchard-Salle | C12: =INDIRECT("Feuil1!AA"&MATCH(B12,Feuil1!AA:AA,0)+1) -> 36
A13: 11 | B13: Bouchard-Herbe | C13: =INDIRECT("Feuil1!AA"&MATCH(B13,Feuil1!AA:AA,0)+1) -> 0
A14: 12 | B14: Stade-Piste | C14: =INDIRECT("Feuil1!AA"&MATCH(B14,Feuil1!AA:AA,0)+1) -> 40
... A32: 30 | B32: Car-Pis | C32: =INDIRECT("Feuil1!AA"&MATCH(B32,Feuil1!AA:AA,0)+1) -> 0
A33: 31
A34: 32
A35: 33
A36: 34
A37: 35
A38: 36
A39: 37
A40: 38
A41: 39
A42: 40

Sheet Feuil3
