Workbook

Sheet TARIF
B1: COUT DE LA NUIT D'HOTEL
A2: DESTINATION | B2: ¶¶ | C2: ¶¶¶ | D2: ¶¶¶¶ | E2: COUT VOYAGE ALLER/RETOUR
A3: AMSTERDAM | B3: 240 | C3: 288 | D3: 360 | E3: 850
A4: BASTIA | B4: 135 | C4: 162 | D4: 205 | E4: 950
A5: GENEVE | B5: 400 | C5: 480 | D5: 600 | E5: 620
A6: LE CAIRE | B6: 190 | C6: 228 | D6: 285 | E6: 1200
A7: LONDRES | B7: 210 | C7: 252 | D7: 315 | E7: 980
A8: MADRID | B8: 220 | C8: 264 | D8: 330 | E8: 670
A9: MAHE | B9: 260 | C9: 312 | D9: 390 | E9: 3800
A10: MALTE | B10: 280 | C10: 336 | D10: 420 | E10: 4100
A11: MARSEILLE | B11: 120 | C11: 153 | D11: 250 | E11: 840
A12: NEW-YORK | B12: 310 | C12: 372 | D12: 465 | E12: 2800
A13: ROME | B13: 190 | C13: 228 | D13: 285 | E13: 450
A14: TOULOUSE | B14: 90 | C14: 120 | D14: 150 | E14: 550
A15: VIENNE | B15: 340 | C15: 408 | D15: 510 | E15: 630

Sheet VOLS
A1: DESTINATION | B1: DATE D'ARRIVEE | C1: DATE DE DEPART | D1: TYPE D'HOTEL (1/2/3 ¶) | E1: DUREE(J) | F1: COUT DU VOL | G1: COUT D'UNE NUIT D'HOTEL | H1: COUT DU SEJOUR
A2: LONDRES | B2: 37294 | C2: 37302 | D2: ¶¶ | E2: =C2-B2 -> 8 | F2: =LOOKUP(A2,TARIF!$A$3:$E$15) -> 980 | G2: =OFFSET(TARIF!$A$2,MATCH(A2,TARIF!$A$3:$A$15,0),MATCH(D2,TARIF!$B$2:$D$2,0)) -> 210
A3: GENEVE | B3: 37317 | C3: 37335 | D3: ¶¶¶ | E3: =C3-B3 -> 18 | F3: =LOOKUP(A3,TARIF!$A$3:$E$15) -> 620 | G3: =OFFSET(TARIF!$A$2,MATCH(A3,TARIF!$A$3:$A$15,0),MATCH(D3,TARIF!$B$2:$D$2,0)) -> 480
A4: BASTIA | B4: 37351 | C4: 37361 | D4: ¶¶ | E4: =C4-B4 -> 10 | F4: =LOOKUP(A4,TARIF!$A$3:$E$15) -> 950 | G4: =OFFSET(TARIF!$A$2,MATCH(A4,TARIF!$A$3:$A$15,0),MATCH(D4,TARIF!$B$2:$D$2,0)) -> 135
A5: TOULOUSE | B5: 37371 | C5: 37386 | D5: ¶¶¶ | E5: =C5-B5 -> 15 | F5: =LOOKUP(A5,TARIF!$A$3:$E$15) -> 550 | G5: =OFFSET(TARIF!$A$2,MATCH(A5,TARIF!$A$3:$A$15,0),MATCH(D5,TARIF!$B$2:$D$2,0)) -> 120
A6: MARSEILLE | B6: 37439 | C6: 37468 | D6: ¶¶¶¶ | E6: =C6-B6 -> 29 | F6: =LOOKUP(A6,TARIF!$A$3:$E$15) -> 840 | G6: =OFFSET(TARIF!$A$2,MATCH(A6,TARIF!$A$3:$A$15,0),MATCH(D6,TARIF!$B$2:$D$2,0)) -> 250
A7: VIENNE | B7: 37419 | C7: 37427 | D7: ¶¶¶¶ | E7: =C7-B7 -> 8 | F7: =LOOKUP(A7,TARIF!$A$3:$E$15) -> 630 | G7: =OFFSET(TARIF!$A$2,MATCH(A7,TARIF!$A$3:$A$15,0),MATCH(D7,TARIF!$B$2:$D$2,0)) -> 510
A8: MADRID | B8: 37469 | C8: 37498 | D8: ¶¶ | E8: =C8-B8 -> 29 | F8: =LOOKUP(A8,TARIF!$A$3:$E$15) -> 670 | G8: =OFFSET(TARIF!$A$2,MATCH(A8,TARIF!$A$3:$A$15,0),MATCH(D8,TARIF!$B$2:$D$2,0)) -> 220
A9: NEW-YORK | B9: 37352 | C9: 37356 | D9: ¶¶ | E9: =C9-B9 -> 4 | F9: =LOOKUP(A9,TARIF!$A$3:$E$15) -> 2800 | G9: =OFFSET(TARIF!$A$2,MATCH(A9,TARIF!$A$3:$A$15,0),MATCH(D9,TARIF!$B$2:$D$2,0)) -> 310
A10: GENEVE | B10: 37388 | C10: 37393 | D10: ¶¶¶ | E10: =C10-B10 -> 5 | F10: =LOOKUP(A10,TARIF!$A$3:$E$15) -> 620 | G10: =OFFSET(TARIF!$A$2,MATCH(A10,TARIF!$A$3:$A$15,0),MATCH(D10,TARIF!$B$2:$D$2,0)) -> 480
A11: MAHE | B11: 37382 | C11: 37396 | D11: ¶¶¶¶ | E11: =C11-B11 -> 14 | F11: =LOOKUP(A11,TARIF!$A$3:$E$15) -> 3800 | G11: =OFFSET(TARIF!$A$2,MATCH(A11,TARIF!$A$3:$A$15,0),MATCH(D11,TARIF!$B$2:$D$2,0)) -> 390
A12: ROME | B12: 37451 | C12: 37478 | D12: ¶¶¶¶ | E12: =C12-B12 -> 27 | F12: =LOOKUP(A12,TARIF!$A$3:$E$15) -> 450 | G12: =OFFSET(TARIF!$A$2,MATCH(A12,TARIF!$A$3:$A$15,0),MATCH(D12,TARIF!$B$2:$D$2,0)) -> 285
A13: AMSTERDAM | B13: 37335 | C13: 37343 | D13: ¶¶¶¶ | E13: =C13-B13 -> 8 | F13: =LOOKUP(A13,TARIF!$A$3:$E$15) -> 850 | G13: =OFFSET(TARIF!$A$2,MATCH(A13,TARIF!$A$3:$A$15,0),MATCH(D13,TARIF!$B$2:$D$2,0)) -> 360
... A24: BASTIA | B24: 37417 | C24: 37447 | D24: ¶¶¶¶ | E24: =C24-B24 -> 30 | F24: =LOOKUP(A24,TARIF!$A$3:$E$15) -> 950 | G24: =OFFSET(TARIF!$A$2,MATCH(A24,TARIF!$A$3:$A$15,0),MATCH(D24,TARIF!$B$2:$D$2,0)) -> 205

Sheet Feuil3
