Workbook

Sheet Feuil1
J1: PDL A | AX1: RAF recevable | AY1: RAF affecté à | AZ1: Date traitement Petra | BA1: Date appel sortant vers le client | BB1: Date retour AR Client | BC1: Date de validation | BD1: Réclamation
J2: 1 | AX2: =IF(ISNA(VLOOKUP($J2,Feuil2!$A$2:$J$11,COLUMN()-46,FALSE)),"",IF(VLOOKUP($J2,Feuil2!$A$2:$J$11,COLUMN()-46,FALSE)=0,"",VLOOKUP($J2,Feuil2!$A$2:$J$11,COLUMN()-46,FALSE))) | AY2: =IF(ISNA(VLOOKUP($J2,Feuil2!$A$2:$J$11,COLUMN()-46,FALSE)),"",IF(VLOOKUP($J2,Feuil2!$A$2:$J$11,COLUMN()-46,FALSE)=0,"",VLOOKUP($J2,Feuil2!$A$2:$J$11,COLUMN()-46,FALSE))) | AZ2: =IF(ISNA(VLOOKUP($J2,Feuil2!$A$2:$J$11,COLUMN()-46,FALSE)),"",IF(VLOOKUP($J2,Feuil2!$A$2:$J$11,COLUMN()-46,FALSE)=0,"",VLOOKUP($J2,Feuil2!$A$2:$J$11,COLUMN()-46,FALSE))) | BA2: =IF(ISNA(VLOOKUP($J2,Feuil2!$A$2:$J$11,COLUMN()-46,FALSE)),"",IF(VLOOKUP($J2,Feuil2!$A$2:$J$11,COLUMN()-46,FALSE)=0,"",VLOOKUP($J2,Feuil2!$A$2:$J$11,COLUMN()-46,FALSE))) | BB2: =IF(ISNA(VLOOKUP($J2,Feuil2!$A$2:$J$11,COLUMN()-46,FALSE)),"",IF(VLOOKUP($J2,Feuil2!$A$2:$J$11,COLUMN()-46,FALSE)=0,"",VLOOKUP($J2,Feuil2!$A$2:$J$11,COLUMN()-46,FALSE))) | BC2: =IF(ISNA(VLOOKUP($J2,Feuil2!$A$2:$J$11,COLUMN()-46,FALSE)),"",IF(VLOOKUP($J2,Feuil2!$A$2:$J$11,COLUMN()-46,FALSE)=0,"",VLOOKUP($J2,Feuil2!$A$2:$J$11,COLUMN()-46,FALSE))) | BD2: =IF(ISNA(VLOOKUP($J2,Feuil2!$A$2:$J$11,COLUMN()-46,FALSE)),"",IF(VLOOKUP($J2,Feuil2!$A$2:$J$11,COLUMN()-46,FALSE)=0,"",VLOOKUP($J2,Feuil2!$A$2:$J$11,COLUMN()-46,FALSE)))
J3: 2 | AX3: =IF(ISNA(VLOOKUP($J3,Feuil2!$A$2:$J$11,COLUMN()-46,FALSE)),"",IF(VLOOKUP($J3,Feuil2!$A$2:$J$11,COLUMN()-46,FALSE)=0,"",VLOOKUP($J3,Feuil2!$A$2:$J$11,COLUMN()-46,FALSE))) | AY3: =IF(ISNA(VLOOKUP($J3,Feuil2!$A$2:$J$11,COLUMN()-46,FALSE)),"",IF(VLOOKUP($J3,Feuil2!$A$2:$J$11,COLUMN()-46,FALSE)=0,"",VLOOKUP($J3,Feuil2!$A$2:$J$11,COLUMN()-46,FALSE))) | AZ3: =IF(ISNA(VLOOKUP($J3,Feuil2!$A$2:$J$11,COLUMN()-46,FALSE)),"",IF(VLOOKUP($J3,Feuil2!$A$2:$J$11,COLUMN()-46,FALSE)=0,"",VLOOKUP($J3,Feuil2!$A$2:$J$11,COLUMN()-46,FALSE))) | BA3: =IF(ISNA(VLOOKUP($J3,Feuil2!$A$2:$J$11,COLUMN()-46,FALSE)),"",IF(VLOOKUP($J3,Feuil2!$A$2:$J$11,COLUMN()-46,FALSE)=0,"",VLOOKUP($J3,Feuil2!$A$2:$J$11,COLUMN()-46,FALSE))) | BB3: =IF(ISNA(VLOOKUP($J3,Feuil2!$A$2:$J$11,COLUMN()-46,FALSE)),"",IF(VLOOKUP($J3,Feuil2!$A$2:$J$11,COLUMN()-46,FALSE)=0,"",VLOOKUP($J3,Feuil2!$A$2:$J$11,COLUMN()-46,FALSE))) | BC3: =IF(ISNA(VLOOKUP($J3,Feuil2!$A$2:$J$11,COLUMN()-46,FALSE)),"",IF(VLOOKUP($J3,Feuil2!$A$2:$J$11,COLUMN()-46,FALSE)=0,"",VLOOKUP($J3,Feuil2!$A$2:$J$11,COLUMN()-46,FALSE))) | BD3: =IF(ISNA(VLOOKUP($J3,Feuil2!$A$2:$J$11,COLUMN()-46,FALSE)),"",IF(VLOOKUP($J3,Feuil2!$A$2:$J$11,COLUMN()-46,FALSE)=0,"",VLOOKUP($J3,Feuil2!$A$2:$J$11,COLUMN()-46,FALSE)))
J4: 3 | AX4: =IF(ISNA(VLOOKUP($J4,Feuil2!$A$2:$J$11,COLUMN()-46,FALSE)),"",IF(VLOOKUP($J4,Feuil2!$A$2:$J$11,COLUMN()-46,FALSE)=0,"",VLOOKUP($J4,Feuil2!$A$2:$J$11,COLUMN()-46,FALSE))) | AY4: =IF(ISNA(VLOOKUP($J4,Feuil2!$A$2:$J$11,COLUMN()-46,FALSE)),"",IF(VLOOKUP($J4,Feuil2!$A$2:$J$11,COLUMN()-46,FALSE)=0,"",VLOOKUP($J4,Feuil2!$A$2:$J$11,COLUMN()-46,FALSE))) | AZ4: =IF(ISNA(VLOOKUP($J4,Feuil2!$A$2:$J$11,COLUMN()-46,FALSE)),"",IF(VLOOKUP($J4,Feuil2!$A$2:$J$11,COLUMN()-46,FALSE)=0,"",VLOOKUP($J4,Feuil2!$A$2:$J$11,COLUMN()-46,FALSE))) | BA4: =IF(ISNA(VLOOKUP($J4,Feuil2!$A$2:$J$11,COLUMN()-46,FALSE)),"",IF(VLOOKUP($J4,Feuil2!$A$2:$J$11,COLUMN()-46,FALSE)=0,"",VLOOKUP($J4,Feuil2!$A$2:$J$11,COLUMN()-46,FALSE))) | BB4: =IF(ISNA(VLOOKUP($J4,Feuil2!$A$2:$J$11,COLUMN()-46,FALSE)),"",IF(VLOOKUP($J4,Feuil2!$A$2:$J$11,COLUMN()-46,FALSE)=0,"",VLOOKUP($J4,Feuil2!$A$2:$J$11,COLUMN()-46,FALSE))) | BC4: =IF(ISNA(VLOOKUP($J4,Feuil2!$A$2:$J$11,COLUMN()-46,FALSE)),"",IF(VLOOKUP($J4,Feuil2!$A$2:$J$11,COLUMN()-46,FALSE)=0,"",VLOOKUP($J4,Feuil2!$A$2:$J$11,COLUMN()-46,FALSE))) | BD4: =IF(ISNA(VLOOKUP($J4,Feuil2!$A$2:$J$11,COLUMN()-46,FALSE)),"",IF(VLOOKUP($J4,Feuil2!$A$2:$J$11,COLUMN()-46,FALSE)=0,"",VLOOKUP($J4,Feuil2!$A$2:$J$11,COLUMN()-46,FALSE)))
J5: 4 | AX5: =IF(ISNA(VLOOKUP($J5,Feuil2!$A$2:$J$11,COLUMN()-46,FALSE)),"",IF(VLOOKUP($J5,Feuil2!$A$2:$J$11,COLUMN()-46,FALSE)=0,"",VLOOKUP($J5,Feuil2!$A$2:$J$11,COLUMN()-46,FALSE))) -> oui | AY5: =IF(ISNA(VLOOKUP($J5,Feuil2!$A$2:$J$11,COLUMN()-46,FALSE)),"",IF(VLOOKUP($J5,Feuil2!$A$2:$J$11,COLUMN()-46,FALSE)=0,"",VLOOKUP($J5,Feuil2!$A$2:$J$11,COLUMN()-46,FALSE))) -> jean | AZ5: =IF(ISNA(VLOOKUP($J5,Feuil2!$A$2:$J$11,COLUMN()-46,FALSE)),"",IF(VLOOKUP($J5,Feuil2!$A$2:$J$11,COLUMN()-46,FALSE)=0,"",VLOOKUP($J5,Feuil2!$A$2:$J$11,COLUMN()-46,FALSE))) -> 41306 | BA5: =IF(ISNA(VLOOKUP($J5,Feuil2!$A$2:$J$11,COLUMN()-46,FALSE)),"",IF(VLOOKUP($J5,Feuil2!$A$2:$J$11,COLUMN()-46,FALSE)=0,"",VLOOKUP($J5,Feuil2!$A$2:$J$11,COLUMN()-46,FALSE))) -> 41316 | BB5: =IF(ISNA(VLOOKUP($J5,Feuil2!$A$2:$J$11,COLUMN()-46,FALSE)),"",IF(VLOOKUP($J5,Feuil2!$A$2:$J$11,COLUMN()-46,FALSE)=0,"",VLOOKUP($J5,Feuil2!$A$2:$J$11,COLUMN()-46,FALSE))) | BC5: =IF(ISNA(VLOOKUP($J5,Feuil2!$A$2:$J$11,COLUMN()-46,FALSE)),"",IF(VLOOKUP($J5,Feuil2!$A$2:$J$11,COLUMN()-46,FALSE)=0,"",VLOOKUP($J5,Feuil2!$A$2:$J$11,COLUMN()-46,FALSE))) -> 41365 | BD5: =IF(ISNA(VLOOKUP($J5,Feuil2!$A$2:$J$11,COLUMN()-46,FALSE)),"",IF(VLOOKUP($J5,Feuil2!$A$2:$J$11,COLUMN()-46,FALSE)=0,"",VLOOKUP($J5,Feuil2!$A$2:$J$11,COLUMN()-46,FALSE)))
J6: 5 | AX6: =IF(ISNA(VLOOKUP($J6,Feuil2!$A$2:$J$11,COLUMN()-46,FALSE)),"",IF(VLOOKUP($J6,Feuil2!$A$2:$J$11,COLUMN()-46,FALSE)=0,"",VLOOKUP($J6,Feuil2!$A$2:$J$11,COLUMN()-46,FALSE))) -> non | AY6: =IF(ISNA(VLOOKUP($J6,Feuil2!$A$2:$J$11,COLUMN()-46,FALSE)),"",IF(VLOOKUP($J6,Feuil2!$A$2:$J$11,COLUMN()-46,FALSE)=0,"",VLOOKUP($J6,Feuil2!$A$2:$J$11,COLUMN()-46,FALSE))) -> francois | AZ6: =IF(ISNA(VLOOKUP($J6,Feuil2!$A$2:$J$11,COLUMN()-46,FALSE)),"",IF(VLOOKUP($J6,Feuil2!$A$2:$J$11,COLUMN()-46,FALSE)=0,"",VLOOKUP($J6,Feuil2!$A$2:$J$11,COLUMN()-46,FALSE))) -> 41307 | BA6: =IF(ISNA(VLOOKUP($J6,Feuil2!$A$2:$J$11,COLUMN()-46,FALSE)),"",IF(VLOOKUP($J6,Feuil2!$A$2:$J$11,COLUMN()-46,FALSE)=0,"",VLOOKUP($J6,Feuil2!$A$2:$J$11,COLUMN()-46,FALSE))) -> 41317 | BB6: =IF(ISNA(VLOOKUP($J6,Feuil2!$A$2:$J$11,COLUMN()-46,FALSE)),"",IF(VLOOKUP($J6,Feuil2!$A$2:$J$11,COLUMN()-46,FALSE)=0,"",VLOOKUP($J6,Feuil2!$A$2:$J$11,COLUMN()-46,FALSE))) | BC6: =IF(ISNA(VLOOKUP($J6,Feuil2!$A$2:$J$11,COLUMN()-46,FALSE)),"",IF(VLOOKUP($J6,Feuil2!$A$2:$J$11,COLUMN()-46,FALSE)=0,"",VLOOKUP($J6,Feuil2!$A$2:$J$11,COLUMN()-46,FALSE))) -> 41365 | BD6: =IF(ISNA(VLOOKUP($J6,Feuil2!$A$2:$J$11,COLUMN()-46,FALSE)),"",IF(VLOOKUP($J6,Feuil2!$A$2:$J$11,COLUMN()-46,FALSE)=0,"",VLOOKUP($J6,Feuil2!$A$2:$J$11,COLUMN()-46,FALSE)))
J7: 6 | AX7: =IF(ISNA(VLOOKUP($J7,Feuil2!$A$2:$J$11,COLUMN()-46,FALSE)),"",IF(VLOOKUP($J7,Feuil2!$A$2:$J$11,COLUMN()-46,FALSE)=0,"",VLOOKUP($J7,Feuil2!$A$2:$J$11,COLUMN()-46,FALSE))) | AY7: =IF(ISNA(VLOOKUP($J7,Feuil2!$A$2:$J$11,COLUMN()-46,FALSE)),"",IF(VLOOKUP($J7,Feuil2!$A$2:$J$11,COLUMN()-46,FALSE)=0,"",VLOOKUP($J7,Feuil2!$A$2:$J$11,COLUMN()-46,FALSE))) | AZ7: =IF(ISNA(VLOOKUP($J7,Feuil2!$A$2:$J$11,COLUMN()-46,FALSE)),"",IF(VLOOKUP($J7,Feuil2!$A$2:$J$11,COLUMN()-46,FALSE)=0,"",VLOOKUP($J7,Feuil2!$A$2:$J$11,COLUMN()-46,FALSE))) | BA7: =IF(ISNA(VLOOKUP($J7,Feuil2!$A$2:$J$11,COLUMN()-46,FALSE)),"",IF(VLOOKUP($J7,Feuil2!$A$2:$J$11,COLUMN()-46,FALSE)=0,"",VLOOKUP($J7,Feuil2!$A$2:$J$11,COLUMN()-46,FALSE))) | BB7: =IF(ISNA(VLOOKUP($J7,Feuil2!$A$2:$J$11,COLUMN()-46,FALSE)),"",IF(VLOOKUP($J7,Feuil2!$A$2:$J$11,COLUMN()-46,FALSE)=0,"",VLOOKUP($J7,Feuil2!$A$2:$J$11,COLUMN()-46,FALSE))) | BC7: =IF(ISNA(VLOOKUP($J7,Feuil2!$A$2:$J$11,COLUMN()-46,FALSE)),"",IF(VLOOKUP($J7,Feuil2!$A$2:$J$11,COLUMN()-46,FALSE)=0,"",VLOOKUP($J7,Feuil2!$A$2:$J$11,COLUMN()-46,FALSE))) | BD7: =IF(ISNA(VLOOKUP($J7,Feuil2!$A$2:$J$11,COLUMN()-46,FALSE)),"",IF(VLOOKUP($J7,Feuil2!$A$2:$J$11,COLUMN()-46,FALSE)=0,"",VLOOKUP($J7,Feuil2!$A$2:$J$11,COLUMN()-46,FALSE)))
J8: 7 | AX8: =IF(ISNA(VLOOKUP($J8,Feuil2!$A$2:$J$11,COLUMN()-46,FALSE)),"",IF(VLOOKUP($J8,Feuil2!$A$2:$J$11,COLUMN()-46,FALSE)=0,"",VLOOKUP($J8,Feuil2!$A$2:$J$11,COLUMN()-46,FALSE))) | AY8: =IF(ISNA(VLOOKUP($J8,Feuil2!$A$2:$J$11,COLUMN()-46,FALSE)),"",IF(VLOOKUP($J8,Feuil2!$A$2:$J$11,COLUMN()-46,FALSE)=0,"",VLOOKUP($J8,Feuil2!$A$2:$J$11,COLUMN()-46,FALSE))) | AZ8: =IF(ISNA(VLOOKUP($J8,Feuil2!$A$2:$J$11,COLUMN()-46,FALSE)),"",IF(VLOOKUP($J8,Feuil2!$A$2:$J$11,COLUMN()-46,FALSE)=0,"",VLOOKUP($J8,Feuil2!$A$2:$J$11,COLUMN()-46,FALSE))) | BA8: =IF(ISNA(VLOOKUP($J8,Feuil2!$A$2:$J$11,COLUMN()-46,FALSE)),"",IF(VLOOKUP($J8,Feuil2!$A$2:$J$11,COLUMN()-46,FALSE)=0,"",VLOOKUP($J8,Feuil2!$A$2:$J$11,COLUMN()-46,FALSE))) | BB8: =IF(ISNA(VLOOKUP($J8,Feuil2!$A$2:$J$11,COLUMN()-46,FALSE)),"",IF(VLOOKUP($J8,Feuil2!$A$2:$J$11,COLUMN()-46,FALSE)=0,"",VLOOKUP($J8,Feuil2!$A$2:$J$11,COLUMN()-46,FALSE))) | BC8: =IF(ISNA(VLOOKUP($J8,Feuil2!$A$2:$J$11,COLUMN()-46,FALSE)),"",IF(VLOOKUP($J8,Feuil2!$A$2:$J$11,COLUMN()-46,FALSE)=0,"",VLOOKUP($J8,Feuil2!$A$2:$J$11,COLUMN()-46,FALSE))) | BD8: =IF(ISNA(VLOOKUP($J8,Feuil2!$A$2:$J$11,COLUMN()-46,FALSE)),"",IF(VLOOKUP($J8,Feuil2!$A$2:$J$11,COLUMN()-46,FALSE)=0,"",VLOOKUP($J8,Feuil2!$A$2:$J$11,COLUMN()-46,FALSE)))
J9: 8 | AX9: =IF(ISNA(VLOOKUP($J9,Feuil2!$A$2:$J$11,COLUMN()-46,FALSE)),"",IF(VLOOKUP($J9,Feuil2!$A$2:$J$11,COLUMN()-46,FALSE)=0,"",VLOOKUP($J9,Feuil2!$A$2:$J$11,COLUMN()-46,FALSE))) -> oui | AY9: =IF(ISNA(VLOOKUP($J9,Feuil2!$A$2:$J$11,COLUMN()-46,FALSE)),"",IF(VLOOKUP($J9,Feuil2!$A$2:$J$11,COLUMN()-46,FALSE)=0,"",VLOOKUP($J9,Feuil2!$A$2:$J$11,COLUMN()-46,FALSE))) -> hollande | AZ9: =IF(ISNA(VLOOKUP($J9,Feuil2!$A$2:$J$11,COLUMN()-46,FALSE)),"",IF(VLOOKUP($J9,Feuil2!$A$2:$J$11,COLUMN()-46,FALSE)=0,"",VLOOKUP($J9,Feuil2!$A$2:$J$11,COLUMN()-46,FALSE))) -> 41308 | BA9: =IF(ISNA(VLOOKUP($J9,Feuil2!$A$2:$J$11,COLUMN()-46,FALSE)),"",IF(VLOOKUP($J9,Feuil2!$A$2:$J$11,COLUMN()-46,FALSE)=0,"",VLOOKUP($J9,Feuil2!$A$2:$J$11,COLUMN()-46,FALSE))) | BB9: =IF(ISNA(VLOOKUP($J9,Feuil2!$A$2:$J$11,COLUMN()-46,FALSE)),"",IF(VLOOKUP($J9,Feuil2!$A$2:$J$11,COLUMN()-46,FALSE)=0,"",VLOOKUP($J9,Feuil2!$A$2:$J$11,COLUMN()-46,FALSE))) | BC9: =IF(ISNA(VLOOKUP($J9,Feuil2!$A$2:$J$11,COLUMN()-46,FALSE)),"",IF(VLOOKUP($J9,Feuil2!$A$2:$J$11,COLUMN()-46,FALSE)=0,"",VLOOKUP($J9,Feuil2!$A$2:$J$11,COLUMN()-46,FALSE))) -> 41365 | BD9: =IF(ISNA(VLOOKUP($J9,Feuil2!$A$2:$J$11,COLUMN()-46,FALSE)),"",IF(VLOOKUP($J9,Feuil2!$A$2:$J$11,COLUMN()-46,FALSE)=0,"",VLOOKUP($J9,Feuil2!$A$2:$J$11,COLUMN()-46,FALSE)))
J10: 9 | AX10: =IF(ISNA(VLOOKUP($J10,Feuil2!$A$2:$J$11,COLUMN()-46,FALSE)),"",IF(VLOOKUP($J10,Feuil2!$A$2:$J$11,COLUMN()-46,FALSE)=0,"",VLOOKUP($J10,Feuil2!$A$2:$J$11,COLUMN()-46,FALSE))) -> non | AY10: =IF(ISNA(VLOOKUP($J10,Feuil2!$A$2:$J$11,COLUMN()-46,FALSE)),"",IF(VLOOKUP($J10,Feuil2!$A$2:$J$11,COLUMN()-46,FALSE)=0,"",VLOOKUP($J10,Feuil2!$A$2:$J$11,COLUMN()-46,FALSE))) -> a | AZ10: =IF(ISNA(VLOOKUP($J10,Feuil2!$A$2:$J$11,COLUMN()-46,FALSE)),"",IF(VLOOKUP($J10,Feuil2!$A$2:$J$11,COLUMN()-46,FALSE)=0,"",VLOOKUP($J10,Feuil2!$A$2:$J$11,COLUMN()-46,FALSE))) -> 41309 | BA10: =IF(ISNA(VLOOKUP($J10,Feuil2!$A$2:$J$11,COLUMN()-46,FALSE)),"",IF(VLOOKUP($J10,Feuil2!$A$2:$J$11,COLUMN()-46,FALSE)=0,"",VLOOKUP($J10,Feuil2!$A$2:$J$11,COLUMN()-46,FALSE))) -> 41319 | BB10: =IF(ISNA(VLOOKUP($J10,Feuil2!$A$2:$J$11,COLUMN()-46,FALSE)),"",IF(VLOOKUP($J10,Feuil2!$A$2:$J$11,COLUMN()-46,FALSE)=0,"",VLOOKUP($J10,Feuil2!$A$2:$J$11,COLUMN()-46,FALSE))) -> 41334 | BC10: =IF(ISNA(VLOOKUP($J10,Feuil2!$A$2:$J$11,COLUMN()-46,FALSE)),"",IF(VLOOKUP($J10,Feuil2!$A$2:$J$11,COLUMN()-46,FALSE)=0,"",VLOOKUP($J10,Feuil2!$A$2:$J$11,COLUMN()-46,FALSE))) -> 41365 | BD10: =IF(ISNA(VLOOKUP($J10,Feuil2!$A$2:$J$11,COLUMN()-46,FALSE)),"",IF(VLOOKUP($J10,Feuil2!$A$2:$J$11,COLUMN()-46,FALSE)=0,"",VLOOKUP($J10,Feuil2!$A$2:$J$11,COLUMN()-46,FALSE))) -> oui
J11: 10 | AX11: =IF(ISNA(VLOOKUP($J11,Feuil2!$A$2:$J$11,COLUMN()-46,FALSE)),"",IF(VLOOKUP($J11,Feuil2!$A$2:$J$11,COLUMN()-46,FALSE)=0,"",VLOOKUP($J11,Feuil2!$A$2:$J$11,COLUMN()-46,FALSE))) | AY11: =IF(ISNA(VLOOKUP($J11,Feuil2!$A$2:$J$11,COLUMN()-46,FALSE)),"",IF(VLOOKUP($J11,Feuil2!$A$2:$J$11,COLUMN()-46,FALSE)=0,"",VLOOKUP($J11,Feuil2!$A$2:$J$11,COLUMN()-46,FALSE))) -> avec | AZ11: =IF(ISNA(VLOOKUP($J11,Feuil2!$A$2:$J$11,COLUMN()-46,FALSE)),"",IF(VLOOKUP($J11,Feuil2!$A$2:$J$11,COLUMN()-46,FALSE)=0,"",VLOOKUP($J11,Feuil2!$A$2:$J$11,COLUMN()-46,FALSE))) | BA11: =IF(ISNA(VLOOKUP($J11,Feuil2!$A$2:$J$11,COLUMN()-46,FALSE)),"",IF(VLOOKUP($J11,Feuil2!$A$2:$J$11,COLUMN()-46,FALSE)=0,"",VLOOKUP($J11,Feuil2!$A$2:$J$11,COLUMN()-46,FALSE))) | BB11: =IF(ISNA(VLOOKUP($J11,Feuil2!$A$2:$J$11,COLUMN()-46,FALSE)),"",IF(VLOOKUP($J11,Feuil2!$A$2:$J$11,COLUMN()-46,FALSE)=0,"",VLOOKUP($J11,Feuil2!$A$2:$J$11,COLUMN()-46,FALSE))) | BC11: =IF(ISNA(VLOOKUP($J11,Feuil2!$A$2:$J$11,COLUMN()-46,FALSE)),"",IF(VLOOKUP($J11,Feuil2!$A$2:$J$11,COLUMN()-46,FALSE)=0,"",VLOOKUP($J11,Feuil2!$A$2:$J$11,COLUMN()-46,FALSE))) | BD11: =IF(ISNA(VLOOKUP($J11,Feuil2!$A$2:$J$11,COLUMN()-46,FALSE)),"",IF(VLOOKUP($J11,Feuil2!$A$2:$J$11,COLUMN()-46,FALSE)=0,"",VLOOKUP($J11,Feuil2!$A$2:$J$11,COLUMN()-46,FALSE)))
J12: 11 | AX12: =IF(ISNA(VLOOKUP($J12,Feuil2!$A$2:$J$11,COLUMN()-46,FALSE)),"",IF(VLOOKUP($J12,Feuil2!$A$2:$J$11,COLUMN()-46,FALSE)=0,"",VLOOKUP($J12,Feuil2!$A$2:$J$11,COLUMN()-46,FALSE))) | AY12: =IF(ISNA(VLOOKUP($J12,Feuil2!$A$2:$J$11,COLUMN()-46,FALSE)),"",IF(VLOOKUP($J12,Feuil2!$A$2:$J$11,COLUMN()-46,FALSE)=0,"",VLOOKUP($J12,Feuil2!$A$2:$J$11,COLUMN()-46,FALSE))) | AZ12: =IF(ISNA(VLOOKUP($J12,Feuil2!$A$2:$J$11,COLUMN()-46,FALSE)),"",IF(VLOOKUP($J12,Feuil2!$A$2:$J$11,COLUMN()-46,FALSE)=0,"",VLOOKUP($J12,Feuil2!$A$2:$J$11,COLUMN()-46,FALSE))) | BA12: =IF(ISNA(VLOOKUP($J12,Feuil2!$A$2:$J$11,COLUMN()-46,FALSE)),"",IF(VLOOKUP($J12,Feuil2!$A$2:$J$11,COLUMN()-46,FALSE)=0,"",VLOOKUP($J12,Feuil2!$A$2:$J$11,COLUMN()-46,FALSE))) | BB12: =IF(ISNA(VLOOKUP($J12,Feuil2!$A$2:$J$11,COLUMN()-46,FALSE)),"",IF(VLOOKUP($J12,Feuil2!$A$2:$J$11,COLUMN()-46,FALSE)=0,"",VLOOKUP($J12,Feuil2!$A$2:$J$11,COLUMN()-46,FALSE))) | BC12: =IF(ISNA(VLOOKUP($J12,Feuil2!$A$2:$J$11,COLUMN()-46,FALSE)),"",IF(VLOOKUP($J12,Feuil2!$A$2:$J$11,COLUMN()-46,FALSE)=0,"",VLOOKUP($J12,Feuil2!$A$2:$J$11,COLUMN()-46,FALSE))) | BD12: =IF(ISNA(VLOOKUP($J12,Feuil2!$A$2:$J$11,COLUMN()-46,FALSE)),"",IF(VLOOKUP($J12,Feuil2!$A$2:$J$11,COLUMN()-46,FALSE)=0,"",VLOOKUP($J12,Feuil2!$A$2:$J$11,COLUMN()-46,FALSE)))
J13: 12 | AX13: =IF(ISNA(VLOOKUP($J13,Feuil2!$A$2:$J$11,COLUMN()-46,FALSE)),"",IF(VLOOKUP($J13,Feuil2!$A$2:$J$11,COLUMN()-46,FALSE)=0,"",VLOOKUP($J13,Feuil2!$A$2:$J$11,COLUMN()-46,FALSE))) | AY13: =IF(ISNA(VLOOKUP($J13,Feuil2!$A$2:$J$11,COLUMN()-46,FALSE)),"",IF(VLOOKUP($J13,Feuil2!$A$2:$J$11,COLUMN()-46,FALSE)=0,"",VLOOKUP($J13,Feuil2!$A$2:$J$11,COLUMN()-46,FALSE))) | AZ13: =IF(ISNA(VLOOKUP($J13,Feuil2!$A$2:$J$11,COLUMN()-46,FALSE)),"",IF(VLOOKUP($J13,Feuil2!$A$2:$J$11,COLUMN()-46,FALSE)=0,"",VLOOKUP($J13,Feuil2!$A$2:$J$11,COLUMN()-46,FALSE))) | BA13: =IF(ISNA(VLOOKUP($J13,Feuil2!$A$2:$J$11,COLUMN()-46,FALSE)),"",IF(VLOOKUP($J13,Feuil2!$A$2:$J$11,COLUMN()-46,FALSE)=0,"",VLOOKUP($J13,Feuil2!$A$2:$J$11,COLUMN()-46,FALSE))) | BB13: =IF(ISNA(VLOOKUP($J13,Feuil2!$A$2:$J$11,COLUMN()-46,FALSE)),"",IF(VLOOKUP($J13,Feuil2!$A$2:$J$11,COLUMN()-46,FALSE)=0,"",VLOOKUP($J13,Feuil2!$A$2:$J$11,COLUMN()-46,FALSE))) | BC13: =IF(ISNA(VLOOKUP($J13,Feuil2!$A$2:$J$11,COLUMN()-46,FALSE)),"",IF(VLOOKUP($J13,Feuil2!$A$2:$J$11,COLUMN()-46,FALSE)=0,"",VLOOKUP($J13,Feuil2!$A$2:$J$11,COLUMN()-46,FALSE))) | BD13: =IF(ISNA(VLOOKUP($J13,Feuil2!$A$2:$J$11,COLUMN()-46,FALSE)),"",IF(VLOOKUP($J13,Feuil2!$A$2:$J$11,COLUMN()-46,FALSE)=0,"",VLOOKUP($J13,Feuil2!$A$2:$J$11,COLUMN()-46,FALSE)))
... J21: 20 | AX21: =IF(ISNA(VLOOKUP($J21,Feuil2!$A$2:$J$11,COLUMN()-46,FALSE)),"",IF(VLOOKUP($J21,Feuil2!$A$2:$J$11,COLUMN()-46,FALSE)=0,"",VLOOKUP($J21,Feuil2!$A$2:$J$11,COLUMN()-46,FALSE))) -> oui | AY21: =IF(ISNA(VLOOKUP($J21,Feuil2!$A$2:$J$11,COLUMN()-46,FALSE)),"",IF(VLOOKUP($J21,Feuil2!$A$2:$J$11,COLUMN()-46,FALSE)=0,"",VLOOKUP($J21,Feuil2!$A$2:$J$11,COLUMN()-46,FALSE))) -> une | AZ21: =IF(ISNA(VLOOKUP($J21,Feuil2!$A$2:$J$11,COLUMN()-46,FALSE)),"",IF(VLOOKUP($J21,Feuil2!$A$2:$J$11,COLUMN()-46,FALSE)=0,"",VLOOKUP($J21,Feuil2!$A$2:$J$11,COLUMN()-46,FALSE))) -> 41313 | BA21: =IF(ISNA(VLOOKUP($J21,Feuil2!$A$2:$J$11,COLUMN()-46,FALSE)),"",IF(VLOOKUP($J21,Feuil2!$A$2:$J$11,COLUMN()-46,FALSE)=0,"",VLOOKUP($J21,Feuil2!$A$2:$J$11,COLUMN()-46,FALSE))) -> 41323 | BB21: =IF(ISNA(VLOOKUP($J21,Feuil2!$A$2:$J$11,COLUMN()-46,FALSE)),"",IF(VLOOKUP($J21,Feuil2!$A$2:$J$11,COLUMN()-46,FALSE)=0,"",VLOOKUP($J21,Feuil2!$A$2:$J$11,COLUMN()-46,FALSE))) | BC21: =IF(ISNA(VLOOKUP($J21,Feuil2!$A$2:$J$11,COLUMN()-46,FALSE)),"",IF(VLOOKUP($J21,Feuil2!$A$2:$J$11,COLUMN()-46,FALSE)=0,"",VLOOKUP($J21,Feuil2!$A$2:$J$11,COLUMN()-46,FALSE))) -> 41365 | BD21: =IF(ISNA(VLOOKUP($J21,Feuil2!$A$2:$J$11,COLUMN()-46,FALSE)),"",IF(VLOOKUP($J21,Feuil2!$A$2:$J$11,COLUMN()-46,FALSE)=0,"",VLOOKUP($J21,Feuil2!$A$2:$J$11,COLUMN()-46,FALSE)))
AX24: Celule à remplir
AX25: Celule PDL2

Sheet Feuil2
A1: PDL | B1: date | C1: date | D1: recevable | E1: affecté à | F1: Date traitement Petra | G1: Date appel sortant vers le client | H1: Date retour AR Client | I1: Date de validation | J1: Réclamation SGE
A2: 4 | B2: 36526 | C2: 41275 | D2: oui | E2: jean | F2: 41306 | G2: 41316 | I2: 41365
A3: 5 | B3: 36527 | C3: 41276 | D3: non | E3: francois | F3: 41307 | G3: 41317 | I3: 41365
A4: 8 | B4: 36528 | C4: 41277 | D4: oui | E4: hollande | F4: 41308 | I4: 41365
A5: 9 | B5: 36529 | C5: 41278 | D5: non | E5: a | F5: 41309 | G5: 41319 | H5: 41334 | I5: 41365 | J5: oui
A6: 32 | B6: 36530 | C6: 41279 | D6: oui | E6: une | F6: 41310 | G6: 41320 | I6: 41365
A7: 87 | B7: 36531 | C7: 41280 | D7: non | E7: aventure | F7: 41311 | G7: 41321 | I7: 41365
A8: 10 | B8: 36532 | C8: 41281 | E8: avec
A9: 20 | B9: 36533 | C9: 41282 | D9: oui | E9: une | F9: 41313 | G9: 41323 | I9: 41365
A10: 56 | B10: 36534 | C10: 41283 | D10: oui | E10: actrice | F10: 41314 | I10: 41365
A11: 47 | B11: 36535 | C11: 41284 | D11: oui | E11: française | F11: 41315 | G11: 41325 | I11: 41365
B14: Cellule PDL
