Workbook

Sheet Analyse
C1: =A6=forecasting!A3 -> TRUE
B2: Past Sales | J2: Forecasted Sales
A3: Somme de Quantité | B3: Month
A4: Article | B4: 1 | C4: 2 | D4: 3 | E4: 4 | F4: 5 | G4: 6 | H4: 7 | I4: 8 | J4: 9 | K4: 10 | L4: 11 | M4: 12
A5: 00PPG000023700A | B5: 6 | C5: 12 | D5: 18 | E5: 12 | F5: 22 | G5: 14 | H5: 20 | I5: 2 | J5: =IF(ISERROR(MATCH(Analyse!$A5,forecasting!$A$2:$A$12,0)),"",OFFSET(forecasting!$A$1,MATCH(Analyse!$A5,forecasting!$A$2:$A$12,0),MATCH(Analyse!J$4,forecasting!$B$1:$E$1,0))) -> 4 | K5: =IF(ISERROR(MATCH(Analyse!$A5,forecasting!$A$2:$A$12,0)),"",OFFSET(forecasting!$A$1,MATCH(Analyse!$A5,forecasting!$A$2:$A$12,0),MATCH(Analyse!K$4,forecasting!$B$1:$E$1,0))) -> 8 | L5: =IF(ISERROR(MATCH(Analyse!$A5,forecasting!$A$2:$A$12,0)),"",OFFSET(forecasting!$A$1,MATCH(Analyse!$A5,forecasting!$A$2:$A$12,0),MATCH(Analyse!L$4,forecasting!$B$1:$E$1,0))) -> 0 | M5: =IF(ISERROR(MATCH(Analyse!$A5,forecasting!$A$2:$A$12,0)),"",OFFSET(forecasting!$A$1,MATCH(Analyse!$A5,forecasting!$A$2:$A$12,0),MATCH(Analyse!M$4,forecasting!$B$1:$E$1,0))) -> 0
A6: 00PPG000030900A | B6: 148 | C6: 105 | D6: 98 | E6: 174 | F6: 138 | G6: 95 | H6: 212 | I6: 41 | J6: =IF(ISERROR(MATCH(Analyse!$A6,forecasting!$A$2:$A$12,0)),"",OFFSET(forecasting!$A$1,MATCH(Analyse!$A6,forecasting!$A$2:$A$12,0),MATCH(Analyse!J$4,forecasting!$B$1:$E$1,0))) -> 88 | K6: =IF(ISERROR(MATCH(Analyse!$A6,forecasting!$A$2:$A$12,0)),"",OFFSET(forecasting!$A$1,MATCH(Analyse!$A6,forecasting!$A$2:$A$12,0),MATCH(Analyse!K$4,forecasting!$B$1:$E$1,0))) -> 212 | L6: =IF(ISERROR(MATCH(Analyse!$A6,forecasting!$A$2:$A$12,0)),"",OFFSET(forecasting!$A$1,MATCH(Analyse!$A6,forecasting!$A$2:$A$12,0),MATCH(Analyse!L$4,forecasting!$B$1:$E$1,0))) -> 8 | M6: =IF(ISERROR(MATCH(Analyse!$A6,forecasting!$A$2:$A$12,0)),"",OFFSET(forecasting!$A$1,MATCH(Analyse!$A6,forecasting!$A$2:$A$12,0),MATCH(Analyse!M$4,forecasting!$B$1:$E$1,0))) -> 4
A7: 00PPG000454000A | B7: 132 | C7: 118 | D7: 124 | E7: 84 | F7: 140 | G7: 100 | H7: 108 | I7: 36 | J7: =IF(ISERROR(MATCH(Analyse!$A7,forecasting!$A$2:$A$12,0)),"",OFFSET(forecasting!$A$1,MATCH(Analyse!$A7,forecasting!$A$2:$A$12,0),MATCH(Analyse!J$4,forecasting!$B$1:$E$1,0))) -> 60 | K7: =IF(ISERROR(MATCH(Analyse!$A7,forecasting!$A$2:$A$12,0)),"",OFFSET(forecasting!$A$1,MATCH(Analyse!$A7,forecasting!$A$2:$A$12,0),MATCH(Analyse!K$4,forecasting!$B$1:$E$1,0))) -> 90 | L7: =IF(ISERROR(MATCH(Analyse!$A7,forecasting!$A$2:$A$12,0)),"",OFFSET(forecasting!$A$1,MATCH(Analyse!$A7,forecasting!$A$2:$A$12,0),MATCH(Analyse!L$4,forecasting!$B$1:$E$1,0))) -> 90 | M7: =IF(ISERROR(MATCH(Analyse!$A7,forecasting!$A$2:$A$12,0)),"",OFFSET(forecasting!$A$1,MATCH(Analyse!$A7,forecasting!$A$2:$A$12,0),MATCH(Analyse!M$4,forecasting!$B$1:$E$1,0))) -> 90
A8: 06DA-403---844--C- | B8: 648 | C8: 664 | D8: 527 | E8: 694 | F8: 571 | G8: 608 | H8: 865 | I8: 255 | J8: =IF(ISERROR(MATCH(Analyse!$A8,forecasting!$A$2:$A$12,0)),"",OFFSET(forecasting!$A$1,MATCH(Analyse!$A8,forecasting!$A$2:$A$12,0),MATCH(Analyse!J$4,forecasting!$B$1:$E$1,0))) -> 0 | K8: =IF(ISERROR(MATCH(Analyse!$A8,forecasting!$A$2:$A$12,0)),"",OFFSET(forecasting!$A$1,MATCH(Analyse!$A8,forecasting!$A$2:$A$12,0),MATCH(Analyse!K$4,forecasting!$B$1:$E$1,0))) -> 1200 | L8: =IF(ISERROR(MATCH(Analyse!$A8,forecasting!$A$2:$A$12,0)),"",OFFSET(forecasting!$A$1,MATCH(Analyse!$A8,forecasting!$A$2:$A$12,0),MATCH(Analyse!L$4,forecasting!$B$1:$E$1,0))) -> 600 | M8: =IF(ISERROR(MATCH(Analyse!$A8,forecasting!$A$2:$A$12,0)),"",OFFSET(forecasting!$A$1,MATCH(Analyse!$A8,forecasting!$A$2:$A$12,0),MATCH(Analyse!M$4,forecasting!$B$1:$E$1,0))) -> 600
A9: 30GX-434---402--EF | H9: 1 | J9: =IF(ISERROR(MATCH(Analyse!$A9,forecasting!$A$2:$A$12,0)),"",OFFSET(forecasting!$A$1,MATCH(Analyse!$A9,forecasting!$A$2:$A$12,0),MATCH(Analyse!J$4,forecasting!$B$1:$E$1,0))) | K9: =IF(ISERROR(MATCH(Analyse!$A9,forecasting!$A$2:$A$12,0)),"",OFFSET(forecasting!$A$1,MATCH(Analyse!$A9,forecasting!$A$2:$A$12,0),MATCH(Analyse!K$4,forecasting!$B$1:$E$1,0))) | L9: =IF(ISERROR(MATCH(Analyse!$A9,forecasting!$A$2:$A$12,0)),"",OFFSET(forecasting!$A$1,MATCH(Analyse!$A9,forecasting!$A$2:$A$12,0),MATCH(Analyse!L$4,forecasting!$B$1:$E$1,0))) | M9: =IF(ISERROR(MATCH(Analyse!$A9,forecasting!$A$2:$A$12,0)),"",OFFSET(forecasting!$A$1,MATCH(Analyse!$A9,forecasting!$A$2:$A$12,0),MATCH(Analyse!M$4,forecasting!$B$1:$E$1,0)))
A10: 30GX-434---432--EF | I10: 2 | J10: =IF(ISERROR(MATCH(Analyse!$A10,forecasting!$A$2:$A$12,0)),"",OFFSET(forecasting!$A$1,MATCH(Analyse!$A10,forecasting!$A$2:$A$12,0),MATCH(Analyse!J$4,forecasting!$B$1:$E$1,0))) | K10: =IF(ISERROR(MATCH(Analyse!$A10,forecasting!$A$2:$A$12,0)),"",OFFSET(forecasting!$A$1,MATCH(Analyse!$A10,forecasting!$A$2:$A$12,0),MATCH(Analyse!K$4,forecasting!$B$1:$E$1,0))) | L10: =IF(ISERROR(MATCH(Analyse!$A10,forecasting!$A$2:$A$12,0)),"",OFFSET(forecasting!$A$1,MATCH(Analyse!$A10,forecasting!$A$2:$A$12,0),MATCH(Analyse!L$4,forecasting!$B$1:$E$1,0))) | M10: =IF(ISERROR(MATCH(Analyse!$A10,forecasting!$A$2:$A$12,0)),"",OFFSET(forecasting!$A$1,MATCH(Analyse!$A10,forecasting!$A$2:$A$12,0),MATCH(Analyse!M$4,forecasting!$B$1:$E$1,0)))
A11: 30GX-434---442--EF | I11: 2 | J11: =IF(ISERROR(MATCH(Analyse!$A11,forecasting!$A$2:$A$12,0)),"",OFFSET(forecasting!$A$1,MATCH(Analyse!$A11,forecasting!$A$2:$A$12,0),MATCH(Analyse!J$4,forecasting!$B$1:$E$1,0))) -> 2 | K11: =IF(ISERROR(MATCH(Analyse!$A11,forecasting!$A$2:$A$12,0)),"",OFFSET(forecasting!$A$1,MATCH(Analyse!$A11,forecasting!$A$2:$A$12,0),MATCH(Analyse!K$4,forecasting!$B$1:$E$1,0))) -> 0 | L11: =IF(ISERROR(MATCH(Analyse!$A11,forecasting!$A$2:$A$12,0)),"",OFFSET(forecasting!$A$1,MATCH(Analyse!$A11,forecasting!$A$2:$A$12,0),MATCH(Analyse!L$4,forecasting!$B$1:$E$1,0))) -> 0 | M11: =IF(ISERROR(MATCH(Analyse!$A11,forecasting!$A$2:$A$12,0)),"",OFFSET(forecasting!$A$1,MATCH(Analyse!$A11,forecasting!$A$2:$A$12,0),MATCH(Analyse!M$4,forecasting!$B$1:$E$1,0))) -> 0
A12: 30GX-434---452--EF | B12: 4 | C12: 10 | D12: 5 | E12: 8 | F12: 2 | G12: 7 | H12: 8 | J12: =IF(ISERROR(MATCH(Analyse!$A12,forecasting!$A$2:$A$12,0)),"",OFFSET(forecasting!$A$1,MATCH(Analyse!$A12,forecasting!$A$2:$A$12,0),MATCH(Analyse!J$4,forecasting!$B$1:$E$1,0))) -> 0 | K12: =IF(ISERROR(MATCH(Analyse!$A12,forecasting!$A$2:$A$12,0)),"",OFFSET(forecasting!$A$1,MATCH(Analyse!$A12,forecasting!$A$2:$A$12,0),MATCH(Analyse!K$4,forecasting!$B$1:$E$1,0))) -> 9 | L12: =IF(ISERROR(MATCH(Analyse!$A12,forecasting!$A$2:$A$12,0)),"",OFFSET(forecasting!$A$1,MATCH(Analyse!$A12,forecasting!$A$2:$A$12,0),MATCH(Analyse!L$4,forecasting!$B$1:$E$1,0))) -> 6 | M12: =IF(ISERROR(MATCH(Analyse!$A12,forecasting!$A$2:$A$12,0)),"",OFFSET(forecasting!$A$1,MATCH(Analyse!$A12,forecasting!$A$2:$A$12,0),MATCH(Analyse!M$4,forecasting!$B$1:$E$1,0))) -> 6
A13: 30GX-434---462--EF | B13: 9 | C13: 6 | D13: 15 | E13: 2 | F13: 12 | G13: 6 | H13: 8 | I13: 8 | J13: =IF(ISERROR(MATCH(Analyse!$A13,forecasting!$A$2:$A$12,0)),"",OFFSET(forecasting!$A$1,MATCH(Analyse!$A13,forecasting!$A$2:$A$12,0),MATCH(Analyse!J$4,forecasting!$B$1:$E$1,0))) -> 4 | K13: =IF(ISERROR(MATCH(Analyse!$A13,forecasting!$A$2:$A$12,0)),"",OFFSET(forecasting!$A$1,MATCH(Analyse!$A13,forecasting!$A$2:$A$12,0),MATCH(Analyse!K$4,forecasting!$B$1:$E$1,0))) -> 7 | L13: =IF(ISERROR(MATCH(Analyse!$A13,forecasting!$A$2:$A$12,0)),"",OFFSET(forecasting!$A$1,MATCH(Analyse!$A13,forecasting!$A$2:$A$12,0),MATCH(Analyse!L$4,forecasting!$B$1:$E$1,0))) -> 5 | M13: =IF(ISERROR(MATCH(Analyse!$A13,forecasting!$A$2:$A$12,0)),"",OFFSET(forecasting!$A$1,MATCH(Analyse!$A13,forecasting!$A$2:$A$12,0),MATCH(Analyse!M$4,forecasting!$B$1:$E$1,0))) -> 4
A14: 30HX-415---612--EF | B14: 2 | C14: 5 | D14: 15 | E14: 14 | F14: 8 | G14: 7 | H14: 13 | I14: 4 | J14: =IF(ISERROR(MATCH(Analyse!$A14,forecasting!$A$2:$A$12,0)),"",OFFSET(forecasting!$A$1,MATCH(Analyse!$A14,forecasting!$A$2:$A$12,0),MATCH(Analyse!J$4,forecasting!$B$1:$E$1,0))) -> 0 | K14: =IF(ISERROR(MATCH(Analyse!$A14,forecasting!$A$2:$A$12,0)),"",OFFSET(forecasting!$A$1,MATCH(Analyse!$A14,forecasting!$A$2:$A$12,0),MATCH(Analyse!K$4,forecasting!$B$1:$E$1,0))) -> 16 | L14: =IF(ISERROR(MATCH(Analyse!$A14,forecasting!$A$2:$A$12,0)),"",OFFSET(forecasting!$A$1,MATCH(Analyse!$A14,forecasting!$A$2:$A$12,0),MATCH(Analyse!L$4,forecasting!$B$1:$E$1,0))) -> 12 | M14: =IF(ISERROR(MATCH(Analyse!$A14,forecasting!$A$2:$A$12,0)),"",OFFSET(forecasting!$A$1,MATCH(Analyse!$A14,forecasting!$A$2:$A$12,0),MATCH(Analyse!M$4,forecasting!$B$1:$E$1,0))) -> 10
A15: 30HX-415---622--EF | B15: 2 | D15: 3 | F15: 2 | G15: 4 | H15: 1 | J15: =IF(ISERROR(MATCH(Analyse!$A15,forecasting!$A$2:$A$12,0)),"",OFFSET(forecasting!$A$1,MATCH(Analyse!$A15,forecasting!$A$2:$A$12,0),MATCH(Analyse!J$4,forecasting!$B$1:$E$1,0))) -> 1 | K15: =IF(ISERROR(MATCH(Analyse!$A15,forecasting!$A$2:$A$12,0)),"",OFFSET(forecasting!$A$1,MATCH(Analyse!$A15,forecasting!$A$2:$A$12,0),MATCH(Analyse!K$4,forecasting!$B$1:$E$1,0))) -> 4 | L15: =IF(ISERROR(MATCH(Analyse!$A15,forecasting!$A$2:$A$12,0)),"",OFFSET(forecasting!$A$1,MATCH(Analyse!$A15,forecasting!$A$2:$A$12,0),MATCH(Analyse!L$4,forecasting!$B$1:$E$1,0))) -> 3 | M15: =IF(ISERROR(MATCH(Analyse!$A15,forecasting!$A$2:$A$12,0)),"",OFFSET(forecasting!$A$1,MATCH(Analyse!$A15,forecasting!$A$2:$A$12,0),MATCH(Analyse!M$4,forecasting!$B$1:$E$1,0))) -> 4
A16: 30HX-415---632--EF | B16: 36 | C16: 22 | D16: 22 | E16: 18 | F16: 10 | G16: 31 | H16: 23 | I16: 15 | J16: =IF(ISERROR(MATCH(Analyse!$A16,forecasting!$A$2:$A$12,0)),"",OFFSET(forecasting!$A$1,MATCH(Analyse!$A16,forecasting!$A$2:$A$12,0),MATCH(Analyse!J$4,forecasting!$B$1:$E$1,0))) -> 3 | K16: =IF(ISERROR(MATCH(Analyse!$A16,forecasting!$A$2:$A$12,0)),"",OFFSET(forecasting!$A$1,MATCH(Analyse!$A16,forecasting!$A$2:$A$12,0),MATCH(Analyse!K$4,forecasting!$B$1:$E$1,0))) -> 37 | L16: =IF(ISERROR(MATCH(Analyse!$A16,forecasting!$A$2:$A$12,0)),"",OFFSET(forecasting!$A$1,MATCH(Analyse!$A16,forecasting!$A$2:$A$12,0),MATCH(Analyse!L$4,forecasting!$B$1:$E$1,0))) -> 18 | M16: =IF(ISERROR(MATCH(Analyse!$A16,forecasting!$A$2:$A$12,0)),"",OFFSET(forecasting!$A$1,MATCH(Analyse!$A16,forecasting!$A$2:$A$12,0),MATCH(Analyse!M$4,forecasting!$B$1:$E$1,0))) -> 18
A17: 30HX-415---642--EF | B17: 12 | C17: 9 | D17: 6 | E17: 16 | F17: 2 | G17: 7 | H17: 12 | I17: 3 | J17: =IF(ISERROR(MATCH(Analyse!$A17,forecasting!$A$2:$A$12,0)),"",OFFSET(forecasting!$A$1,MATCH(Analyse!$A17,forecasting!$A$2:$A$12,0),MATCH(Analyse!J$4,forecasting!$B$1:$E$1,0))) -> 2 | K17: =IF(ISERROR(MATCH(Analyse!$A17,forecasting!$A$2:$A$12,0)),"",OFFSET(forecasting!$A$1,MATCH(Analyse!$A17,forecasting!$A$2:$A$12,0),MATCH(Analyse!K$4,forecasting!$B$1:$E$1,0))) -> 9 | L17: =IF(ISERROR(MATCH(Analyse!$A17,forecasting!$A$2:$A$12,0)),"",OFFSET(forecasting!$A$1,MATCH(Analyse!$A17,forecasting!$A$2:$A$12,0),MATCH(Analyse!L$4,forecasting!$B$1:$E$1,0))) -> 8 | M17: =IF(ISERROR(MATCH(Analyse!$A17,forecasting!$A$2:$A$12,0)),"",OFFSET(forecasting!$A$1,MATCH(Analyse!$A17,forecasting!$A$2:$A$12,0),MATCH(Analyse!M$4,forecasting!$B$1:$E$1,0))) -> 8

Sheet forecasting
A1: Référence | B1: 9 | C1: 10 | D1: 11 | E1: 12
A2: 00PPG000023700A | B2: 4 | C2: 8
A3: 00PPG000030900A | B3: 88 | C3: 212 | D3: 8 | E3: 4
A4: 00PPG000454000A | B4: 60 | C4: 90 | D4: 90 | E4: 90
A5: 06DA-403---844--C- | C5: 1200 | D5: 600 | E5: 600
A6: 30GX-434---442--EF | B6: 2
A7: 30GX-434---452--EF | C7: 9 | D7: 6 | E7: 6
A8: 30GX-434---462--EF | B8: 4 | C8: 7 | D8: 5 | E8: 4
A9: 30HX-415---612--EF | C9: 16 | D9: 12 | E9: 10
A10: 30HX-415---622--EF | B10: 1 | C10: 4 | D10: 3 | E10: 4
A11: 30HX-415---632--EF | B11: 3 | C11: 37 | D11: 18 | E11: 18
A12: 30HX-415---642--EF | B12: 2 | C12: 9 | D12: 8 | E12: 8

Sheet Feuil3
